{"text_format":"3","workbook":"xlsx","n_sheets":10,"sheets":["Change Control","Cover page","USER GUIDE","Window & Door DATA INPUT","RESULTS","Summary for all orientations","Compliance Checklist","Part O Criteria","Calculations","Parameters"],"not_rendered":{"images":17,"defined_names":6,"comments":4},"read":"whole","date_system":"1900"}

{"sheet":"Change Control","index":0,"n_rows":10,"n_cols":4,"rows_kept":10}
[]
[null,{"$f":"'Cover page'!C5","v":"Part O Simplified Method spreadsheet tool"}]
[null,{"$f":"'Cover page'!C6","v":"© Future Homes Hub 2024"}]
[]
[null,"Version","Release date","Release notes"]
[null,"BETA-1","2022-09-15","- Beta release"]
[null,"V1","2023-04-04","- Updates to User guide\n- All linear length inputs changed to mm\n- Additional results tab added to show 'RESULTS for all orientations'\n- Bug fix to include bedrooms with windows closed at night on Results page\n- Bug fix to daytime opening angle if bedroom window secure for night-time opening\n- Columns A-G frozen on DATA INPUT sheet"]
[null,"V1a","2023-07-13","- Additional rows added to input sheet"]
[null,"V2","2024-01-17","- Additional rows added to input sheet\n- Additional bedroom added to room list\n- Additional en-suite and 'other' rooms added to room list\n- Bug fix on RESULTS tab so bedrooms with no secure openings are displayed correctly"]
[null,"V2a","2024-02-26","- Additional bedrooms added to room list\n"]

{"sheet":"Cover page","index":1,"n_rows":17,"n_cols":5,"rows_kept":17,"merged":[[7,2,7,4],[9,2,9,4],[11,2,11,4],[13,2,13,4],[15,2,15,4],[16,2,16,4]]}
[]
[]
[null,null,"Version: ","FHH-SM-V2a","Date of issue: 26/02/2024"]
[]
[null,null,"Part O Simplified Method spreadsheet tool"]
[null,null,"© Future Homes Hub 2024"]
[]
[null,null,"This spreadsheet tool is an implementation of the Approved Document Part O (Overheating) 2021 edition (England) Simplified Method and is compatible with Excel 2010 or later."]
[]
[null,null,"Permission is hereby granted, free of charge, to any person obtaining a copy of this spreadsheet tool, to copy, use, and distribute the spreadsheet tool, and to permit persons to who the spreadsheet tool is furnished to do so, subject to the following condition: The above copyright notice and this permission notice including the below disclaimer of liability shall be included in all copies or substantial portions of the spreadsheet tool."]
[null,null,"Disclaimer"]
[null,null,"The spreadsheet tool is provided 'as is', without warranty of any kind, express or implied, including but not limited to any warranties of merchantability, fitness for a particular purpose and non-infringement. In no event shall the authors or copyright holders be liable for any claim, damages or other liability, whether in an action of contract, tort or otherwise, arising from, out of or in connection with the spreadsheet tool or the use or other dealings in the spreadsheet tool."]
[null,null,"Sponsored by"]
[]
[null,null,"With thanks to"]
[null,null,"Persimmon Homes, Susie Diamond (Inkling), Fabienne Blunden (Studio Partington), Tessa Hurstwyn, David Adams and the discharge coefficient calculator developed by Dr Benjamin Jones of Nottingham University."]
[null,null,"Should you have any comments, observations or suggestions please send them to\nadmin@futurehomes.org.uk"]

{"sheet":"USER GUIDE","index":2,"n_rows":189,"n_cols":8,"rows_kept":189,"merged":[[8,1,8,4],[18,7,19,7],[20,6,26,8],[29,7,32,7],[37,7,40,7],[46,2,47,2],[46,3,47,3],[50,3,52,3],[53,7,54,7],[58,3,59,3],[60,7,62,7],[67,3,69,3],[75,3,76,3],[76,7,79,7],[79,3,80,3],[81,3,82,3],[82,7,83,7],[92,7,93,7]]}
[]
[null,null,"Part O Simplified Method spreadsheet tool"]
[null,null,{"$f":"'Cover page'!C6","v":"© Future Homes Hub 2024"}]
[]
[null,null,{"$f":"_xlfn.CONCAT(\"Version: \",'Cover page'!$D$3)","v":"Version: FHH-SM-V2a"}]
[]
[null,null,"Refer to the cover page for full legal notices"]
[]
[null,"USER GUIDE"]
[]
[]
[null,null,"General"]
[null,null,"-","This spreadsheet tool is an implementation of the Approved Document Part O (Overheating) 2021 edition (England) Simplified Method"]
[null,null,"-","This spreadsheet tool is compatible with Excel 2010 or later"]
[null,null,"-","It is best to be familiar with Approved Document Part O (AD-O) prior to using this tool"]
[null,null,"-","DLUHC have published AD-O Frequently Asked Questions which should also be referred to"]
[null,null,"-","The Simplified Method should only be used where external noise is not an issue (see AD-O para 3.2-3.4)"]
[null,null,"-","If the dwelling is located near to significant external pollution sources it is unlikely to pass using the Simplified Method (see AD-O para 3.5)"]
[null,null,"-","This version of the spreadsheet tool is not able to take account of ventilation provided by louvre openings",{"$nulls":3},"NOTE"]
[null,null,"-","A Housebuilder's Guide to Part O is available on the Future Homes Hub website"]
[null,null,"-","A Technical Guide to Part O is available on the Future Homes Hub website",null,null,"This spreadsheet has been provided for free and whilst every effort has been made to ensure it's accuracy the Future Homes Hub can assume no liability for errors or omissions. It is used entirely at the user's own risk.\nRefer to the cover page for full legal notices.\n\nShould you have any comments, observations or suggestions please send them to: admin@futurehomes.org.uk"]
[]
[]
[]
[null,null,"How to use: Overview"]
[null,null,"a.","Enter overall size (GIA) of dwelling being assessed and whether it is cross-ventilated into the \"Window & Door DATA INPUT\" sheet"]
[null,null,"b.","Enter data on all openings (windows, doors, rooflights) for the dwelling being assessed into the \"Window & Door DATA INPUT\" sheet"]
[null,null,"c.","Enter information on location and orientation of the dwelling being assessed into the \"RESULTS\" sheet",{"$nulls":3},"Box 0"]
[null,null,"d.","For the dwelling to comply using the Simplified Method, all AD-O criteria (displayed as \"targets\" on the \"RESULTS\" sheet) need to be met",{"$nulls":3},"Only if the answer to each of the following questions is 'NO', then the Simplified Method can be used."]
[null,null,"e.","It may be necessary to iterate the design in order to pass all criteria",{"$nulls":3},"i. Is there more than one residential unit with significant amounts of horizontal hot water pipes? (see AD-O para 1.13)\nii. Would opening the windows cause the night time noise limits to be broken? (see AD-O para 3.1 & 3.2 - 3.4)\niii. Does external pollution prevent window opening? (See AD-O para 3.1 & 3.5)"]
[null,null,"f.","A suggested compliance checklist that may be filled out and submitted to Building Control is included in \"Compliance Checklist\" sheet"]
[null,null,"g.","You will need to use a new copy of the spreadsheet tool for each dwelling you want to assess"]
[null,null,"h.","This process is described in detail below"]
[]
[]
[null,null,"How to use: Detailed process steps",{"$nulls":4},"Box 1"]
[]
[{"$nulls":3},"Note that all data entry cells are coloured light yellow",{"$nulls":3},"Cross-ventilation means that the dwelling has openings on opposite façades (see diagram below). "]
[{"$nulls":3},"Input cells can be copied down a column, but do not copy input cells from left to right (across the row)."]
[]
[null,null,{"v":1,"d":"1."},"First ensure that the Simplified Method is applicable to the dwelling you want to assess. See Box 0"]
[null,null,{"$f":"C41+1","v":{"v":2,"d":"2."}},"Open the \"Window & Door DATA INPUT\" tab"]
[null,null,{"$f":"C42+1","v":{"v":3,"d":"3."}},"Calculate the GIA of the dwelling (in m2) and enter it in cell D5"]
[null,null,{"v":4,"d":"4."},"Use the drop down in cell D6 to state whether the dwelling has cross-ventilation or not. See Box 1 for further information on what constitutes cross-ventilation "]
[null,null,{"v":5,"d":"5."},"Information on each glazed window pane, rooflight, and external door now needs to be entered into the spreadsheet, using a new row for each individual pane/opening within a window/door. It may be useful to number each glazed pane/ rooflight/ door across the elevations to help with this process. This numbering can be input into columns E and F to help keep track. See Box 2 for an example."]
[null,null,{"v":6,"d":"6."},"Using the dropdown in column B, enter the room in which the pane/sash is located. If you like you can add a description into column C.",{"$nulls":3},"Openings on façades that are not opposite does not meet the AD-O definition of cross ventilation (e.g. corner flat)."]
[null,null,{"$f":"C46+1","v":{"v":7,"d":"7."}},"Enter the floor area of the room in column D. Where a room serves more than one activity (e.g. living/ kitchen), the room area needs to be calculated based on a room depth no greater than 4.5m - see Box 3 for details."]
[{"$nulls":7},"Box 2"]
[null,null,{"$f":"C47+1","v":{"v":8,"d":"8."}},"Now enter details about the pane/opening. Columns E, F & G are not mandatory but will help you keep track of which window and pane you are inputting.",{"$nulls":3},"The diagram below shows the individual panes for an example window. Each pane should be entered into the spreadsheet as a separate row."]
[null,null,{"$f":"C49+1","v":{"v":9,"d":"9."}},"In order to allow a dwelling type to be entered once and then 'turned' to face whichever orientation is correct for individual plots, you will need to enter the location of the pane/opening relative to the plan view drawing, into column H. To avoid confusion with the actual orientation of a particular plot we have defined this relative orientation as a clock face (3, 6, 9, 12). Please see Box 4 for details."]
[null,null,{"$f":"C50+1","v":{"v":10,"d":"10."}},"The actual orientation of the dwelling on the site wide plan also needs to be entered. You can do this now by entering the actual orientation of 'clock face 6' (the bottom of the house type plan drawing) into the \"RESULTS\" tab, cell H5 (or you can do this later @ step 30). Note that generally the bottom of the house type plan will show the front façade, but this may not always be the case - so take care when working out the orientation of 'clock face 6' on the site wide plan. Note that AD-O requires the closest compass direction to be used (North, East, South, West). See Box 5 for further guidance, including where the facade is exactly NE, NW, SE or SW."]
[]
[{"$nulls":7},"Box 3"]
[null,null,{"v":11,"d":"11."},"If you have carried out step 10, the compass orientation of all panes will now be displayed in column I of the \"Window & Door DATA INPUT\" tab.",{"$nulls":3},"Where a room serves more than one activity, you will need to calculate the room area based on a room depth no greater than 4.5m from the most glazed façade. See diagram below."]
[null,null,{"$f":"C54+1","v":{"v":12,"d":"12."}},"Enter the pane/opening type from the drop down menu in column J. If it is not a fixed pane, you will then be asked whether it is to be used as part of the overheating mitigation strategy in column K - if yes then it must meet the minimum opening height or guarding requirements. Essentially if the height difference from inside to outside is greater than 600mm then cill heights of opening panes must be a minimum of 1100mm from the floor or guarding to this level needs to be provided. See AD-O Para 3.8 - 3.10 and Table 3.1, and DLUHC FAQ for details."]
[null,null,{"$f":"C55+1","v":{"v":13,"d":"13."}},"Next choose whether you want to enter the glazed pane by area (m2) or dimensions (width (m) & height (m)) using the drop down in column L"]
[null,null,{"$f":"C56+1","v":{"v":14,"d":"14."}},"Enter either the glazed pane dimensions into columns M & N or area into column O (whichever cells are coloured yellow). This is just the glazed portion of the pane/opening - see Box 6 for further information."]
[null,null,{"$f":"C57+1","v":{"v":15,"d":"15."}},"For opening panes (referred to as \"sash\" in the spreadsheet), enter the width into column P and height into column Q. It is important that these are input into the correct columns (i.e. width into column P and height into column Q) in order for the equivalent area calculations to be correct. This is the dimensions of the opening part of the window pane, including frame - see Box 7 for further information."]
[null,null,{"$f":"C58+1","v":{"v":16,"d":"16."}},"Guidance on how to input sliding doors/windows, bifold doors/windows, and sash windows can be found in Box 8. Note that front doors cannot be assumed to be open as part of the overheating strategy."]
[{"$nulls":7},"Box 4"]
[null,null,{"$f":"C59+1","v":{"v":17,"d":"17."}},"For bedrooms, you will now need to select whether the window or door is on the ground floor or 'easily accessible' in column R. See Box 9 for guidance.",{"$nulls":3},"On the plan view drawing of the dwelling, assign windows/openings facing the top of the page '12', right of the page '3', bottom of the page '6', and left of the page '9' (as a clock face). For any windows/openings not directly facing one of these directions, the closest 'clock face' direction should be chosen. See diagram below."]
[null,null,{"$f":"C61+1","v":{"v":18,"d":"18."}},"If the answer is yes, then there is a further question regarding security in column S. See Box 10 for guidance."]
[null,null,{"$f":"C62+1","v":{"v":19,"d":"19."}},"If the window is secure for night-time opening, then depending on the window type you will be asked to enter either the secure night-time opening distance (column T) and daytime opening distance (column U) or the secure night-time opening angle (column V) and daytime opening angle (column W). This must take into account the 650mm maximum reach criteria. See Box 11, Box 13 & Box 14 for guidance.\n"]
[null,null,"19A.","If the window is not secure for night-time opening then it is assumed to be closed at night. In this case the daytime opening distance is calculated based on the inputs in columns X - AA so make sure the yellow cells here are filled in."]
[null,null,{"$f":"C63+1","v":{"v":20,"d":"20."}},"For all windows/ rooflights not in ground floor or easily accessible bedrooms, the next information to enter is whether the opening is restricted in any way to provide additional protection from falling. Use the drop down in column X to indicate this. "]
[null,null,{"$f":"C65+1","v":{"v":21,"d":"21."}},"If there is a restrictor, enter the opening distance (in mm) in column Y. This should be the measurement of the gap at the window's widest opening point with the restrictor in place. See Box 11 for guidance."]
[null,null,{"$f":"C66+1","v":{"v":22,"d":"22."}},"For outward opening top and side hung windows, the spreadsheet will automatically calculate the opening angle taking into account the 650mm reach criteria. You will need to enter the distance (in mm) from the inside wall to the window frame into column Z. An allowance has been made for certain features - see Box 12 for details.  "]
[null,null,{"v":23,"d":"23."},"For inward opening windows and rooflights you will need to enter the opening angle in column AA. For rooflights this must take into account the maximum 650mm reach criteria and any other restrictions to opening - see Box 13. For inward opening windows this must take into account any restrictions to opening (the 650mm criteria does not apply) - see Box 14. If the opening angle is >90 degrees, enter 90."]
[{"$nulls":7},"Box 5"]
[{"$nulls":7},"The orientation of 'clock face 6' on the house type plan can be determined by looking at the plot on the site wide plan. See example below."]
[null,null,{"$f":"C68+1","v":{"v":24,"d":"24."}},"Columns AB and AC will display the calculated opening angle to allow for a sense check"]
[null,null,{"$f":"C71+1","v":{"v":25,"d":"25."}},"Complete the above information [steps 5 to 23] for all windows, doors and rooflights, using a new row for each individual pane/opening.  Note that the room (column B) and room floor area (column D) need to be entered on each row used."]
[null,null,{"$f":"C72+1","v":{"v":26,"d":"26."}},"Open the \"RESULTS\" tab"]
[null,null,{"$f":"C73+1","v":{"v":27,"d":"27."}},"Here you can enter information about the site and plot (cells D9, D10, D11 & D12)"]
[null,null,{"$f":"C74+1","v":{"v":28,"d":"28."}},"You need to enter the location risk category for the dwelling into cell D14. The location categories are defined in AD-O section 1.3. Most of England is defined as \"Moderate Risk\", but urban and some suburban parts of London are defined as \"High Risk\", and there is also guidance on parts of central Manchester. Refer to AD-O for details. "]
[null,null,{"$f":"C75+1","v":{"v":29,"d":"29."}},"Use the drop down in cell D15 to indicate whether shading is provided. Shading must be provided in High Risk areas. See AD-O para 1.9 for details. If the dwelling is in a Moderate Risk location but the largest glazed façade is orientated West, it may be advantageous to provide shading and use the less onerous High Risk criteria. The spreadsheet tool will automatically use the High Risk criteria in this situation. See DLUHC FAQ's #3."]
[{"$nulls":7},"The closest compass direction to the orientation of the 'clock face 6' façade should be used (North, East, South, West).\nIf 'clock face 6' is facing exactly between two compass points then within this spreadsheet tool this means that you will need to test the dwelling in both orientations to check for compliance (e.g. if the direction of 'clock face 6' is SW, then check whether the compliance targets are met with \"RESULTS\" tab cell H5 set to  South and again with cell H5 set to West). The dwelling must pass the target criteria for both orientations in order to comply with AD-O. You will need to do this when you get to step 32."]
[null,null,{"$f":"C76+1","v":{"v":30,"d":"30."}},"If you have not already done so, enter the orientation of the bottom of the plan drawing (clock face 6) in cell H5. Note that AD-O requires the closest compass direction to be used (North, East, South, West). See step 10, Box 4 and Box 5 for further information."]
[null,null,{"$f":"C78+1","v":{"v":31,"d":"31."}},"Cells H3 and H4 are checks to ensure the Simplified Method is applicable to the location of the dwelling. Use the drop downs to indicate the answers."]
[null,null,{"$f":"C79+1","v":{"v":32,"d":"32."}},"The outcome of the assessment is shown in the Results section (rows 20-32). This shows the values calculated for the dwelling alongside the target (taken from the criteria in AD-O Tables 1.1 to 1.4). The targets differ depending on location, whether or not cross ventilation is available, and the orientation of the largest glazed façade."]
[]
[null,null,{"$f":"C80+1","v":{"v":33,"d":"33."}},"For the dwelling to comply using the Simplified Method, all AD-O criteria need to be met. This is shown by the colour coded tick and cross in column K",{"$nulls":3},"Box 6"]
[{"$nulls":7},"The input for the glazed pane is the area or dimensions of the glass in each pane (excluding frame, etc)."]
[null,null,{"$f":"C82+1","v":{"v":34,"d":"34."}},"It may be necessary to iterate the design in order to pass all criteria"]
[null,null,{"$f":"C84+1","v":{"v":35,"d":"35."}},"Results for all orientations can be viewed on the \"Summary for all orientations\" tab"]
[null,null,{"$f":"C85+1","v":{"v":36,"d":"36."}},"A suggested compliance checklist that may be filled out and submitted to Building Control is included in \"Compliance Checklist\" sheet. This is based on the template in AD-O Appendix B."]
[null,null,{"$f":"C86+1","v":{"v":37,"d":"37."}},"You will need to use a new copy of the spreadsheet tool for each dwelling you want to assess"]
[]
[]
[]
[]
[{"$nulls":7},"Box 7"]
[{"$nulls":7},"The input for the window sash/ door is the width and height of each opening section (including frame, etc)."]
{"$rows_empty":8}
[{"$nulls":7},"Box 8"]
[{"$nulls":7},"For sliding doors/windows, bifold doors/windows, and sash windows, there is a particular way in which you will need to enter the panes into the spreadsheet for the outputs to be correct. This is illustrated below with sliding doors as an example, and the same principles should be used for sliding windows, bifold doors/windows and sash windows. "]
{"$rows_empty":10}
[{"$nulls":7},"- The glazing area of each pane should be entered into column O (or dimensions of glazed area into columns M and N)."]
[{"$nulls":7},"- The \"open\" section (shaded pink above) should be entered as the correct \"opening type\" in column J (e.g. in this case, \"Sliding door\"). The width of the opening should be entered into column P, and the height of the opening into column Q. It does not matter if it turns out that the area entered for the glazed pane is larger than the area of the opening."]
[{"$nulls":7},"- The \"fixed\" section (shaded green above) should be entered as \"fixed pane\" in column J. The width of the \"fixed\" section should be entered into column P, and the height into column Q."]
[]
[{"$nulls":7},"Box 9"]
[{"$nulls":7},"AD-O Appendix K defines \"easily accessible\" as:"]
[{"$nulls":7},"- A window or doorway, any part of which is within 2m vertically of an accessible level surface, such as the ground or basement level, or an access boundary."]
[{"$nulls":7},"- A window within 2m vertically of a flat or sloping roof (with a pitch of less than 30 degrees) that is within 3.5m of ground level."]
[]
[{"$nulls":7},"Box 10"]
[{"$nulls":7},"AD-O states that:"]
[{"$nulls":7},"Open windows or doors can be made secure by using any of the following.\na. Fixed or lockable louvred shutters.\nb. Fixed or lockable window grilles or railings."]
[]
[{"$nulls":7},"Box 11"]
[{"$nulls":7},"Opening distance is defined below for outward opening windows:"]
{"$rows_empty":14}
[{"$nulls":7},"The same principles apply for windows where the opening is restricted:"]
{"$rows_empty":13}
[{"$nulls":7},"Box 12"]
[{"$nulls":7},"The diagram below shows the distance from inside wall to window frame [a], and the max 650mm reach. Within the spreadsheet tool it has been assumed that dimension [c] minus [b] = 20mm."]
{"$rows_empty":15}
[{"$nulls":7},"Box 13"]
[{"$nulls":7},"Opening angle for rooflights is illustrated below."]
[{"$nulls":7},"Centre pivot:                                                     Top pivot: "]
{"$rows_empty":11}
[{"$nulls":7},"Box 14"]
[{"$nulls":7},"Opening angle for inward opening windows is illustrated below:"]

{"sheet":"Window & Door DATA INPUT","index":3,"n_rows":149,"n_cols":29,"rows_kept":149}
[null,"Building Regulations Part O 2021 (England), Simplified Method - Data Input",{"$nulls":7},"Version:",{"$f":"'Cover page'!D3","v":"FHH-SM-V2a"}]
[null,"Read \"USER GUIDE\" first! Fill out all yellow cells on each row used. Each opening and non-opening section of all windows, doors and rooflights should be input as a separate row."]
[null,"! DO NOT USE THE SIMPLIFIED METHOD - You have selected in the RESULTS tab that the dwelling is located where external noise may be an issue and/or near to significant local pollution sources - use Dynamic Thermal Modelling Method instead"]
[]
[null,"  Total GIA of home (m2)"]
[null,"  Is there cross ventilation?",{"$nulls":5},"You have selected in the RESULTS tab that",{"$f":"RESULTS!H5","v":0},"is the orientation on the site wide plan of house type plan 'clock face 6'"]
[]
[null,"Room information",null,null,"Window/ door orientation & type",{"$nulls":6}," Dimensions of glazed pane and opening sash",{"$nulls":5},"Info for bedrooms with openings that are on the ground floor or 'easily accessible'",{"$nulls":5},"Info to determine the window/ rooflight opening angle"]
[null,"Room","Room description","Room floor area (m2)","Window #","Pane\n#","Window Ref","Clock face orientation of window on house type plan","Orientation of Window on Plot","Opening Type","Is this pane opened for removal of excess heat?","Glazing entry (choose by area or dimensions)","Measured width of glazed pane (mm)","Measured height of glazed pane (mm)","Measured glazed pane area (m2)","Measured width of window sash/ door (mm)","Measured height of window sash/ door (mm)","Is the window or door on the ground floor or 'easily accessible'?","Is the window or door secure for night time opening?","Window sash night-time opening distance with security in place (mm)","Window sash daytime opening distance (mm) ","Window sash/ rooflight night-time opening angle with security in place (degrees)","Window sash/ rooflight daytime opening angle  (degrees)","Is the opening restricted to provide additional protection from falling?","Restriction limit (mm)","Distance [a] from inside wall to window frame (mm)","Opening angle of rooflight or inward opening window sash (degrees)","Calculated daytime opening angle of window sash, door or rooflight (degrees)","Calculated night-time opening angle of bedroom window sash, door or rooflight (degrees)"]
[{"$nulls":8},{"$f":"Calculations!G4","v":""},{"$nulls":18},{"$f":"Calculations!W4","v":""},{"$f":"Calculations!AG4","v":""}]
[{"$nulls":8},{"$f":"Calculations!G5","v":""},{"$nulls":18},{"$f":"Calculations!W5","v":""},{"$f":"Calculations!AG5","v":""}]
[{"$nulls":8},{"$f":"Calculations!G6","v":""},{"$nulls":18},{"$f":"Calculations!W6","v":""},{"$f":"Calculations!AG6","v":""}]
[{"$nulls":8},{"$f":"Calculations!G7","v":""},{"$nulls":18},{"$f":"Calculations!W7","v":""},{"$f":"Calculations!AG7","v":""}]
[{"$nulls":8},{"$f":"Calculations!G8","v":""},{"$nulls":18},{"$f":"Calculations!W8","v":""},{"$f":"Calculations!AG8","v":""}]
[{"$nulls":8},{"$f":"Calculations!G9","v":""},{"$nulls":18},{"$f":"Calculations!W9","v":""},{"$f":"Calculations!AG9","v":""}]
[{"$nulls":8},{"$f":"Calculations!G10","v":""},{"$nulls":18},{"$f":"Calculations!W10","v":""},{"$f":"Calculations!AG10","v":""}]
[{"$nulls":8},{"$f":"Calculations!G11","v":""},{"$nulls":18},{"$f":"Calculations!W11","v":""},{"$f":"Calculations!AG11","v":""}]
[{"$nulls":8},{"$f":"Calculations!G12","v":""},{"$nulls":18},{"$f":"Calculations!W12","v":""},{"$f":"Calculations!AG12","v":""}]
[{"$nulls":8},{"$f":"Calculations!G13","v":""},{"$nulls":18},{"$f":"Calculations!W13","v":""},{"$f":"Calculations!AG13","v":""}]
[{"$nulls":8},{"$f":"Calculations!G14","v":""},{"$nulls":18},{"$f":"Calculations!W14","v":""},{"$f":"Calculations!AG14","v":""}]
[{"$nulls":8},{"$f":"Calculations!G15","v":""},{"$nulls":18},{"$f":"Calculations!W15","v":""},{"$f":"Calculations!AG15","v":""}]
[{"$nulls":8},{"$f":"Calculations!G16","v":""},{"$nulls":18},{"$f":"Calculations!W16","v":""},{"$f":"Calculations!AG16","v":""}]
[{"$nulls":8},{"$f":"Calculations!G17","v":""},{"$nulls":18},{"$f":"Calculations!W17","v":""},{"$f":"Calculations!AG17","v":""}]
[{"$nulls":8},{"$f":"Calculations!G18","v":""},{"$nulls":18},{"$f":"Calculations!W18","v":""},{"$f":"Calculations!AG18","v":""}]
[{"$nulls":8},{"$f":"Calculations!G19","v":""},{"$nulls":18},{"$f":"Calculations!W19","v":""},{"$f":"Calculations!AG19","v":""}]
[{"$nulls":8},{"$f":"Calculations!G20","v":""},{"$nulls":18},{"$f":"Calculations!W20","v":""},{"$f":"Calculations!AG20","v":""}]
[{"$nulls":8},{"$f":"Calculations!G21","v":""},{"$nulls":18},{"$f":"Calculations!W21","v":""},{"$f":"Calculations!AG21","v":""}]
[{"$nulls":8},{"$f":"Calculations!G22","v":""},{"$nulls":18},{"$f":"Calculations!W22","v":""},{"$f":"Calculations!AG22","v":""}]
[{"$nulls":8},{"$f":"Calculations!G23","v":""},{"$nulls":18},{"$f":"Calculations!W23","v":""},{"$f":"Calculations!AG23","v":""}]
[{"$nulls":8},{"$f":"Calculations!G24","v":""},{"$nulls":18},{"$f":"Calculations!W24","v":""},{"$f":"Calculations!AG24","v":""}]
[{"$nulls":8},{"$f":"Calculations!G25","v":""},{"$nulls":18},{"$f":"Calculations!W25","v":""},{"$f":"Calculations!AG25","v":""}]
[{"$nulls":8},{"$f":"Calculations!G26","v":""},{"$nulls":18},{"$f":"Calculations!W26","v":""},{"$f":"Calculations!AG26","v":""}]
[{"$nulls":8},{"$f":"Calculations!G27","v":""},{"$nulls":18},{"$f":"Calculations!W27","v":""},{"$f":"Calculations!AG27","v":""}]
[{"$nulls":8},{"$f":"Calculations!G28","v":""},{"$nulls":18},{"$f":"Calculations!W28","v":""},{"$f":"Calculations!AG28","v":""}]
[{"$nulls":8},{"$f":"Calculations!G29","v":""},{"$nulls":18},{"$f":"Calculations!W29","v":""},{"$f":"Calculations!AG29","v":""}]
[{"$nulls":8},{"$f":"Calculations!G30","v":""},{"$nulls":18},{"$f":"Calculations!W30","v":""},{"$f":"Calculations!AG30","v":""}]
[{"$nulls":8},{"$f":"Calculations!G31","v":""},{"$nulls":18},{"$f":"Calculations!W31","v":""},{"$f":"Calculations!AG31","v":""}]
[{"$nulls":8},{"$f":"Calculations!G32","v":""},{"$nulls":18},{"$f":"Calculations!W32","v":""},{"$f":"Calculations!AG32","v":""}]
[{"$nulls":8},{"$f":"Calculations!G33","v":""},{"$nulls":18},{"$f":"Calculations!W33","v":""},{"$f":"Calculations!AG33","v":""}]
[{"$nulls":8},{"$f":"Calculations!G34","v":""},{"$nulls":18},{"$f":"Calculations!W34","v":""},{"$f":"Calculations!AG34","v":""}]
[{"$nulls":8},{"$f":"Calculations!G35","v":""},{"$nulls":18},{"$f":"Calculations!W35","v":""},{"$f":"Calculations!AG35","v":""}]
[{"$nulls":8},{"$f":"Calculations!G36","v":""},{"$nulls":18},{"$f":"Calculations!W36","v":""},{"$f":"Calculations!AG36","v":""}]
[{"$nulls":8},{"$f":"Calculations!G37","v":""},{"$nulls":18},{"$f":"Calculations!W37","v":""},{"$f":"Calculations!AG37","v":""}]
[{"$nulls":8},{"$f":"Calculations!G38","v":""},{"$nulls":18},{"$f":"Calculations!W38","v":""},{"$f":"Calculations!AG38","v":""}]
[{"$nulls":8},{"$f":"Calculations!G39","v":""},{"$nulls":18},{"$f":"Calculations!W39","v":""},{"$f":"Calculations!AG39","v":""}]
[{"$nulls":8},{"$f":"Calculations!G40","v":""},{"$nulls":18},{"$f":"Calculations!W40","v":""},{"$f":"Calculations!AG40","v":""}]
[{"$nulls":8},{"$f":"Calculations!G41","v":""},{"$nulls":18},{"$f":"Calculations!W41","v":""},{"$f":"Calculations!AG41","v":""}]
[{"$nulls":8},{"$f":"Calculations!G42","v":""},{"$nulls":18},{"$f":"Calculations!W42","v":""},{"$f":"Calculations!AG42","v":""}]
[{"$nulls":8},{"$f":"Calculations!G43","v":""},{"$nulls":18},{"$f":"Calculations!W43","v":""},{"$f":"Calculations!AG43","v":""}]
[{"$nulls":8},{"$f":"Calculations!G44","v":""},{"$nulls":18},{"$f":"Calculations!W44","v":""},{"$f":"Calculations!AG44","v":""}]
[{"$nulls":8},{"$f":"Calculations!G45","v":""},{"$nulls":18},{"$f":"Calculations!W45","v":""},{"$f":"Calculations!AG45","v":""}]
[{"$nulls":8},{"$f":"Calculations!G46","v":""},{"$nulls":18},{"$f":"Calculations!W46","v":""},{"$f":"Calculations!AG46","v":""}]
[{"$nulls":8},{"$f":"Calculations!G47","v":""},{"$nulls":18},{"$f":"Calculations!W47","v":""},{"$f":"Calculations!AG47","v":""}]
[{"$nulls":8},{"$f":"Calculations!G48","v":""},{"$nulls":18},{"$f":"Calculations!W48","v":""},{"$f":"Calculations!AG48","v":""}]
[{"$nulls":8},{"$f":"Calculations!G49","v":""},{"$nulls":18},{"$f":"Calculations!W49","v":""},{"$f":"Calculations!AG49","v":""}]
[{"$nulls":8},{"$f":"Calculations!G50","v":""},{"$nulls":18},{"$f":"Calculations!W50","v":""},{"$f":"Calculations!AG50","v":""}]
[{"$nulls":8},{"$f":"Calculations!G51","v":""},{"$nulls":18},{"$f":"Calculations!W51","v":""},{"$f":"Calculations!AG51","v":""}]
[{"$nulls":8},{"$f":"Calculations!G52","v":""},{"$nulls":18},{"$f":"Calculations!W52","v":""},{"$f":"Calculations!AG52","v":""}]
[{"$nulls":8},{"$f":"Calculations!G53","v":""},{"$nulls":18},{"$f":"Calculations!W53","v":""},{"$f":"Calculations!AG53","v":""}]
[{"$nulls":8},{"$f":"Calculations!G54","v":""},{"$nulls":18},{"$f":"Calculations!W54","v":""},{"$f":"Calculations!AG54","v":""}]
[{"$nulls":8},{"$f":"Calculations!G55","v":""},{"$nulls":18},{"$f":"Calculations!W55","v":""},{"$f":"Calculations!AG55","v":""}]
[{"$nulls":8},{"$f":"Calculations!G56","v":""},{"$nulls":18},{"$f":"Calculations!W56","v":""},{"$f":"Calculations!AG56","v":""}]
[{"$nulls":8},{"$f":"Calculations!G57","v":""},{"$nulls":18},{"$f":"Calculations!W57","v":""},{"$f":"Calculations!AG57","v":""}]
[{"$nulls":8},{"$f":"Calculations!G58","v":""},{"$nulls":18},{"$f":"Calculations!W58","v":""},{"$f":"Calculations!AG58","v":""}]
[{"$nulls":8},{"$f":"Calculations!G59","v":""},{"$nulls":18},{"$f":"Calculations!W59","v":""},{"$f":"Calculations!AG59","v":""}]
[{"$nulls":8},{"$f":"Calculations!G60","v":""},{"$nulls":18},{"$f":"Calculations!W60","v":""},{"$f":"Calculations!AG60","v":""}]
[{"$nulls":8},{"$f":"Calculations!G61","v":""},{"$nulls":18},{"$f":"Calculations!W61","v":""},{"$f":"Calculations!AG61","v":""}]
[{"$nulls":8},{"$f":"Calculations!G62","v":""},{"$nulls":18},{"$f":"Calculations!W62","v":""},{"$f":"Calculations!AG62","v":""}]
[{"$nulls":8},{"$f":"Calculations!G63","v":""},{"$nulls":18},{"$f":"Calculations!W63","v":""},{"$f":"Calculations!AG63","v":""}]
[{"$nulls":8},{"$f":"Calculations!G64","v":""},{"$nulls":18},{"$f":"Calculations!W64","v":""},{"$f":"Calculations!AG64","v":""}]
[{"$nulls":8},{"$f":"Calculations!G65","v":""},{"$nulls":18},{"$f":"Calculations!W65","v":""},{"$f":"Calculations!AG65","v":""}]
[{"$nulls":8},{"$f":"Calculations!G66","v":""},{"$nulls":18},{"$f":"Calculations!W66","v":""},{"$f":"Calculations!AG66","v":""}]
[{"$nulls":8},{"$f":"Calculations!G67","v":""},{"$nulls":18},{"$f":"Calculations!W67","v":""},{"$f":"Calculations!AG67","v":""}]
[{"$nulls":8},{"$f":"Calculations!G68","v":""},{"$nulls":18},{"$f":"Calculations!W68","v":""},{"$f":"Calculations!AG68","v":""}]
[{"$nulls":8},{"$f":"Calculations!G69","v":""},{"$nulls":18},{"$f":"Calculations!W69","v":""},{"$f":"Calculations!AG69","v":""}]
[{"$nulls":8},{"$f":"Calculations!G70","v":""},{"$nulls":18},{"$f":"Calculations!W70","v":""},{"$f":"Calculations!AG70","v":""}]
[{"$nulls":8},{"$f":"Calculations!G71","v":""},{"$nulls":18},{"$f":"Calculations!W71","v":""},{"$f":"Calculations!AG71","v":""}]
[{"$nulls":8},{"$f":"Calculations!G72","v":""},{"$nulls":18},{"$f":"Calculations!W72","v":""},{"$f":"Calculations!AG72","v":""}]
[{"$nulls":8},{"$f":"Calculations!G73","v":""},{"$nulls":18},{"$f":"Calculations!W73","v":""},{"$f":"Calculations!AG73","v":""}]
[{"$nulls":8},{"$f":"Calculations!G74","v":""},{"$nulls":18},{"$f":"Calculations!W74","v":""},{"$f":"Calculations!AG74","v":""}]
[{"$nulls":8},{"$f":"Calculations!G75","v":""},{"$nulls":18},{"$f":"Calculations!W75","v":""},{"$f":"Calculations!AG75","v":""}]
[{"$nulls":8},{"$f":"Calculations!G76","v":""},{"$nulls":18},{"$f":"Calculations!W76","v":""},{"$f":"Calculations!AG76","v":""}]
[{"$nulls":8},{"$f":"Calculations!G77","v":""},{"$nulls":18},{"$f":"Calculations!W77","v":""},{"$f":"Calculations!AG77","v":""}]
[{"$nulls":8},{"$f":"Calculations!G78","v":""},{"$nulls":18},{"$f":"Calculations!W78","v":""},{"$f":"Calculations!AG78","v":""}]
[{"$nulls":8},{"$f":"Calculations!G79","v":""},{"$nulls":18},{"$f":"Calculations!W79","v":""},{"$f":"Calculations!AG79","v":""}]
[{"$nulls":8},{"$f":"Calculations!G80","v":""},{"$nulls":18},{"$f":"Calculations!W80","v":""},{"$f":"Calculations!AG80","v":""}]
[{"$nulls":8},{"$f":"Calculations!G81","v":""},{"$nulls":18},{"$f":"Calculations!W81","v":""},{"$f":"Calculations!AG81","v":""}]
[{"$nulls":8},{"$f":"Calculations!G82","v":""},{"$nulls":18},{"$f":"Calculations!W82","v":""},{"$f":"Calculations!AG82","v":""}]
[{"$nulls":8},{"$f":"Calculations!G83","v":""},{"$nulls":18},{"$f":"Calculations!W83","v":""},{"$f":"Calculations!AG83","v":""}]
[{"$nulls":8},{"$f":"Calculations!G84","v":""},{"$nulls":18},{"$f":"Calculations!W84","v":""},{"$f":"Calculations!AG84","v":""}]
[{"$nulls":8},{"$f":"Calculations!G85","v":""},{"$nulls":18},{"$f":"Calculations!W85","v":""},{"$f":"Calculations!AG85","v":""}]
[{"$nulls":8},{"$f":"Calculations!G86","v":""},{"$nulls":18},{"$f":"Calculations!W86","v":""},{"$f":"Calculations!AG86","v":""}]
[{"$nulls":8},{"$f":"Calculations!G87","v":""},{"$nulls":18},{"$f":"Calculations!W87","v":""},{"$f":"Calculations!AG87","v":""}]
[{"$nulls":8},{"$f":"Calculations!G88","v":""},{"$nulls":18},{"$f":"Calculations!W88","v":""},{"$f":"Calculations!AG88","v":""}]
[{"$nulls":8},{"$f":"Calculations!G89","v":""},{"$nulls":18},{"$f":"Calculations!W89","v":""},{"$f":"Calculations!AG89","v":""}]
[{"$nulls":8},{"$f":"Calculations!G90","v":""},{"$nulls":18},{"$f":"Calculations!W90","v":""},{"$f":"Calculations!AG90","v":""}]
[{"$nulls":8},{"$f":"Calculations!G91","v":""},{"$nulls":18},{"$f":"Calculations!W91","v":""},{"$f":"Calculations!AG91","v":""}]
[{"$nulls":8},{"$f":"Calculations!G92","v":""},{"$nulls":18},{"$f":"Calculations!W92","v":""},{"$f":"Calculations!AG92","v":""}]
[{"$nulls":8},{"$f":"Calculations!G93","v":""},{"$nulls":18},{"$f":"Calculations!W93","v":""},{"$f":"Calculations!AG93","v":""}]
[{"$nulls":8},{"$f":"Calculations!G94","v":""},{"$nulls":18},{"$f":"Calculations!W94","v":""},{"$f":"Calculations!AG94","v":""}]
[{"$nulls":8},{"$f":"Calculations!G95","v":""},{"$nulls":18},{"$f":"Calculations!W95","v":""},{"$f":"Calculations!AG95","v":""}]
[{"$nulls":8},{"$f":"Calculations!G96","v":""},{"$nulls":18},{"$f":"Calculations!W96","v":""},{"$f":"Calculations!AG96","v":""}]
[{"$nulls":8},{"$f":"Calculations!G97","v":""},{"$nulls":18},{"$f":"Calculations!W97","v":""},{"$f":"Calculations!AG97","v":""}]
[{"$nulls":8},{"$f":"Calculations!G98","v":""},{"$nulls":18},{"$f":"Calculations!W98","v":""},{"$f":"Calculations!AG98","v":""}]
[{"$nulls":8},{"$f":"Calculations!G99","v":""},{"$nulls":18},{"$f":"Calculations!W99","v":""},{"$f":"Calculations!AG99","v":""}]
[{"$nulls":8},{"$f":"Calculations!G100","v":""},{"$nulls":18},{"$f":"Calculations!W100","v":""},{"$f":"Calculations!AG100","v":""}]
[{"$nulls":8},{"$f":"Calculations!G101","v":""},{"$nulls":18},{"$f":"Calculations!W101","v":""},{"$f":"Calculations!AG101","v":""}]
[{"$nulls":8},{"$f":"Calculations!G102","v":""},{"$nulls":18},{"$f":"Calculations!W102","v":""},{"$f":"Calculations!AG102","v":""}]
[{"$nulls":8},{"$f":"Calculations!G103","v":""},{"$nulls":18},{"$f":"Calculations!W103","v":""},{"$f":"Calculations!AG103","v":""}]
[{"$nulls":8},{"$f":"Calculations!G104","v":""},{"$nulls":18},{"$f":"Calculations!W104","v":""},{"$f":"Calculations!AG104","v":""}]
[{"$nulls":8},{"$f":"Calculations!G105","v":""},{"$nulls":18},{"$f":"Calculations!W105","v":""},{"$f":"Calculations!AG105","v":""}]
[{"$nulls":8},{"$f":"Calculations!G106","v":""},{"$nulls":18},{"$f":"Calculations!W106","v":""},{"$f":"Calculations!AG106","v":""}]
[{"$nulls":8},{"$f":"Calculations!G107","v":""},{"$nulls":18},{"$f":"Calculations!W107","v":""},{"$f":"Calculations!AG107","v":""}]
[{"$nulls":8},{"$f":"Calculations!G108","v":""},{"$nulls":18},{"$f":"Calculations!W108","v":""},{"$f":"Calculations!AG108","v":""}]
[{"$nulls":8},{"$f":"Calculations!G109","v":""},{"$nulls":18},{"$f":"Calculations!W109","v":""},{"$f":"Calculations!AG109","v":""}]
[{"$nulls":8},{"$f":"Calculations!G110","v":""},{"$nulls":18},{"$f":"Calculations!W110","v":""},{"$f":"Calculations!AG110","v":""}]
[{"$nulls":8},{"$f":"Calculations!G111","v":""},{"$nulls":18},{"$f":"Calculations!W111","v":""},{"$f":"Calculations!AG111","v":""}]
[{"$nulls":8},{"$f":"Calculations!G112","v":""},{"$nulls":18},{"$f":"Calculations!W112","v":""},{"$f":"Calculations!AG112","v":""}]
[{"$nulls":8},{"$f":"Calculations!G113","v":""},{"$nulls":18},{"$f":"Calculations!W113","v":""},{"$f":"Calculations!AG113","v":""}]
[{"$nulls":8},{"$f":"Calculations!G114","v":""},{"$nulls":18},{"$f":"Calculations!W114","v":""},{"$f":"Calculations!AG114","v":""}]
[{"$nulls":8},{"$f":"Calculations!G115","v":""},{"$nulls":18},{"$f":"Calculations!W115","v":""},{"$f":"Calculations!AG115","v":""}]
[{"$nulls":8},{"$f":"Calculations!G116","v":""},{"$nulls":18},{"$f":"Calculations!W116","v":""},{"$f":"Calculations!AG116","v":""}]
[{"$nulls":8},{"$f":"Calculations!G117","v":""},{"$nulls":18},{"$f":"Calculations!W117","v":""},{"$f":"Calculations!AG117","v":""}]
[{"$nulls":8},{"$f":"Calculations!G118","v":""},{"$nulls":18},{"$f":"Calculations!W118","v":""},{"$f":"Calculations!AG118","v":""}]
[{"$nulls":8},{"$f":"Calculations!G119","v":""},{"$nulls":18},{"$f":"Calculations!W119","v":""},{"$f":"Calculations!AG119","v":""}]
[{"$nulls":8},{"$f":"Calculations!G120","v":""},{"$nulls":18},{"$f":"Calculations!W120","v":""},{"$f":"Calculations!AG120","v":""}]
[{"$nulls":8},{"$f":"Calculations!G121","v":""},{"$nulls":18},{"$f":"Calculations!W121","v":""},{"$f":"Calculations!AG121","v":""}]
[{"$nulls":8},{"$f":"Calculations!G122","v":""},{"$nulls":18},{"$f":"Calculations!W122","v":""},{"$f":"Calculations!AG122","v":""}]
[{"$nulls":8},{"$f":"Calculations!G123","v":""},{"$nulls":18},{"$f":"Calculations!W123","v":""},{"$f":"Calculations!AG123","v":""}]
[{"$nulls":8},{"$f":"Calculations!G124","v":""},{"$nulls":18},{"$f":"Calculations!W124","v":""},{"$f":"Calculations!AG124","v":""}]
[{"$nulls":8},{"$f":"Calculations!G125","v":""},{"$nulls":18},{"$f":"Calculations!W125","v":""},{"$f":"Calculations!AG125","v":""}]
[{"$nulls":8},{"$f":"Calculations!G126","v":""},{"$nulls":18},{"$f":"Calculations!W126","v":""},{"$f":"Calculations!AG126","v":""}]
[{"$nulls":8},{"$f":"Calculations!G127","v":""},{"$nulls":18},{"$f":"Calculations!W127","v":""},{"$f":"Calculations!AG127","v":""}]
[{"$nulls":8},{"$f":"Calculations!G128","v":""},{"$nulls":18},{"$f":"Calculations!W128","v":""},{"$f":"Calculations!AG128","v":""}]
[{"$nulls":8},{"$f":"Calculations!G129","v":""},{"$nulls":18},{"$f":"Calculations!W129","v":""},{"$f":"Calculations!AG129","v":""}]
[{"$nulls":8},{"$f":"Calculations!G130","v":""},{"$nulls":18},{"$f":"Calculations!W130","v":""},{"$f":"Calculations!AG130","v":""}]
[{"$nulls":8},{"$f":"Calculations!G131","v":""},{"$nulls":18},{"$f":"Calculations!W131","v":""},{"$f":"Calculations!AG131","v":""}]
[{"$nulls":8},{"$f":"Calculations!G132","v":""},{"$nulls":18},{"$f":"Calculations!W132","v":""},{"$f":"Calculations!AG132","v":""}]
[{"$nulls":8},{"$f":"Calculations!G133","v":""},{"$nulls":18},{"$f":"Calculations!W133","v":""},{"$f":"Calculations!AG133","v":""}]
[{"$nulls":8},{"$f":"Calculations!G134","v":""},{"$nulls":18},{"$f":"Calculations!W134","v":""},{"$f":"Calculations!AG134","v":""}]
[{"$nulls":8},{"$f":"Calculations!G135","v":""},{"$nulls":18},{"$f":"Calculations!W135","v":""},{"$f":"Calculations!AG135","v":""}]
[{"$nulls":8},{"$f":"Calculations!G136","v":""},{"$nulls":18},{"$f":"Calculations!W136","v":""},{"$f":"Calculations!AG136","v":""}]
[{"$nulls":8},{"$f":"Calculations!G137","v":""},{"$nulls":18},{"$f":"Calculations!W137","v":""},{"$f":"Calculations!AG137","v":""}]
[{"$nulls":8},{"$f":"Calculations!G138","v":""},{"$nulls":18},{"$f":"Calculations!W138","v":""},{"$f":"Calculations!AG138","v":""}]
[{"$nulls":8},{"$f":"Calculations!G139","v":""},{"$nulls":18},{"$f":"Calculations!W139","v":""},{"$f":"Calculations!AG139","v":""}]
[{"$nulls":8},{"$f":"Calculations!G140","v":""},{"$nulls":18},{"$f":"Calculations!W140","v":""},{"$f":"Calculations!AG140","v":""}]
[{"$nulls":8},{"$f":"Calculations!G141","v":""},{"$nulls":18},{"$f":"Calculations!W141","v":""},{"$f":"Calculations!AG141","v":""}]
[{"$nulls":8},{"$f":"Calculations!G142","v":""},{"$nulls":18},{"$f":"Calculations!W142","v":""},{"$f":"Calculations!AG142","v":""}]
[{"$nulls":8},{"$f":"Calculations!G143","v":""},{"$nulls":18},{"$f":"Calculations!W143","v":""},{"$f":"Calculations!AG143","v":""}]

{"sheet":"RESULTS","index":4,"n_rows":42,"n_cols":11,"rows_kept":42,"merged":[[2,2,2,6],[3,2,3,6],[4,2,4,6],[8,3,8,10],[9,3,9,10],[10,3,10,10],[11,3,11,10],[13,3,13,5],[14,3,14,5],[15,3,15,10],[16,3,16,10],[17,3,17,10],[18,3,18,4],[18,5,18,6],[18,7,18,8],[21,3,22,3],[21,4,22,4],[21,5,22,5],[21,6,22,6],[21,7,22,7],[21,8,22,8],[21,9,22,9],[21,10,22,10],[23,3,23,4],[23,7,23,8],[35,1,35,10],[38,1,38,10],[40,1,40,10],[41,1,41,10]]}
[null,"Building Regulations Part O 2021 (England), Simplified Method - Results"]
[]
[null,null,"Is dwelling in a location where external noise may be an issue?",{"$nulls":5},{"$f":"IF(OR(H3=\"yes\",H4=\"yes\"),\"! Simplified Method not appropriate.\",\"\")","v":""}]
[null,null,"Is dwelling located near to significant local pollution sources?",{"$nulls":5},{"$f":"IF(OR(H3=\"yes\",H4=\"yes\"),\"Use Dynamic Thermal Modelling\",\"\")","v":""}]
[null,null,"Direction of house type plan 'clock face 6' on site wide plan",{"$nulls":5},{"$f":"IF(OR(H3=\"yes\",H4=\"yes\"),\"(TM59) instead.\",\"\")","v":""}]
[]
[null,null,"Future Homes Hub spreadsheet tool version:",{"$f":"'Cover page'!D3","v":"FHH-SM-V2a"}]
[null,"A","Site data"]
[null,null,"Company"]
[null,null,"Site"]
[null,null,"House type"]
[null,null,"Plot number"]
[null,"B","Home data"]
[null,null,"Location risk category"]
[null,null,"Shading provided?"]
[null,null,"Cross ventilation?",{"$f":"IF('Window & Door DATA INPUT'!D6>1,'Window & Door DATA INPUT'!D6, \"Error! Not defined on DATA INPUT sheet\")","v":"Error! Not defined on DATA INPUT sheet"}]
[null,null,"Total GIA of home (m2)",{"$f":"IF('Window & Door DATA INPUT'!D5>1,'Window & Door DATA INPUT'!D5,\"Error! Not defined on DATA INPUT sheet\")","v":"Error! Not defined on DATA INPUT sheet"}]
[null,null,"Largest glazed façade orientation",{"$f":"IF(H5<1,\"Error! Enter direction of 'clock face 6' above\",IF(Calculations!BD4<1,\"Error! Enter location risk category above\",IF(Calculations!BG8>0,\"Error! Enter whether cross ventilation on DATA INPUT sheet\",Calculations!BD6)))","v":"Error! Enter direction of 'clock face 6' above"}]
[null,"C","Results","Value",null,"Percentage",null,"Target",null,"RESULT","PO"]
[null,null,"Limiting solar gains:"]
[null,null,"Total glazing area for home",{"$f":"Calculations!BD12","v":{"v":0,"d":"0.00"}},"m²",{"$f":"ROUND(Calculations!BE12,2)","v":{"$error":"#VALUE!"}},"%",{"$f":"IF(AND(D15=\"provided\",D18=\"west\",D14=\"moderate risk\"),VLOOKUP(\"high risk\"&$D$16&$D$18,Parameters!$AG$4:$AH$19,2,FALSE),VLOOKUP($D$14&$D$16&$D$18,Parameters!$AG$4:$AH$19,2,FALSE))","v":{"$error":"#N/A"}},"%",{"$f":"IF(F21<=H21,Parameters!$AQ$4,Parameters!$AQ$5)","v":{"$error":"#VALUE!"}},{"$f":"IF(F21<=H21,\"P\",\"O\")","v":{"$error":"#VALUE!"}}]
[null,null,"Glazing area for most glazed room: ",{"$f":"Calculations!BD17","v":{"$error":"#N/A"}},"m²",{"$f":"ROUND(Calculations!BE17,2)","v":{"$error":"#N/A"}},"%",{"$f":"IF(AND(D15=\"provided\",D18=\"west\",D14=\"moderate risk\"),VLOOKUP(\"high risk\"&$D$16&$D$18,Parameters!$AG$4:$AI$19,3,FALSE),VLOOKUP($D$14&$D$16&$D$18,Parameters!$AG$4:$AI$19,3,FALSE))","v":{"$error":"#N/A"}},"%",{"$f":"IF(F22<=H22,Parameters!$AQ$4,Parameters!$AQ$5)","v":{"$error":"#N/A"}},{"$f":"IF(F22<=H22,\"P\",\"O\")","v":{"$error":"#N/A"}}]
[null,null,{"$f":"Calculations!BC16","v":{"$error":"#N/A"}}]
[null,null,"Shading",{"$f":"Calculations!BD7","v":"Error"},{"$nulls":3},{"$f":"IF(D14<1,\"Error\",IF(D14=\"High Risk\",\"Required\",IF(AND(D14=\"moderate risk\",D15=\"provided\",D18=\"west\"),\"Required\",\"Not required\")))","v":"Error"},null,null,{"$f":"IF(OR(D24=\"Error\",H24=\"Error\"),\" \",IF(AND(H24=\"Required\",D24=\"None\"),\"O\",\"P\"))","v":" "}]
[null,null,"Removal of excess heat:"]
[null,null,"Total equivalent area ( % of floor area)",{"$f":"Calculations!BD13","v":{"v":0,"d":"0.00"}},"m²",{"$f":"ROUND(Calculations!BE13,2)","v":{"$error":"#VALUE!"}},"%",{"$f":"VLOOKUP($D$14&$D$16&$D$18,Parameters!$AG$4:$AL$19,4,FALSE)","v":{"$error":"#N/A"}},"%",{"$f":"IF(F26>=H26,Parameters!$AQ$4,Parameters!$AQ$5)","v":{"$error":"#VALUE!"}},{"$f":"IF(F26<H26,\"O\",\"P\")","v":{"$error":"#VALUE!"}}]
[null,null,"Total equivalent area ( % of glazed area)",{"$f":"Calculations!BD13","v":{"v":0,"d":"0.00"}},"m²",{"$f":"ROUND(Calculations!BD9,2)","v":{"$error":"#DIV/0!"}},"%",{"$f":"VLOOKUP($D$14&$D$16&$D$18,Parameters!$AG$4:$AL$19,5,FALSE)","v":{"$error":"#N/A"}},"%",{"$f":"IF(F27>=H27,Parameters!$AQ$4,Parameters!$AQ$5)","v":{"$error":"#DIV/0!"}},{"$f":"IF(F27<H27,\"O\",\"P\")","v":{"$error":"#DIV/0!"}}]
[null,null,"Bedroom 1 equivalent area",{"$f":"Calculations!BD20","v":""},"m²",{"$f":"IF(Calculations!BE20=\"\",\"\",ROUND(Calculations!BE20,2))","v":""},"%",{"$f":"IF(Calculations!BE20=\"\",\"\",VLOOKUP($D$14&$D$16&$D$18,Parameters!$AG$4:$AL$19,6,FALSE))","v":""},"%",{"$f":"IF(Calculations!BE20=\"\",\"\",IF(F28>=H28,Parameters!$AQ$4,Parameters!$AQ$5))","v":""},{"$f":"IF(F28=\"\",\"\",IF(F28<H28,\"O\",\"P\"))","v":""}]
[null,null,"Bedroom 2 equivalent area",{"$f":"Calculations!BD21","v":""},"m²",{"$f":"IF(Calculations!BE21=\"\",\"\",ROUND(Calculations!BE21,2))","v":""},"%",{"$f":"IF(Calculations!BE21=\"\",\"\",VLOOKUP($D$14&$D$16&$D$18,Parameters!$AG$4:$AL$19,6,FALSE))","v":""},"%",{"$f":"IF(Calculations!BE21=\"\",\"\",IF(F29>=H29,Parameters!$AQ$4,Parameters!$AQ$5))","v":""},{"$f":"IF(F29=\"\",\"\",IF(F29<H29,\"O\",\"P\"))","v":""}]
[null,null,"Bedroom 3 equivalent area",{"$f":"Calculations!BD22","v":""},"m²",{"$f":"IF(Calculations!BE22=\"\",\"\",ROUND(Calculations!BE22,2))","v":""},"%",{"$f":"IF(Calculations!BE22=\"\",\"\",VLOOKUP($D$14&$D$16&$D$18,Parameters!$AG$4:$AL$19,6,FALSE))","v":""},"%",{"$f":"IF(Calculations!BE22=\"\",\"\",IF(F30>=H30,Parameters!$AQ$4,Parameters!$AQ$5))","v":""},{"$f":"IF(F30=\"\",\"\",IF(F30<H30,\"O\",\"P\"))","v":""}]
[null,null,"Bedroom 4 equivalent area",{"$f":"Calculations!BD23","v":""},"m²",{"$f":"IF(Calculations!BE23=\"\",\"\",ROUND(Calculations!BE23,2))","v":""},"%",{"$f":"IF(Calculations!BE23=\"\",\"\",VLOOKUP($D$14&$D$16&$D$18,Parameters!$AG$4:$AL$19,6,FALSE))","v":""},"%",{"$f":"IF(Calculations!BE23=\"\",\"\",IF(F31>=H31,Parameters!$AQ$4,Parameters!$AQ$5))","v":""},{"$f":"IF(F31=\"\",\"\",IF(F31<H31,\"O\",\"P\"))","v":""}]
[null,null,"Bedroom 5 equivalent area",{"$f":"Calculations!BD24","v":""},"m²",{"$f":"IF(Calculations!BE24=\"\",\"\",ROUND(Calculations!BE24,2))","v":""},"%",{"$f":"IF(Calculations!BE24=\"\",\"\",VLOOKUP($D$14&$D$16&$D$18,Parameters!$AG$4:$AL$19,6,FALSE))","v":""},"%",{"$f":"IF(Calculations!BE24=\"\",\"\",IF(F32>=H32,Parameters!$AQ$4,Parameters!$AQ$5))","v":""},{"$f":"IF(F32=\"\",\"\",IF(F32<H32,\"O\",\"P\"))","v":""}]
[null,null,"Bedroom 6 equivalent area",{"$f":"Calculations!BD25","v":""},"m²",{"$f":"IF(Calculations!BE25=\"\",\"\",ROUND(Calculations!BE25,2))","v":""},"%",{"$f":"IF(Calculations!BE25=\"\",\"\",VLOOKUP($D$14&$D$16&$D$18,Parameters!$AG$4:$AL$19,6,FALSE))","v":""},"%",{"$f":"IF(Calculations!BE25=\"\",\"\",IF(F33>=H33,Parameters!$AQ$4,Parameters!$AQ$5))","v":""},""]
[null,null,"Bedroom 7 equivalent area",{"$f":"Calculations!BD26","v":""},"m²",{"$f":"IF(Calculations!BE26=\"\",\"\",ROUND(Calculations!BE26,2))","v":""},"%",{"$f":"IF(Calculations!BE26=\"\",\"\",VLOOKUP($D$14&$D$16&$D$18,Parameters!$AG$4:$AL$19,6,FALSE))","v":""},"%",{"$f":"IF(Calculations!BE26=\"\",\"\",IF(F34>=H34,Parameters!$AQ$4,Parameters!$AQ$5))","v":""},""]
[null,null,"Bedroom 8 equivalent area",{"$f":"Calculations!BD27","v":""},"m²",{"$f":"IF(Calculations!BE27=\"\",\"\",ROUND(Calculations!BE27,2))","v":""},"%",{"$f":"IF(Calculations!BE27=\"\",\"\",VLOOKUP($D$14&$D$16&$D$18,Parameters!$AG$4:$AL$19,6,FALSE))","v":""},"%",{"$f":"IF(Calculations!BE27=\"\",\"\",IF(F35>=H35,Parameters!$AQ$4,Parameters!$AQ$5))","v":""},""]
[null,{"$f":"IF(AND(D14=\"moderate risk\",D15=\"provided\",D18=\"west\"),\"NOTE: Although in moderate risk location, shading has been provided to reduce solar gains.  As the largest glazed facade is West orientated, the less onerous Limiting Solar Gains targets have been used from High Risk location requirements.\",\"\")","v":""}]
[]
[]
[null,"This spreadsheet has been provided for free and whilst every effort has been made to ensure it's accuracy the\nFuture Homes Hub can assume no liability for errors or omissions. It is used entirely at the user's own risk.\nRefer to the cover page for full legal notices."]
[]
[null,"Should you have any comments, observations or suggestions please send them to"]
[null,"admin@futurehomes.org.uk"]

{"sheet":"Summary for all orientations","index":5,"n_rows":44,"n_cols":27,"rows_kept":44,"merged":[[13,13,13,14],[13,15,13,17],[13,18,13,19],[14,13,14,14],[15,13,15,14],[16,2,17,2],[16,13,16,14],[17,13,17,14],[20,3,20,5],[20,8,20,11],[20,13,20,16],[20,18,20,21],[20,23,20,26],[21,8,21,11],[21,13,21,16],[21,18,21,21],[21,23,21,26],[22,3,22,4],[22,5,22,6],[22,8,22,9],[22,13,22,14],[22,18,22,19],[22,23,22,24],[25,3,26,3],[25,4,26,4],[25,5,26,5],[25,6,26,6],[25,8,26,8],[25,9,26,9],[25,10,26,10],[25,11,26,11],[25,13,26,13],[25,14,26,14],[25,15,26,15],[25,16,26,16],[25,18,26,18],[25,19,26,19],[25,20,26,20],[25,21,26,21],[25,23,26,23],[25,24,26,24],[25,25,26,25],[25,26,26,26],[27,3,27,4],[27,8,27,9],[27,13,27,14],[27,18,27,19],[27,23,27,24],[39,8,39,26],[40,1,40,26],[42,1,42,26],[43,1,43,26]]}
[null,"Building Regulations Part O 2021 (England), Simplified Method - Summary results for all orientations"]
[]
[null,"This sheet displays results for all orientations - FOR INFORMATION ONLY. It shows the results IF the dwelling were to be plotted facing different compass directions."]
[null,"Please make sure you have entered all home data information on the 'Window & Door DATA INPUT' sheet and the 'RESULTS' sheet in order for results to be shown here."]
[]
[null,null,"Future Homes Hub spreadsheet tool version:",{"$f":"'Cover page'!D3","v":"FHH-SM-V2a"}]
[null,"A","Site data"]
[null,null,"Company",{"$f":"IF(RESULTS!D9<1,\"Error! Enter information on RESULTS sheet\",RESULTS!D9)","v":"Error! Enter information on RESULTS sheet"}]
[null,null,"Site",{"$f":"IF(RESULTS!D10<1,\"Error! Enter information on RESULTS sheet\",RESULTS!D10)","v":"Error! Enter information on RESULTS sheet"}]
[null,null,"House type",{"$f":"IF(RESULTS!D11<1,\"Error! Enter information on RESULTS sheet\",RESULTS!D11)","v":"Error! Enter information on RESULTS sheet"}]
[null,null,"Plot number",{"$f":"IF(RESULTS!D12<1,\"Error! Enter information on RESULTS sheet\",RESULTS!D12)","v":"Error! Enter information on RESULTS sheet"}]
[null,"B","Home data"]
[null,null,"Location risk category",{"$f":"IF(RESULTS!D14<1,\"Error! Not defined on RESULTS sheet\",RESULTS!D14)","v":"Error! Not defined on RESULTS sheet"},{"$nulls":9},"Glazed area information"]
[null,null,"Shading provided?",{"$f":"IF(RESULTS!D15<1,\"Error! Not defined on RESULTS sheet\",RESULTS!D15)","v":"Error! Not defined on RESULTS sheet"},{"$nulls":9},"'Clock face'",null,"Total glazed area (m2)",null,null,"% of total"]
[null,null,"Cross ventilation?",{"$f":"RESULTS!D16","v":"Error! Not defined on DATA INPUT sheet"},{"$nulls":9},12,null,{"$f":"Calculations!BL4","v":0},null,null,{"$f":"Calculations!BN4","v":{"$error":"#DIV/0!"}}]
[null,null,"Total GIA of home (m2)",{"$f":"RESULTS!D17","v":"Error! Not defined on DATA INPUT sheet"},{"$nulls":9},3,null,{"$f":"Calculations!BL5","v":0},null,null,{"$f":"Calculations!BN5","v":{"$error":"#DIV/0!"}}]
[null,null,"Direction of most glazed façade\non house type plan",{"$f":"IF(Calculations!BP4=1,_xlfn.CONCAT(\"'Clock face' \",Calculations!BQ4),\"More than one!\")","v":"More than one!"},{"$nulls":9},6,null,{"$f":"Calculations!BL6","v":0},null,null,{"$f":"Calculations!BN6","v":{"$error":"#DIV/0!"}}]
[{"$nulls":13},9,null,{"$f":"Calculations!BL7","v":0},null,null,{"$f":"Calculations!BN7","v":{"$error":"#DIV/0!"}}]
[]
[null,"C","Results"]
[{"$nulls":8},"Largest glazed façade orientation",{"$nulls":4},"Largest glazed façade orientation",{"$nulls":4},"Largest glazed façade orientation",{"$nulls":4},"Largest glazed façade orientation"]
[{"$nulls":8},"North",{"$nulls":4},"East",{"$nulls":4},"South",{"$nulls":4},"West"]
[{"$nulls":3},"Value",null,"Percentage",null,null,"Target",null,"RESULT","PO",null,"Target",null,"RESULT","PO",null,"Target",null,"RESULT","PO",null,"Target",null,"RESULT","PO"]
[null,null,"Limiting solar gains:"]
[null,null,"Total glazing area for home",{"$f":"Calculations!BD12","v":{"v":0,"d":"0.00"}},"m²",{"$f":"ROUND(Calculations!BE12,2)","v":{"$error":"#VALUE!"}},"%",null,{"$f":"IF(AND($D$14=\"provided\",I22=\"west\",$D$13=\"moderate risk\"),VLOOKUP(\"high risk\"&$D$15&I22,Parameters!$AG$4:$AH$19,2,FALSE),VLOOKUP($D$13&$D$15&I22,Parameters!$AG$4:$AH$19,2,FALSE))","v":{"$error":"#N/A"}},"%",{"$f":"IF($F25<=I25,Parameters!$AQ$4,Parameters!$AQ$5)","v":{"$error":"#VALUE!"}},{"$f":"IF($F25<=I25,\"P\",\"O\")","v":{"$error":"#VALUE!"}},null,{"$f":"IF(AND($D$14=\"provided\",N22=\"west\",$D$13=\"moderate risk\"),VLOOKUP(\"high risk\"&$D$15&N22,Parameters!$AG$4:$AH$19,2,FALSE),VLOOKUP($D$13&$D$15&N22,Parameters!$AG$4:$AH$19,2,FALSE))","v":{"$error":"#N/A"}},"%",{"$f":"IF($F25<=N25,Parameters!$AQ$4,Parameters!$AQ$5)","v":{"$error":"#VALUE!"}},{"$f":"IF($F25<=N25,\"P\",\"O\")","v":{"$error":"#VALUE!"}},null,{"$f":"IF(AND($D$14=\"provided\",S22=\"west\",$D$13=\"moderate risk\"),VLOOKUP(\"high risk\"&$D$15&S22,Parameters!$AG$4:$AH$19,2,FALSE),VLOOKUP($D$13&$D$15&S22,Parameters!$AG$4:$AH$19,2,FALSE))","v":{"$error":"#N/A"}},"%",{"$f":"IF($F25<=S25,Parameters!$AQ$4,Parameters!$AQ$5)","v":{"$error":"#VALUE!"}},{"$f":"IF($F25<=S25,\"P\",\"O\")","v":{"$error":"#VALUE!"}},null,{"$f":"IF(AND($D$14=\"provided\",X22=\"west\",$D$13=\"moderate risk\"),VLOOKUP(\"high risk\"&$D$15&X22,Parameters!$AG$4:$AH$19,2,FALSE),VLOOKUP($D$13&$D$15&X22,Parameters!$AG$4:$AH$19,2,FALSE))","v":{"$error":"#N/A"}},"%",{"$f":"IF($F25<=X25,Parameters!$AQ$4,Parameters!$AQ$5)","v":{"$error":"#VALUE!"}},{"$f":"IF($F25<=X25,\"P\",\"O\")","v":{"$error":"#VALUE!"}}]
[null,null,"Glazing area for most glazed room: ",{"$f":"Calculations!BD17","v":{"$error":"#N/A"}},"m²",{"$f":"ROUND(Calculations!BE17,2)","v":{"$error":"#N/A"}},"%",null,{"$f":"IF(AND($D$14=\"provided\",I22=\"west\",$D$13=\"moderate risk\"),VLOOKUP(\"high risk\"&$D$15&I22,Parameters!$AG$4:$AI$19,3,FALSE),VLOOKUP($D$13&$D$15&I22,Parameters!$AG$4:$AI$19,3,FALSE))","v":{"$error":"#N/A"}},"%",{"$f":"IF($F26<=I26,Parameters!$AQ$4,Parameters!$AQ$5)","v":{"$error":"#N/A"}},{"$f":"IF($F26<=I26,\"P\",\"O\")","v":{"$error":"#N/A"}},null,{"$f":"IF(AND($D$14=\"provided\",N22=\"west\",$D$13=\"moderate risk\"),VLOOKUP(\"high risk\"&$D$15&N22,Parameters!$AG$4:$AI$19,3,FALSE),VLOOKUP($D$13&$D$15&N22,Parameters!$AG$4:$AI$19,3,FALSE))","v":{"$error":"#N/A"}},"%",{"$f":"IF($F26<=N26,Parameters!$AQ$4,Parameters!$AQ$5)","v":{"$error":"#N/A"}},{"$f":"IF($F26<=N26,\"P\",\"O\")","v":{"$error":"#N/A"}},null,{"$f":"IF(AND($D$14=\"provided\",S22=\"west\",$D$13=\"moderate risk\"),VLOOKUP(\"high risk\"&$D$15&S22,Parameters!$AG$4:$AI$19,3,FALSE),VLOOKUP($D$13&$D$15&S22,Parameters!$AG$4:$AI$19,3,FALSE))","v":{"$error":"#N/A"}},"%",{"$f":"IF($F26<=S26,Parameters!$AQ$4,Parameters!$AQ$5)","v":{"$error":"#N/A"}},{"$f":"IF($F26<=S26,\"P\",\"O\")","v":{"$error":"#N/A"}},null,{"$f":"IF(AND($D$14=\"provided\",X22=\"west\",$D$13=\"moderate risk\"),VLOOKUP(\"high risk\"&$D$15&X22,Parameters!$AG$4:$AI$19,3,FALSE),VLOOKUP($D$13&$D$15&X22,Parameters!$AG$4:$AI$19,3,FALSE))","v":{"$error":"#N/A"}},"%",{"$f":"IF($F26<=X26,Parameters!$AQ$4,Parameters!$AQ$5)","v":{"$error":"#N/A"}},{"$f":"IF($F26<=X26,\"P\",\"O\")","v":{"$error":"#N/A"}}]
[null,null,{"$f":"Calculations!BC16","v":{"$error":"#N/A"}}]
[null,null,"Shading",{"$f":"Calculations!BD7","v":"Error"},{"$nulls":4},{"$f":"IF($D$13=\"High Risk\",\"Required\",IF(AND($D$13=\"moderate risk\",$D$14=\"provided\",I22=\"west\"),\"Required\",IF($D$13=\"Error! Not defined on RESULTS sheet\",\" \",\"Not required\")))","v":" "},null,null,{"$f":"IF(AND(I28=\"Required\",$D$28=\"None\"),\"O\",IF(Calculations!$BS$4=0,\" \",\"P\"))","v":" "},null,{"$f":"IF($D$13=\"High Risk\",\"Required\",IF(AND($D$13=\"moderate risk\",$D$14=\"provided\",N22=\"west\"),\"Required\",IF($D$13=\"Error! Not defined on RESULTS sheet\",\" \",\"Not required\")))","v":" "},null,null,{"$f":"IF(AND(N28=\"Required\",$D$28=\"None\"),\"O\",IF(Calculations!$BS$4=0,\" \",\"P\"))","v":" "},null,{"$f":"IF($D$13=\"High Risk\",\"Required\",IF(AND($D$13=\"moderate risk\",$D$14=\"provided\",S22=\"west\"),\"Required\",IF($D$13=\"Error! Not defined on RESULTS sheet\",\" \",\"Not required\")))","v":" "},null,null,{"$f":"IF(AND(S28=\"Required\",$D$28=\"None\"),\"O\",IF(Calculations!$BS$4=0,\" \",\"P\"))","v":" "},null,{"$f":"IF($D$13=\"High Risk\",\"Required\",IF(AND($D$13=\"moderate risk\",$D$14=\"provided\",X22=\"west\"),\"Required\",IF($D$13=\"Error! Not defined on RESULTS sheet\",\" \",\"Not required\")))","v":" "},null,null,{"$f":"IF(AND(X28=\"Required\",$D$28=\"None\"),\"O\",IF(Calculations!$BS$4=0,\" \",\"P\"))","v":" "}]
[null,null,"Removal of excess heat:"]
[null,null,"Total equivalent area ( % of floor area)",{"$f":"Calculations!BD13","v":{"v":0,"d":"0.00"}},"m²",{"$f":"ROUND(Calculations!BE13,2)","v":{"$error":"#VALUE!"}},"%",null,{"$f":"VLOOKUP($D$13&$D$15&I22,Parameters!$AG$4:$AL$19,4,FALSE)","v":{"$error":"#N/A"}},"%",{"$f":"IF($F30>=I30,Parameters!$AQ$4,Parameters!$AQ$5)","v":{"$error":"#VALUE!"}},{"$f":"IF($F30<I30,\"O\",\"P\")","v":{"$error":"#VALUE!"}},null,{"$f":"VLOOKUP($D$13&$D$15&N22,Parameters!$AG$4:$AL$19,4,FALSE)","v":{"$error":"#N/A"}},"%",{"$f":"IF($F30>=N30,Parameters!$AQ$4,Parameters!$AQ$5)","v":{"$error":"#VALUE!"}},{"$f":"IF($F30<N30,\"O\",\"P\")","v":{"$error":"#VALUE!"}},null,{"$f":"VLOOKUP($D$13&$D$15&S22,Parameters!$AG$4:$AL$19,4,FALSE)","v":{"$error":"#N/A"}},"%",{"$f":"IF($F30>=S30,Parameters!$AQ$4,Parameters!$AQ$5)","v":{"$error":"#VALUE!"}},{"$f":"IF($F30<S30,\"O\",\"P\")","v":{"$error":"#VALUE!"}},null,{"$f":"VLOOKUP($D$13&$D$15&X22,Parameters!$AG$4:$AL$19,4,FALSE)","v":{"$error":"#N/A"}},"%",{"$f":"IF($F30>=X30,Parameters!$AQ$4,Parameters!$AQ$5)","v":{"$error":"#VALUE!"}},{"$f":"IF($F30<X30,\"O\",\"P\")","v":{"$error":"#VALUE!"}}]
[null,null,"Total equivalent area ( % of glazed area)",{"$f":"Calculations!BD13","v":{"v":0,"d":"0.00"}},"m²",{"$f":"ROUND(Calculations!BD9,2)","v":{"$error":"#DIV/0!"}},"%",null,{"$f":"VLOOKUP($D$13&$D$15&I22,Parameters!$AG$4:$AL$19,5,FALSE)","v":{"$error":"#N/A"}},"%",{"$f":"IF($F31>=I31,Parameters!$AQ$4,Parameters!$AQ$5)","v":{"$error":"#DIV/0!"}},{"$f":"IF($F31<I31,\"O\",\"P\")","v":{"$error":"#DIV/0!"}},null,{"$f":"VLOOKUP($D$13&$D$15&N22,Parameters!$AG$4:$AL$19,5,FALSE)","v":{"$error":"#N/A"}},"%",{"$f":"IF($F31>=N31,Parameters!$AQ$4,Parameters!$AQ$5)","v":{"$error":"#DIV/0!"}},{"$f":"IF($F31<N31,\"O\",\"P\")","v":{"$error":"#DIV/0!"}},null,{"$f":"VLOOKUP($D$13&$D$15&S22,Parameters!$AG$4:$AL$19,5,FALSE)","v":{"$error":"#N/A"}},"%",{"$f":"IF($F31>=S31,Parameters!$AQ$4,Parameters!$AQ$5)","v":{"$error":"#DIV/0!"}},{"$f":"IF($F31<S31,\"O\",\"P\")","v":{"$error":"#DIV/0!"}},null,{"$f":"VLOOKUP($D$13&$D$15&X22,Parameters!$AG$4:$AL$19,5,FALSE)","v":{"$error":"#N/A"}},"%",{"$f":"IF($F31>=X31,Parameters!$AQ$4,Parameters!$AQ$5)","v":{"$error":"#DIV/0!"}},{"$f":"IF($F31<X31,\"O\",\"P\")","v":{"$error":"#DIV/0!"}}]
[null,null,"Bedroom 1 equivalent area",{"$f":"Calculations!BD20","v":""},"m²",{"$f":"IF(Calculations!BE20=\"\",\"\",ROUND(Calculations!BE20,2))","v":""},"%",null,{"$f":"IF(Calculations!$BE20=\"\",\"\",VLOOKUP($D$13&$D$15&I$22,Parameters!$AG$4:$AL$19,6,FALSE))","v":""},"%",{"$f":"IF(Calculations!$BE20=\"\",\"\",IF($F32>=I32,Parameters!$AQ$4,Parameters!$AQ$5))","v":""},{"$f":"IF($F32=\"\",\"\",IF($F32<I32,\"O\",\"P\"))","v":""},null,{"$f":"IF(Calculations!$BE20=\"\",\"\",VLOOKUP($D$13&$D$15&N$22,Parameters!$AG$4:$AL$19,6,FALSE))","v":""},"%",{"$f":"IF(Calculations!$BE20=\"\",\"\",IF($F32>=N32,Parameters!$AQ$4,Parameters!$AQ$5))","v":""},{"$f":"IF($F32=\"\",\"\",IF($F32<N32,\"O\",\"P\"))","v":""},null,{"$f":"IF(Calculations!$BE20=\"\",\"\",VLOOKUP($D$13&$D$15&S$22,Parameters!$AG$4:$AL$19,6,FALSE))","v":""},"%",{"$f":"IF(Calculations!$BE20=\"\",\"\",IF($F32>=S32,Parameters!$AQ$4,Parameters!$AQ$5))","v":""},{"$f":"IF($F32=\"\",\"\",IF($F32<S32,\"O\",\"P\"))","v":""},null,{"$f":"IF(Calculations!$BE20=\"\",\"\",VLOOKUP($D$13&$D$15&X$22,Parameters!$AG$4:$AL$19,6,FALSE))","v":""},"%",{"$f":"IF(Calculations!$BE20=\"\",\"\",IF($F32>=X32,Parameters!$AQ$4,Parameters!$AQ$5))","v":""},{"$f":"IF($F32=\"\",\"\",IF($F32<X32,\"O\",\"P\"))","v":""}]
[null,null,"Bedroom 2 equivalent area",{"$f":"Calculations!BD21","v":""},"m²",{"$f":"IF(Calculations!BE21=\"\",\"\",ROUND(Calculations!BE21,2))","v":""},"%",null,{"$f":"IF(Calculations!$BE21=\"\",\"\",VLOOKUP($D$13&$D$15&I$22,Parameters!$AG$4:$AL$19,6,FALSE))","v":""},"%",{"$f":"IF(Calculations!$BE21=\"\",\"\",IF($F33>=I33,Parameters!$AQ$4,Parameters!$AQ$5))","v":""},{"$f":"IF($F33=\"\",\"\",IF($F33<I33,\"O\",\"P\"))","v":""},null,{"$f":"IF(Calculations!$BE21=\"\",\"\",VLOOKUP($D$13&$D$15&N$22,Parameters!$AG$4:$AL$19,6,FALSE))","v":""},"%",{"$f":"IF(Calculations!$BE21=\"\",\"\",IF($F33>=N33,Parameters!$AQ$4,Parameters!$AQ$5))","v":""},{"$f":"IF($F33=\"\",\"\",IF($F33<N33,\"O\",\"P\"))","v":""},null,{"$f":"IF(Calculations!$BE21=\"\",\"\",VLOOKUP($D$13&$D$15&S$22,Parameters!$AG$4:$AL$19,6,FALSE))","v":""},"%",{"$f":"IF(Calculations!$BE21=\"\",\"\",IF($F33>=S33,Parameters!$AQ$4,Parameters!$AQ$5))","v":""},{"$f":"IF($F33=\"\",\"\",IF($F33<S33,\"O\",\"P\"))","v":""},null,{"$f":"IF(Calculations!$BE21=\"\",\"\",VLOOKUP($D$13&$D$15&X$22,Parameters!$AG$4:$AL$19,6,FALSE))","v":""},"%",{"$f":"IF(Calculations!$BE21=\"\",\"\",IF($F33>=X33,Parameters!$AQ$4,Parameters!$AQ$5))","v":""},{"$f":"IF($F33=\"\",\"\",IF($F33<X33,\"O\",\"P\"))","v":""}]
[null,null,"Bedroom 3 equivalent area",{"$f":"Calculations!BD22","v":""},"m²",{"$f":"IF(Calculations!BE22=\"\",\"\",ROUND(Calculations!BE22,2))","v":""},"%",null,{"$f":"IF(Calculations!$BE22=\"\",\"\",VLOOKUP($D$13&$D$15&I$22,Parameters!$AG$4:$AL$19,6,FALSE))","v":""},"%",{"$f":"IF(Calculations!$BE22=\"\",\"\",IF($F34>=I34,Parameters!$AQ$4,Parameters!$AQ$5))","v":""},"",null,{"$f":"IF(Calculations!$BE22=\"\",\"\",VLOOKUP($D$13&$D$15&N$22,Parameters!$AG$4:$AL$19,6,FALSE))","v":""},"%",{"$f":"IF(Calculations!$BE22=\"\",\"\",IF($F34>=N34,Parameters!$AQ$4,Parameters!$AQ$5))","v":""},"",null,{"$f":"IF(Calculations!$BE22=\"\",\"\",VLOOKUP($D$13&$D$15&S$22,Parameters!$AG$4:$AL$19,6,FALSE))","v":""},"%",{"$f":"IF(Calculations!$BE22=\"\",\"\",IF($F34>=S34,Parameters!$AQ$4,Parameters!$AQ$5))","v":""},"",null,{"$f":"IF(Calculations!$BE22=\"\",\"\",VLOOKUP($D$13&$D$15&X$22,Parameters!$AG$4:$AL$19,6,FALSE))","v":""},"%",{"$f":"IF(Calculations!$BE22=\"\",\"\",IF($F34>=X34,Parameters!$AQ$4,Parameters!$AQ$5))","v":""},""]
[null,null,"Bedroom 4 equivalent area",{"$f":"Calculations!BD23","v":""},"m²",{"$f":"IF(Calculations!BE23=\"\",\"\",ROUND(Calculations!BE23,2))","v":""},"%",null,{"$f":"IF(Calculations!$BE23=\"\",\"\",VLOOKUP($D$13&$D$15&I$22,Parameters!$AG$4:$AL$19,6,FALSE))","v":""},"%",{"$f":"IF(Calculations!$BE23=\"\",\"\",IF($F35>=I35,Parameters!$AQ$4,Parameters!$AQ$5))","v":""},"",null,{"$f":"IF(Calculations!$BE23=\"\",\"\",VLOOKUP($D$13&$D$15&N$22,Parameters!$AG$4:$AL$19,6,FALSE))","v":""},"%",{"$f":"IF(Calculations!$BE23=\"\",\"\",IF($F35>=N35,Parameters!$AQ$4,Parameters!$AQ$5))","v":""},"",null,{"$f":"IF(Calculations!$BE23=\"\",\"\",VLOOKUP($D$13&$D$15&S$22,Parameters!$AG$4:$AL$19,6,FALSE))","v":""},"%",{"$f":"IF(Calculations!$BE23=\"\",\"\",IF($F35>=S35,Parameters!$AQ$4,Parameters!$AQ$5))","v":""},"",null,{"$f":"IF(Calculations!$BE23=\"\",\"\",VLOOKUP($D$13&$D$15&X$22,Parameters!$AG$4:$AL$19,6,FALSE))","v":""},"%",{"$f":"IF(Calculations!$BE23=\"\",\"\",IF($F35>=X35,Parameters!$AQ$4,Parameters!$AQ$5))","v":""},""]
[null,null,"Bedroom 5 equivalent area",{"$f":"Calculations!BD24","v":""},"m²",{"$f":"IF(Calculations!BE24=\"\",\"\",ROUND(Calculations!BE24,2))","v":""},"%",null,{"$f":"IF(Calculations!$BE24=\"\",\"\",VLOOKUP($D$13&$D$15&I$22,Parameters!$AG$4:$AL$19,6,FALSE))","v":""},"%",{"$f":"IF(Calculations!$BE24=\"\",\"\",IF($F36>=I36,Parameters!$AQ$4,Parameters!$AQ$5))","v":""},{"$f":"IF($F36=\"\",\"\",IF($F36<I36,\"O\",\"P\"))","v":""},null,{"$f":"IF(Calculations!$BE24=\"\",\"\",VLOOKUP($D$13&$D$15&N$22,Parameters!$AG$4:$AL$19,6,FALSE))","v":""},"%",{"$f":"IF(Calculations!$BE24=\"\",\"\",IF($F36>=N36,Parameters!$AQ$4,Parameters!$AQ$5))","v":""},{"$f":"IF($F36=\"\",\"\",IF($F36<N36,\"O\",\"P\"))","v":""},null,{"$f":"IF(Calculations!$BE24=\"\",\"\",VLOOKUP($D$13&$D$15&S$22,Parameters!$AG$4:$AL$19,6,FALSE))","v":""},"%",{"$f":"IF(Calculations!$BE24=\"\",\"\",IF($F36>=S36,Parameters!$AQ$4,Parameters!$AQ$5))","v":""},{"$f":"IF($F36=\"\",\"\",IF($F36<S36,\"O\",\"P\"))","v":""},null,{"$f":"IF(Calculations!$BE24=\"\",\"\",VLOOKUP($D$13&$D$15&X$22,Parameters!$AG$4:$AL$19,6,FALSE))","v":""},"%",{"$f":"IF(Calculations!$BE24=\"\",\"\",IF($F36>=X36,Parameters!$AQ$4,Parameters!$AQ$5))","v":""},{"$f":"IF($F36=\"\",\"\",IF($F36<X36,\"O\",\"P\"))","v":""}]
[null,null,"Bedroom 6 equivalent area",{"$f":"Calculations!BD25","v":""},"m²",{"$f":"IF(Calculations!BE25=\"\",\"\",ROUND(Calculations!BE25,2))","v":""},"%",null,{"$f":"IF(Calculations!$BE25=\"\",\"\",VLOOKUP($D$13&$D$15&I$22,Parameters!$AG$4:$AL$19,6,FALSE))","v":""},"%",{"$f":"IF(Calculations!$BE25=\"\",\"\",IF($F37>=I37,Parameters!$AQ$4,Parameters!$AQ$5))","v":""},{"$f":"IF($F37=\"\",\"\",IF($F37<I37,\"O\",\"P\"))","v":""},null,{"$f":"IF(Calculations!$BE25=\"\",\"\",VLOOKUP($D$13&$D$15&N$22,Parameters!$AG$4:$AL$19,6,FALSE))","v":""},"%",{"$f":"IF(Calculations!$BE25=\"\",\"\",IF($F37>=N37,Parameters!$AQ$4,Parameters!$AQ$5))","v":""},{"$f":"IF($F37=\"\",\"\",IF($F37<N37,\"O\",\"P\"))","v":""},null,{"$f":"IF(Calculations!$BE25=\"\",\"\",VLOOKUP($D$13&$D$15&S$22,Parameters!$AG$4:$AL$19,6,FALSE))","v":""},"%",{"$f":"IF(Calculations!$BE25=\"\",\"\",IF($F37>=S37,Parameters!$AQ$4,Parameters!$AQ$5))","v":""},{"$f":"IF($F37=\"\",\"\",IF($F37<S37,\"O\",\"P\"))","v":""},null,{"$f":"IF(Calculations!$BE25=\"\",\"\",VLOOKUP($D$13&$D$15&X$22,Parameters!$AG$4:$AL$19,6,FALSE))","v":""},"%",{"$f":"IF(Calculations!$BE25=\"\",\"\",IF($F37>=X37,Parameters!$AQ$4,Parameters!$AQ$5))","v":""},{"$f":"IF($F37=\"\",\"\",IF($F37<X37,\"O\",\"P\"))","v":""}]
[null,null,"Bedroom 7 equivalent area",{"$f":"Calculations!BD26","v":""},"m²",{"$f":"IF(Calculations!BE26=\"\",\"\",ROUND(Calculations!BE26,2))","v":""},"%",null,{"$f":"IF(Calculations!$BE26=\"\",\"\",VLOOKUP($D$13&$D$15&I$22,Parameters!$AG$4:$AL$19,6,FALSE))","v":""},"%",{"$f":"IF(Calculations!$BE26=\"\",\"\",IF($F38>=I38,Parameters!$AQ$4,Parameters!$AQ$5))","v":""},"",null,{"$f":"IF(Calculations!$BE26=\"\",\"\",VLOOKUP($D$13&$D$15&N$22,Parameters!$AG$4:$AL$19,6,FALSE))","v":""},"%",{"$f":"IF(Calculations!$BE26=\"\",\"\",IF($F38>=N38,Parameters!$AQ$4,Parameters!$AQ$5))","v":""},"",null,{"$f":"IF(Calculations!$BE26=\"\",\"\",VLOOKUP($D$13&$D$15&S$22,Parameters!$AG$4:$AL$19,6,FALSE))","v":""},"%",{"$f":"IF(Calculations!$BE26=\"\",\"\",IF($F38>=S38,Parameters!$AQ$4,Parameters!$AQ$5))","v":""},"",null,{"$f":"IF(Calculations!$BE26=\"\",\"\",VLOOKUP($D$13&$D$15&X$22,Parameters!$AG$4:$AL$19,6,FALSE))","v":""},"%",{"$f":"IF(Calculations!$BE26=\"\",\"\",IF($F38>=X38,Parameters!$AQ$4,Parameters!$AQ$5))","v":""},""]
[null,null,"Bedroom 8 equivalent area",{"$f":"Calculations!BD27","v":""},"m²",{"$f":"IF(Calculations!BE27=\"\",\"\",ROUND(Calculations!BE27,2))","v":""},"%",null,{"$f":"IF(Calculations!$BE27=\"\",\"\",VLOOKUP($D$13&$D$15&I$22,Parameters!$AG$4:$AL$19,6,FALSE))","v":""},"%",{"$f":"IF(Calculations!$BE27=\"\",\"\",IF($F39>=I39,Parameters!$AQ$4,Parameters!$AQ$5))","v":""},"",null,{"$f":"IF(Calculations!$BE27=\"\",\"\",VLOOKUP($D$13&$D$15&N$22,Parameters!$AG$4:$AL$19,6,FALSE))","v":""},"%",{"$f":"IF(Calculations!$BE27=\"\",\"\",IF($F39>=N39,Parameters!$AQ$4,Parameters!$AQ$5))","v":""},"",null,{"$f":"IF(Calculations!$BE27=\"\",\"\",VLOOKUP($D$13&$D$15&S$22,Parameters!$AG$4:$AL$19,6,FALSE))","v":""},"%",{"$f":"IF(Calculations!$BE27=\"\",\"\",IF($F39>=S39,Parameters!$AQ$4,Parameters!$AQ$5))","v":""},"",null,{"$f":"IF(Calculations!$BE27=\"\",\"\",VLOOKUP($D$13&$D$15&X$22,Parameters!$AG$4:$AL$19,6,FALSE))","v":""},"%",{"$f":"IF(Calculations!$BE27=\"\",\"\",IF($F39>=X39,Parameters!$AQ$4,Parameters!$AQ$5))","v":""},""]
[{"$nulls":8},{"$f":"IF(AND(D13=\"moderate risk\",D14=\"provided\"),\"NOTE: Although in moderate risk location, shading has been provided to reduce solar gains.  Where the the largest glazed facade is West orientated, the less onerous Limiting Solar Gains targets have been used from High Risk location requirements.\",\"\")","v":""}]
[null,"This spreadsheet has been provided for free and whilst every effort has been made to ensure it's accuracy the Future Homes Hub can assume no liability for errors or omissions. It is used entirely at the user's own risk.\nRefer to the cover page for full legal notices."]
[]
[null,"Should you have any comments, observations or suggestions please send them to"]
[null,"admin@futurehomes.org.uk"]

{"sheet":"Compliance Checklist","index":6,"n_rows":64,"n_cols":7,"rows_kept":64,"merged":[[5,3,5,6],[6,3,6,6],[7,3,7,6],[8,3,8,6],[9,3,9,6],[10,3,10,6],[11,3,11,6],[13,3,13,6],[14,3,14,6],[15,3,15,6],[16,3,16,6],[17,3,17,6],[18,3,18,6],[19,3,19,6],[23,3,23,6],[24,3,24,6],[26,1,27,2],[26,3,26,4],[26,5,26,6],[27,5,27,6],[30,3,30,5],[42,3,42,6],[43,3,43,6],[44,3,44,6],[45,3,45,6],[46,3,46,6],[50,1,50,3],[50,5,50,6],[51,3,51,6],[52,3,52,6],[53,3,53,6],[54,3,54,6],[56,1,56,3],[56,5,56,6],[57,3,57,6],[58,3,58,6],[59,3,59,6],[60,3,60,6],[61,3,61,6]]}
[]
[null,"Compliance Checklist - Building Regulations Part O (England), Simplified Method"]
[]
[null,"Part 1 - Building details and declarations"]
[null,1.1,"Building and site details"]
[null,"Residential building name/number"]
[null,"Street"]
[null,"Town"]
[null,"Country"]
[null,"Postcode"]
[null,"Proposed building use/type of building"]
[null,"Are there any security, noise or pollution issues?"]
[null,1.2,"Designer's details"]
[null,"Designer's name"]
[null,"Company"]
[null,"Address line 1"]
[null,"Address line 2"]
[null,"Postcode"]
[null,"Telephone number"]
[null,"Email address"]
[]
[null,"Part 2 - Design details, simplified method"]
[null,"2a.1","Site details"]
[null,"Site location, assigned using paragraph 1.3",null,{"$f":"RESULTS!D14","v":0}]
[null,"Building category, assigned using paragraph 1.4"]
[null,"2a.2","Designed overheating mitigation strategy"]
[null,"Details of standards selected:",null,"This dwelling",null,"Target"]
[{"$nulls":3},"m2","%","%"]
[null,"a. Maximum area of glazing",null,{"$f":"RESULTS!D21","v":{"v":0,"d":"0.00"}},{"$f":"RESULTS!F21/100","v":{"$error":"#VALUE!"}},{"$f":"RESULTS!H21/100","v":{"$error":"#N/A"}},{"$f":"RESULTS!K21","v":{"$error":"#VALUE!"}}]
[null,"b. Maximum area of glazing in the most glazed room",null,{"$f":"RESULTS!D22","v":{"$error":"#N/A"}},{"$f":"RESULTS!F22/100","v":{"$error":"#N/A"}},{"$f":"RESULTS!H22/100","v":{"$error":"#N/A"}},{"$f":"RESULTS!K22","v":{"$error":"#N/A"}}]
[null,"c. Shading strategy"]
[null,"d1. Total minimum free area - as % of total floor area",null,{"$f":"RESULTS!D26","v":{"v":0,"d":"0.00"}},{"$f":"RESULTS!F26/100","v":{"$error":"#VALUE!"}},{"$f":"RESULTS!H26/100","v":{"$error":"#N/A"}},{"$f":"RESULTS!K26","v":{"$error":"#VALUE!"}}]
[null,"d2. Total minimum free area - as % of glazed area",null,{"$f":"RESULTS!D27","v":{"v":0,"d":"0.00"}},{"$f":"RESULTS!F27/100","v":{"$error":"#DIV/0!"}},{"$f":"RESULTS!H27/100","v":{"$error":"#N/A"}},{"$f":"RESULTS!K27","v":{"$error":"#DIV/0!"}}]
[null,"e1. Bedroom 1 minimum free area",null,{"$f":"RESULTS!D28","v":""},{"$f":"IF(RESULTS!F28=\"\",\"\",RESULTS!F28/100)","v":""},{"$f":"IF(RESULTS!H28=\"\",\"\",RESULTS!H28/100)","v":""},{"$f":"RESULTS!K28","v":""}]
[null,"e2. Bedroom 2 minimum free area",null,{"$f":"RESULTS!D29","v":""},{"$f":"IF(RESULTS!F29=\"\",\"\",RESULTS!F29/100)","v":""},{"$f":"IF(RESULTS!H29=\"\",\"\",RESULTS!H29/100)","v":""},{"$f":"RESULTS!K29","v":""}]
[null,"e3. Bedroom 3 minimum free area",null,{"$f":"RESULTS!D30","v":""},{"$f":"IF(RESULTS!F30=\"\",\"\",RESULTS!F30/100)","v":""},{"$f":"IF(RESULTS!H30=\"\",\"\",RESULTS!H30/100)","v":""},{"$f":"RESULTS!K30","v":""}]
[null,"e4. Bedroom 4 minimum free area",null,{"$f":"RESULTS!D31","v":""},{"$f":"IF(RESULTS!F31=\"\",\"\",RESULTS!F31/100)","v":""},{"$f":"IF(RESULTS!H31=\"\",\"\",RESULTS!H31/100)","v":""},{"$f":"RESULTS!K31","v":""}]
[null,"e5. Bedroom 5 minimum free area",null,{"$f":"RESULTS!D32","v":""},{"$f":"IF(RESULTS!F32=\"\",\"\",RESULTS!F32/100)","v":""},{"$f":"IF(RESULTS!H32=\"\",\"\",RESULTS!H32/100)","v":""},{"$f":"RESULTS!K32","v":""}]
[null,"e6. Bedroom 6 minimum free area",null,{"$f":"RESULTS!D33","v":""},{"$f":"IF(RESULTS!F33=\"\",\"\",RESULTS!F33/100)","v":""},{"$f":"IF(RESULTS!H33=\"\",\"\",RESULTS!H33/100)","v":""},{"$f":"RESULTS!K33","v":""}]
[null,"e7. Bedroom 7 minimum free area",null,{"$f":"RESULTS!D34","v":""},{"$f":"IF(RESULTS!F34=\"\",\"\",RESULTS!F34/100)","v":""},{"$f":"IF(RESULTS!H34=\"\",\"\",RESULTS!H34/100)","v":""},{"$f":"RESULTS!K34","v":""}]
[null,"e8. Bedroom 8 minimum free area",null,{"$f":"RESULTS!D35","v":""},{"$f":"IF(RESULTS!F35=\"\",\"\",RESULTS!F35/100)","v":""},{"$f":"IF(RESULTS!H35=\"\",\"\",RESULTS!H35/100)","v":""},{"$f":"RESULTS!K35","v":""}]
[null,"2a.3","Designer's declaration"]
[null,"Designer's name"]
[null,"Designer's organisation"]
[null,"Designer's signature"]
[null,"Registration number (if applicable)"]
[null,"Date of design"]
[]
[null,"Part 3 - Completion details"]
[null,3.1,"Builder's declaration"]
[null,"Has the residential building been constructed and completed according to the specifications set out in Parts 1 and 2 of this checklist?",null,null,"Yes","No"]
[null,"Builder's name"]
[null,"Builder's organisation"]
[null,"Builder's signature"]
[null,"Date of signature"]
[null,3.2,"Building control body inspector's declaration"]
[null,"Is the residential building's construction consistent with the details provided in Parts 1 and 2 of this checklist?",null,null,"Yes","No"]
[null,"Inspector's name"]
[null,"Inspector's organisation"]
[null,"Inspector's signature"]
[null,"Registration number (if applicable)"]
[null,"Date of inspection"]
[]
[null,"Note: All references to paragraphs are to Approved Document Part O"]

{"sheet":"Part O Criteria","index":7,"n_rows":24,"n_cols":12,"rows_kept":24,"merged":[[2,1,2,5],[2,7,2,11],[4,1,5,1],[4,2,4,5],[4,7,5,7],[4,8,4,11],[5,2,5,3],[5,4,5,5],[5,8,5,9],[5,10,5,11],[6,7,8,7],[12,1,13,1],[12,2,12,5],[12,7,13,7],[12,8,12,11],[13,2,13,3],[13,4,13,5],[13,8,13,9],[13,10,13,11],[14,7,16,7],[20,1,20,5]]}
[null,"Building Regulations Part O 2021 (England) Criteria"]
[]
[null,"Limiting Solar Gains",{"$nulls":5},"Minimum Free Areas"]
[]
[null,"Table 1.1","Limiting solar gains for buildings or parts of buildings with cross-ventilation",{"$nulls":4},"Table 1.3","Minimum free areas for buildings or parts of buildings with cross-ventilation"]
[null,null,"High Risk Location",null,"Moderate Risk Location",{"$nulls":3},"High Risk Location",null,"Moderate Risk Location"]
[null,"Largest glazed façade orientation","Maximum area of glazing\n(% floor area)","Maximum area of glazing in the most glazed room\n(% floor area of room)","Maximum area of glazing\n(% floor area)","Maximum area of glazing in the most glazed room\n(% floor area of room)",null,"Total minimum free area","The greater of the following:",null,"The greater of the following:"]
[null,"North",15,37,18,37,null,null,{"v":0.06,"d":"6%"},"of the floor area",{"v":0.09,"d":"9%"},"of the floor area"]
[null,"East",18,37,18,37,null,null,{"v":0.7,"d":"70%"},"of the glazing area",{"v":0.55,"d":"55%"},"of the glazing area"]
[null,"South",15,22,15,30,null,"Bedroom minimum free area",{"v":0.13,"d":"13%"},"of the floor area of the room",{"v":0.04,"d":"4%"},"of the floor area of the room"]
[null,"West",18,37,11,22]
[]
[null,"Table 1.2","Limiting solar gains for buildings or parts of buildings without cross-ventilation",{"$nulls":4},"Table 1.4","Minimum free areas for buildings or parts of buildings without cross-ventilation"]
[null,null,"High Risk Location",null,"Moderate Risk Location",{"$nulls":3},"High Risk Location",null,"Moderate Risk Location"]
[null,"Largest glazed façade orientation","Maximum area of glazing\n(% floor area)","Maximum area of glazing in the most glazed room\n(% floor area of room)","Maximum area of glazing\n(% floor area)","Maximum area of glazing in the most glazed room\n(% floor area of room)",null,"Total minimum free area","The greater of the following:",null,"The greater of the following:"]
[null,"North",15,26,18,26,null,null,{"v":0.1,"d":"10%"},"of the floor area",{"v":0.12,"d":"12%"},"of the floor area"]
[null,"East",11,18,18,26,null,null,{"v":0.95,"d":"95%"},"of the glazing area",{"v":0.8,"d":"80%"},"of the glazing area"]
[null,"South",11,11,15,15,null,"Bedroom minimum free area",{"v":0.13,"d":"13%"},"of the floor area of the room",{"v":0.04,"d":"4%"},"of the floor area of the room"]
[null,"West",11,18,11,11]
[]
[null,"Residential buildings in the High Risk location should, in addition to following the maximum glazing areas in Table 1.1 and Table 1.2, provide shading for glazed areas between compass points north-east and north-west via the south. Shading should be provided by one of the following means."]
[null,"a.  External shutters with means of ventilation."]
[null,"b.  Glazing with a maximum g-value of 0.4 and a minimum light transmittance of 0.7."]
[null,"c.  Overhangs with 50 degrees altitude cut-off on due south-facing façades only."]

{"sheet":"Calculations","index":8,"n_rows":143,"n_cols":71,"rows_kept":143,"merged":[[1,45,1,46],[1,47,1,48]]}
[null,"Building Regulations Part O, Simplified Method - Calculations"]
[{"$nulls":17},"DAYTIME CALCS (all rooms)",{"$nulls":12},"NIGHT-TIME CALCS (bedrooms only)",{"$nulls":10},"By room ",{"$nulls":3},"Daytime (whole house)",null,"Night-time (bedrooms)",{"$nulls":3},"By orientation",null,null,"Values needed for compliance check",{"$nulls":5},"Info for all orientations summary"]
[null,"Row used?","Bed-room?","Room","Room floor area (m2)","Window on drawing to give window on plot","Orientation of Window on Plot","Does this pane open?","Opening Type","Glazed pane area (m2)","Flip width & height for equivalent area calcs?","Length of Sash/ door in line with hinge (m)","Length of Sash/ door adjacent to hinge (m)","opening window area (m2)","Code for opening calcs","Code for door in opening calcs","Opening angle part 1","Opening angle part 2a","If restrictor, opening distance (m)","650 reach opening distance (m)","650 opening distance check against window size (m)","Window opening distance for equivalent area calc (m)","Opening angle of window sash or door (degrees)","Length ratio (b/h)","Gradient (M)","Maximum Discharge Coefficient, Cdmax","Stroke length, d","Discharge coefficient, Cd","Effective area, Aeff","Equivalent area, Aeq","Window opening distance for equivalent area calc (m)","Opening angle part 2b","Opening angle of window sash or door (degrees)","Length ratio (b/h)","Gradient (M)","Maximum Discharge Coefficient, Cdmax","Stroke length, d","Discharge coefficient, Cd","Effective area, Aeff","Equivalent area, Aeq",null,"Totals","Floor Area of Room (m2)","Total Glazing Area","Glazing as a percentage of Floor Area","Total daytime Equivalent Area","% glazing for room with max glazed area","Total night-time Equivalent Area (bedrooms only)","Equivalent Area as a percentage of Floor Area",null,"Severity check","Façade","Area of glazing",null,"Whole house",{"$nulls":5},"Clock face ","m2 glazing",null,"Total m2 glazing","Clock face","% of total","Max glazed façade area","Number of max areas","Clock face of max glazed façade",null,"Location"]
[null,{"$f":"IF('Window & Door DATA INPUT'!B10>1,1,0)","v":0},{"$f":"IF(AND(B4=1,OR(D4=Parameters!$D$17, D4=Parameters!$D$18,D4=Parameters!$D$19,D4=Parameters!$D$20,D4=Parameters!$D$21,D4=Parameters!$D$22, D4=Parameters!$D$23, D4=Parameters!$D$24)),1,0)","v":0},{"$f":"IF('Window & Door DATA INPUT'!B10=\"\",\"\",'Window & Door DATA INPUT'!B10)","v":""},{"$f":"IF('Window & Door DATA INPUT'!D10=\"\",\"\",'Window & Door DATA INPUT'!D10)","v":""},{"$f":"IF(B4=1,'Window & Door DATA INPUT'!H10&RESULTS!$H$5,\"\")","v":""},{"$f":"IF(B4=1,VLOOKUP(F4,Parameters!$H$4:$I$20,2,FALSE),\"\")","v":""},{"$f":"IF(OR('Window & Door DATA INPUT'!J10=Parameters!$K$4,'Window & Door DATA INPUT'!J10=Parameters!$K$11),\"No\",IF('Window & Door DATA INPUT'!K10=\"\",\"\",'Window & Door DATA INPUT'!K10))","v":""},{"$f":"IF('Window & Door DATA INPUT'!J10=\"\",\"\",'Window & Door DATA INPUT'!J10)","v":""},{"$f":"IF('Window & Door DATA INPUT'!L10=Parameters!$O$5,'Window & Door DATA INPUT'!O10,IF(B4=1,('Window & Door DATA INPUT'!N10*'Window & Door DATA INPUT'!M10)/1000000,\"\"))","v":""},{"$f":"IF('Window & Door DATA INPUT'!J10=\"\",\"\",VLOOKUP('Window & Door DATA INPUT'!J10,Parameters!$K$4:$L$16,2,FALSE))","v":""},{"$f":"IF($H4=\"yes\",IF($K4=\"Y\",'Window & Door DATA INPUT'!Q10/1000,IF($K4=\"N\",'Window & Door DATA INPUT'!P10/1000)),\"\")","v":""},{"$f":"IF($H4=\"yes\",IF($K4=\"Y\",'Window & Door DATA INPUT'!P10/1000,IF($K4=\"N\",'Window & Door DATA INPUT'!Q10/1000)),\"\")","v":""},{"$f":"IF(L4=\"\",\"\",L4*M4)","v":""},{"$f":"IF(AND(B4=1,C4=0,H4=\"yes\"),\"A\",IF(AND(C4=1,H4=\"yes\",'Window & Door DATA INPUT'!R10=\"no\"),\"B\",IF(AND(C4=1,H4=\"yes\",'Window & Door DATA INPUT'!R10=\"yes\",'Window & Door DATA INPUT'!S10=\"yes\"),\"C\",IF(AND(C4=1,H4=\"yes\",'Window & Door DATA INPUT'!R10=\"yes\",'Window & Door DATA INPUT'!S10=\"no\"),\"D\",\"\"))))","v":""},{"$f":"IF(AND(C4=1,H4=\"yes\",OR(I4=Parameters!$K$12,I4=Parameters!$K$13,I4=Parameters!$K$14)),\"E\",IF(AND(C4=1,H4=\"yes\",NOT(OR(I4=Parameters!$K$12,I4=Parameters!$K$13,I4=Parameters!$K$14))),\"F\",\"\"))","v":""},{"$f":"IF(AND(B4=1,H4=\"yes\"),VLOOKUP(I4,Parameters!$K$4:$M$16,3,FALSE),\"\")","v":""},{"$f":"IF(AND(OR(O4=\"A\",O4=\"B\",O4=\"d\"),Q4=\"input\"),'Window & Door DATA INPUT'!AA10,IF(AND(O4=\"C\",Q4=\"input\"),'Window & Door DATA INPUT'!W10,Calculations!Q4))","v":""},{"$f":"IF('Window & Door DATA INPUT'!X10=\"Yes\",'Window & Door DATA INPUT'!Y10/1000,IF(B4=1,\"N/A\",\"\"))","v":""},{"$f":"IF(Q4=\"calc\",IF(O4=\"c\",'Window & Door DATA INPUT'!U10/1000,(Parameters!$S$4-'Window & Door DATA INPUT'!Z10+Parameters!$Q$4)/1000),\"\")","v":""},{"$f":"IF(Q4=\"calc\",IF(T4>M4,M4,T4),\"\")","v":""},{"$f":"IF(AND(S4>0,S4<U4),S4,U4)","v":""},{"$f":"IF(R4=\"calc\",DEGREES(ASIN(V4/M4)),R4)","v":""},{"$f":"IF(OR($H4=\"no\",$B4=0),\"\",IF($I4=Parameters!$K$15,$L4/($M4/2),$L4/$M4))","v":""},{"$f":"IF(OR($H4=\"no\",$B4=0),\"\",IF($X4<0.5,Parameters!$X$4,IF($X4<1,Parameters!$Y$4,IF($X4<2,Parameters!$Z$4,Parameters!$AA$4))))","v":""},{"$f":"IF(OR($H4=\"no\",$B4=0),\"\",IF($X4<0.5,Parameters!$X$5,IF($X4<1,Parameters!$Y$5,IF($X4<2,Parameters!$Z$5,Parameters!$AA$5))))","v":""},{"$f":"IF(OR($H4=\"no\",$B4=0),\"\",IF($I4=Parameters!$K$15,(2*($M4/2)*SIN(RADIANS(Calculations!$W4/2))),(2*$M4*SIN(RADIANS($W4/2)))))","v":""},{"$f":"IF(OR($H4=\"no\",$B4=0),\"\",$Z4*(1-EXP(-$Y4*$W4)))","v":""},{"$f":"IF(OR($H4=\"no\",$B4=0),\"\",IF($I4=Parameters!$K$15,$AB4*$N4/2,$AB4*$N4))","v":""},{"$f":"IF(OR($H4=\"no\",$B4=0),\"\",IF($I4=Parameters!$K$15,$AC4*2/Parameters!$AB$4,$AC4/Parameters!$AB$4))","v":""},{"$f":"IF(AND(O4=\"B\",Q4=\"calc\"),V4,IF(AND(O4=\"C\",Q4=\"calc\"),'Window & Door DATA INPUT'!T10/1000,\"\"))","v":""},{"$f":"IF(AND(O4=\"B\",Q4=\"input\"),'Window & Door DATA INPUT'!AA10,IF(AND(O4=\"C\",Q4=\"input\",P4=\"F\"),'Window & Door DATA INPUT'!V10,IF(AND(O4=\"C\",P4=\"E\"),0,IF(AND(O4=\"D\"),0,IF(AND(B4=1,C4=0),\"\",(Calculations!Q4))))))","v":""},{"$f":"IF(AF4=\"calc\",DEGREES(ASIN(AE4/M4)),AF4)","v":""},{"$f":"IF(OR($H4=\"no\",$C4=0),\"\",IF($I4=Parameters!$K$15,$L4/($M4/2),$L4/$M4))","v":""},{"$f":"IF(OR($H4=\"no\",$C4=0),\"\",IF($AH4<0.5,Parameters!$X$4,IF($AH4<1,Parameters!$Y$4,IF($AH4<2,Parameters!$Z$4,Parameters!$AA$4))))","v":""},{"$f":"IF(OR($H4=\"no\",$C4=0),\"\",IF($AH4<0.5,Parameters!$X$5,IF($AH4<1,Parameters!$Y$5,IF($AH4<2,Parameters!$Z$5,Parameters!$AA$5))))","v":""},{"$f":"IF(OR($H4=\"no\",$C4=0),\"\",IF($I4=Parameters!$K$15,(2*($M4/2)*SIN(RADIANS(Calculations!$AG4/2))),(2*$M4*SIN(RADIANS($AG4/2)))))","v":""},{"$f":"IF(OR($H4=\"no\",$C4=0),\"\",$AJ4*(1-EXP(-$AI4*$AG4)))","v":""},{"$f":"IF(OR($H4=\"no\",$C4=0),\"\",IF($I4=Parameters!$K$15,$AL4*$N4/2,$AL4*$N4))","v":""},{"$f":"IF(OR($H4=\"no\",$C4=0),\"\",IF($I4=Parameters!$K$15,$AM4*2/Parameters!$AB$4,$AM4/Parameters!$AB$4))","v":""},null,{"$f":"Parameters!D4","v":"Hall"},{"$f":"IF(ISERROR(VLOOKUP($AP4,$D$4:$E$143,2,FALSE)),0,(VLOOKUP($AP4,$D$4:$E$143,2,FALSE)))","v":{"v":0,"d":"0.00"}},{"$f":"SUMIFS($J$4:$J$143,$D$4:$D$143,AP4)","v":{"v":0,"d":"0.00"}},{"$f":"IF(AQ4>0,AR4/AQ4,\" \")","v":" "},{"$f":"SUMIFS($AD$4:$AD$143,$D$4:$D$143,AP4)","v":{"v":0,"d":"0.00"}},{"$f":"IF(AR4=$BA$12,AS4,\"\")","v":" "},{"$nulls":3},{"$f":"IF(BA4=$BA$9,VLOOKUP($BD$4&$BD$5&AZ4,Parameters!$AG$4:$AO$19,9,FALSE))","v":{"$error":"#N/A"}},"North",{"$f":"SUMIFS($J$4:$J$143,$G$4:$G$143,AZ4)","v":{"v":0,"d":"0.00"}},null,"Location (Risk)",{"$f":"RESULTS!D14","v":0},null,{"$f":"ISNA(AY4)","v":true},{"$f":"1*BF4","v":1},null,{"$f":"'Window & Door DATA INPUT'!H10","v":0},{"$f":"J4","v":""},null,{"$f":"SUMIF($BI$4:$BI$143,BM4,$BJ$4:$BJ$143)","v":0},12,{"$f":"BL4/$BL$8","v":{"$error":"#DIV/0!"}},{"$f":"MAX(BL4:BL7)","v":0},{"$f":"COUNTIF(BL4:BL7,BO4)","v":4},{"$f":"VLOOKUP(BO4,BL4:CL7,2,FALSE)","v":12},null,{"$f":"IF(OR(BD4=0,BD7=\"Error\"),0,1)","v":0}]
[null,{"$f":"IF('Window & Door DATA INPUT'!B11>1,1,0)","v":0},{"$f":"IF(AND(B5=1,OR(D5=Parameters!$D$17, D5=Parameters!$D$18,D5=Parameters!$D$19,D5=Parameters!$D$20,D5=Parameters!$D$21,D5=Parameters!$D$22, D5=Parameters!$D$23, D5=Parameters!$D$24)),1,0)","v":0},{"$f":"IF('Window & Door DATA INPUT'!B11=\"\",\"\",'Window & Door DATA INPUT'!B11)","v":""},{"$f":"IF('Window & Door DATA INPUT'!D11=\"\",\"\",'Window & Door DATA INPUT'!D11)","v":""},{"$f":"IF(B5=1,'Window & Door DATA INPUT'!H11&RESULTS!$H$5,\"\")","v":""},{"$f":"IF(B5=1,VLOOKUP(F5,Parameters!$H$4:$I$20,2,FALSE),\"\")","v":""},{"$f":"IF(OR('Window & Door DATA INPUT'!J11=Parameters!$K$4,'Window & Door DATA INPUT'!J11=Parameters!$K$11),\"No\",IF('Window & Door DATA INPUT'!K11=\"\",\"\",'Window & Door DATA INPUT'!K11))","v":""},{"$f":"IF('Window & Door DATA INPUT'!J11=\"\",\"\",'Window & Door DATA INPUT'!J11)","v":""},{"$f":"IF('Window & Door DATA INPUT'!L11=Parameters!$O$5,'Window & Door DATA INPUT'!O11,IF(B5=1,('Window & Door DATA INPUT'!N11*'Window & Door DATA INPUT'!M11)/1000000,\"\"))","v":""},{"$f":"IF('Window & Door DATA INPUT'!J11=\"\",\"\",VLOOKUP('Window & Door DATA INPUT'!J11,Parameters!$K$4:$L$16,2,FALSE))","v":""},{"$f":"IF($H5=\"yes\",IF($K5=\"Y\",'Window & Door DATA INPUT'!Q11/1000,IF($K5=\"N\",'Window & Door DATA INPUT'!P11/1000)),\"\")","v":""},{"$f":"IF($H5=\"yes\",IF($K5=\"Y\",'Window & Door DATA INPUT'!P11/1000,IF($K5=\"N\",'Window & Door DATA INPUT'!Q11/1000)),\"\")","v":""},{"$f":"IF(L5=\"\",\"\",L5*M5)","v":""},{"$f":"IF(AND(B5=1,C5=0,H5=\"yes\"),\"A\",IF(AND(C5=1,H5=\"yes\",'Window & Door DATA INPUT'!R11=\"no\"),\"B\",IF(AND(C5=1,H5=\"yes\",'Window & Door DATA INPUT'!R11=\"yes\",'Window & Door DATA INPUT'!S11=\"yes\"),\"C\",IF(AND(C5=1,H5=\"yes\",'Window & Door DATA INPUT'!R11=\"yes\",'Window & Door DATA INPUT'!S11=\"no\"),\"D\",\"\"))))","v":""},{"$f":"IF(AND(C5=1,H5=\"yes\",OR(I5=Parameters!$K$12,I5=Parameters!$K$13,I5=Parameters!$K$14)),\"E\",IF(AND(C5=1,H5=\"yes\",NOT(OR(I5=Parameters!$K$12,I5=Parameters!$K$13,I5=Parameters!$K$14))),\"F\",\"\"))","v":""},{"$f":"IF(AND(B5=1,H5=\"yes\"),VLOOKUP(I5,Parameters!$K$4:$M$16,3,FALSE),\"\")","v":""},{"$f":"IF(AND(OR(O5=\"A\",O5=\"B\",O5=\"d\"),Q5=\"input\"),'Window & Door DATA INPUT'!AA11,IF(AND(O5=\"C\",Q5=\"input\"),'Window & Door DATA INPUT'!W11,Calculations!Q5))","v":""},{"$f":"IF('Window & Door DATA INPUT'!X11=\"Yes\",'Window & Door DATA INPUT'!Y11/1000,IF(B5=1,\"N/A\",\"\"))","v":""},{"$f":"IF(Q5=\"calc\",IF(O5=\"c\",'Window & Door DATA INPUT'!U11/1000,(Parameters!$S$4-'Window & Door DATA INPUT'!Z11+Parameters!$Q$4)/1000),\"\")","v":""},"",{"$f":"IF(AND(S5>0,S5<U5),S5,U5)","v":""},"",{"$f":"IF(OR($H5=\"no\",$B5=0),\"\",IF($I5=Parameters!$K$15,$L5/($M5/2),$L5/$M5))","v":""},{"$f":"IF(OR($H5=\"no\",$B5=0),\"\",IF($X5<0.5,Parameters!$X$4,IF($X5<1,Parameters!$Y$4,IF($X5<2,Parameters!$Z$4,Parameters!$AA$4))))","v":""},{"$f":"IF(OR($H5=\"no\",$B5=0),\"\",IF($X5<0.5,Parameters!$X$5,IF($X5<1,Parameters!$Y$5,IF($X5<2,Parameters!$Z$5,Parameters!$AA$5))))","v":""},{"$f":"IF(OR($H5=\"no\",$B5=0),\"\",IF($I5=Parameters!$K$15,(2*($M5/2)*SIN(RADIANS(Calculations!$W5/2))),(2*$M5*SIN(RADIANS($W5/2)))))","v":""},{"$f":"IF(OR($H5=\"no\",$B5=0),\"\",$Z5*(1-EXP(-$Y5*$W5)))","v":""},{"$f":"IF(OR($H5=\"no\",$B5=0),\"\",IF($I5=Parameters!$K$15,$AB5*$N5/2,$AB5*$N5))","v":""},{"$f":"IF(OR($H5=\"no\",$B5=0),\"\",IF($I5=Parameters!$K$15,$AC5*2/Parameters!$AB$4,$AC5/Parameters!$AB$4))","v":""},{"$f":"IF(AND(O5=\"B\",Q5=\"calc\"),V5,IF(AND(O5=\"C\",Q5=\"calc\"),'Window & Door DATA INPUT'!T11/1000,\"\"))","v":""},{"$f":"IF(AND(O5=\"B\",Q5=\"input\"),'Window & Door DATA INPUT'!AA11,IF(AND(O5=\"C\",Q5=\"input\",P5=\"F\"),'Window & Door DATA INPUT'!V11,IF(AND(O5=\"C\",P5=\"E\"),0,IF(AND(O5=\"D\"),0,IF(AND(B5=1,C5=0),\"\",(Calculations!Q5))))))","v":""},"",{"$f":"IF(OR($H5=\"no\",$C5=0),\"\",IF($I5=Parameters!$K$15,$L5/($M5/2),$L5/$M5))","v":""},{"$f":"IF(OR($H5=\"no\",$C5=0),\"\",IF($AH5<0.5,Parameters!$X$4,IF($AH5<1,Parameters!$Y$4,IF($AH5<2,Parameters!$Z$4,Parameters!$AA$4))))","v":""},{"$f":"IF(OR($H5=\"no\",$C5=0),\"\",IF($AH5<0.5,Parameters!$X$5,IF($AH5<1,Parameters!$Y$5,IF($AH5<2,Parameters!$Z$5,Parameters!$AA$5))))","v":""},{"$f":"IF(OR($H5=\"no\",$C5=0),\"\",IF($I5=Parameters!$K$15,(2*($M5/2)*SIN(RADIANS(Calculations!$AG5/2))),(2*$M5*SIN(RADIANS($AG5/2)))))","v":""},{"$f":"IF(OR($H5=\"no\",$C5=0),\"\",$AJ5*(1-EXP(-$AI5*$AG5)))","v":""},{"$f":"IF(OR($H5=\"no\",$C5=0),\"\",IF($I5=Parameters!$K$15,$AL5*$N5/2,$AL5*$N5))","v":""},{"$f":"IF(OR($H5=\"no\",$C5=0),\"\",IF($I5=Parameters!$K$15,$AM5*2/Parameters!$AB$4,$AM5/Parameters!$AB$4))","v":""},null,{"$f":"Parameters!D5","v":"Living"},{"v":0,"d":"0.00"},{"v":0,"d":"0.00"},{"$f":"IF(AQ5>0,AR5/AQ5,\" \")","v":" "},{"v":0,"d":"0.00"}," ",{"$nulls":3},{"$f":"IF(BA5=$BA$9,VLOOKUP($BD$4&$BD$5&AZ5,Parameters!$AG$4:$AO$19,9,FALSE))","v":{"$error":"#N/A"}},"East",{"$f":"SUMIFS($J$4:$J$143,$G$4:$G$143,AZ5)","v":{"v":0,"d":"0.00"}},null,"Cross Ventilation?",{"$f":"RESULTS!D16","v":"Error! Not defined on DATA INPUT sheet"},null,{"$f":"ISNA(AY5)","v":true},1,null,{"$f":"'Window & Door DATA INPUT'!H11","v":0},{"$f":"J5","v":""},null,{"$f":"SUMIF($BI$4:$BI$143,BM5,$BJ$4:$BJ$143)","v":0},3,{"$f":"BL5/$BL$8","v":{"$error":"#DIV/0!"}}]
[null,{"$f":"IF('Window & Door DATA INPUT'!B12>1,1,0)","v":0},{"$f":"IF(AND(B6=1,OR(D6=Parameters!$D$17, D6=Parameters!$D$18,D6=Parameters!$D$19,D6=Parameters!$D$20,D6=Parameters!$D$21,D6=Parameters!$D$22, D6=Parameters!$D$23, D6=Parameters!$D$24)),1,0)","v":0},{"$f":"IF('Window & Door DATA INPUT'!B12=\"\",\"\",'Window & Door DATA INPUT'!B12)","v":""},{"$f":"IF('Window & Door DATA INPUT'!D12=\"\",\"\",'Window & Door DATA INPUT'!D12)","v":""},{"$f":"IF(B6=1,'Window & Door DATA INPUT'!H12&RESULTS!$H$5,\"\")","v":""},{"$f":"IF(B6=1,VLOOKUP(F6,Parameters!$H$4:$I$20,2,FALSE),\"\")","v":""},{"$f":"IF(OR('Window & Door DATA INPUT'!J12=Parameters!$K$4,'Window & Door DATA INPUT'!J12=Parameters!$K$11),\"No\",IF('Window & Door DATA INPUT'!K12=\"\",\"\",'Window & Door DATA INPUT'!K12))","v":""},{"$f":"IF('Window & Door DATA INPUT'!J12=\"\",\"\",'Window & Door DATA INPUT'!J12)","v":""},{"$f":"IF('Window & Door DATA INPUT'!L12=Parameters!$O$5,'Window & Door DATA INPUT'!O12,IF(B6=1,('Window & Door DATA INPUT'!N12*'Window & Door DATA INPUT'!M12)/1000000,\"\"))","v":""},{"$f":"IF('Window & Door DATA INPUT'!J12=\"\",\"\",VLOOKUP('Window & Door DATA INPUT'!J12,Parameters!$K$4:$L$16,2,FALSE))","v":""},{"$f":"IF($H6=\"yes\",IF($K6=\"Y\",'Window & Door DATA INPUT'!Q12/1000,IF($K6=\"N\",'Window & Door DATA INPUT'!P12/1000)),\"\")","v":""},{"$f":"IF($H6=\"yes\",IF($K6=\"Y\",'Window & Door DATA INPUT'!P12/1000,IF($K6=\"N\",'Window & Door DATA INPUT'!Q12/1000)),\"\")","v":""},"",{"$f":"IF(AND(B6=1,C6=0,H6=\"yes\"),\"A\",IF(AND(C6=1,H6=\"yes\",'Window & Door DATA INPUT'!R12=\"no\"),\"B\",IF(AND(C6=1,H6=\"yes\",'Window & Door DATA INPUT'!R12=\"yes\",'Window & Door DATA INPUT'!S12=\"yes\"),\"C\",IF(AND(C6=1,H6=\"yes\",'Window & Door DATA INPUT'!R12=\"yes\",'Window & Door DATA INPUT'!S12=\"no\"),\"D\",\"\"))))","v":""},{"$f":"IF(AND(C6=1,H6=\"yes\",OR(I6=Parameters!$K$12,I6=Parameters!$K$13,I6=Parameters!$K$14)),\"E\",IF(AND(C6=1,H6=\"yes\",NOT(OR(I6=Parameters!$K$12,I6=Parameters!$K$13,I6=Parameters!$K$14))),\"F\",\"\"))","v":""},{"$f":"IF(AND(B6=1,H6=\"yes\"),VLOOKUP(I6,Parameters!$K$4:$M$16,3,FALSE),\"\")","v":""},{"$f":"IF(AND(OR(O6=\"A\",O6=\"B\",O6=\"d\"),Q6=\"input\"),'Window & Door DATA INPUT'!AA12,IF(AND(O6=\"C\",Q6=\"input\"),'Window & Door DATA INPUT'!W12,Calculations!Q6))","v":""},{"$f":"IF('Window & Door DATA INPUT'!X12=\"Yes\",'Window & Door DATA INPUT'!Y12/1000,IF(B6=1,\"N/A\",\"\"))","v":""},{"$f":"IF(Q6=\"calc\",IF(O6=\"c\",'Window & Door DATA INPUT'!U12/1000,(Parameters!$S$4-'Window & Door DATA INPUT'!Z12+Parameters!$Q$4)/1000),\"\")","v":""},"","","",{"$f":"IF(OR($H6=\"no\",$B6=0),\"\",IF($I6=Parameters!$K$15,$L6/($M6/2),$L6/$M6))","v":""},{"$f":"IF(OR($H6=\"no\",$B6=0),\"\",IF($X6<0.5,Parameters!$X$4,IF($X6<1,Parameters!$Y$4,IF($X6<2,Parameters!$Z$4,Parameters!$AA$4))))","v":""},{"$f":"IF(OR($H6=\"no\",$B6=0),\"\",IF($X6<0.5,Parameters!$X$5,IF($X6<1,Parameters!$Y$5,IF($X6<2,Parameters!$Z$5,Parameters!$AA$5))))","v":""},{"$f":"IF(OR($H6=\"no\",$B6=0),\"\",IF($I6=Parameters!$K$15,(2*($M6/2)*SIN(RADIANS(Calculations!$W6/2))),(2*$M6*SIN(RADIANS($W6/2)))))","v":""},"",{"$f":"IF(OR($H6=\"no\",$B6=0),\"\",IF($I6=Parameters!$K$15,$AB6*$N6/2,$AB6*$N6))","v":""},{"$f":"IF(OR($H6=\"no\",$B6=0),\"\",IF($I6=Parameters!$K$15,$AC6*2/Parameters!$AB$4,$AC6/Parameters!$AB$4))","v":""},{"$f":"IF(AND(O6=\"B\",Q6=\"calc\"),V6,IF(AND(O6=\"C\",Q6=\"calc\"),'Window & Door DATA INPUT'!T12/1000,\"\"))","v":""},{"$f":"IF(AND(O6=\"B\",Q6=\"input\"),'Window & Door DATA INPUT'!AA12,IF(AND(O6=\"C\",Q6=\"input\",P6=\"F\"),'Window & Door DATA INPUT'!V12,IF(AND(O6=\"C\",P6=\"E\"),0,IF(AND(O6=\"D\"),0,IF(AND(B6=1,C6=0),\"\",(Calculations!Q6))))))","v":""},"",{"$f":"IF(OR($H6=\"no\",$C6=0),\"\",IF($I6=Parameters!$K$15,$L6/($M6/2),$L6/$M6))","v":""},{"$f":"IF(OR($H6=\"no\",$C6=0),\"\",IF($AH6<0.5,Parameters!$X$4,IF($AH6<1,Parameters!$Y$4,IF($AH6<2,Parameters!$Z$4,Parameters!$AA$4))))","v":""},{"$f":"IF(OR($H6=\"no\",$C6=0),\"\",IF($AH6<0.5,Parameters!$X$5,IF($AH6<1,Parameters!$Y$5,IF($AH6<2,Parameters!$Z$5,Parameters!$AA$5))))","v":""},{"$f":"IF(OR($H6=\"no\",$C6=0),\"\",IF($I6=Parameters!$K$15,(2*($M6/2)*SIN(RADIANS(Calculations!$AG6/2))),(2*$M6*SIN(RADIANS($AG6/2)))))","v":""},"",{"$f":"IF(OR($H6=\"no\",$C6=0),\"\",IF($I6=Parameters!$K$15,$AL6*$N6/2,$AL6*$N6))","v":""},{"$f":"IF(OR($H6=\"no\",$C6=0),\"\",IF($I6=Parameters!$K$15,$AM6*2/Parameters!$AB$4,$AM6/Parameters!$AB$4))","v":""},null,{"$f":"Parameters!D6","v":"Living/ Dining"},{"v":0,"d":"0.00"},{"v":0,"d":"0.00"}," ",{"v":0,"d":"0.00"}," ",{"$nulls":3},{"$f":"IF(BA6=$BA$9,VLOOKUP($BD$4&$BD$5&AZ6,Parameters!$AG$4:$AO$19,9,FALSE))","v":{"$error":"#N/A"}},"South",{"$f":"SUMIFS($J$4:$J$143,$G$4:$G$143,AZ6)","v":{"v":0,"d":"0.00"}},null,"Most glazed façade",{"$f":"IF(SUM(BA4:BA7)>0,VLOOKUP(MIN(AY4:AY7),AY4:AZ7,2,FALSE),\"Error! Direction of 'clock face 6' not defined above\")","v":"Error! Direction of 'clock face 6' not defined above"},null,true,1,null,{"$f":"'Window & Door DATA INPUT'!H12","v":0},"",null,{"$f":"SUMIF($BI$4:$BI$143,BM6,$BJ$4:$BJ$143)","v":0},6,{"$error":"#DIV/0!"}]
[null,{"$f":"IF('Window & Door DATA INPUT'!B13>1,1,0)","v":0},{"$f":"IF(AND(B7=1,OR(D7=Parameters!$D$17, D7=Parameters!$D$18,D7=Parameters!$D$19,D7=Parameters!$D$20,D7=Parameters!$D$21,D7=Parameters!$D$22, D7=Parameters!$D$23, D7=Parameters!$D$24)),1,0)","v":0},{"$f":"IF('Window & Door DATA INPUT'!B13=\"\",\"\",'Window & Door DATA INPUT'!B13)","v":""},{"$f":"IF('Window & Door DATA INPUT'!D13=\"\",\"\",'Window & Door DATA INPUT'!D13)","v":""},{"$f":"IF(B7=1,'Window & Door DATA INPUT'!H13&RESULTS!$H$5,\"\")","v":""},{"$f":"IF(B7=1,VLOOKUP(F7,Parameters!$H$4:$I$20,2,FALSE),\"\")","v":""},{"$f":"IF(OR('Window & Door DATA INPUT'!J13=Parameters!$K$4,'Window & Door DATA INPUT'!J13=Parameters!$K$11),\"No\",IF('Window & Door DATA INPUT'!K13=\"\",\"\",'Window & Door DATA INPUT'!K13))","v":""},{"$f":"IF('Window & Door DATA INPUT'!J13=\"\",\"\",'Window & Door DATA INPUT'!J13)","v":""},{"$f":"IF('Window & Door DATA INPUT'!L13=Parameters!$O$5,'Window & Door DATA INPUT'!O13,IF(B7=1,('Window & Door DATA INPUT'!N13*'Window & Door DATA INPUT'!M13)/1000000,\"\"))","v":""},{"$f":"IF('Window & Door DATA INPUT'!J13=\"\",\"\",VLOOKUP('Window & Door DATA INPUT'!J13,Parameters!$K$4:$L$16,2,FALSE))","v":""},{"$f":"IF($H7=\"yes\",IF($K7=\"Y\",'Window & Door DATA INPUT'!Q13/1000,IF($K7=\"N\",'Window & Door DATA INPUT'!P13/1000)),\"\")","v":""},{"$f":"IF($H7=\"yes\",IF($K7=\"Y\",'Window & Door DATA INPUT'!P13/1000,IF($K7=\"N\",'Window & Door DATA INPUT'!Q13/1000)),\"\")","v":""},"",{"$f":"IF(AND(B7=1,C7=0,H7=\"yes\"),\"A\",IF(AND(C7=1,H7=\"yes\",'Window & Door DATA INPUT'!R13=\"no\"),\"B\",IF(AND(C7=1,H7=\"yes\",'Window & Door DATA INPUT'!R13=\"yes\",'Window & Door DATA INPUT'!S13=\"yes\"),\"C\",IF(AND(C7=1,H7=\"yes\",'Window & Door DATA INPUT'!R13=\"yes\",'Window & Door DATA INPUT'!S13=\"no\"),\"D\",\"\"))))","v":""},{"$f":"IF(AND(C7=1,H7=\"yes\",OR(I7=Parameters!$K$12,I7=Parameters!$K$13,I7=Parameters!$K$14)),\"E\",IF(AND(C7=1,H7=\"yes\",NOT(OR(I7=Parameters!$K$12,I7=Parameters!$K$13,I7=Parameters!$K$14))),\"F\",\"\"))","v":""},{"$f":"IF(AND(B7=1,H7=\"yes\"),VLOOKUP(I7,Parameters!$K$4:$M$16,3,FALSE),\"\")","v":""},{"$f":"IF(AND(OR(O7=\"A\",O7=\"B\",O7=\"d\"),Q7=\"input\"),'Window & Door DATA INPUT'!AA13,IF(AND(O7=\"C\",Q7=\"input\"),'Window & Door DATA INPUT'!W13,Calculations!Q7))","v":""},{"$f":"IF('Window & Door DATA INPUT'!X13=\"Yes\",'Window & Door DATA INPUT'!Y13/1000,IF(B7=1,\"N/A\",\"\"))","v":""},{"$f":"IF(Q7=\"calc\",IF(O7=\"c\",'Window & Door DATA INPUT'!U13/1000,(Parameters!$S$4-'Window & Door DATA INPUT'!Z13+Parameters!$Q$4)/1000),\"\")","v":""},"","","",{"$f":"IF(OR($H7=\"no\",$B7=0),\"\",IF($I7=Parameters!$K$15,$L7/($M7/2),$L7/$M7))","v":""},{"$f":"IF(OR($H7=\"no\",$B7=0),\"\",IF($X7<0.5,Parameters!$X$4,IF($X7<1,Parameters!$Y$4,IF($X7<2,Parameters!$Z$4,Parameters!$AA$4))))","v":""},{"$f":"IF(OR($H7=\"no\",$B7=0),\"\",IF($X7<0.5,Parameters!$X$5,IF($X7<1,Parameters!$Y$5,IF($X7<2,Parameters!$Z$5,Parameters!$AA$5))))","v":""},{"$f":"IF(OR($H7=\"no\",$B7=0),\"\",IF($I7=Parameters!$K$15,(2*($M7/2)*SIN(RADIANS(Calculations!$W7/2))),(2*$M7*SIN(RADIANS($W7/2)))))","v":""},"",{"$f":"IF(OR($H7=\"no\",$B7=0),\"\",IF($I7=Parameters!$K$15,$AB7*$N7/2,$AB7*$N7))","v":""},{"$f":"IF(OR($H7=\"no\",$B7=0),\"\",IF($I7=Parameters!$K$15,$AC7*2/Parameters!$AB$4,$AC7/Parameters!$AB$4))","v":""},{"$f":"IF(AND(O7=\"B\",Q7=\"calc\"),V7,IF(AND(O7=\"C\",Q7=\"calc\"),'Window & Door DATA INPUT'!T13/1000,\"\"))","v":""},{"$f":"IF(AND(O7=\"B\",Q7=\"input\"),'Window & Door DATA INPUT'!AA13,IF(AND(O7=\"C\",Q7=\"input\",P7=\"F\"),'Window & Door DATA INPUT'!V13,IF(AND(O7=\"C\",P7=\"E\"),0,IF(AND(O7=\"D\"),0,IF(AND(B7=1,C7=0),\"\",(Calculations!Q7))))))","v":""},"",{"$f":"IF(OR($H7=\"no\",$C7=0),\"\",IF($I7=Parameters!$K$15,$L7/($M7/2),$L7/$M7))","v":""},{"$f":"IF(OR($H7=\"no\",$C7=0),\"\",IF($AH7<0.5,Parameters!$X$4,IF($AH7<1,Parameters!$Y$4,IF($AH7<2,Parameters!$Z$4,Parameters!$AA$4))))","v":""},{"$f":"IF(OR($H7=\"no\",$C7=0),\"\",IF($AH7<0.5,Parameters!$X$5,IF($AH7<1,Parameters!$Y$5,IF($AH7<2,Parameters!$Z$5,Parameters!$AA$5))))","v":""},{"$f":"IF(OR($H7=\"no\",$C7=0),\"\",IF($I7=Parameters!$K$15,(2*($M7/2)*SIN(RADIANS(Calculations!$AG7/2))),(2*$M7*SIN(RADIANS($AG7/2)))))","v":""},"",{"$f":"IF(OR($H7=\"no\",$C7=0),\"\",IF($I7=Parameters!$K$15,$AL7*$N7/2,$AL7*$N7))","v":""},{"$f":"IF(OR($H7=\"no\",$C7=0),\"\",IF($I7=Parameters!$K$15,$AM7*2/Parameters!$AB$4,$AM7/Parameters!$AB$4))","v":""},null,{"$f":"Parameters!D7","v":"Living/ Kitchen/ Dining"},{"v":0,"d":"0.00"},{"v":0,"d":"0.00"},{"$f":"IF(AQ7>0,AR7/AQ7,\" \")","v":" "},{"v":0,"d":"0.00"},{"$f":"IF(AR7=$BA$12,AS7,\"\")","v":" "},{"$nulls":3},{"$f":"IF(BA7=$BA$9,VLOOKUP($BD$4&$BD$5&AZ7,Parameters!$AG$4:$AO$19,9,FALSE))","v":{"$error":"#N/A"}},"West",{"$f":"SUMIFS($J$4:$J$143,$G$4:$G$143,AZ7)","v":{"v":0,"d":"0.00"}},null,"Shading provided?",{"$f":"IF(RESULTS!D15>0,RESULTS!D15,\"Error\")","v":"Error"},null,true,{"$f":"1*BF7","v":1},null,{"$f":"'Window & Door DATA INPUT'!H13","v":0},"",null,{"$f":"SUMIF($BI$4:$BI$143,BM7,$BJ$4:$BJ$143)","v":0},9,{"$error":"#DIV/0!"}]
[null,{"$f":"IF('Window & Door DATA INPUT'!B14>1,1,0)","v":0},{"$f":"IF(AND(B8=1,OR(D8=Parameters!$D$17, D8=Parameters!$D$18,D8=Parameters!$D$19,D8=Parameters!$D$20,D8=Parameters!$D$21,D8=Parameters!$D$22, D8=Parameters!$D$23, D8=Parameters!$D$24)),1,0)","v":0},{"$f":"IF('Window & Door DATA INPUT'!B14=\"\",\"\",'Window & Door DATA INPUT'!B14)","v":""},{"$f":"IF('Window & Door DATA INPUT'!D14=\"\",\"\",'Window & Door DATA INPUT'!D14)","v":""},{"$f":"IF(B8=1,'Window & Door DATA INPUT'!H14&RESULTS!$H$5,\"\")","v":""},{"$f":"IF(B8=1,VLOOKUP(F8,Parameters!$H$4:$I$20,2,FALSE),\"\")","v":""},{"$f":"IF(OR('Window & Door DATA INPUT'!J14=Parameters!$K$4,'Window & Door DATA INPUT'!J14=Parameters!$K$11),\"No\",IF('Window & Door DATA INPUT'!K14=\"\",\"\",'Window & Door DATA INPUT'!K14))","v":""},{"$f":"IF('Window & Door DATA INPUT'!J14=\"\",\"\",'Window & Door DATA INPUT'!J14)","v":""},{"$f":"IF('Window & Door DATA INPUT'!L14=Parameters!$O$5,'Window & Door DATA INPUT'!O14,IF(B8=1,('Window & Door DATA INPUT'!N14*'Window & Door DATA INPUT'!M14)/1000000,\"\"))","v":""},{"$f":"IF('Window & Door DATA INPUT'!J14=\"\",\"\",VLOOKUP('Window & Door DATA INPUT'!J14,Parameters!$K$4:$L$16,2,FALSE))","v":""},{"$f":"IF($H8=\"yes\",IF($K8=\"Y\",'Window & Door DATA INPUT'!Q14/1000,IF($K8=\"N\",'Window & Door DATA INPUT'!P14/1000)),\"\")","v":""},{"$f":"IF($H8=\"yes\",IF($K8=\"Y\",'Window & Door DATA INPUT'!P14/1000,IF($K8=\"N\",'Window & Door DATA INPUT'!Q14/1000)),\"\")","v":""},"",{"$f":"IF(AND(B8=1,C8=0,H8=\"yes\"),\"A\",IF(AND(C8=1,H8=\"yes\",'Window & Door DATA INPUT'!R14=\"no\"),\"B\",IF(AND(C8=1,H8=\"yes\",'Window & Door DATA INPUT'!R14=\"yes\",'Window & Door DATA INPUT'!S14=\"yes\"),\"C\",IF(AND(C8=1,H8=\"yes\",'Window & Door DATA INPUT'!R14=\"yes\",'Window & Door DATA INPUT'!S14=\"no\"),\"D\",\"\"))))","v":""},{"$f":"IF(AND(C8=1,H8=\"yes\",OR(I8=Parameters!$K$12,I8=Parameters!$K$13,I8=Parameters!$K$14)),\"E\",IF(AND(C8=1,H8=\"yes\",NOT(OR(I8=Parameters!$K$12,I8=Parameters!$K$13,I8=Parameters!$K$14))),\"F\",\"\"))","v":""},{"$f":"IF(AND(B8=1,H8=\"yes\"),VLOOKUP(I8,Parameters!$K$4:$M$16,3,FALSE),\"\")","v":""},{"$f":"IF(AND(OR(O8=\"A\",O8=\"B\",O8=\"d\"),Q8=\"input\"),'Window & Door DATA INPUT'!AA14,IF(AND(O8=\"C\",Q8=\"input\"),'Window & Door DATA INPUT'!W14,Calculations!Q8))","v":""},{"$f":"IF('Window & Door DATA INPUT'!X14=\"Yes\",'Window & Door DATA INPUT'!Y14/1000,IF(B8=1,\"N/A\",\"\"))","v":""},{"$f":"IF(Q8=\"calc\",IF(O8=\"c\",'Window & Door DATA INPUT'!U14/1000,(Parameters!$S$4-'Window & Door DATA INPUT'!Z14+Parameters!$Q$4)/1000),\"\")","v":""},"","","",{"$f":"IF(OR($H8=\"no\",$B8=0),\"\",IF($I8=Parameters!$K$15,$L8/($M8/2),$L8/$M8))","v":""},{"$f":"IF(OR($H8=\"no\",$B8=0),\"\",IF($X8<0.5,Parameters!$X$4,IF($X8<1,Parameters!$Y$4,IF($X8<2,Parameters!$Z$4,Parameters!$AA$4))))","v":""},{"$f":"IF(OR($H8=\"no\",$B8=0),\"\",IF($X8<0.5,Parameters!$X$5,IF($X8<1,Parameters!$Y$5,IF($X8<2,Parameters!$Z$5,Parameters!$AA$5))))","v":""},{"$f":"IF(OR($H8=\"no\",$B8=0),\"\",IF($I8=Parameters!$K$15,(2*($M8/2)*SIN(RADIANS(Calculations!$W8/2))),(2*$M8*SIN(RADIANS($W8/2)))))","v":""},"",{"$f":"IF(OR($H8=\"no\",$B8=0),\"\",IF($I8=Parameters!$K$15,$AB8*$N8/2,$AB8*$N8))","v":""},{"$f":"IF(OR($H8=\"no\",$B8=0),\"\",IF($I8=Parameters!$K$15,$AC8*2/Parameters!$AB$4,$AC8/Parameters!$AB$4))","v":""},{"$f":"IF(AND(O8=\"B\",Q8=\"calc\"),V8,IF(AND(O8=\"C\",Q8=\"calc\"),'Window & Door DATA INPUT'!T14/1000,\"\"))","v":""},{"$f":"IF(AND(O8=\"B\",Q8=\"input\"),'Window & Door DATA INPUT'!AA14,IF(AND(O8=\"C\",Q8=\"input\",P8=\"F\"),'Window & Door DATA INPUT'!V14,IF(AND(O8=\"C\",P8=\"E\"),0,IF(AND(O8=\"D\"),0,IF(AND(B8=1,C8=0),\"\",(Calculations!Q8))))))","v":""},"",{"$f":"IF(OR($H8=\"no\",$C8=0),\"\",IF($I8=Parameters!$K$15,$L8/($M8/2),$L8/$M8))","v":""},{"$f":"IF(OR($H8=\"no\",$C8=0),\"\",IF($AH8<0.5,Parameters!$X$4,IF($AH8<1,Parameters!$Y$4,IF($AH8<2,Parameters!$Z$4,Parameters!$AA$4))))","v":""},{"$f":"IF(OR($H8=\"no\",$C8=0),\"\",IF($AH8<0.5,Parameters!$X$5,IF($AH8<1,Parameters!$Y$5,IF($AH8<2,Parameters!$Z$5,Parameters!$AA$5))))","v":""},{"$f":"IF(OR($H8=\"no\",$C8=0),\"\",IF($I8=Parameters!$K$15,(2*($M8/2)*SIN(RADIANS(Calculations!$AG8/2))),(2*$M8*SIN(RADIANS($AG8/2)))))","v":""},"",{"$f":"IF(OR($H8=\"no\",$C8=0),\"\",IF($I8=Parameters!$K$15,$AL8*$N8/2,$AL8*$N8))","v":""},{"$f":"IF(OR($H8=\"no\",$C8=0),\"\",IF($I8=Parameters!$K$15,$AM8*2/Parameters!$AB$4,$AM8/Parameters!$AB$4))","v":""},null,{"$f":"Parameters!D8","v":"Kitchen"},{"v":0,"d":"0.00"},{"v":0,"d":"0.00"}," ",{"v":0,"d":"0.00"}," ",{"$nulls":7},"Total floor area",{"$f":"AQ37","v":"Error! Not defined on DATA INPUT sheet"},null,null,{"$f":"SUM(BG4:BG7)","v":4},null,{"$f":"'Window & Door DATA INPUT'!H14","v":0},"","Total",{"$f":"SUM(BL4:BL7)","v":0}]
[null,{"$f":"IF('Window & Door DATA INPUT'!B15>1,1,0)","v":0},{"$f":"IF(AND(B9=1,OR(D9=Parameters!$D$17, D9=Parameters!$D$18,D9=Parameters!$D$19,D9=Parameters!$D$20,D9=Parameters!$D$21,D9=Parameters!$D$22, D9=Parameters!$D$23, D9=Parameters!$D$24)),1,0)","v":0},{"$f":"IF('Window & Door DATA INPUT'!B15=\"\",\"\",'Window & Door DATA INPUT'!B15)","v":""},{"$f":"IF('Window & Door DATA INPUT'!D15=\"\",\"\",'Window & Door DATA INPUT'!D15)","v":""},{"$f":"IF(B9=1,'Window & Door DATA INPUT'!H15&RESULTS!$H$5,\"\")","v":""},{"$f":"IF(B9=1,VLOOKUP(F9,Parameters!$H$4:$I$20,2,FALSE),\"\")","v":""},{"$f":"IF(OR('Window & Door DATA INPUT'!J15=Parameters!$K$4,'Window & Door DATA INPUT'!J15=Parameters!$K$11),\"No\",IF('Window & Door DATA INPUT'!K15=\"\",\"\",'Window & Door DATA INPUT'!K15))","v":""},{"$f":"IF('Window & Door DATA INPUT'!J15=\"\",\"\",'Window & Door DATA INPUT'!J15)","v":""},{"$f":"IF('Window & Door DATA INPUT'!L15=Parameters!$O$5,'Window & Door DATA INPUT'!O15,IF(B9=1,('Window & Door DATA INPUT'!N15*'Window & Door DATA INPUT'!M15)/1000000,\"\"))","v":""},{"$f":"IF('Window & Door DATA INPUT'!J15=\"\",\"\",VLOOKUP('Window & Door DATA INPUT'!J15,Parameters!$K$4:$L$16,2,FALSE))","v":""},{"$f":"IF($H9=\"yes\",IF($K9=\"Y\",'Window & Door DATA INPUT'!Q15/1000,IF($K9=\"N\",'Window & Door DATA INPUT'!P15/1000)),\"\")","v":""},{"$f":"IF($H9=\"yes\",IF($K9=\"Y\",'Window & Door DATA INPUT'!P15/1000,IF($K9=\"N\",'Window & Door DATA INPUT'!Q15/1000)),\"\")","v":""},"",{"$f":"IF(AND(B9=1,C9=0,H9=\"yes\"),\"A\",IF(AND(C9=1,H9=\"yes\",'Window & Door DATA INPUT'!R15=\"no\"),\"B\",IF(AND(C9=1,H9=\"yes\",'Window & Door DATA INPUT'!R15=\"yes\",'Window & Door DATA INPUT'!S15=\"yes\"),\"C\",IF(AND(C9=1,H9=\"yes\",'Window & Door DATA INPUT'!R15=\"yes\",'Window & Door DATA INPUT'!S15=\"no\"),\"D\",\"\"))))","v":""},{"$f":"IF(AND(C9=1,H9=\"yes\",OR(I9=Parameters!$K$12,I9=Parameters!$K$13,I9=Parameters!$K$14)),\"E\",IF(AND(C9=1,H9=\"yes\",NOT(OR(I9=Parameters!$K$12,I9=Parameters!$K$13,I9=Parameters!$K$14))),\"F\",\"\"))","v":""},{"$f":"IF(AND(B9=1,H9=\"yes\"),VLOOKUP(I9,Parameters!$K$4:$M$16,3,FALSE),\"\")","v":""},{"$f":"IF(AND(OR(O9=\"A\",O9=\"B\",O9=\"d\"),Q9=\"input\"),'Window & Door DATA INPUT'!AA15,IF(AND(O9=\"C\",Q9=\"input\"),'Window & Door DATA INPUT'!W15,Calculations!Q9))","v":""},{"$f":"IF('Window & Door DATA INPUT'!X15=\"Yes\",'Window & Door DATA INPUT'!Y15/1000,IF(B9=1,\"N/A\",\"\"))","v":""},{"$f":"IF(Q9=\"calc\",IF(O9=\"c\",'Window & Door DATA INPUT'!U15/1000,(Parameters!$S$4-'Window & Door DATA INPUT'!Z15+Parameters!$Q$4)/1000),\"\")","v":""},"","","",{"$f":"IF(OR($H9=\"no\",$B9=0),\"\",IF($I9=Parameters!$K$15,$L9/($M9/2),$L9/$M9))","v":""},{"$f":"IF(OR($H9=\"no\",$B9=0),\"\",IF($X9<0.5,Parameters!$X$4,IF($X9<1,Parameters!$Y$4,IF($X9<2,Parameters!$Z$4,Parameters!$AA$4))))","v":""},{"$f":"IF(OR($H9=\"no\",$B9=0),\"\",IF($X9<0.5,Parameters!$X$5,IF($X9<1,Parameters!$Y$5,IF($X9<2,Parameters!$Z$5,Parameters!$AA$5))))","v":""},{"$f":"IF(OR($H9=\"no\",$B9=0),\"\",IF($I9=Parameters!$K$15,(2*($M9/2)*SIN(RADIANS(Calculations!$W9/2))),(2*$M9*SIN(RADIANS($W9/2)))))","v":""},"",{"$f":"IF(OR($H9=\"no\",$B9=0),\"\",IF($I9=Parameters!$K$15,$AB9*$N9/2,$AB9*$N9))","v":""},{"$f":"IF(OR($H9=\"no\",$B9=0),\"\",IF($I9=Parameters!$K$15,$AC9*2/Parameters!$AB$4,$AC9/Parameters!$AB$4))","v":""},{"$f":"IF(AND(O9=\"B\",Q9=\"calc\"),V9,IF(AND(O9=\"C\",Q9=\"calc\"),'Window & Door DATA INPUT'!T15/1000,\"\"))","v":""},{"$f":"IF(AND(O9=\"B\",Q9=\"input\"),'Window & Door DATA INPUT'!AA15,IF(AND(O9=\"C\",Q9=\"input\",P9=\"F\"),'Window & Door DATA INPUT'!V15,IF(AND(O9=\"C\",P9=\"E\"),0,IF(AND(O9=\"D\"),0,IF(AND(B9=1,C9=0),\"\",(Calculations!Q9))))))","v":""},"",{"$f":"IF(OR($H9=\"no\",$C9=0),\"\",IF($I9=Parameters!$K$15,$L9/($M9/2),$L9/$M9))","v":""},{"$f":"IF(OR($H9=\"no\",$C9=0),\"\",IF($AH9<0.5,Parameters!$X$4,IF($AH9<1,Parameters!$Y$4,IF($AH9<2,Parameters!$Z$4,Parameters!$AA$4))))","v":""},{"$f":"IF(OR($H9=\"no\",$C9=0),\"\",IF($AH9<0.5,Parameters!$X$5,IF($AH9<1,Parameters!$Y$5,IF($AH9<2,Parameters!$Z$5,Parameters!$AA$5))))","v":""},{"$f":"IF(OR($H9=\"no\",$C9=0),\"\",IF($I9=Parameters!$K$15,(2*($M9/2)*SIN(RADIANS(Calculations!$AG9/2))),(2*$M9*SIN(RADIANS($AG9/2)))))","v":""},"",{"$f":"IF(OR($H9=\"no\",$C9=0),\"\",IF($I9=Parameters!$K$15,$AL9*$N9/2,$AL9*$N9))","v":""},{"$f":"IF(OR($H9=\"no\",$C9=0),\"\",IF($I9=Parameters!$K$15,$AM9*2/Parameters!$AB$4,$AM9/Parameters!$AB$4))","v":""},null,{"$f":"Parameters!D9","v":"Kitchen/ Dining"},{"v":0,"d":"0.00"},{"v":0,"d":"0.00"}," ",{"v":0,"d":"0.00"}," ",{"$nulls":4},"Max glazed façade area",{"$f":"MAX(BA4:BA7)","v":{"v":0,"d":"0.00"}},null,"equivalent area as % of glazed area",{"$f":"BD13/BD12*100","v":{"$error":"#DIV/0!"}},{"$nulls":4},{"$f":"'Window & Door DATA INPUT'!H15","v":0},""]
[null,{"$f":"IF('Window & Door DATA INPUT'!B16>1,1,0)","v":0},{"$f":"IF(AND(B10=1,OR(D10=Parameters!$D$17, D10=Parameters!$D$18,D10=Parameters!$D$19,D10=Parameters!$D$20,D10=Parameters!$D$21,D10=Parameters!$D$22, D10=Parameters!$D$23, D10=Parameters!$D$24)),1,0)","v":0},{"$f":"IF('Window & Door DATA INPUT'!B16=\"\",\"\",'Window & Door DATA INPUT'!B16)","v":""},{"$f":"IF('Window & Door DATA INPUT'!D16=\"\",\"\",'Window & Door DATA INPUT'!D16)","v":""},{"$f":"IF(B10=1,'Window & Door DATA INPUT'!H16&RESULTS!$H$5,\"\")","v":""},{"$f":"IF(B10=1,VLOOKUP(F10,Parameters!$H$4:$I$20,2,FALSE),\"\")","v":""},{"$f":"IF(OR('Window & Door DATA INPUT'!J16=Parameters!$K$4,'Window & Door DATA INPUT'!J16=Parameters!$K$11),\"No\",IF('Window & Door DATA INPUT'!K16=\"\",\"\",'Window & Door DATA INPUT'!K16))","v":""},{"$f":"IF('Window & Door DATA INPUT'!J16=\"\",\"\",'Window & Door DATA INPUT'!J16)","v":""},{"$f":"IF('Window & Door DATA INPUT'!L16=Parameters!$O$5,'Window & Door DATA INPUT'!O16,IF(B10=1,('Window & Door DATA INPUT'!N16*'Window & Door DATA INPUT'!M16)/1000000,\"\"))","v":""},{"$f":"IF('Window & Door DATA INPUT'!J16=\"\",\"\",VLOOKUP('Window & Door DATA INPUT'!J16,Parameters!$K$4:$L$16,2,FALSE))","v":""},{"$f":"IF($H10=\"yes\",IF($K10=\"Y\",'Window & Door DATA INPUT'!Q16/1000,IF($K10=\"N\",'Window & Door DATA INPUT'!P16/1000)),\"\")","v":""},{"$f":"IF($H10=\"yes\",IF($K10=\"Y\",'Window & Door DATA INPUT'!P16/1000,IF($K10=\"N\",'Window & Door DATA INPUT'!Q16/1000)),\"\")","v":""},"",{"$f":"IF(AND(B10=1,C10=0,H10=\"yes\"),\"A\",IF(AND(C10=1,H10=\"yes\",'Window & Door DATA INPUT'!R16=\"no\"),\"B\",IF(AND(C10=1,H10=\"yes\",'Window & Door DATA INPUT'!R16=\"yes\",'Window & Door DATA INPUT'!S16=\"yes\"),\"C\",IF(AND(C10=1,H10=\"yes\",'Window & Door DATA INPUT'!R16=\"yes\",'Window & Door DATA INPUT'!S16=\"no\"),\"D\",\"\"))))","v":""},{"$f":"IF(AND(C10=1,H10=\"yes\",OR(I10=Parameters!$K$12,I10=Parameters!$K$13,I10=Parameters!$K$14)),\"E\",IF(AND(C10=1,H10=\"yes\",NOT(OR(I10=Parameters!$K$12,I10=Parameters!$K$13,I10=Parameters!$K$14))),\"F\",\"\"))","v":""},{"$f":"IF(AND(B10=1,H10=\"yes\"),VLOOKUP(I10,Parameters!$K$4:$M$16,3,FALSE),\"\")","v":""},{"$f":"IF(AND(OR(O10=\"A\",O10=\"B\",O10=\"d\"),Q10=\"input\"),'Window & Door DATA INPUT'!AA16,IF(AND(O10=\"C\",Q10=\"input\"),'Window & Door DATA INPUT'!W16,Calculations!Q10))","v":""},{"$f":"IF('Window & Door DATA INPUT'!X16=\"Yes\",'Window & Door DATA INPUT'!Y16/1000,IF(B10=1,\"N/A\",\"\"))","v":""},{"$f":"IF(Q10=\"calc\",IF(O10=\"c\",'Window & Door DATA INPUT'!U16/1000,(Parameters!$S$4-'Window & Door DATA INPUT'!Z16+Parameters!$Q$4)/1000),\"\")","v":""},"","","",{"$f":"IF(OR($H10=\"no\",$B10=0),\"\",IF($I10=Parameters!$K$15,$L10/($M10/2),$L10/$M10))","v":""},{"$f":"IF(OR($H10=\"no\",$B10=0),\"\",IF($X10<0.5,Parameters!$X$4,IF($X10<1,Parameters!$Y$4,IF($X10<2,Parameters!$Z$4,Parameters!$AA$4))))","v":""},{"$f":"IF(OR($H10=\"no\",$B10=0),\"\",IF($X10<0.5,Parameters!$X$5,IF($X10<1,Parameters!$Y$5,IF($X10<2,Parameters!$Z$5,Parameters!$AA$5))))","v":""},{"$f":"IF(OR($H10=\"no\",$B10=0),\"\",IF($I10=Parameters!$K$15,(2*($M10/2)*SIN(RADIANS(Calculations!$W10/2))),(2*$M10*SIN(RADIANS($W10/2)))))","v":""},"",{"$f":"IF(OR($H10=\"no\",$B10=0),\"\",IF($I10=Parameters!$K$15,$AB10*$N10/2,$AB10*$N10))","v":""},{"$f":"IF(OR($H10=\"no\",$B10=0),\"\",IF($I10=Parameters!$K$15,$AC10*2/Parameters!$AB$4,$AC10/Parameters!$AB$4))","v":""},{"$f":"IF(AND(O10=\"B\",Q10=\"calc\"),V10,IF(AND(O10=\"C\",Q10=\"calc\"),'Window & Door DATA INPUT'!T16/1000,\"\"))","v":""},{"$f":"IF(AND(O10=\"B\",Q10=\"input\"),'Window & Door DATA INPUT'!AA16,IF(AND(O10=\"C\",Q10=\"input\",P10=\"F\"),'Window & Door DATA INPUT'!V16,IF(AND(O10=\"C\",P10=\"E\"),0,IF(AND(O10=\"D\"),0,IF(AND(B10=1,C10=0),\"\",(Calculations!Q10))))))","v":""},"",{"$f":"IF(OR($H10=\"no\",$C10=0),\"\",IF($I10=Parameters!$K$15,$L10/($M10/2),$L10/$M10))","v":""},{"$f":"IF(OR($H10=\"no\",$C10=0),\"\",IF($AH10<0.5,Parameters!$X$4,IF($AH10<1,Parameters!$Y$4,IF($AH10<2,Parameters!$Z$4,Parameters!$AA$4))))","v":""},{"$f":"IF(OR($H10=\"no\",$C10=0),\"\",IF($AH10<0.5,Parameters!$X$5,IF($AH10<1,Parameters!$Y$5,IF($AH10<2,Parameters!$Z$5,Parameters!$AA$5))))","v":""},{"$f":"IF(OR($H10=\"no\",$C10=0),\"\",IF($I10=Parameters!$K$15,(2*($M10/2)*SIN(RADIANS(Calculations!$AG10/2))),(2*$M10*SIN(RADIANS($AG10/2)))))","v":""},"",{"$f":"IF(OR($H10=\"no\",$C10=0),\"\",IF($I10=Parameters!$K$15,$AL10*$N10/2,$AL10*$N10))","v":""},{"$f":"IF(OR($H10=\"no\",$C10=0),\"\",IF($I10=Parameters!$K$15,$AM10*2/Parameters!$AB$4,$AM10/Parameters!$AB$4))","v":""},null,{"$f":"Parameters!D10","v":"Dining"},{"v":0,"d":"0.00"},{"v":0,"d":"0.00"}," ",{"v":0,"d":"0.00"}," ",{"$nulls":4},"Number of max areas",{"$f":"COUNTIF(BA4:BA7,BA9)","v":4},{"$nulls":7},{"$f":"'Window & Door DATA INPUT'!H16","v":0},""]
[null,{"$f":"IF('Window & Door DATA INPUT'!B17>1,1,0)","v":0},{"$f":"IF(AND(B11=1,OR(D11=Parameters!$D$17, D11=Parameters!$D$18,D11=Parameters!$D$19,D11=Parameters!$D$20,D11=Parameters!$D$21,D11=Parameters!$D$22, D11=Parameters!$D$23, D11=Parameters!$D$24)),1,0)","v":0},{"$f":"IF('Window & Door DATA INPUT'!B17=\"\",\"\",'Window & Door DATA INPUT'!B17)","v":""},{"$f":"IF('Window & Door DATA INPUT'!D17=\"\",\"\",'Window & Door DATA INPUT'!D17)","v":""},{"$f":"IF(B11=1,'Window & Door DATA INPUT'!H17&RESULTS!$H$5,\"\")","v":""},{"$f":"IF(B11=1,VLOOKUP(F11,Parameters!$H$4:$I$20,2,FALSE),\"\")","v":""},{"$f":"IF(OR('Window & Door DATA INPUT'!J17=Parameters!$K$4,'Window & Door DATA INPUT'!J17=Parameters!$K$11),\"No\",IF('Window & Door DATA INPUT'!K17=\"\",\"\",'Window & Door DATA INPUT'!K17))","v":""},{"$f":"IF('Window & Door DATA INPUT'!J17=\"\",\"\",'Window & Door DATA INPUT'!J17)","v":""},{"$f":"IF('Window & Door DATA INPUT'!L17=Parameters!$O$5,'Window & Door DATA INPUT'!O17,IF(B11=1,('Window & Door DATA INPUT'!N17*'Window & Door DATA INPUT'!M17)/1000000,\"\"))","v":""},{"$f":"IF('Window & Door DATA INPUT'!J17=\"\",\"\",VLOOKUP('Window & Door DATA INPUT'!J17,Parameters!$K$4:$L$16,2,FALSE))","v":""},{"$f":"IF($H11=\"yes\",IF($K11=\"Y\",'Window & Door DATA INPUT'!Q17/1000,IF($K11=\"N\",'Window & Door DATA INPUT'!P17/1000)),\"\")","v":""},{"$f":"IF($H11=\"yes\",IF($K11=\"Y\",'Window & Door DATA INPUT'!P17/1000,IF($K11=\"N\",'Window & Door DATA INPUT'!Q17/1000)),\"\")","v":""},"",{"$f":"IF(AND(B11=1,C11=0,H11=\"yes\"),\"A\",IF(AND(C11=1,H11=\"yes\",'Window & Door DATA INPUT'!R17=\"no\"),\"B\",IF(AND(C11=1,H11=\"yes\",'Window & Door DATA INPUT'!R17=\"yes\",'Window & Door DATA INPUT'!S17=\"yes\"),\"C\",IF(AND(C11=1,H11=\"yes\",'Window & Door DATA INPUT'!R17=\"yes\",'Window & Door DATA INPUT'!S17=\"no\"),\"D\",\"\"))))","v":""},{"$f":"IF(AND(C11=1,H11=\"yes\",OR(I11=Parameters!$K$12,I11=Parameters!$K$13,I11=Parameters!$K$14)),\"E\",IF(AND(C11=1,H11=\"yes\",NOT(OR(I11=Parameters!$K$12,I11=Parameters!$K$13,I11=Parameters!$K$14))),\"F\",\"\"))","v":""},{"$f":"IF(AND(B11=1,H11=\"yes\"),VLOOKUP(I11,Parameters!$K$4:$M$16,3,FALSE),\"\")","v":""},{"$f":"IF(AND(OR(O11=\"A\",O11=\"B\",O11=\"d\"),Q11=\"input\"),'Window & Door DATA INPUT'!AA17,IF(AND(O11=\"C\",Q11=\"input\"),'Window & Door DATA INPUT'!W17,Calculations!Q11))","v":""},{"$f":"IF('Window & Door DATA INPUT'!X17=\"Yes\",'Window & Door DATA INPUT'!Y17/1000,IF(B11=1,\"N/A\",\"\"))","v":""},{"$f":"IF(Q11=\"calc\",IF(O11=\"c\",'Window & Door DATA INPUT'!U17/1000,(Parameters!$S$4-'Window & Door DATA INPUT'!Z17+Parameters!$Q$4)/1000),\"\")","v":""},"","","",{"$f":"IF(OR($H11=\"no\",$B11=0),\"\",IF($I11=Parameters!$K$15,$L11/($M11/2),$L11/$M11))","v":""},{"$f":"IF(OR($H11=\"no\",$B11=0),\"\",IF($X11<0.5,Parameters!$X$4,IF($X11<1,Parameters!$Y$4,IF($X11<2,Parameters!$Z$4,Parameters!$AA$4))))","v":""},{"$f":"IF(OR($H11=\"no\",$B11=0),\"\",IF($X11<0.5,Parameters!$X$5,IF($X11<1,Parameters!$Y$5,IF($X11<2,Parameters!$Z$5,Parameters!$AA$5))))","v":""},{"$f":"IF(OR($H11=\"no\",$B11=0),\"\",IF($I11=Parameters!$K$15,(2*($M11/2)*SIN(RADIANS(Calculations!$W11/2))),(2*$M11*SIN(RADIANS($W11/2)))))","v":""},"",{"$f":"IF(OR($H11=\"no\",$B11=0),\"\",IF($I11=Parameters!$K$15,$AB11*$N11/2,$AB11*$N11))","v":""},{"$f":"IF(OR($H11=\"no\",$B11=0),\"\",IF($I11=Parameters!$K$15,$AC11*2/Parameters!$AB$4,$AC11/Parameters!$AB$4))","v":""},{"$f":"IF(AND(O11=\"B\",Q11=\"calc\"),V11,IF(AND(O11=\"C\",Q11=\"calc\"),'Window & Door DATA INPUT'!T17/1000,\"\"))","v":""},{"$f":"IF(AND(O11=\"B\",Q11=\"input\"),'Window & Door DATA INPUT'!AA17,IF(AND(O11=\"C\",Q11=\"input\",P11=\"F\"),'Window & Door DATA INPUT'!V17,IF(AND(O11=\"C\",P11=\"E\"),0,IF(AND(O11=\"D\"),0,IF(AND(B11=1,C11=0),\"\",(Calculations!Q11))))))","v":""},"",{"$f":"IF(OR($H11=\"no\",$C11=0),\"\",IF($I11=Parameters!$K$15,$L11/($M11/2),$L11/$M11))","v":""},{"$f":"IF(OR($H11=\"no\",$C11=0),\"\",IF($AH11<0.5,Parameters!$X$4,IF($AH11<1,Parameters!$Y$4,IF($AH11<2,Parameters!$Z$4,Parameters!$AA$4))))","v":""},{"$f":"IF(OR($H11=\"no\",$C11=0),\"\",IF($AH11<0.5,Parameters!$X$5,IF($AH11<1,Parameters!$Y$5,IF($AH11<2,Parameters!$Z$5,Parameters!$AA$5))))","v":""},{"$f":"IF(OR($H11=\"no\",$C11=0),\"\",IF($I11=Parameters!$K$15,(2*($M11/2)*SIN(RADIANS(Calculations!$AG11/2))),(2*$M11*SIN(RADIANS($AG11/2)))))","v":""},"",{"$f":"IF(OR($H11=\"no\",$C11=0),\"\",IF($I11=Parameters!$K$15,$AL11*$N11/2,$AL11*$N11))","v":""},{"$f":"IF(OR($H11=\"no\",$C11=0),\"\",IF($I11=Parameters!$K$15,$AM11*2/Parameters!$AB$4,$AM11/Parameters!$AB$4))","v":""},null,{"$f":"Parameters!D11","v":"Family"},{"v":0,"d":"0.00"},{"v":0,"d":"0.00"}," ",{"v":0,"d":"0.00"}," ",{"$nulls":8},"m2","% floor area",{"$nulls":3},{"$f":"'Window & Door DATA INPUT'!H17","v":0},""]
[null,{"$f":"IF('Window & Door DATA INPUT'!B18>1,1,0)","v":0},{"$f":"IF(AND(B12=1,OR(D12=Parameters!$D$17, D12=Parameters!$D$18,D12=Parameters!$D$19,D12=Parameters!$D$20,D12=Parameters!$D$21,D12=Parameters!$D$22, D12=Parameters!$D$23, D12=Parameters!$D$24)),1,0)","v":0},{"$f":"IF('Window & Door DATA INPUT'!B18=\"\",\"\",'Window & Door DATA INPUT'!B18)","v":""},{"$f":"IF('Window & Door DATA INPUT'!D18=\"\",\"\",'Window & Door DATA INPUT'!D18)","v":""},{"$f":"IF(B12=1,'Window & Door DATA INPUT'!H18&RESULTS!$H$5,\"\")","v":""},{"$f":"IF(B12=1,VLOOKUP(F12,Parameters!$H$4:$I$20,2,FALSE),\"\")","v":""},{"$f":"IF(OR('Window & Door DATA INPUT'!J18=Parameters!$K$4,'Window & Door DATA INPUT'!J18=Parameters!$K$11),\"No\",IF('Window & Door DATA INPUT'!K18=\"\",\"\",'Window & Door DATA INPUT'!K18))","v":""},{"$f":"IF('Window & Door DATA INPUT'!J18=\"\",\"\",'Window & Door DATA INPUT'!J18)","v":""},{"$f":"IF('Window & Door DATA INPUT'!L18=Parameters!$O$5,'Window & Door DATA INPUT'!O18,IF(B12=1,('Window & Door DATA INPUT'!N18*'Window & Door DATA INPUT'!M18)/1000000,\"\"))","v":""},{"$f":"IF('Window & Door DATA INPUT'!J18=\"\",\"\",VLOOKUP('Window & Door DATA INPUT'!J18,Parameters!$K$4:$L$16,2,FALSE))","v":""},{"$f":"IF($H12=\"yes\",IF($K12=\"Y\",'Window & Door DATA INPUT'!Q18/1000,IF($K12=\"N\",'Window & Door DATA INPUT'!P18/1000)),\"\")","v":""},{"$f":"IF($H12=\"yes\",IF($K12=\"Y\",'Window & Door DATA INPUT'!P18/1000,IF($K12=\"N\",'Window & Door DATA INPUT'!Q18/1000)),\"\")","v":""},"",{"$f":"IF(AND(B12=1,C12=0,H12=\"yes\"),\"A\",IF(AND(C12=1,H12=\"yes\",'Window & Door DATA INPUT'!R18=\"no\"),\"B\",IF(AND(C12=1,H12=\"yes\",'Window & Door DATA INPUT'!R18=\"yes\",'Window & Door DATA INPUT'!S18=\"yes\"),\"C\",IF(AND(C12=1,H12=\"yes\",'Window & Door DATA INPUT'!R18=\"yes\",'Window & Door DATA INPUT'!S18=\"no\"),\"D\",\"\"))))","v":""},{"$f":"IF(AND(C12=1,H12=\"yes\",OR(I12=Parameters!$K$12,I12=Parameters!$K$13,I12=Parameters!$K$14)),\"E\",IF(AND(C12=1,H12=\"yes\",NOT(OR(I12=Parameters!$K$12,I12=Parameters!$K$13,I12=Parameters!$K$14))),\"F\",\"\"))","v":""},{"$f":"IF(AND(B12=1,H12=\"yes\"),VLOOKUP(I12,Parameters!$K$4:$M$16,3,FALSE),\"\")","v":""},{"$f":"IF(AND(OR(O12=\"A\",O12=\"B\",O12=\"d\"),Q12=\"input\"),'Window & Door DATA INPUT'!AA18,IF(AND(O12=\"C\",Q12=\"input\"),'Window & Door DATA INPUT'!W18,Calculations!Q12))","v":""},{"$f":"IF('Window & Door DATA INPUT'!X18=\"Yes\",'Window & Door DATA INPUT'!Y18/1000,IF(B12=1,\"N/A\",\"\"))","v":""},{"$f":"IF(Q12=\"calc\",IF(O12=\"c\",'Window & Door DATA INPUT'!U18/1000,(Parameters!$S$4-'Window & Door DATA INPUT'!Z18+Parameters!$Q$4)/1000),\"\")","v":""},"","","",{"$f":"IF(OR($H12=\"no\",$B12=0),\"\",IF($I12=Parameters!$K$15,$L12/($M12/2),$L12/$M12))","v":""},{"$f":"IF(OR($H12=\"no\",$B12=0),\"\",IF($X12<0.5,Parameters!$X$4,IF($X12<1,Parameters!$Y$4,IF($X12<2,Parameters!$Z$4,Parameters!$AA$4))))","v":""},{"$f":"IF(OR($H12=\"no\",$B12=0),\"\",IF($X12<0.5,Parameters!$X$5,IF($X12<1,Parameters!$Y$5,IF($X12<2,Parameters!$Z$5,Parameters!$AA$5))))","v":""},{"$f":"IF(OR($H12=\"no\",$B12=0),\"\",IF($I12=Parameters!$K$15,(2*($M12/2)*SIN(RADIANS(Calculations!$W12/2))),(2*$M12*SIN(RADIANS($W12/2)))))","v":""},"",{"$f":"IF(OR($H12=\"no\",$B12=0),\"\",IF($I12=Parameters!$K$15,$AB12*$N12/2,$AB12*$N12))","v":""},{"$f":"IF(OR($H12=\"no\",$B12=0),\"\",IF($I12=Parameters!$K$15,$AC12*2/Parameters!$AB$4,$AC12/Parameters!$AB$4))","v":""},{"$f":"IF(AND(O12=\"B\",Q12=\"calc\"),V12,IF(AND(O12=\"C\",Q12=\"calc\"),'Window & Door DATA INPUT'!T18/1000,\"\"))","v":""},{"$f":"IF(AND(O12=\"B\",Q12=\"input\"),'Window & Door DATA INPUT'!AA18,IF(AND(O12=\"C\",Q12=\"input\",P12=\"F\"),'Window & Door DATA INPUT'!V18,IF(AND(O12=\"C\",P12=\"E\"),0,IF(AND(O12=\"D\"),0,IF(AND(B12=1,C12=0),\"\",(Calculations!Q12))))))","v":""},"",{"$f":"IF(OR($H12=\"no\",$C12=0),\"\",IF($I12=Parameters!$K$15,$L12/($M12/2),$L12/$M12))","v":""},{"$f":"IF(OR($H12=\"no\",$C12=0),\"\",IF($AH12<0.5,Parameters!$X$4,IF($AH12<1,Parameters!$Y$4,IF($AH12<2,Parameters!$Z$4,Parameters!$AA$4))))","v":""},{"$f":"IF(OR($H12=\"no\",$C12=0),\"\",IF($AH12<0.5,Parameters!$X$5,IF($AH12<1,Parameters!$Y$5,IF($AH12<2,Parameters!$Z$5,Parameters!$AA$5))))","v":""},{"$f":"IF(OR($H12=\"no\",$C12=0),\"\",IF($I12=Parameters!$K$15,(2*($M12/2)*SIN(RADIANS(Calculations!$AG12/2))),(2*$M12*SIN(RADIANS($AG12/2)))))","v":""},"",{"$f":"IF(OR($H12=\"no\",$C12=0),\"\",IF($I12=Parameters!$K$15,$AL12*$N12/2,$AL12*$N12))","v":""},{"$f":"IF(OR($H12=\"no\",$C12=0),\"\",IF($I12=Parameters!$K$15,$AM12*2/Parameters!$AB$4,$AM12/Parameters!$AB$4))","v":""},null,{"$f":"Parameters!D12","v":"Family/ Dining"},{"v":0,"d":"0.00"},{"v":0,"d":"0.00"}," ",{"v":0,"d":"0.00"}," ",{"$nulls":4},"Max glazed room area",{"$f":"MAX(AR4:AR34)","v":{"v":0,"d":"0.00"}},null,"Total glazed area",{"$f":"AR37","v":{"v":0,"d":"0.00"}},{"$f":"AS37*100","v":{"$error":"#VALUE!"}},{"$nulls":3},{"$f":"'Window & Door DATA INPUT'!H18","v":0},""]
[null,{"$f":"IF('Window & Door DATA INPUT'!B19>1,1,0)","v":0},{"$f":"IF(AND(B13=1,OR(D13=Parameters!$D$17, D13=Parameters!$D$18,D13=Parameters!$D$19,D13=Parameters!$D$20,D13=Parameters!$D$21,D13=Parameters!$D$22, D13=Parameters!$D$23, D13=Parameters!$D$24)),1,0)","v":0},{"$f":"IF('Window & Door DATA INPUT'!B19=\"\",\"\",'Window & Door DATA INPUT'!B19)","v":""},{"$f":"IF('Window & Door DATA INPUT'!D19=\"\",\"\",'Window & Door DATA INPUT'!D19)","v":""},{"$f":"IF(B13=1,'Window & Door DATA INPUT'!H19&RESULTS!$H$5,\"\")","v":""},{"$f":"IF(B13=1,VLOOKUP(F13,Parameters!$H$4:$I$20,2,FALSE),\"\")","v":""},{"$f":"IF(OR('Window & Door DATA INPUT'!J19=Parameters!$K$4,'Window & Door DATA INPUT'!J19=Parameters!$K$11),\"No\",IF('Window & Door DATA INPUT'!K19=\"\",\"\",'Window & Door DATA INPUT'!K19))","v":""},{"$f":"IF('Window & Door DATA INPUT'!J19=\"\",\"\",'Window & Door DATA INPUT'!J19)","v":""},{"$f":"IF('Window & Door DATA INPUT'!L19=Parameters!$O$5,'Window & Door DATA INPUT'!O19,IF(B13=1,('Window & Door DATA INPUT'!N19*'Window & Door DATA INPUT'!M19)/1000000,\"\"))","v":""},{"$f":"IF('Window & Door DATA INPUT'!J19=\"\",\"\",VLOOKUP('Window & Door DATA INPUT'!J19,Parameters!$K$4:$L$16,2,FALSE))","v":""},{"$f":"IF($H13=\"yes\",IF($K13=\"Y\",'Window & Door DATA INPUT'!Q19/1000,IF($K13=\"N\",'Window & Door DATA INPUT'!P19/1000)),\"\")","v":""},{"$f":"IF($H13=\"yes\",IF($K13=\"Y\",'Window & Door DATA INPUT'!P19/1000,IF($K13=\"N\",'Window & Door DATA INPUT'!Q19/1000)),\"\")","v":""},"",{"$f":"IF(AND(B13=1,C13=0,H13=\"yes\"),\"A\",IF(AND(C13=1,H13=\"yes\",'Window & Door DATA INPUT'!R19=\"no\"),\"B\",IF(AND(C13=1,H13=\"yes\",'Window & Door DATA INPUT'!R19=\"yes\",'Window & Door DATA INPUT'!S19=\"yes\"),\"C\",IF(AND(C13=1,H13=\"yes\",'Window & Door DATA INPUT'!R19=\"yes\",'Window & Door DATA INPUT'!S19=\"no\"),\"D\",\"\"))))","v":""},{"$f":"IF(AND(C13=1,H13=\"yes\",OR(I13=Parameters!$K$12,I13=Parameters!$K$13,I13=Parameters!$K$14)),\"E\",IF(AND(C13=1,H13=\"yes\",NOT(OR(I13=Parameters!$K$12,I13=Parameters!$K$13,I13=Parameters!$K$14))),\"F\",\"\"))","v":""},{"$f":"IF(AND(B13=1,H13=\"yes\"),VLOOKUP(I13,Parameters!$K$4:$M$16,3,FALSE),\"\")","v":""},{"$f":"IF(AND(OR(O13=\"A\",O13=\"B\",O13=\"d\"),Q13=\"input\"),'Window & Door DATA INPUT'!AA19,IF(AND(O13=\"C\",Q13=\"input\"),'Window & Door DATA INPUT'!W19,Calculations!Q13))","v":""},{"$f":"IF('Window & Door DATA INPUT'!X19=\"Yes\",'Window & Door DATA INPUT'!Y19/1000,IF(B13=1,\"N/A\",\"\"))","v":""},{"$f":"IF(Q13=\"calc\",IF(O13=\"c\",'Window & Door DATA INPUT'!U19/1000,(Parameters!$S$4-'Window & Door DATA INPUT'!Z19+Parameters!$Q$4)/1000),\"\")","v":""},"","","",{"$f":"IF(OR($H13=\"no\",$B13=0),\"\",IF($I13=Parameters!$K$15,$L13/($M13/2),$L13/$M13))","v":""},{"$f":"IF(OR($H13=\"no\",$B13=0),\"\",IF($X13<0.5,Parameters!$X$4,IF($X13<1,Parameters!$Y$4,IF($X13<2,Parameters!$Z$4,Parameters!$AA$4))))","v":""},{"$f":"IF(OR($H13=\"no\",$B13=0),\"\",IF($X13<0.5,Parameters!$X$5,IF($X13<1,Parameters!$Y$5,IF($X13<2,Parameters!$Z$5,Parameters!$AA$5))))","v":""},{"$f":"IF(OR($H13=\"no\",$B13=0),\"\",IF($I13=Parameters!$K$15,(2*($M13/2)*SIN(RADIANS(Calculations!$W13/2))),(2*$M13*SIN(RADIANS($W13/2)))))","v":""},"",{"$f":"IF(OR($H13=\"no\",$B13=0),\"\",IF($I13=Parameters!$K$15,$AB13*$N13/2,$AB13*$N13))","v":""},{"$f":"IF(OR($H13=\"no\",$B13=0),\"\",IF($I13=Parameters!$K$15,$AC13*2/Parameters!$AB$4,$AC13/Parameters!$AB$4))","v":""},{"$f":"IF(AND(O13=\"B\",Q13=\"calc\"),V13,IF(AND(O13=\"C\",Q13=\"calc\"),'Window & Door DATA INPUT'!T19/1000,\"\"))","v":""},{"$f":"IF(AND(O13=\"B\",Q13=\"input\"),'Window & Door DATA INPUT'!AA19,IF(AND(O13=\"C\",Q13=\"input\",P13=\"F\"),'Window & Door DATA INPUT'!V19,IF(AND(O13=\"C\",P13=\"E\"),0,IF(AND(O13=\"D\"),0,IF(AND(B13=1,C13=0),\"\",(Calculations!Q13))))))","v":""},"",{"$f":"IF(OR($H13=\"no\",$C13=0),\"\",IF($I13=Parameters!$K$15,$L13/($M13/2),$L13/$M13))","v":""},{"$f":"IF(OR($H13=\"no\",$C13=0),\"\",IF($AH13<0.5,Parameters!$X$4,IF($AH13<1,Parameters!$Y$4,IF($AH13<2,Parameters!$Z$4,Parameters!$AA$4))))","v":""},{"$f":"IF(OR($H13=\"no\",$C13=0),\"\",IF($AH13<0.5,Parameters!$X$5,IF($AH13<1,Parameters!$Y$5,IF($AH13<2,Parameters!$Z$5,Parameters!$AA$5))))","v":""},{"$f":"IF(OR($H13=\"no\",$C13=0),\"\",IF($I13=Parameters!$K$15,(2*($M13/2)*SIN(RADIANS(Calculations!$AG13/2))),(2*$M13*SIN(RADIANS($AG13/2)))))","v":""},"",{"$f":"IF(OR($H13=\"no\",$C13=0),\"\",IF($I13=Parameters!$K$15,$AL13*$N13/2,$AL13*$N13))","v":""},{"$f":"IF(OR($H13=\"no\",$C13=0),\"\",IF($I13=Parameters!$K$15,$AM13*2/Parameters!$AB$4,$AM13/Parameters!$AB$4))","v":""},null,{"$f":"Parameters!D13","v":"Utility"},{"v":0,"d":"0.00"},{"v":0,"d":"0.00"}," ",{"v":0,"d":"0.00"}," ",{"$nulls":4},"Number of max areas",{"$f":"COUNTIF(AR4:AR34,BA12)","v":31},null,"Total equivalent area",{"$f":"AT37","v":{"v":0,"d":"0.00"}},{"$f":"AW37*100","v":{"$error":"#VALUE!"}},{"$nulls":3},{"$f":"'Window & Door DATA INPUT'!H19","v":0},""]
[null,{"$f":"IF('Window & Door DATA INPUT'!B20>1,1,0)","v":0},{"$f":"IF(AND(B14=1,OR(D14=Parameters!$D$17, D14=Parameters!$D$18,D14=Parameters!$D$19,D14=Parameters!$D$20,D14=Parameters!$D$21,D14=Parameters!$D$22, D14=Parameters!$D$23, D14=Parameters!$D$24)),1,0)","v":0},{"$f":"IF('Window & Door DATA INPUT'!B20=\"\",\"\",'Window & Door DATA INPUT'!B20)","v":""},{"$f":"IF('Window & Door DATA INPUT'!D20=\"\",\"\",'Window & Door DATA INPUT'!D20)","v":""},{"$f":"IF(B14=1,'Window & Door DATA INPUT'!H20&RESULTS!$H$5,\"\")","v":""},{"$f":"IF(B14=1,VLOOKUP(F14,Parameters!$H$4:$I$20,2,FALSE),\"\")","v":""},{"$f":"IF(OR('Window & Door DATA INPUT'!J20=Parameters!$K$4,'Window & Door DATA INPUT'!J20=Parameters!$K$11),\"No\",IF('Window & Door DATA INPUT'!K20=\"\",\"\",'Window & Door DATA INPUT'!K20))","v":""},{"$f":"IF('Window & Door DATA INPUT'!J20=\"\",\"\",'Window & Door DATA INPUT'!J20)","v":""},{"$f":"IF('Window & Door DATA INPUT'!L20=Parameters!$O$5,'Window & Door DATA INPUT'!O20,IF(B14=1,('Window & Door DATA INPUT'!N20*'Window & Door DATA INPUT'!M20)/1000000,\"\"))","v":""},{"$f":"IF('Window & Door DATA INPUT'!J20=\"\",\"\",VLOOKUP('Window & Door DATA INPUT'!J20,Parameters!$K$4:$L$16,2,FALSE))","v":""},{"$f":"IF($H14=\"yes\",IF($K14=\"Y\",'Window & Door DATA INPUT'!Q20/1000,IF($K14=\"N\",'Window & Door DATA INPUT'!P20/1000)),\"\")","v":""},{"$f":"IF($H14=\"yes\",IF($K14=\"Y\",'Window & Door DATA INPUT'!P20/1000,IF($K14=\"N\",'Window & Door DATA INPUT'!Q20/1000)),\"\")","v":""},"",{"$f":"IF(AND(B14=1,C14=0,H14=\"yes\"),\"A\",IF(AND(C14=1,H14=\"yes\",'Window & Door DATA INPUT'!R20=\"no\"),\"B\",IF(AND(C14=1,H14=\"yes\",'Window & Door DATA INPUT'!R20=\"yes\",'Window & Door DATA INPUT'!S20=\"yes\"),\"C\",IF(AND(C14=1,H14=\"yes\",'Window & Door DATA INPUT'!R20=\"yes\",'Window & Door DATA INPUT'!S20=\"no\"),\"D\",\"\"))))","v":""},{"$f":"IF(AND(C14=1,H14=\"yes\",OR(I14=Parameters!$K$12,I14=Parameters!$K$13,I14=Parameters!$K$14)),\"E\",IF(AND(C14=1,H14=\"yes\",NOT(OR(I14=Parameters!$K$12,I14=Parameters!$K$13,I14=Parameters!$K$14))),\"F\",\"\"))","v":""},{"$f":"IF(AND(B14=1,H14=\"yes\"),VLOOKUP(I14,Parameters!$K$4:$M$16,3,FALSE),\"\")","v":""},{"$f":"IF(AND(OR(O14=\"A\",O14=\"B\",O14=\"d\"),Q14=\"input\"),'Window & Door DATA INPUT'!AA20,IF(AND(O14=\"C\",Q14=\"input\"),'Window & Door DATA INPUT'!W20,Calculations!Q14))","v":""},{"$f":"IF('Window & Door DATA INPUT'!X20=\"Yes\",'Window & Door DATA INPUT'!Y20/1000,IF(B14=1,\"N/A\",\"\"))","v":""},{"$f":"IF(Q14=\"calc\",IF(O14=\"c\",'Window & Door DATA INPUT'!U20/1000,(Parameters!$S$4-'Window & Door DATA INPUT'!Z20+Parameters!$Q$4)/1000),\"\")","v":""},"","","",{"$f":"IF(OR($H14=\"no\",$B14=0),\"\",IF($I14=Parameters!$K$15,$L14/($M14/2),$L14/$M14))","v":""},{"$f":"IF(OR($H14=\"no\",$B14=0),\"\",IF($X14<0.5,Parameters!$X$4,IF($X14<1,Parameters!$Y$4,IF($X14<2,Parameters!$Z$4,Parameters!$AA$4))))","v":""},{"$f":"IF(OR($H14=\"no\",$B14=0),\"\",IF($X14<0.5,Parameters!$X$5,IF($X14<1,Parameters!$Y$5,IF($X14<2,Parameters!$Z$5,Parameters!$AA$5))))","v":""},{"$f":"IF(OR($H14=\"no\",$B14=0),\"\",IF($I14=Parameters!$K$15,(2*($M14/2)*SIN(RADIANS(Calculations!$W14/2))),(2*$M14*SIN(RADIANS($W14/2)))))","v":""},"",{"$f":"IF(OR($H14=\"no\",$B14=0),\"\",IF($I14=Parameters!$K$15,$AB14*$N14/2,$AB14*$N14))","v":""},{"$f":"IF(OR($H14=\"no\",$B14=0),\"\",IF($I14=Parameters!$K$15,$AC14*2/Parameters!$AB$4,$AC14/Parameters!$AB$4))","v":""},{"$f":"IF(AND(O14=\"B\",Q14=\"calc\"),V14,IF(AND(O14=\"C\",Q14=\"calc\"),'Window & Door DATA INPUT'!T20/1000,\"\"))","v":""},{"$f":"IF(AND(O14=\"B\",Q14=\"input\"),'Window & Door DATA INPUT'!AA20,IF(AND(O14=\"C\",Q14=\"input\",P14=\"F\"),'Window & Door DATA INPUT'!V20,IF(AND(O14=\"C\",P14=\"E\"),0,IF(AND(O14=\"D\"),0,IF(AND(B14=1,C14=0),\"\",(Calculations!Q14))))))","v":""},"",{"$f":"IF(OR($H14=\"no\",$C14=0),\"\",IF($I14=Parameters!$K$15,$L14/($M14/2),$L14/$M14))","v":""},{"$f":"IF(OR($H14=\"no\",$C14=0),\"\",IF($AH14<0.5,Parameters!$X$4,IF($AH14<1,Parameters!$Y$4,IF($AH14<2,Parameters!$Z$4,Parameters!$AA$4))))","v":""},{"$f":"IF(OR($H14=\"no\",$C14=0),\"\",IF($AH14<0.5,Parameters!$X$5,IF($AH14<1,Parameters!$Y$5,IF($AH14<2,Parameters!$Z$5,Parameters!$AA$5))))","v":""},{"$f":"IF(OR($H14=\"no\",$C14=0),\"\",IF($I14=Parameters!$K$15,(2*($M14/2)*SIN(RADIANS(Calculations!$AG14/2))),(2*$M14*SIN(RADIANS($AG14/2)))))","v":""},"",{"$f":"IF(OR($H14=\"no\",$C14=0),\"\",IF($I14=Parameters!$K$15,$AL14*$N14/2,$AL14*$N14))","v":""},{"$f":"IF(OR($H14=\"no\",$C14=0),\"\",IF($I14=Parameters!$K$15,$AM14*2/Parameters!$AB$4,$AM14/Parameters!$AB$4))","v":""},null,{"$f":"Parameters!D14","v":"WC"},{"v":0,"d":"0.00"},{"v":0,"d":"0.00"}," ",{"v":0,"d":"0.00"}," ",{"$nulls":13},{"$f":"'Window & Door DATA INPUT'!H20","v":0},""]
[null,{"$f":"IF('Window & Door DATA INPUT'!B21>1,1,0)","v":0},{"$f":"IF(AND(B15=1,OR(D15=Parameters!$D$17, D15=Parameters!$D$18,D15=Parameters!$D$19,D15=Parameters!$D$20,D15=Parameters!$D$21,D15=Parameters!$D$22, D15=Parameters!$D$23, D15=Parameters!$D$24)),1,0)","v":0},{"$f":"IF('Window & Door DATA INPUT'!B21=\"\",\"\",'Window & Door DATA INPUT'!B21)","v":""},{"$f":"IF('Window & Door DATA INPUT'!D21=\"\",\"\",'Window & Door DATA INPUT'!D21)","v":""},{"$f":"IF(B15=1,'Window & Door DATA INPUT'!H21&RESULTS!$H$5,\"\")","v":""},{"$f":"IF(B15=1,VLOOKUP(F15,Parameters!$H$4:$I$20,2,FALSE),\"\")","v":""},{"$f":"IF(OR('Window & Door DATA INPUT'!J21=Parameters!$K$4,'Window & Door DATA INPUT'!J21=Parameters!$K$11),\"No\",IF('Window & Door DATA INPUT'!K21=\"\",\"\",'Window & Door DATA INPUT'!K21))","v":""},{"$f":"IF('Window & Door DATA INPUT'!J21=\"\",\"\",'Window & Door DATA INPUT'!J21)","v":""},{"$f":"IF('Window & Door DATA INPUT'!L21=Parameters!$O$5,'Window & Door DATA INPUT'!O21,IF(B15=1,('Window & Door DATA INPUT'!N21*'Window & Door DATA INPUT'!M21)/1000000,\"\"))","v":""},{"$f":"IF('Window & Door DATA INPUT'!J21=\"\",\"\",VLOOKUP('Window & Door DATA INPUT'!J21,Parameters!$K$4:$L$16,2,FALSE))","v":""},{"$f":"IF($H15=\"yes\",IF($K15=\"Y\",'Window & Door DATA INPUT'!Q21/1000,IF($K15=\"N\",'Window & Door DATA INPUT'!P21/1000)),\"\")","v":""},{"$f":"IF($H15=\"yes\",IF($K15=\"Y\",'Window & Door DATA INPUT'!P21/1000,IF($K15=\"N\",'Window & Door DATA INPUT'!Q21/1000)),\"\")","v":""},"",{"$f":"IF(AND(B15=1,C15=0,H15=\"yes\"),\"A\",IF(AND(C15=1,H15=\"yes\",'Window & Door DATA INPUT'!R21=\"no\"),\"B\",IF(AND(C15=1,H15=\"yes\",'Window & Door DATA INPUT'!R21=\"yes\",'Window & Door DATA INPUT'!S21=\"yes\"),\"C\",IF(AND(C15=1,H15=\"yes\",'Window & Door DATA INPUT'!R21=\"yes\",'Window & Door DATA INPUT'!S21=\"no\"),\"D\",\"\"))))","v":""},{"$f":"IF(AND(C15=1,H15=\"yes\",OR(I15=Parameters!$K$12,I15=Parameters!$K$13,I15=Parameters!$K$14)),\"E\",IF(AND(C15=1,H15=\"yes\",NOT(OR(I15=Parameters!$K$12,I15=Parameters!$K$13,I15=Parameters!$K$14))),\"F\",\"\"))","v":""},{"$f":"IF(AND(B15=1,H15=\"yes\"),VLOOKUP(I15,Parameters!$K$4:$M$16,3,FALSE),\"\")","v":""},{"$f":"IF(AND(OR(O15=\"A\",O15=\"B\",O15=\"d\"),Q15=\"input\"),'Window & Door DATA INPUT'!AA21,IF(AND(O15=\"C\",Q15=\"input\"),'Window & Door DATA INPUT'!W21,Calculations!Q15))","v":""},{"$f":"IF('Window & Door DATA INPUT'!X21=\"Yes\",'Window & Door DATA INPUT'!Y21/1000,IF(B15=1,\"N/A\",\"\"))","v":""},{"$f":"IF(Q15=\"calc\",IF(O15=\"c\",'Window & Door DATA INPUT'!U21/1000,(Parameters!$S$4-'Window & Door DATA INPUT'!Z21+Parameters!$Q$4)/1000),\"\")","v":""},"","","",{"$f":"IF(OR($H15=\"no\",$B15=0),\"\",IF($I15=Parameters!$K$15,$L15/($M15/2),$L15/$M15))","v":""},{"$f":"IF(OR($H15=\"no\",$B15=0),\"\",IF($X15<0.5,Parameters!$X$4,IF($X15<1,Parameters!$Y$4,IF($X15<2,Parameters!$Z$4,Parameters!$AA$4))))","v":""},{"$f":"IF(OR($H15=\"no\",$B15=0),\"\",IF($X15<0.5,Parameters!$X$5,IF($X15<1,Parameters!$Y$5,IF($X15<2,Parameters!$Z$5,Parameters!$AA$5))))","v":""},{"$f":"IF(OR($H15=\"no\",$B15=0),\"\",IF($I15=Parameters!$K$15,(2*($M15/2)*SIN(RADIANS(Calculations!$W15/2))),(2*$M15*SIN(RADIANS($W15/2)))))","v":""},"",{"$f":"IF(OR($H15=\"no\",$B15=0),\"\",IF($I15=Parameters!$K$15,$AB15*$N15/2,$AB15*$N15))","v":""},{"$f":"IF(OR($H15=\"no\",$B15=0),\"\",IF($I15=Parameters!$K$15,$AC15*2/Parameters!$AB$4,$AC15/Parameters!$AB$4))","v":""},{"$f":"IF(AND(O15=\"B\",Q15=\"calc\"),V15,IF(AND(O15=\"C\",Q15=\"calc\"),'Window & Door DATA INPUT'!T21/1000,\"\"))","v":""},{"$f":"IF(AND(O15=\"B\",Q15=\"input\"),'Window & Door DATA INPUT'!AA21,IF(AND(O15=\"C\",Q15=\"input\",P15=\"F\"),'Window & Door DATA INPUT'!V21,IF(AND(O15=\"C\",P15=\"E\"),0,IF(AND(O15=\"D\"),0,IF(AND(B15=1,C15=0),\"\",(Calculations!Q15))))))","v":""},"",{"$f":"IF(OR($H15=\"no\",$C15=0),\"\",IF($I15=Parameters!$K$15,$L15/($M15/2),$L15/$M15))","v":""},{"$f":"IF(OR($H15=\"no\",$C15=0),\"\",IF($AH15<0.5,Parameters!$X$4,IF($AH15<1,Parameters!$Y$4,IF($AH15<2,Parameters!$Z$4,Parameters!$AA$4))))","v":""},{"$f":"IF(OR($H15=\"no\",$C15=0),\"\",IF($AH15<0.5,Parameters!$X$5,IF($AH15<1,Parameters!$Y$5,IF($AH15<2,Parameters!$Z$5,Parameters!$AA$5))))","v":""},{"$f":"IF(OR($H15=\"no\",$C15=0),\"\",IF($I15=Parameters!$K$15,(2*($M15/2)*SIN(RADIANS(Calculations!$AG15/2))),(2*$M15*SIN(RADIANS($AG15/2)))))","v":""},"",{"$f":"IF(OR($H15=\"no\",$C15=0),\"\",IF($I15=Parameters!$K$15,$AL15*$N15/2,$AL15*$N15))","v":""},{"$f":"IF(OR($H15=\"no\",$C15=0),\"\",IF($I15=Parameters!$K$15,$AM15*2/Parameters!$AB$4,$AM15/Parameters!$AB$4))","v":""},null,{"$f":"Parameters!D15","v":"Landing"},{"v":0,"d":"0.00"},{"v":0,"d":"0.00"}," ",{"v":0,"d":"0.00"}," ",{"$nulls":7},"Most glazed room:",{"$nulls":5},{"$f":"'Window & Door DATA INPUT'!H21","v":0},""]
[null,{"$f":"IF('Window & Door DATA INPUT'!B22>1,1,0)","v":0},{"$f":"IF(AND(B16=1,OR(D16=Parameters!$D$17, D16=Parameters!$D$18,D16=Parameters!$D$19,D16=Parameters!$D$20,D16=Parameters!$D$21,D16=Parameters!$D$22, D16=Parameters!$D$23, D16=Parameters!$D$24)),1,0)","v":0},{"$f":"IF('Window & Door DATA INPUT'!B22=\"\",\"\",'Window & Door DATA INPUT'!B22)","v":""},{"$f":"IF('Window & Door DATA INPUT'!D22=\"\",\"\",'Window & Door DATA INPUT'!D22)","v":""},{"$f":"IF(B16=1,'Window & Door DATA INPUT'!H22&RESULTS!$H$5,\"\")","v":""},{"$f":"IF(B16=1,VLOOKUP(F16,Parameters!$H$4:$I$20,2,FALSE),\"\")","v":""},{"$f":"IF(OR('Window & Door DATA INPUT'!J22=Parameters!$K$4,'Window & Door DATA INPUT'!J22=Parameters!$K$11),\"No\",IF('Window & Door DATA INPUT'!K22=\"\",\"\",'Window & Door DATA INPUT'!K22))","v":""},{"$f":"IF('Window & Door DATA INPUT'!J22=\"\",\"\",'Window & Door DATA INPUT'!J22)","v":""},{"$f":"IF('Window & Door DATA INPUT'!L22=Parameters!$O$5,'Window & Door DATA INPUT'!O22,IF(B16=1,('Window & Door DATA INPUT'!N22*'Window & Door DATA INPUT'!M22)/1000000,\"\"))","v":""},{"$f":"IF('Window & Door DATA INPUT'!J22=\"\",\"\",VLOOKUP('Window & Door DATA INPUT'!J22,Parameters!$K$4:$L$16,2,FALSE))","v":""},{"$f":"IF($H16=\"yes\",IF($K16=\"Y\",'Window & Door DATA INPUT'!Q22/1000,IF($K16=\"N\",'Window & Door DATA INPUT'!P22/1000)),\"\")","v":""},{"$f":"IF($H16=\"yes\",IF($K16=\"Y\",'Window & Door DATA INPUT'!P22/1000,IF($K16=\"N\",'Window & Door DATA INPUT'!Q22/1000)),\"\")","v":""},"",{"$f":"IF(AND(B16=1,C16=0,H16=\"yes\"),\"A\",IF(AND(C16=1,H16=\"yes\",'Window & Door DATA INPUT'!R22=\"no\"),\"B\",IF(AND(C16=1,H16=\"yes\",'Window & Door DATA INPUT'!R22=\"yes\",'Window & Door DATA INPUT'!S22=\"yes\"),\"C\",IF(AND(C16=1,H16=\"yes\",'Window & Door DATA INPUT'!R22=\"yes\",'Window & Door DATA INPUT'!S22=\"no\"),\"D\",\"\"))))","v":""},{"$f":"IF(AND(C16=1,H16=\"yes\",OR(I16=Parameters!$K$12,I16=Parameters!$K$13,I16=Parameters!$K$14)),\"E\",IF(AND(C16=1,H16=\"yes\",NOT(OR(I16=Parameters!$K$12,I16=Parameters!$K$13,I16=Parameters!$K$14))),\"F\",\"\"))","v":""},{"$f":"IF(AND(B16=1,H16=\"yes\"),VLOOKUP(I16,Parameters!$K$4:$M$16,3,FALSE),\"\")","v":""},{"$f":"IF(AND(OR(O16=\"A\",O16=\"B\",O16=\"d\"),Q16=\"input\"),'Window & Door DATA INPUT'!AA22,IF(AND(O16=\"C\",Q16=\"input\"),'Window & Door DATA INPUT'!W22,Calculations!Q16))","v":""},{"$f":"IF('Window & Door DATA INPUT'!X22=\"Yes\",'Window & Door DATA INPUT'!Y22/1000,IF(B16=1,\"N/A\",\"\"))","v":""},{"$f":"IF(Q16=\"calc\",IF(O16=\"c\",'Window & Door DATA INPUT'!U22/1000,(Parameters!$S$4-'Window & Door DATA INPUT'!Z22+Parameters!$Q$4)/1000),\"\")","v":""},"","","",{"$f":"IF(OR($H16=\"no\",$B16=0),\"\",IF($I16=Parameters!$K$15,$L16/($M16/2),$L16/$M16))","v":""},{"$f":"IF(OR($H16=\"no\",$B16=0),\"\",IF($X16<0.5,Parameters!$X$4,IF($X16<1,Parameters!$Y$4,IF($X16<2,Parameters!$Z$4,Parameters!$AA$4))))","v":""},{"$f":"IF(OR($H16=\"no\",$B16=0),\"\",IF($X16<0.5,Parameters!$X$5,IF($X16<1,Parameters!$Y$5,IF($X16<2,Parameters!$Z$5,Parameters!$AA$5))))","v":""},{"$f":"IF(OR($H16=\"no\",$B16=0),\"\",IF($I16=Parameters!$K$15,(2*($M16/2)*SIN(RADIANS(Calculations!$W16/2))),(2*$M16*SIN(RADIANS($W16/2)))))","v":""},"",{"$f":"IF(OR($H16=\"no\",$B16=0),\"\",IF($I16=Parameters!$K$15,$AB16*$N16/2,$AB16*$N16))","v":""},{"$f":"IF(OR($H16=\"no\",$B16=0),\"\",IF($I16=Parameters!$K$15,$AC16*2/Parameters!$AB$4,$AC16/Parameters!$AB$4))","v":""},{"$f":"IF(AND(O16=\"B\",Q16=\"calc\"),V16,IF(AND(O16=\"C\",Q16=\"calc\"),'Window & Door DATA INPUT'!T22/1000,\"\"))","v":""},{"$f":"IF(AND(O16=\"B\",Q16=\"input\"),'Window & Door DATA INPUT'!AA22,IF(AND(O16=\"C\",Q16=\"input\",P16=\"F\"),'Window & Door DATA INPUT'!V22,IF(AND(O16=\"C\",P16=\"E\"),0,IF(AND(O16=\"D\"),0,IF(AND(B16=1,C16=0),\"\",(Calculations!Q16))))))","v":""},"",{"$f":"IF(OR($H16=\"no\",$C16=0),\"\",IF($I16=Parameters!$K$15,$L16/($M16/2),$L16/$M16))","v":""},{"$f":"IF(OR($H16=\"no\",$C16=0),\"\",IF($AH16<0.5,Parameters!$X$4,IF($AH16<1,Parameters!$Y$4,IF($AH16<2,Parameters!$Z$4,Parameters!$AA$4))))","v":""},{"$f":"IF(OR($H16=\"no\",$C16=0),\"\",IF($AH16<0.5,Parameters!$X$5,IF($AH16<1,Parameters!$Y$5,IF($AH16<2,Parameters!$Z$5,Parameters!$AA$5))))","v":""},{"$f":"IF(OR($H16=\"no\",$C16=0),\"\",IF($I16=Parameters!$K$15,(2*($M16/2)*SIN(RADIANS(Calculations!$AG16/2))),(2*$M16*SIN(RADIANS($AG16/2)))))","v":""},"",{"$f":"IF(OR($H16=\"no\",$C16=0),\"\",IF($I16=Parameters!$K$15,$AL16*$N16/2,$AL16*$N16))","v":""},{"$f":"IF(OR($H16=\"no\",$C16=0),\"\",IF($I16=Parameters!$K$15,$AM16*2/Parameters!$AB$4,$AM16/Parameters!$AB$4))","v":""},null,{"$f":"Parameters!D16","v":"Study"},{"v":0,"d":"0.00"},{"v":0,"d":"0.00"}," ",{"v":0,"d":"0.00"}," ",{"$nulls":7},{"$f":"INDEX(AP4:AU34,MATCH(MAX(AU4:AU34),AS4:AS34,0),1)","v":{"$error":"#N/A"}},"m2","% floor area",{"$nulls":3},{"$f":"'Window & Door DATA INPUT'!H22","v":0},""]
[null,{"$f":"IF('Window & Door DATA INPUT'!B23>1,1,0)","v":0},{"$f":"IF(AND(B17=1,OR(D17=Parameters!$D$17, D17=Parameters!$D$18,D17=Parameters!$D$19,D17=Parameters!$D$20,D17=Parameters!$D$21,D17=Parameters!$D$22, D17=Parameters!$D$23, D17=Parameters!$D$24)),1,0)","v":0},{"$f":"IF('Window & Door DATA INPUT'!B23=\"\",\"\",'Window & Door DATA INPUT'!B23)","v":""},{"$f":"IF('Window & Door DATA INPUT'!D23=\"\",\"\",'Window & Door DATA INPUT'!D23)","v":""},{"$f":"IF(B17=1,'Window & Door DATA INPUT'!H23&RESULTS!$H$5,\"\")","v":""},{"$f":"IF(B17=1,VLOOKUP(F17,Parameters!$H$4:$I$20,2,FALSE),\"\")","v":""},{"$f":"IF(OR('Window & Door DATA INPUT'!J23=Parameters!$K$4,'Window & Door DATA INPUT'!J23=Parameters!$K$11),\"No\",IF('Window & Door DATA INPUT'!K23=\"\",\"\",'Window & Door DATA INPUT'!K23))","v":""},{"$f":"IF('Window & Door DATA INPUT'!J23=\"\",\"\",'Window & Door DATA INPUT'!J23)","v":""},{"$f":"IF('Window & Door DATA INPUT'!L23=Parameters!$O$5,'Window & Door DATA INPUT'!O23,IF(B17=1,('Window & Door DATA INPUT'!N23*'Window & Door DATA INPUT'!M23)/1000000,\"\"))","v":""},{"$f":"IF('Window & Door DATA INPUT'!J23=\"\",\"\",VLOOKUP('Window & Door DATA INPUT'!J23,Parameters!$K$4:$L$16,2,FALSE))","v":""},{"$f":"IF($H17=\"yes\",IF($K17=\"Y\",'Window & Door DATA INPUT'!Q23/1000,IF($K17=\"N\",'Window & Door DATA INPUT'!P23/1000)),\"\")","v":""},{"$f":"IF($H17=\"yes\",IF($K17=\"Y\",'Window & Door DATA INPUT'!P23/1000,IF($K17=\"N\",'Window & Door DATA INPUT'!Q23/1000)),\"\")","v":""},"",{"$f":"IF(AND(B17=1,C17=0,H17=\"yes\"),\"A\",IF(AND(C17=1,H17=\"yes\",'Window & Door DATA INPUT'!R23=\"no\"),\"B\",IF(AND(C17=1,H17=\"yes\",'Window & Door DATA INPUT'!R23=\"yes\",'Window & Door DATA INPUT'!S23=\"yes\"),\"C\",IF(AND(C17=1,H17=\"yes\",'Window & Door DATA INPUT'!R23=\"yes\",'Window & Door DATA INPUT'!S23=\"no\"),\"D\",\"\"))))","v":""},{"$f":"IF(AND(C17=1,H17=\"yes\",OR(I17=Parameters!$K$12,I17=Parameters!$K$13,I17=Parameters!$K$14)),\"E\",IF(AND(C17=1,H17=\"yes\",NOT(OR(I17=Parameters!$K$12,I17=Parameters!$K$13,I17=Parameters!$K$14))),\"F\",\"\"))","v":""},{"$f":"IF(AND(B17=1,H17=\"yes\"),VLOOKUP(I17,Parameters!$K$4:$M$16,3,FALSE),\"\")","v":""},{"$f":"IF(AND(OR(O17=\"A\",O17=\"B\",O17=\"d\"),Q17=\"input\"),'Window & Door DATA INPUT'!AA23,IF(AND(O17=\"C\",Q17=\"input\"),'Window & Door DATA INPUT'!W23,Calculations!Q17))","v":""},{"$f":"IF('Window & Door DATA INPUT'!X23=\"Yes\",'Window & Door DATA INPUT'!Y23/1000,IF(B17=1,\"N/A\",\"\"))","v":""},{"$f":"IF(Q17=\"calc\",IF(O17=\"c\",'Window & Door DATA INPUT'!U23/1000,(Parameters!$S$4-'Window & Door DATA INPUT'!Z23+Parameters!$Q$4)/1000),\"\")","v":""},"","","",{"$f":"IF(OR($H17=\"no\",$B17=0),\"\",IF($I17=Parameters!$K$15,$L17/($M17/2),$L17/$M17))","v":""},{"$f":"IF(OR($H17=\"no\",$B17=0),\"\",IF($X17<0.5,Parameters!$X$4,IF($X17<1,Parameters!$Y$4,IF($X17<2,Parameters!$Z$4,Parameters!$AA$4))))","v":""},{"$f":"IF(OR($H17=\"no\",$B17=0),\"\",IF($X17<0.5,Parameters!$X$5,IF($X17<1,Parameters!$Y$5,IF($X17<2,Parameters!$Z$5,Parameters!$AA$5))))","v":""},{"$f":"IF(OR($H17=\"no\",$B17=0),\"\",IF($I17=Parameters!$K$15,(2*($M17/2)*SIN(RADIANS(Calculations!$W17/2))),(2*$M17*SIN(RADIANS($W17/2)))))","v":""},"",{"$f":"IF(OR($H17=\"no\",$B17=0),\"\",IF($I17=Parameters!$K$15,$AB17*$N17/2,$AB17*$N17))","v":""},{"$f":"IF(OR($H17=\"no\",$B17=0),\"\",IF($I17=Parameters!$K$15,$AC17*2/Parameters!$AB$4,$AC17/Parameters!$AB$4))","v":""},{"$f":"IF(AND(O17=\"B\",Q17=\"calc\"),V17,IF(AND(O17=\"C\",Q17=\"calc\"),'Window & Door DATA INPUT'!T23/1000,\"\"))","v":""},{"$f":"IF(AND(O17=\"B\",Q17=\"input\"),'Window & Door DATA INPUT'!AA23,IF(AND(O17=\"C\",Q17=\"input\",P17=\"F\"),'Window & Door DATA INPUT'!V23,IF(AND(O17=\"C\",P17=\"E\"),0,IF(AND(O17=\"D\"),0,IF(AND(B17=1,C17=0),\"\",(Calculations!Q17))))))","v":""},"",{"$f":"IF(OR($H17=\"no\",$C17=0),\"\",IF($I17=Parameters!$K$15,$L17/($M17/2),$L17/$M17))","v":""},{"$f":"IF(OR($H17=\"no\",$C17=0),\"\",IF($AH17<0.5,Parameters!$X$4,IF($AH17<1,Parameters!$Y$4,IF($AH17<2,Parameters!$Z$4,Parameters!$AA$4))))","v":""},{"$f":"IF(OR($H17=\"no\",$C17=0),\"\",IF($AH17<0.5,Parameters!$X$5,IF($AH17<1,Parameters!$Y$5,IF($AH17<2,Parameters!$Z$5,Parameters!$AA$5))))","v":""},{"$f":"IF(OR($H17=\"no\",$C17=0),\"\",IF($I17=Parameters!$K$15,(2*($M17/2)*SIN(RADIANS(Calculations!$AG17/2))),(2*$M17*SIN(RADIANS($AG17/2)))))","v":""},"",{"$f":"IF(OR($H17=\"no\",$C17=0),\"\",IF($I17=Parameters!$K$15,$AL17*$N17/2,$AL17*$N17))","v":""},{"$f":"IF(OR($H17=\"no\",$C17=0),\"\",IF($I17=Parameters!$K$15,$AM17*2/Parameters!$AB$4,$AM17/Parameters!$AB$4))","v":""},null,{"$f":"Parameters!D17","v":"Bedroom 1"},{"v":0,"d":"0.00"},{"v":0,"d":"0.00"}," ",{"v":0,"d":"0.00"}," ",{"$f":"SUMIFS($AN$4:$AN$143,$D$4:$D$143,AP17)","v":{"v":0,"d":"0.00"}},{"$f":"IF(AQ17>0,AV17/AQ17,\" \")","v":" "},{"$f":"IF(AQ17>0,1,0)","v":0},{"$nulls":4},"Area glazing",{"$f":"VLOOKUP($BC$16,$AP$4:$AR$34,3,FALSE)","v":{"$error":"#N/A"}},{"$f":"VLOOKUP($BC$16,$AP$4:$AS$34,4,FALSE)*100","v":{"$error":"#N/A"}},{"$nulls":3},{"$f":"'Window & Door DATA INPUT'!H23","v":0},""]
[null,{"$f":"IF('Window & Door DATA INPUT'!B24>1,1,0)","v":0},{"$f":"IF(AND(B18=1,OR(D18=Parameters!$D$17, D18=Parameters!$D$18,D18=Parameters!$D$19,D18=Parameters!$D$20,D18=Parameters!$D$21,D18=Parameters!$D$22, D18=Parameters!$D$23, D18=Parameters!$D$24)),1,0)","v":0},{"$f":"IF('Window & Door DATA INPUT'!B24=\"\",\"\",'Window & Door DATA INPUT'!B24)","v":""},{"$f":"IF('Window & Door DATA INPUT'!D24=\"\",\"\",'Window & Door DATA INPUT'!D24)","v":""},{"$f":"IF(B18=1,'Window & Door DATA INPUT'!H24&RESULTS!$H$5,\"\")","v":""},{"$f":"IF(B18=1,VLOOKUP(F18,Parameters!$H$4:$I$20,2,FALSE),\"\")","v":""},{"$f":"IF(OR('Window & Door DATA INPUT'!J24=Parameters!$K$4,'Window & Door DATA INPUT'!J24=Parameters!$K$11),\"No\",IF('Window & Door DATA INPUT'!K24=\"\",\"\",'Window & Door DATA INPUT'!K24))","v":""},{"$f":"IF('Window & Door DATA INPUT'!J24=\"\",\"\",'Window & Door DATA INPUT'!J24)","v":""},{"$f":"IF('Window & Door DATA INPUT'!L24=Parameters!$O$5,'Window & Door DATA INPUT'!O24,IF(B18=1,('Window & Door DATA INPUT'!N24*'Window & Door DATA INPUT'!M24)/1000000,\"\"))","v":""},{"$f":"IF('Window & Door DATA INPUT'!J24=\"\",\"\",VLOOKUP('Window & Door DATA INPUT'!J24,Parameters!$K$4:$L$16,2,FALSE))","v":""},{"$f":"IF($H18=\"yes\",IF($K18=\"Y\",'Window & Door DATA INPUT'!Q24/1000,IF($K18=\"N\",'Window & Door DATA INPUT'!P24/1000)),\"\")","v":""},{"$f":"IF($H18=\"yes\",IF($K18=\"Y\",'Window & Door DATA INPUT'!P24/1000,IF($K18=\"N\",'Window & Door DATA INPUT'!Q24/1000)),\"\")","v":""},"",{"$f":"IF(AND(B18=1,C18=0,H18=\"yes\"),\"A\",IF(AND(C18=1,H18=\"yes\",'Window & Door DATA INPUT'!R24=\"no\"),\"B\",IF(AND(C18=1,H18=\"yes\",'Window & Door DATA INPUT'!R24=\"yes\",'Window & Door DATA INPUT'!S24=\"yes\"),\"C\",IF(AND(C18=1,H18=\"yes\",'Window & Door DATA INPUT'!R24=\"yes\",'Window & Door DATA INPUT'!S24=\"no\"),\"D\",\"\"))))","v":""},{"$f":"IF(AND(C18=1,H18=\"yes\",OR(I18=Parameters!$K$12,I18=Parameters!$K$13,I18=Parameters!$K$14)),\"E\",IF(AND(C18=1,H18=\"yes\",NOT(OR(I18=Parameters!$K$12,I18=Parameters!$K$13,I18=Parameters!$K$14))),\"F\",\"\"))","v":""},{"$f":"IF(AND(B18=1,H18=\"yes\"),VLOOKUP(I18,Parameters!$K$4:$M$16,3,FALSE),\"\")","v":""},{"$f":"IF(AND(OR(O18=\"A\",O18=\"B\",O18=\"d\"),Q18=\"input\"),'Window & Door DATA INPUT'!AA24,IF(AND(O18=\"C\",Q18=\"input\"),'Window & Door DATA INPUT'!W24,Calculations!Q18))","v":""},{"$f":"IF('Window & Door DATA INPUT'!X24=\"Yes\",'Window & Door DATA INPUT'!Y24/1000,IF(B18=1,\"N/A\",\"\"))","v":""},{"$f":"IF(Q18=\"calc\",IF(O18=\"c\",'Window & Door DATA INPUT'!U24/1000,(Parameters!$S$4-'Window & Door DATA INPUT'!Z24+Parameters!$Q$4)/1000),\"\")","v":""},"","","",{"$f":"IF(OR($H18=\"no\",$B18=0),\"\",IF($I18=Parameters!$K$15,$L18/($M18/2),$L18/$M18))","v":""},{"$f":"IF(OR($H18=\"no\",$B18=0),\"\",IF($X18<0.5,Parameters!$X$4,IF($X18<1,Parameters!$Y$4,IF($X18<2,Parameters!$Z$4,Parameters!$AA$4))))","v":""},{"$f":"IF(OR($H18=\"no\",$B18=0),\"\",IF($X18<0.5,Parameters!$X$5,IF($X18<1,Parameters!$Y$5,IF($X18<2,Parameters!$Z$5,Parameters!$AA$5))))","v":""},{"$f":"IF(OR($H18=\"no\",$B18=0),\"\",IF($I18=Parameters!$K$15,(2*($M18/2)*SIN(RADIANS(Calculations!$W18/2))),(2*$M18*SIN(RADIANS($W18/2)))))","v":""},"",{"$f":"IF(OR($H18=\"no\",$B18=0),\"\",IF($I18=Parameters!$K$15,$AB18*$N18/2,$AB18*$N18))","v":""},{"$f":"IF(OR($H18=\"no\",$B18=0),\"\",IF($I18=Parameters!$K$15,$AC18*2/Parameters!$AB$4,$AC18/Parameters!$AB$4))","v":""},{"$f":"IF(AND(O18=\"B\",Q18=\"calc\"),V18,IF(AND(O18=\"C\",Q18=\"calc\"),'Window & Door DATA INPUT'!T24/1000,\"\"))","v":""},{"$f":"IF(AND(O18=\"B\",Q18=\"input\"),'Window & Door DATA INPUT'!AA24,IF(AND(O18=\"C\",Q18=\"input\",P18=\"F\"),'Window & Door DATA INPUT'!V24,IF(AND(O18=\"C\",P18=\"E\"),0,IF(AND(O18=\"D\"),0,IF(AND(B18=1,C18=0),\"\",(Calculations!Q18))))))","v":""},"",{"$f":"IF(OR($H18=\"no\",$C18=0),\"\",IF($I18=Parameters!$K$15,$L18/($M18/2),$L18/$M18))","v":""},{"$f":"IF(OR($H18=\"no\",$C18=0),\"\",IF($AH18<0.5,Parameters!$X$4,IF($AH18<1,Parameters!$Y$4,IF($AH18<2,Parameters!$Z$4,Parameters!$AA$4))))","v":""},{"$f":"IF(OR($H18=\"no\",$C18=0),\"\",IF($AH18<0.5,Parameters!$X$5,IF($AH18<1,Parameters!$Y$5,IF($AH18<2,Parameters!$Z$5,Parameters!$AA$5))))","v":""},{"$f":"IF(OR($H18=\"no\",$C18=0),\"\",IF($I18=Parameters!$K$15,(2*($M18/2)*SIN(RADIANS(Calculations!$AG18/2))),(2*$M18*SIN(RADIANS($AG18/2)))))","v":""},"",{"$f":"IF(OR($H18=\"no\",$C18=0),\"\",IF($I18=Parameters!$K$15,$AL18*$N18/2,$AL18*$N18))","v":""},{"$f":"IF(OR($H18=\"no\",$C18=0),\"\",IF($I18=Parameters!$K$15,$AM18*2/Parameters!$AB$4,$AM18/Parameters!$AB$4))","v":""},null,{"$f":"Parameters!D18","v":"Bedroom 2"},{"v":0,"d":"0.00"},{"v":0,"d":"0.00"}," ",{"v":0,"d":"0.00"}," ",{"$f":"SUMIFS($AN$4:$AN$143,$D$4:$D$143,AP18)","v":{"v":0,"d":"0.00"}},{"$f":"IF(AQ18>0,AV18/AQ18,\" \")","v":" "},{"$f":"IF(AQ18>0,1,0)","v":0},{"$nulls":10},{"$f":"'Window & Door DATA INPUT'!H24","v":0},""]
[null,{"$f":"IF('Window & Door DATA INPUT'!B25>1,1,0)","v":0},{"$f":"IF(AND(B19=1,OR(D19=Parameters!$D$17, D19=Parameters!$D$18,D19=Parameters!$D$19,D19=Parameters!$D$20,D19=Parameters!$D$21,D19=Parameters!$D$22, D19=Parameters!$D$23, D19=Parameters!$D$24)),1,0)","v":0},{"$f":"IF('Window & Door DATA INPUT'!B25=\"\",\"\",'Window & Door DATA INPUT'!B25)","v":""},{"$f":"IF('Window & Door DATA INPUT'!D25=\"\",\"\",'Window & Door DATA INPUT'!D25)","v":""},{"$f":"IF(B19=1,'Window & Door DATA INPUT'!H25&RESULTS!$H$5,\"\")","v":""},{"$f":"IF(B19=1,VLOOKUP(F19,Parameters!$H$4:$I$20,2,FALSE),\"\")","v":""},{"$f":"IF(OR('Window & Door DATA INPUT'!J25=Parameters!$K$4,'Window & Door DATA INPUT'!J25=Parameters!$K$11),\"No\",IF('Window & Door DATA INPUT'!K25=\"\",\"\",'Window & Door DATA INPUT'!K25))","v":""},{"$f":"IF('Window & Door DATA INPUT'!J25=\"\",\"\",'Window & Door DATA INPUT'!J25)","v":""},{"$f":"IF('Window & Door DATA INPUT'!L25=Parameters!$O$5,'Window & Door DATA INPUT'!O25,IF(B19=1,('Window & Door DATA INPUT'!N25*'Window & Door DATA INPUT'!M25)/1000000,\"\"))","v":""},{"$f":"IF('Window & Door DATA INPUT'!J25=\"\",\"\",VLOOKUP('Window & Door DATA INPUT'!J25,Parameters!$K$4:$L$16,2,FALSE))","v":""},{"$f":"IF($H19=\"yes\",IF($K19=\"Y\",'Window & Door DATA INPUT'!Q25/1000,IF($K19=\"N\",'Window & Door DATA INPUT'!P25/1000)),\"\")","v":""},{"$f":"IF($H19=\"yes\",IF($K19=\"Y\",'Window & Door DATA INPUT'!P25/1000,IF($K19=\"N\",'Window & Door DATA INPUT'!Q25/1000)),\"\")","v":""},"",{"$f":"IF(AND(B19=1,C19=0,H19=\"yes\"),\"A\",IF(AND(C19=1,H19=\"yes\",'Window & Door DATA INPUT'!R25=\"no\"),\"B\",IF(AND(C19=1,H19=\"yes\",'Window & Door DATA INPUT'!R25=\"yes\",'Window & Door DATA INPUT'!S25=\"yes\"),\"C\",IF(AND(C19=1,H19=\"yes\",'Window & Door DATA INPUT'!R25=\"yes\",'Window & Door DATA INPUT'!S25=\"no\"),\"D\",\"\"))))","v":""},{"$f":"IF(AND(C19=1,H19=\"yes\",OR(I19=Parameters!$K$12,I19=Parameters!$K$13,I19=Parameters!$K$14)),\"E\",IF(AND(C19=1,H19=\"yes\",NOT(OR(I19=Parameters!$K$12,I19=Parameters!$K$13,I19=Parameters!$K$14))),\"F\",\"\"))","v":""},{"$f":"IF(AND(B19=1,H19=\"yes\"),VLOOKUP(I19,Parameters!$K$4:$M$16,3,FALSE),\"\")","v":""},{"$f":"IF(AND(OR(O19=\"A\",O19=\"B\",O19=\"d\"),Q19=\"input\"),'Window & Door DATA INPUT'!AA25,IF(AND(O19=\"C\",Q19=\"input\"),'Window & Door DATA INPUT'!W25,Calculations!Q19))","v":""},{"$f":"IF('Window & Door DATA INPUT'!X25=\"Yes\",'Window & Door DATA INPUT'!Y25/1000,IF(B19=1,\"N/A\",\"\"))","v":""},{"$f":"IF(Q19=\"calc\",IF(O19=\"c\",'Window & Door DATA INPUT'!U25/1000,(Parameters!$S$4-'Window & Door DATA INPUT'!Z25+Parameters!$Q$4)/1000),\"\")","v":""},"","","",{"$f":"IF(OR($H19=\"no\",$B19=0),\"\",IF($I19=Parameters!$K$15,$L19/($M19/2),$L19/$M19))","v":""},{"$f":"IF(OR($H19=\"no\",$B19=0),\"\",IF($X19<0.5,Parameters!$X$4,IF($X19<1,Parameters!$Y$4,IF($X19<2,Parameters!$Z$4,Parameters!$AA$4))))","v":""},{"$f":"IF(OR($H19=\"no\",$B19=0),\"\",IF($X19<0.5,Parameters!$X$5,IF($X19<1,Parameters!$Y$5,IF($X19<2,Parameters!$Z$5,Parameters!$AA$5))))","v":""},{"$f":"IF(OR($H19=\"no\",$B19=0),\"\",IF($I19=Parameters!$K$15,(2*($M19/2)*SIN(RADIANS(Calculations!$W19/2))),(2*$M19*SIN(RADIANS($W19/2)))))","v":""},"",{"$f":"IF(OR($H19=\"no\",$B19=0),\"\",IF($I19=Parameters!$K$15,$AB19*$N19/2,$AB19*$N19))","v":""},{"$f":"IF(OR($H19=\"no\",$B19=0),\"\",IF($I19=Parameters!$K$15,$AC19*2/Parameters!$AB$4,$AC19/Parameters!$AB$4))","v":""},{"$f":"IF(AND(O19=\"B\",Q19=\"calc\"),V19,IF(AND(O19=\"C\",Q19=\"calc\"),'Window & Door DATA INPUT'!T25/1000,\"\"))","v":""},{"$f":"IF(AND(O19=\"B\",Q19=\"input\"),'Window & Door DATA INPUT'!AA25,IF(AND(O19=\"C\",Q19=\"input\",P19=\"F\"),'Window & Door DATA INPUT'!V25,IF(AND(O19=\"C\",P19=\"E\"),0,IF(AND(O19=\"D\"),0,IF(AND(B19=1,C19=0),\"\",(Calculations!Q19))))))","v":""},"",{"$f":"IF(OR($H19=\"no\",$C19=0),\"\",IF($I19=Parameters!$K$15,$L19/($M19/2),$L19/$M19))","v":""},{"$f":"IF(OR($H19=\"no\",$C19=0),\"\",IF($AH19<0.5,Parameters!$X$4,IF($AH19<1,Parameters!$Y$4,IF($AH19<2,Parameters!$Z$4,Parameters!$AA$4))))","v":""},{"$f":"IF(OR($H19=\"no\",$C19=0),\"\",IF($AH19<0.5,Parameters!$X$5,IF($AH19<1,Parameters!$Y$5,IF($AH19<2,Parameters!$Z$5,Parameters!$AA$5))))","v":""},{"$f":"IF(OR($H19=\"no\",$C19=0),\"\",IF($I19=Parameters!$K$15,(2*($M19/2)*SIN(RADIANS(Calculations!$AG19/2))),(2*$M19*SIN(RADIANS($AG19/2)))))","v":""},"",{"$f":"IF(OR($H19=\"no\",$C19=0),\"\",IF($I19=Parameters!$K$15,$AL19*$N19/2,$AL19*$N19))","v":""},{"$f":"IF(OR($H19=\"no\",$C19=0),\"\",IF($I19=Parameters!$K$15,$AM19*2/Parameters!$AB$4,$AM19/Parameters!$AB$4))","v":""},null,{"$f":"Parameters!D19","v":"Bedroom 3"},{"v":0,"d":"0.00"},{"v":0,"d":"0.00"}," ",{"v":0,"d":"0.00"}," ",{"$f":"SUMIFS($AN$4:$AN$143,$D$4:$D$143,AP19)","v":{"v":0,"d":"0.00"}}," ",0,{"$nulls":4},"Bedrooms - Equivalent area","m2","% floor area",{"$nulls":3},{"$f":"'Window & Door DATA INPUT'!H25","v":0},""]
[null,{"$f":"IF('Window & Door DATA INPUT'!B26>1,1,0)","v":0},{"$f":"IF(AND(B20=1,OR(D20=Parameters!$D$17, D20=Parameters!$D$18,D20=Parameters!$D$19,D20=Parameters!$D$20,D20=Parameters!$D$21,D20=Parameters!$D$22, D20=Parameters!$D$23, D20=Parameters!$D$24)),1,0)","v":0},{"$f":"IF('Window & Door DATA INPUT'!B26=\"\",\"\",'Window & Door DATA INPUT'!B26)","v":""},{"$f":"IF('Window & Door DATA INPUT'!D26=\"\",\"\",'Window & Door DATA INPUT'!D26)","v":""},{"$f":"IF(B20=1,'Window & Door DATA INPUT'!H26&RESULTS!$H$5,\"\")","v":""},{"$f":"IF(B20=1,VLOOKUP(F20,Parameters!$H$4:$I$20,2,FALSE),\"\")","v":""},{"$f":"IF(OR('Window & Door DATA INPUT'!J26=Parameters!$K$4,'Window & Door DATA INPUT'!J26=Parameters!$K$11),\"No\",IF('Window & Door DATA INPUT'!K26=\"\",\"\",'Window & Door DATA INPUT'!K26))","v":""},{"$f":"IF('Window & Door DATA INPUT'!J26=\"\",\"\",'Window & Door DATA INPUT'!J26)","v":""},{"$f":"IF('Window & Door DATA INPUT'!L26=Parameters!$O$5,'Window & Door DATA INPUT'!O26,IF(B20=1,('Window & Door DATA INPUT'!N26*'Window & Door DATA INPUT'!M26)/1000000,\"\"))","v":""},{"$f":"IF('Window & Door DATA INPUT'!J26=\"\",\"\",VLOOKUP('Window & Door DATA INPUT'!J26,Parameters!$K$4:$L$16,2,FALSE))","v":""},{"$f":"IF($H20=\"yes\",IF($K20=\"Y\",'Window & Door DATA INPUT'!Q26/1000,IF($K20=\"N\",'Window & Door DATA INPUT'!P26/1000)),\"\")","v":""},{"$f":"IF($H20=\"yes\",IF($K20=\"Y\",'Window & Door DATA INPUT'!P26/1000,IF($K20=\"N\",'Window & Door DATA INPUT'!Q26/1000)),\"\")","v":""},"",{"$f":"IF(AND(B20=1,C20=0,H20=\"yes\"),\"A\",IF(AND(C20=1,H20=\"yes\",'Window & Door DATA INPUT'!R26=\"no\"),\"B\",IF(AND(C20=1,H20=\"yes\",'Window & Door DATA INPUT'!R26=\"yes\",'Window & Door DATA INPUT'!S26=\"yes\"),\"C\",IF(AND(C20=1,H20=\"yes\",'Window & Door DATA INPUT'!R26=\"yes\",'Window & Door DATA INPUT'!S26=\"no\"),\"D\",\"\"))))","v":""},{"$f":"IF(AND(C20=1,H20=\"yes\",OR(I20=Parameters!$K$12,I20=Parameters!$K$13,I20=Parameters!$K$14)),\"E\",IF(AND(C20=1,H20=\"yes\",NOT(OR(I20=Parameters!$K$12,I20=Parameters!$K$13,I20=Parameters!$K$14))),\"F\",\"\"))","v":""},{"$f":"IF(AND(B20=1,H20=\"yes\"),VLOOKUP(I20,Parameters!$K$4:$M$16,3,FALSE),\"\")","v":""},{"$f":"IF(AND(OR(O20=\"A\",O20=\"B\",O20=\"d\"),Q20=\"input\"),'Window & Door DATA INPUT'!AA26,IF(AND(O20=\"C\",Q20=\"input\"),'Window & Door DATA INPUT'!W26,Calculations!Q20))","v":""},{"$f":"IF('Window & Door DATA INPUT'!X26=\"Yes\",'Window & Door DATA INPUT'!Y26/1000,IF(B20=1,\"N/A\",\"\"))","v":""},{"$f":"IF(Q20=\"calc\",IF(O20=\"c\",'Window & Door DATA INPUT'!U26/1000,(Parameters!$S$4-'Window & Door DATA INPUT'!Z26+Parameters!$Q$4)/1000),\"\")","v":""},"","","",{"$f":"IF(OR($H20=\"no\",$B20=0),\"\",IF($I20=Parameters!$K$15,$L20/($M20/2),$L20/$M20))","v":""},{"$f":"IF(OR($H20=\"no\",$B20=0),\"\",IF($X20<0.5,Parameters!$X$4,IF($X20<1,Parameters!$Y$4,IF($X20<2,Parameters!$Z$4,Parameters!$AA$4))))","v":""},{"$f":"IF(OR($H20=\"no\",$B20=0),\"\",IF($X20<0.5,Parameters!$X$5,IF($X20<1,Parameters!$Y$5,IF($X20<2,Parameters!$Z$5,Parameters!$AA$5))))","v":""},{"$f":"IF(OR($H20=\"no\",$B20=0),\"\",IF($I20=Parameters!$K$15,(2*($M20/2)*SIN(RADIANS(Calculations!$W20/2))),(2*$M20*SIN(RADIANS($W20/2)))))","v":""},"",{"$f":"IF(OR($H20=\"no\",$B20=0),\"\",IF($I20=Parameters!$K$15,$AB20*$N20/2,$AB20*$N20))","v":""},{"$f":"IF(OR($H20=\"no\",$B20=0),\"\",IF($I20=Parameters!$K$15,$AC20*2/Parameters!$AB$4,$AC20/Parameters!$AB$4))","v":""},{"$f":"IF(AND(O20=\"B\",Q20=\"calc\"),V20,IF(AND(O20=\"C\",Q20=\"calc\"),'Window & Door DATA INPUT'!T26/1000,\"\"))","v":""},{"$f":"IF(AND(O20=\"B\",Q20=\"input\"),'Window & Door DATA INPUT'!AA26,IF(AND(O20=\"C\",Q20=\"input\",P20=\"F\"),'Window & Door DATA INPUT'!V26,IF(AND(O20=\"C\",P20=\"E\"),0,IF(AND(O20=\"D\"),0,IF(AND(B20=1,C20=0),\"\",(Calculations!Q20))))))","v":""},"",{"$f":"IF(OR($H20=\"no\",$C20=0),\"\",IF($I20=Parameters!$K$15,$L20/($M20/2),$L20/$M20))","v":""},{"$f":"IF(OR($H20=\"no\",$C20=0),\"\",IF($AH20<0.5,Parameters!$X$4,IF($AH20<1,Parameters!$Y$4,IF($AH20<2,Parameters!$Z$4,Parameters!$AA$4))))","v":""},{"$f":"IF(OR($H20=\"no\",$C20=0),\"\",IF($AH20<0.5,Parameters!$X$5,IF($AH20<1,Parameters!$Y$5,IF($AH20<2,Parameters!$Z$5,Parameters!$AA$5))))","v":""},{"$f":"IF(OR($H20=\"no\",$C20=0),\"\",IF($I20=Parameters!$K$15,(2*($M20/2)*SIN(RADIANS(Calculations!$AG20/2))),(2*$M20*SIN(RADIANS($AG20/2)))))","v":""},"",{"$f":"IF(OR($H20=\"no\",$C20=0),\"\",IF($I20=Parameters!$K$15,$AL20*$N20/2,$AL20*$N20))","v":""},{"$f":"IF(OR($H20=\"no\",$C20=0),\"\",IF($I20=Parameters!$K$15,$AM20*2/Parameters!$AB$4,$AM20/Parameters!$AB$4))","v":""},null,{"$f":"Parameters!D20","v":"Bedroom 4"},{"v":0,"d":"0.00"},{"v":0,"d":"0.00"}," ",{"v":0,"d":"0.00"}," ",{"$f":"SUMIFS($AN$4:$AN$143,$D$4:$D$143,AP20)","v":{"v":0,"d":"0.00"}}," ",0,{"$nulls":4},"Bedroom 1",{"$f":"IF(AX17=1,AV17,\"\")","v":""},{"$f":"IF(AV17>0,AW17*100,IF(AND(AV17=0,AX17=1),0,\"\"))","v":""},{"$nulls":3},{"$f":"'Window & Door DATA INPUT'!H26","v":0},""]
[null,{"$f":"IF('Window & Door DATA INPUT'!B27>1,1,0)","v":0},{"$f":"IF(AND(B21=1,OR(D21=Parameters!$D$17, D21=Parameters!$D$18,D21=Parameters!$D$19,D21=Parameters!$D$20,D21=Parameters!$D$21,D21=Parameters!$D$22, D21=Parameters!$D$23, D21=Parameters!$D$24)),1,0)","v":0},{"$f":"IF('Window & Door DATA INPUT'!B27=\"\",\"\",'Window & Door DATA INPUT'!B27)","v":""},{"$f":"IF('Window & Door DATA INPUT'!D27=\"\",\"\",'Window & Door DATA INPUT'!D27)","v":""},{"$f":"IF(B21=1,'Window & Door DATA INPUT'!H27&RESULTS!$H$5,\"\")","v":""},{"$f":"IF(B21=1,VLOOKUP(F21,Parameters!$H$4:$I$20,2,FALSE),\"\")","v":""},{"$f":"IF(OR('Window & Door DATA INPUT'!J27=Parameters!$K$4,'Window & Door DATA INPUT'!J27=Parameters!$K$11),\"No\",IF('Window & Door DATA INPUT'!K27=\"\",\"\",'Window & Door DATA INPUT'!K27))","v":""},{"$f":"IF('Window & Door DATA INPUT'!J27=\"\",\"\",'Window & Door DATA INPUT'!J27)","v":""},{"$f":"IF('Window & Door DATA INPUT'!L27=Parameters!$O$5,'Window & Door DATA INPUT'!O27,IF(B21=1,('Window & Door DATA INPUT'!N27*'Window & Door DATA INPUT'!M27)/1000000,\"\"))","v":""},{"$f":"IF('Window & Door DATA INPUT'!J27=\"\",\"\",VLOOKUP('Window & Door DATA INPUT'!J27,Parameters!$K$4:$L$16,2,FALSE))","v":""},{"$f":"IF($H21=\"yes\",IF($K21=\"Y\",'Window & Door DATA INPUT'!Q27/1000,IF($K21=\"N\",'Window & Door DATA INPUT'!P27/1000)),\"\")","v":""},{"$f":"IF($H21=\"yes\",IF($K21=\"Y\",'Window & Door DATA INPUT'!P27/1000,IF($K21=\"N\",'Window & Door DATA INPUT'!Q27/1000)),\"\")","v":""},"",{"$f":"IF(AND(B21=1,C21=0,H21=\"yes\"),\"A\",IF(AND(C21=1,H21=\"yes\",'Window & Door DATA INPUT'!R27=\"no\"),\"B\",IF(AND(C21=1,H21=\"yes\",'Window & Door DATA INPUT'!R27=\"yes\",'Window & Door DATA INPUT'!S27=\"yes\"),\"C\",IF(AND(C21=1,H21=\"yes\",'Window & Door DATA INPUT'!R27=\"yes\",'Window & Door DATA INPUT'!S27=\"no\"),\"D\",\"\"))))","v":""},{"$f":"IF(AND(C21=1,H21=\"yes\",OR(I21=Parameters!$K$12,I21=Parameters!$K$13,I21=Parameters!$K$14)),\"E\",IF(AND(C21=1,H21=\"yes\",NOT(OR(I21=Parameters!$K$12,I21=Parameters!$K$13,I21=Parameters!$K$14))),\"F\",\"\"))","v":""},{"$f":"IF(AND(B21=1,H21=\"yes\"),VLOOKUP(I21,Parameters!$K$4:$M$16,3,FALSE),\"\")","v":""},{"$f":"IF(AND(OR(O21=\"A\",O21=\"B\",O21=\"d\"),Q21=\"input\"),'Window & Door DATA INPUT'!AA27,IF(AND(O21=\"C\",Q21=\"input\"),'Window & Door DATA INPUT'!W27,Calculations!Q21))","v":""},{"$f":"IF('Window & Door DATA INPUT'!X27=\"Yes\",'Window & Door DATA INPUT'!Y27/1000,IF(B21=1,\"N/A\",\"\"))","v":""},{"$f":"IF(Q21=\"calc\",IF(O21=\"c\",'Window & Door DATA INPUT'!U27/1000,(Parameters!$S$4-'Window & Door DATA INPUT'!Z27+Parameters!$Q$4)/1000),\"\")","v":""},"","","",{"$f":"IF(OR($H21=\"no\",$B21=0),\"\",IF($I21=Parameters!$K$15,$L21/($M21/2),$L21/$M21))","v":""},{"$f":"IF(OR($H21=\"no\",$B21=0),\"\",IF($X21<0.5,Parameters!$X$4,IF($X21<1,Parameters!$Y$4,IF($X21<2,Parameters!$Z$4,Parameters!$AA$4))))","v":""},{"$f":"IF(OR($H21=\"no\",$B21=0),\"\",IF($X21<0.5,Parameters!$X$5,IF($X21<1,Parameters!$Y$5,IF($X21<2,Parameters!$Z$5,Parameters!$AA$5))))","v":""},{"$f":"IF(OR($H21=\"no\",$B21=0),\"\",IF($I21=Parameters!$K$15,(2*($M21/2)*SIN(RADIANS(Calculations!$W21/2))),(2*$M21*SIN(RADIANS($W21/2)))))","v":""},"",{"$f":"IF(OR($H21=\"no\",$B21=0),\"\",IF($I21=Parameters!$K$15,$AB21*$N21/2,$AB21*$N21))","v":""},{"$f":"IF(OR($H21=\"no\",$B21=0),\"\",IF($I21=Parameters!$K$15,$AC21*2/Parameters!$AB$4,$AC21/Parameters!$AB$4))","v":""},{"$f":"IF(AND(O21=\"B\",Q21=\"calc\"),V21,IF(AND(O21=\"C\",Q21=\"calc\"),'Window & Door DATA INPUT'!T27/1000,\"\"))","v":""},{"$f":"IF(AND(O21=\"B\",Q21=\"input\"),'Window & Door DATA INPUT'!AA27,IF(AND(O21=\"C\",Q21=\"input\",P21=\"F\"),'Window & Door DATA INPUT'!V27,IF(AND(O21=\"C\",P21=\"E\"),0,IF(AND(O21=\"D\"),0,IF(AND(B21=1,C21=0),\"\",(Calculations!Q21))))))","v":""},"",{"$f":"IF(OR($H21=\"no\",$C21=0),\"\",IF($I21=Parameters!$K$15,$L21/($M21/2),$L21/$M21))","v":""},{"$f":"IF(OR($H21=\"no\",$C21=0),\"\",IF($AH21<0.5,Parameters!$X$4,IF($AH21<1,Parameters!$Y$4,IF($AH21<2,Parameters!$Z$4,Parameters!$AA$4))))","v":""},{"$f":"IF(OR($H21=\"no\",$C21=0),\"\",IF($AH21<0.5,Parameters!$X$5,IF($AH21<1,Parameters!$Y$5,IF($AH21<2,Parameters!$Z$5,Parameters!$AA$5))))","v":""},{"$f":"IF(OR($H21=\"no\",$C21=0),\"\",IF($I21=Parameters!$K$15,(2*($M21/2)*SIN(RADIANS(Calculations!$AG21/2))),(2*$M21*SIN(RADIANS($AG21/2)))))","v":""},"",{"$f":"IF(OR($H21=\"no\",$C21=0),\"\",IF($I21=Parameters!$K$15,$AL21*$N21/2,$AL21*$N21))","v":""},{"$f":"IF(OR($H21=\"no\",$C21=0),\"\",IF($I21=Parameters!$K$15,$AM21*2/Parameters!$AB$4,$AM21/Parameters!$AB$4))","v":""},null,{"$f":"Parameters!D21","v":"Bedroom 5"},{"v":0,"d":"0.00"},{"v":0,"d":"0.00"}," ",{"v":0,"d":"0.00"}," ",{"$f":"SUMIFS($AN$4:$AN$143,$D$4:$D$143,AP21)","v":{"v":0,"d":"0.00"}}," ",0,{"$nulls":4},"Bedroom 2",{"$f":"IF(AX18=1,AV18,\"\")","v":""},"",{"$nulls":3},{"$f":"'Window & Door DATA INPUT'!H27","v":0},""]
[null,{"$f":"IF('Window & Door DATA INPUT'!B28>1,1,0)","v":0},{"$f":"IF(AND(B22=1,OR(D22=Parameters!$D$17, D22=Parameters!$D$18,D22=Parameters!$D$19,D22=Parameters!$D$20,D22=Parameters!$D$21,D22=Parameters!$D$22, D22=Parameters!$D$23, D22=Parameters!$D$24)),1,0)","v":0},{"$f":"IF('Window & Door DATA INPUT'!B28=\"\",\"\",'Window & Door DATA INPUT'!B28)","v":""},{"$f":"IF('Window & Door DATA INPUT'!D28=\"\",\"\",'Window & Door DATA INPUT'!D28)","v":""},{"$f":"IF(B22=1,'Window & Door DATA INPUT'!H28&RESULTS!$H$5,\"\")","v":""},{"$f":"IF(B22=1,VLOOKUP(F22,Parameters!$H$4:$I$20,2,FALSE),\"\")","v":""},{"$f":"IF(OR('Window & Door DATA INPUT'!J28=Parameters!$K$4,'Window & Door DATA INPUT'!J28=Parameters!$K$11),\"No\",IF('Window & Door DATA INPUT'!K28=\"\",\"\",'Window & Door DATA INPUT'!K28))","v":""},{"$f":"IF('Window & Door DATA INPUT'!J28=\"\",\"\",'Window & Door DATA INPUT'!J28)","v":""},{"$f":"IF('Window & Door DATA INPUT'!L28=Parameters!$O$5,'Window & Door DATA INPUT'!O28,IF(B22=1,('Window & Door DATA INPUT'!N28*'Window & Door DATA INPUT'!M28)/1000000,\"\"))","v":""},{"$f":"IF('Window & Door DATA INPUT'!J28=\"\",\"\",VLOOKUP('Window & Door DATA INPUT'!J28,Parameters!$K$4:$L$16,2,FALSE))","v":""},{"$f":"IF($H22=\"yes\",IF($K22=\"Y\",'Window & Door DATA INPUT'!Q28/1000,IF($K22=\"N\",'Window & Door DATA INPUT'!P28/1000)),\"\")","v":""},{"$f":"IF($H22=\"yes\",IF($K22=\"Y\",'Window & Door DATA INPUT'!P28/1000,IF($K22=\"N\",'Window & Door DATA INPUT'!Q28/1000)),\"\")","v":""},"",{"$f":"IF(AND(B22=1,C22=0,H22=\"yes\"),\"A\",IF(AND(C22=1,H22=\"yes\",'Window & Door DATA INPUT'!R28=\"no\"),\"B\",IF(AND(C22=1,H22=\"yes\",'Window & Door DATA INPUT'!R28=\"yes\",'Window & Door DATA INPUT'!S28=\"yes\"),\"C\",IF(AND(C22=1,H22=\"yes\",'Window & Door DATA INPUT'!R28=\"yes\",'Window & Door DATA INPUT'!S28=\"no\"),\"D\",\"\"))))","v":""},{"$f":"IF(AND(C22=1,H22=\"yes\",OR(I22=Parameters!$K$12,I22=Parameters!$K$13,I22=Parameters!$K$14)),\"E\",IF(AND(C22=1,H22=\"yes\",NOT(OR(I22=Parameters!$K$12,I22=Parameters!$K$13,I22=Parameters!$K$14))),\"F\",\"\"))","v":""},{"$f":"IF(AND(B22=1,H22=\"yes\"),VLOOKUP(I22,Parameters!$K$4:$M$16,3,FALSE),\"\")","v":""},{"$f":"IF(AND(OR(O22=\"A\",O22=\"B\",O22=\"d\"),Q22=\"input\"),'Window & Door DATA INPUT'!AA28,IF(AND(O22=\"C\",Q22=\"input\"),'Window & Door DATA INPUT'!W28,Calculations!Q22))","v":""},{"$f":"IF('Window & Door DATA INPUT'!X28=\"Yes\",'Window & Door DATA INPUT'!Y28/1000,IF(B22=1,\"N/A\",\"\"))","v":""},{"$f":"IF(Q22=\"calc\",IF(O22=\"c\",'Window & Door DATA INPUT'!U28/1000,(Parameters!$S$4-'Window & Door DATA INPUT'!Z28+Parameters!$Q$4)/1000),\"\")","v":""},"","","",{"$f":"IF(OR($H22=\"no\",$B22=0),\"\",IF($I22=Parameters!$K$15,$L22/($M22/2),$L22/$M22))","v":""},{"$f":"IF(OR($H22=\"no\",$B22=0),\"\",IF($X22<0.5,Parameters!$X$4,IF($X22<1,Parameters!$Y$4,IF($X22<2,Parameters!$Z$4,Parameters!$AA$4))))","v":""},{"$f":"IF(OR($H22=\"no\",$B22=0),\"\",IF($X22<0.5,Parameters!$X$5,IF($X22<1,Parameters!$Y$5,IF($X22<2,Parameters!$Z$5,Parameters!$AA$5))))","v":""},{"$f":"IF(OR($H22=\"no\",$B22=0),\"\",IF($I22=Parameters!$K$15,(2*($M22/2)*SIN(RADIANS(Calculations!$W22/2))),(2*$M22*SIN(RADIANS($W22/2)))))","v":""},"",{"$f":"IF(OR($H22=\"no\",$B22=0),\"\",IF($I22=Parameters!$K$15,$AB22*$N22/2,$AB22*$N22))","v":""},{"$f":"IF(OR($H22=\"no\",$B22=0),\"\",IF($I22=Parameters!$K$15,$AC22*2/Parameters!$AB$4,$AC22/Parameters!$AB$4))","v":""},{"$f":"IF(AND(O22=\"B\",Q22=\"calc\"),V22,IF(AND(O22=\"C\",Q22=\"calc\"),'Window & Door DATA INPUT'!T28/1000,\"\"))","v":""},{"$f":"IF(AND(O22=\"B\",Q22=\"input\"),'Window & Door DATA INPUT'!AA28,IF(AND(O22=\"C\",Q22=\"input\",P22=\"F\"),'Window & Door DATA INPUT'!V28,IF(AND(O22=\"C\",P22=\"E\"),0,IF(AND(O22=\"D\"),0,IF(AND(B22=1,C22=0),\"\",(Calculations!Q22))))))","v":""},"",{"$f":"IF(OR($H22=\"no\",$C22=0),\"\",IF($I22=Parameters!$K$15,$L22/($M22/2),$L22/$M22))","v":""},{"$f":"IF(OR($H22=\"no\",$C22=0),\"\",IF($AH22<0.5,Parameters!$X$4,IF($AH22<1,Parameters!$Y$4,IF($AH22<2,Parameters!$Z$4,Parameters!$AA$4))))","v":""},{"$f":"IF(OR($H22=\"no\",$C22=0),\"\",IF($AH22<0.5,Parameters!$X$5,IF($AH22<1,Parameters!$Y$5,IF($AH22<2,Parameters!$Z$5,Parameters!$AA$5))))","v":""},{"$f":"IF(OR($H22=\"no\",$C22=0),\"\",IF($I22=Parameters!$K$15,(2*($M22/2)*SIN(RADIANS(Calculations!$AG22/2))),(2*$M22*SIN(RADIANS($AG22/2)))))","v":""},"",{"$f":"IF(OR($H22=\"no\",$C22=0),\"\",IF($I22=Parameters!$K$15,$AL22*$N22/2,$AL22*$N22))","v":""},{"$f":"IF(OR($H22=\"no\",$C22=0),\"\",IF($I22=Parameters!$K$15,$AM22*2/Parameters!$AB$4,$AM22/Parameters!$AB$4))","v":""},null,{"$f":"Parameters!D22","v":"Bedroom 6"},{"$f":"IF(ISERROR(VLOOKUP($AP22,$D$4:$E$143,2,FALSE)),0,(VLOOKUP($AP22,$D$4:$E$143,2,FALSE)))","v":{"v":0,"d":"0.00"}},{"$f":"SUMIFS($J$4:$J$143,$D$4:$D$143,AP22)","v":{"v":0,"d":"0.00"}},{"$f":"IF(AQ22>0,AR22/AQ22,\" \")","v":" "},{"$f":"SUMIFS($AD$4:$AD$143,$D$4:$D$143,AP22)","v":{"v":0,"d":"0.00"}},{"$f":"IF(AR22=$BA$12,AS22,\"\")","v":" "},{"$f":"SUMIFS($AN$4:$AN$143,$D$4:$D$143,AP22)","v":{"v":0,"d":"0.00"}},{"$f":"IF(AQ22>0,AV22/AQ22,\" \")","v":" "},0,{"$nulls":4},"Bedroom 3","","",{"$nulls":3},{"$f":"'Window & Door DATA INPUT'!H28","v":0},""]
[null,{"$f":"IF('Window & Door DATA INPUT'!B29>1,1,0)","v":0},{"$f":"IF(AND(B23=1,OR(D23=Parameters!$D$17, D23=Parameters!$D$18,D23=Parameters!$D$19,D23=Parameters!$D$20,D23=Parameters!$D$21,D23=Parameters!$D$22, D23=Parameters!$D$23, D23=Parameters!$D$24)),1,0)","v":0},{"$f":"IF('Window & Door DATA INPUT'!B29=\"\",\"\",'Window & Door DATA INPUT'!B29)","v":""},{"$f":"IF('Window & Door DATA INPUT'!D29=\"\",\"\",'Window & Door DATA INPUT'!D29)","v":""},{"$f":"IF(B23=1,'Window & Door DATA INPUT'!H29&RESULTS!$H$5,\"\")","v":""},{"$f":"IF(B23=1,VLOOKUP(F23,Parameters!$H$4:$I$20,2,FALSE),\"\")","v":""},{"$f":"IF(OR('Window & Door DATA INPUT'!J29=Parameters!$K$4,'Window & Door DATA INPUT'!J29=Parameters!$K$11),\"No\",IF('Window & Door DATA INPUT'!K29=\"\",\"\",'Window & Door DATA INPUT'!K29))","v":""},{"$f":"IF('Window & Door DATA INPUT'!J29=\"\",\"\",'Window & Door DATA INPUT'!J29)","v":""},{"$f":"IF('Window & Door DATA INPUT'!L29=Parameters!$O$5,'Window & Door DATA INPUT'!O29,IF(B23=1,('Window & Door DATA INPUT'!N29*'Window & Door DATA INPUT'!M29)/1000000,\"\"))","v":""},{"$f":"IF('Window & Door DATA INPUT'!J29=\"\",\"\",VLOOKUP('Window & Door DATA INPUT'!J29,Parameters!$K$4:$L$16,2,FALSE))","v":""},{"$f":"IF($H23=\"yes\",IF($K23=\"Y\",'Window & Door DATA INPUT'!Q29/1000,IF($K23=\"N\",'Window & Door DATA INPUT'!P29/1000)),\"\")","v":""},{"$f":"IF($H23=\"yes\",IF($K23=\"Y\",'Window & Door DATA INPUT'!P29/1000,IF($K23=\"N\",'Window & Door DATA INPUT'!Q29/1000)),\"\")","v":""},"",{"$f":"IF(AND(B23=1,C23=0,H23=\"yes\"),\"A\",IF(AND(C23=1,H23=\"yes\",'Window & Door DATA INPUT'!R29=\"no\"),\"B\",IF(AND(C23=1,H23=\"yes\",'Window & Door DATA INPUT'!R29=\"yes\",'Window & Door DATA INPUT'!S29=\"yes\"),\"C\",IF(AND(C23=1,H23=\"yes\",'Window & Door DATA INPUT'!R29=\"yes\",'Window & Door DATA INPUT'!S29=\"no\"),\"D\",\"\"))))","v":""},{"$f":"IF(AND(C23=1,H23=\"yes\",OR(I23=Parameters!$K$12,I23=Parameters!$K$13,I23=Parameters!$K$14)),\"E\",IF(AND(C23=1,H23=\"yes\",NOT(OR(I23=Parameters!$K$12,I23=Parameters!$K$13,I23=Parameters!$K$14))),\"F\",\"\"))","v":""},{"$f":"IF(AND(B23=1,H23=\"yes\"),VLOOKUP(I23,Parameters!$K$4:$M$16,3,FALSE),\"\")","v":""},{"$f":"IF(AND(OR(O23=\"A\",O23=\"B\",O23=\"d\"),Q23=\"input\"),'Window & Door DATA INPUT'!AA29,IF(AND(O23=\"C\",Q23=\"input\"),'Window & Door DATA INPUT'!W29,Calculations!Q23))","v":""},{"$f":"IF('Window & Door DATA INPUT'!X29=\"Yes\",'Window & Door DATA INPUT'!Y29/1000,IF(B23=1,\"N/A\",\"\"))","v":""},{"$f":"IF(Q23=\"calc\",IF(O23=\"c\",'Window & Door DATA INPUT'!U29/1000,(Parameters!$S$4-'Window & Door DATA INPUT'!Z29+Parameters!$Q$4)/1000),\"\")","v":""},"","","",{"$f":"IF(OR($H23=\"no\",$B23=0),\"\",IF($I23=Parameters!$K$15,$L23/($M23/2),$L23/$M23))","v":""},{"$f":"IF(OR($H23=\"no\",$B23=0),\"\",IF($X23<0.5,Parameters!$X$4,IF($X23<1,Parameters!$Y$4,IF($X23<2,Parameters!$Z$4,Parameters!$AA$4))))","v":""},{"$f":"IF(OR($H23=\"no\",$B23=0),\"\",IF($X23<0.5,Parameters!$X$5,IF($X23<1,Parameters!$Y$5,IF($X23<2,Parameters!$Z$5,Parameters!$AA$5))))","v":""},{"$f":"IF(OR($H23=\"no\",$B23=0),\"\",IF($I23=Parameters!$K$15,(2*($M23/2)*SIN(RADIANS(Calculations!$W23/2))),(2*$M23*SIN(RADIANS($W23/2)))))","v":""},"",{"$f":"IF(OR($H23=\"no\",$B23=0),\"\",IF($I23=Parameters!$K$15,$AB23*$N23/2,$AB23*$N23))","v":""},{"$f":"IF(OR($H23=\"no\",$B23=0),\"\",IF($I23=Parameters!$K$15,$AC23*2/Parameters!$AB$4,$AC23/Parameters!$AB$4))","v":""},{"$f":"IF(AND(O23=\"B\",Q23=\"calc\"),V23,IF(AND(O23=\"C\",Q23=\"calc\"),'Window & Door DATA INPUT'!T29/1000,\"\"))","v":""},{"$f":"IF(AND(O23=\"B\",Q23=\"input\"),'Window & Door DATA INPUT'!AA29,IF(AND(O23=\"C\",Q23=\"input\",P23=\"F\"),'Window & Door DATA INPUT'!V29,IF(AND(O23=\"C\",P23=\"E\"),0,IF(AND(O23=\"D\"),0,IF(AND(B23=1,C23=0),\"\",(Calculations!Q23))))))","v":""},"",{"$f":"IF(OR($H23=\"no\",$C23=0),\"\",IF($I23=Parameters!$K$15,$L23/($M23/2),$L23/$M23))","v":""},{"$f":"IF(OR($H23=\"no\",$C23=0),\"\",IF($AH23<0.5,Parameters!$X$4,IF($AH23<1,Parameters!$Y$4,IF($AH23<2,Parameters!$Z$4,Parameters!$AA$4))))","v":""},{"$f":"IF(OR($H23=\"no\",$C23=0),\"\",IF($AH23<0.5,Parameters!$X$5,IF($AH23<1,Parameters!$Y$5,IF($AH23<2,Parameters!$Z$5,Parameters!$AA$5))))","v":""},{"$f":"IF(OR($H23=\"no\",$C23=0),\"\",IF($I23=Parameters!$K$15,(2*($M23/2)*SIN(RADIANS(Calculations!$AG23/2))),(2*$M23*SIN(RADIANS($AG23/2)))))","v":""},"",{"$f":"IF(OR($H23=\"no\",$C23=0),\"\",IF($I23=Parameters!$K$15,$AL23*$N23/2,$AL23*$N23))","v":""},{"$f":"IF(OR($H23=\"no\",$C23=0),\"\",IF($I23=Parameters!$K$15,$AM23*2/Parameters!$AB$4,$AM23/Parameters!$AB$4))","v":""},null,{"$f":"Parameters!D23","v":"Bedroom 7"},{"v":0,"d":"0.00"},{"$f":"SUMIFS($J$4:$J$143,$D$4:$D$143,AP23)","v":{"v":0,"d":"0.00"}},{"$f":"IF(AQ23>0,AR23/AQ23,\" \")","v":" "},{"$f":"SUMIFS($AD$4:$AD$143,$D$4:$D$143,AP23)","v":{"v":0,"d":"0.00"}},{"$f":"IF(AR23=$BA$12,AS23,\"\")","v":" "},{"$f":"SUMIFS($AN$4:$AN$143,$D$4:$D$143,AP23)","v":{"v":0,"d":"0.00"}},{"$f":"IF(AQ23>0,AV23/AQ23,\" \")","v":" "},{"$f":"IF(AQ23>0,1,0)","v":0},{"$nulls":4},"Bedroom 4","","",{"$nulls":3},{"$f":"'Window & Door DATA INPUT'!H29","v":0},""]
[null,{"$f":"IF('Window & Door DATA INPUT'!B30>1,1,0)","v":0},{"$f":"IF(AND(B24=1,OR(D24=Parameters!$D$17, D24=Parameters!$D$18,D24=Parameters!$D$19,D24=Parameters!$D$20,D24=Parameters!$D$21,D24=Parameters!$D$22, D24=Parameters!$D$23, D24=Parameters!$D$24)),1,0)","v":0},{"$f":"IF('Window & Door DATA INPUT'!B30=\"\",\"\",'Window & Door DATA INPUT'!B30)","v":""},{"$f":"IF('Window & Door DATA INPUT'!D30=\"\",\"\",'Window & Door DATA INPUT'!D30)","v":""},{"$f":"IF(B24=1,'Window & Door DATA INPUT'!H30&RESULTS!$H$5,\"\")","v":""},{"$f":"IF(B24=1,VLOOKUP(F24,Parameters!$H$4:$I$20,2,FALSE),\"\")","v":""},{"$f":"IF(OR('Window & Door DATA INPUT'!J30=Parameters!$K$4,'Window & Door DATA INPUT'!J30=Parameters!$K$11),\"No\",IF('Window & Door DATA INPUT'!K30=\"\",\"\",'Window & Door DATA INPUT'!K30))","v":""},{"$f":"IF('Window & Door DATA INPUT'!J30=\"\",\"\",'Window & Door DATA INPUT'!J30)","v":""},{"$f":"IF('Window & Door DATA INPUT'!L30=Parameters!$O$5,'Window & Door DATA INPUT'!O30,IF(B24=1,('Window & Door DATA INPUT'!N30*'Window & Door DATA INPUT'!M30)/1000000,\"\"))","v":""},{"$f":"IF('Window & Door DATA INPUT'!J30=\"\",\"\",VLOOKUP('Window & Door DATA INPUT'!J30,Parameters!$K$4:$L$16,2,FALSE))","v":""},{"$f":"IF($H24=\"yes\",IF($K24=\"Y\",'Window & Door DATA INPUT'!Q30/1000,IF($K24=\"N\",'Window & Door DATA INPUT'!P30/1000)),\"\")","v":""},{"$f":"IF($H24=\"yes\",IF($K24=\"Y\",'Window & Door DATA INPUT'!P30/1000,IF($K24=\"N\",'Window & Door DATA INPUT'!Q30/1000)),\"\")","v":""},{"$f":"IF(L24=\"\",\"\",L24*M24)","v":""},{"$f":"IF(AND(B24=1,C24=0,H24=\"yes\"),\"A\",IF(AND(C24=1,H24=\"yes\",'Window & Door DATA INPUT'!R30=\"no\"),\"B\",IF(AND(C24=1,H24=\"yes\",'Window & Door DATA INPUT'!R30=\"yes\",'Window & Door DATA INPUT'!S30=\"yes\"),\"C\",IF(AND(C24=1,H24=\"yes\",'Window & Door DATA INPUT'!R30=\"yes\",'Window & Door DATA INPUT'!S30=\"no\"),\"D\",\"\"))))","v":""},{"$f":"IF(AND(C24=1,H24=\"yes\",OR(I24=Parameters!$K$12,I24=Parameters!$K$13,I24=Parameters!$K$14)),\"E\",IF(AND(C24=1,H24=\"yes\",NOT(OR(I24=Parameters!$K$12,I24=Parameters!$K$13,I24=Parameters!$K$14))),\"F\",\"\"))","v":""},{"$f":"IF(AND(B24=1,H24=\"yes\"),VLOOKUP(I24,Parameters!$K$4:$M$16,3,FALSE),\"\")","v":""},{"$f":"IF(AND(OR(O24=\"A\",O24=\"B\",O24=\"d\"),Q24=\"input\"),'Window & Door DATA INPUT'!AA30,IF(AND(O24=\"C\",Q24=\"input\"),'Window & Door DATA INPUT'!W30,Calculations!Q24))","v":""},{"$f":"IF('Window & Door DATA INPUT'!X30=\"Yes\",'Window & Door DATA INPUT'!Y30/1000,IF(B24=1,\"N/A\",\"\"))","v":""},{"$f":"IF(Q24=\"calc\",IF(O24=\"c\",'Window & Door DATA INPUT'!U30/1000,(Parameters!$S$4-'Window & Door DATA INPUT'!Z30+Parameters!$Q$4)/1000),\"\")","v":""},"","","",{"$f":"IF(OR($H24=\"no\",$B24=0),\"\",IF($I24=Parameters!$K$15,$L24/($M24/2),$L24/$M24))","v":""},{"$f":"IF(OR($H24=\"no\",$B24=0),\"\",IF($X24<0.5,Parameters!$X$4,IF($X24<1,Parameters!$Y$4,IF($X24<2,Parameters!$Z$4,Parameters!$AA$4))))","v":""},{"$f":"IF(OR($H24=\"no\",$B24=0),\"\",IF($X24<0.5,Parameters!$X$5,IF($X24<1,Parameters!$Y$5,IF($X24<2,Parameters!$Z$5,Parameters!$AA$5))))","v":""},{"$f":"IF(OR($H24=\"no\",$B24=0),\"\",IF($I24=Parameters!$K$15,(2*($M24/2)*SIN(RADIANS(Calculations!$W24/2))),(2*$M24*SIN(RADIANS($W24/2)))))","v":""},"",{"$f":"IF(OR($H24=\"no\",$B24=0),\"\",IF($I24=Parameters!$K$15,$AB24*$N24/2,$AB24*$N24))","v":""},{"$f":"IF(OR($H24=\"no\",$B24=0),\"\",IF($I24=Parameters!$K$15,$AC24*2/Parameters!$AB$4,$AC24/Parameters!$AB$4))","v":""},{"$f":"IF(AND(O24=\"B\",Q24=\"calc\"),V24,IF(AND(O24=\"C\",Q24=\"calc\"),'Window & Door DATA INPUT'!T30/1000,\"\"))","v":""},{"$f":"IF(AND(O24=\"B\",Q24=\"input\"),'Window & Door DATA INPUT'!AA30,IF(AND(O24=\"C\",Q24=\"input\",P24=\"F\"),'Window & Door DATA INPUT'!V30,IF(AND(O24=\"C\",P24=\"E\"),0,IF(AND(O24=\"D\"),0,IF(AND(B24=1,C24=0),\"\",(Calculations!Q24))))))","v":""},"",{"$f":"IF(OR($H24=\"no\",$C24=0),\"\",IF($I24=Parameters!$K$15,$L24/($M24/2),$L24/$M24))","v":""},{"$f":"IF(OR($H24=\"no\",$C24=0),\"\",IF($AH24<0.5,Parameters!$X$4,IF($AH24<1,Parameters!$Y$4,IF($AH24<2,Parameters!$Z$4,Parameters!$AA$4))))","v":""},{"$f":"IF(OR($H24=\"no\",$C24=0),\"\",IF($AH24<0.5,Parameters!$X$5,IF($AH24<1,Parameters!$Y$5,IF($AH24<2,Parameters!$Z$5,Parameters!$AA$5))))","v":""},{"$f":"IF(OR($H24=\"no\",$C24=0),\"\",IF($I24=Parameters!$K$15,(2*($M24/2)*SIN(RADIANS(Calculations!$AG24/2))),(2*$M24*SIN(RADIANS($AG24/2)))))","v":""},"",{"$f":"IF(OR($H24=\"no\",$C24=0),\"\",IF($I24=Parameters!$K$15,$AL24*$N24/2,$AL24*$N24))","v":""},{"$f":"IF(OR($H24=\"no\",$C24=0),\"\",IF($I24=Parameters!$K$15,$AM24*2/Parameters!$AB$4,$AM24/Parameters!$AB$4))","v":""},null,{"$f":"Parameters!D24","v":"Bedroom 8"},{"v":0,"d":"0.00"},{"v":0,"d":"0.00"}," ",{"v":0,"d":"0.00"}," ",{"v":0,"d":"0.00"}," ",0,{"$nulls":4},"Bedroom 5","","",{"$nulls":3},{"$f":"'Window & Door DATA INPUT'!H30","v":0},""]
[null,{"$f":"IF('Window & Door DATA INPUT'!B31>1,1,0)","v":0},{"$f":"IF(AND(B25=1,OR(D25=Parameters!$D$17, D25=Parameters!$D$18,D25=Parameters!$D$19,D25=Parameters!$D$20,D25=Parameters!$D$21,D25=Parameters!$D$22, D25=Parameters!$D$23, D25=Parameters!$D$24)),1,0)","v":0},{"$f":"IF('Window & Door DATA INPUT'!B31=\"\",\"\",'Window & Door DATA INPUT'!B31)","v":""},{"$f":"IF('Window & Door DATA INPUT'!D31=\"\",\"\",'Window & Door DATA INPUT'!D31)","v":""},{"$f":"IF(B25=1,'Window & Door DATA INPUT'!H31&RESULTS!$H$5,\"\")","v":""},{"$f":"IF(B25=1,VLOOKUP(F25,Parameters!$H$4:$I$20,2,FALSE),\"\")","v":""},{"$f":"IF(OR('Window & Door DATA INPUT'!J31=Parameters!$K$4,'Window & Door DATA INPUT'!J31=Parameters!$K$11),\"No\",IF('Window & Door DATA INPUT'!K31=\"\",\"\",'Window & Door DATA INPUT'!K31))","v":""},{"$f":"IF('Window & Door DATA INPUT'!J31=\"\",\"\",'Window & Door DATA INPUT'!J31)","v":""},{"$f":"IF('Window & Door DATA INPUT'!L31=Parameters!$O$5,'Window & Door DATA INPUT'!O31,IF(B25=1,('Window & Door DATA INPUT'!N31*'Window & Door DATA INPUT'!M31)/1000000,\"\"))","v":""},{"$f":"IF('Window & Door DATA INPUT'!J31=\"\",\"\",VLOOKUP('Window & Door DATA INPUT'!J31,Parameters!$K$4:$L$16,2,FALSE))","v":""},{"$f":"IF($H25=\"yes\",IF($K25=\"Y\",'Window & Door DATA INPUT'!Q31/1000,IF($K25=\"N\",'Window & Door DATA INPUT'!P31/1000)),\"\")","v":""},{"$f":"IF($H25=\"yes\",IF($K25=\"Y\",'Window & Door DATA INPUT'!P31/1000,IF($K25=\"N\",'Window & Door DATA INPUT'!Q31/1000)),\"\")","v":""},{"$f":"IF(L25=\"\",\"\",L25*M25)","v":""},{"$f":"IF(AND(B25=1,C25=0,H25=\"yes\"),\"A\",IF(AND(C25=1,H25=\"yes\",'Window & Door DATA INPUT'!R31=\"no\"),\"B\",IF(AND(C25=1,H25=\"yes\",'Window & Door DATA INPUT'!R31=\"yes\",'Window & Door DATA INPUT'!S31=\"yes\"),\"C\",IF(AND(C25=1,H25=\"yes\",'Window & Door DATA INPUT'!R31=\"yes\",'Window & Door DATA INPUT'!S31=\"no\"),\"D\",\"\"))))","v":""},{"$f":"IF(AND(C25=1,H25=\"yes\",OR(I25=Parameters!$K$12,I25=Parameters!$K$13,I25=Parameters!$K$14)),\"E\",IF(AND(C25=1,H25=\"yes\",NOT(OR(I25=Parameters!$K$12,I25=Parameters!$K$13,I25=Parameters!$K$14))),\"F\",\"\"))","v":""},{"$f":"IF(AND(B25=1,H25=\"yes\"),VLOOKUP(I25,Parameters!$K$4:$M$16,3,FALSE),\"\")","v":""},{"$f":"IF(AND(OR(O25=\"A\",O25=\"B\",O25=\"d\"),Q25=\"input\"),'Window & Door DATA INPUT'!AA31,IF(AND(O25=\"C\",Q25=\"input\"),'Window & Door DATA INPUT'!W31,Calculations!Q25))","v":""},{"$f":"IF('Window & Door DATA INPUT'!X31=\"Yes\",'Window & Door DATA INPUT'!Y31/1000,IF(B25=1,\"N/A\",\"\"))","v":""},{"$f":"IF(Q25=\"calc\",IF(O25=\"c\",'Window & Door DATA INPUT'!U31/1000,(Parameters!$S$4-'Window & Door DATA INPUT'!Z31+Parameters!$Q$4)/1000),\"\")","v":""},{"$f":"IF(Q25=\"calc\",IF(T25>M25,M25,T25),\"\")","v":""},{"$f":"IF(AND(S25>0,S25<U25),S25,U25)","v":""},{"$f":"IF(R25=\"calc\",DEGREES(ASIN(V25/M25)),R25)","v":""},{"$f":"IF(OR($H25=\"no\",$B25=0),\"\",IF($I25=Parameters!$K$15,$L25/($M25/2),$L25/$M25))","v":""},{"$f":"IF(OR($H25=\"no\",$B25=0),\"\",IF($X25<0.5,Parameters!$X$4,IF($X25<1,Parameters!$Y$4,IF($X25<2,Parameters!$Z$4,Parameters!$AA$4))))","v":""},{"$f":"IF(OR($H25=\"no\",$B25=0),\"\",IF($X25<0.5,Parameters!$X$5,IF($X25<1,Parameters!$Y$5,IF($X25<2,Parameters!$Z$5,Parameters!$AA$5))))","v":""},{"$f":"IF(OR($H25=\"no\",$B25=0),\"\",IF($I25=Parameters!$K$15,(2*($M25/2)*SIN(RADIANS(Calculations!$W25/2))),(2*$M25*SIN(RADIANS($W25/2)))))","v":""},"",{"$f":"IF(OR($H25=\"no\",$B25=0),\"\",IF($I25=Parameters!$K$15,$AB25*$N25/2,$AB25*$N25))","v":""},{"$f":"IF(OR($H25=\"no\",$B25=0),\"\",IF($I25=Parameters!$K$15,$AC25*2/Parameters!$AB$4,$AC25/Parameters!$AB$4))","v":""},{"$f":"IF(AND(O25=\"B\",Q25=\"calc\"),V25,IF(AND(O25=\"C\",Q25=\"calc\"),'Window & Door DATA INPUT'!T31/1000,\"\"))","v":""},{"$f":"IF(AND(O25=\"B\",Q25=\"input\"),'Window & Door DATA INPUT'!AA31,IF(AND(O25=\"C\",Q25=\"input\",P25=\"F\"),'Window & Door DATA INPUT'!V31,IF(AND(O25=\"C\",P25=\"E\"),0,IF(AND(O25=\"D\"),0,IF(AND(B25=1,C25=0),\"\",(Calculations!Q25))))))","v":""},{"$f":"IF(AF25=\"calc\",DEGREES(ASIN(AE25/M25)),AF25)","v":""},{"$f":"IF(OR($H25=\"no\",$C25=0),\"\",IF($I25=Parameters!$K$15,$L25/($M25/2),$L25/$M25))","v":""},{"$f":"IF(OR($H25=\"no\",$C25=0),\"\",IF($AH25<0.5,Parameters!$X$4,IF($AH25<1,Parameters!$Y$4,IF($AH25<2,Parameters!$Z$4,Parameters!$AA$4))))","v":""},{"$f":"IF(OR($H25=\"no\",$C25=0),\"\",IF($AH25<0.5,Parameters!$X$5,IF($AH25<1,Parameters!$Y$5,IF($AH25<2,Parameters!$Z$5,Parameters!$AA$5))))","v":""},{"$f":"IF(OR($H25=\"no\",$C25=0),\"\",IF($I25=Parameters!$K$15,(2*($M25/2)*SIN(RADIANS(Calculations!$AG25/2))),(2*$M25*SIN(RADIANS($AG25/2)))))","v":""},"",{"$f":"IF(OR($H25=\"no\",$C25=0),\"\",IF($I25=Parameters!$K$15,$AL25*$N25/2,$AL25*$N25))","v":""},{"$f":"IF(OR($H25=\"no\",$C25=0),\"\",IF($I25=Parameters!$K$15,$AM25*2/Parameters!$AB$4,$AM25/Parameters!$AB$4))","v":""},null,{"$f":"Parameters!D25","v":"Bathroom 1"},{"v":0,"d":"0.00"},{"v":0,"d":"0.00"}," ",{"v":0,"d":"0.00"}," ",{"$nulls":7},"Bedroom 6","",{"$f":"IF(AV22>0,AW22*100,IF(AND(AV22=0,AX22=1),0,\"\"))","v":""},{"$nulls":3},{"$f":"'Window & Door DATA INPUT'!H31","v":0},{"$f":"J25","v":""}]
[null,{"$f":"IF('Window & Door DATA INPUT'!B32>1,1,0)","v":0},{"$f":"IF(AND(B26=1,OR(D26=Parameters!$D$17, D26=Parameters!$D$18,D26=Parameters!$D$19,D26=Parameters!$D$20,D26=Parameters!$D$21,D26=Parameters!$D$22, D26=Parameters!$D$23, D26=Parameters!$D$24)),1,0)","v":0},{"$f":"IF('Window & Door DATA INPUT'!B32=\"\",\"\",'Window & Door DATA INPUT'!B32)","v":""},{"$f":"IF('Window & Door DATA INPUT'!D32=\"\",\"\",'Window & Door DATA INPUT'!D32)","v":""},{"$f":"IF(B26=1,'Window & Door DATA INPUT'!H32&RESULTS!$H$5,\"\")","v":""},{"$f":"IF(B26=1,VLOOKUP(F26,Parameters!$H$4:$I$20,2,FALSE),\"\")","v":""},{"$f":"IF(OR('Window & Door DATA INPUT'!J32=Parameters!$K$4,'Window & Door DATA INPUT'!J32=Parameters!$K$11),\"No\",IF('Window & Door DATA INPUT'!K32=\"\",\"\",'Window & Door DATA INPUT'!K32))","v":""},{"$f":"IF('Window & Door DATA INPUT'!J32=\"\",\"\",'Window & Door DATA INPUT'!J32)","v":""},{"$f":"IF('Window & Door DATA INPUT'!L32=Parameters!$O$5,'Window & Door DATA INPUT'!O32,IF(B26=1,('Window & Door DATA INPUT'!N32*'Window & Door DATA INPUT'!M32)/1000000,\"\"))","v":""},{"$f":"IF('Window & Door DATA INPUT'!J32=\"\",\"\",VLOOKUP('Window & Door DATA INPUT'!J32,Parameters!$K$4:$L$16,2,FALSE))","v":""},{"$f":"IF($H26=\"yes\",IF($K26=\"Y\",'Window & Door DATA INPUT'!Q32/1000,IF($K26=\"N\",'Window & Door DATA INPUT'!P32/1000)),\"\")","v":""},{"$f":"IF($H26=\"yes\",IF($K26=\"Y\",'Window & Door DATA INPUT'!P32/1000,IF($K26=\"N\",'Window & Door DATA INPUT'!Q32/1000)),\"\")","v":""},"",{"$f":"IF(AND(B26=1,C26=0,H26=\"yes\"),\"A\",IF(AND(C26=1,H26=\"yes\",'Window & Door DATA INPUT'!R32=\"no\"),\"B\",IF(AND(C26=1,H26=\"yes\",'Window & Door DATA INPUT'!R32=\"yes\",'Window & Door DATA INPUT'!S32=\"yes\"),\"C\",IF(AND(C26=1,H26=\"yes\",'Window & Door DATA INPUT'!R32=\"yes\",'Window & Door DATA INPUT'!S32=\"no\"),\"D\",\"\"))))","v":""},{"$f":"IF(AND(C26=1,H26=\"yes\",OR(I26=Parameters!$K$12,I26=Parameters!$K$13,I26=Parameters!$K$14)),\"E\",IF(AND(C26=1,H26=\"yes\",NOT(OR(I26=Parameters!$K$12,I26=Parameters!$K$13,I26=Parameters!$K$14))),\"F\",\"\"))","v":""},{"$f":"IF(AND(B26=1,H26=\"yes\"),VLOOKUP(I26,Parameters!$K$4:$M$16,3,FALSE),\"\")","v":""},{"$f":"IF(AND(OR(O26=\"A\",O26=\"B\",O26=\"d\"),Q26=\"input\"),'Window & Door DATA INPUT'!AA32,IF(AND(O26=\"C\",Q26=\"input\"),'Window & Door DATA INPUT'!W32,Calculations!Q26))","v":""},{"$f":"IF('Window & Door DATA INPUT'!X32=\"Yes\",'Window & Door DATA INPUT'!Y32/1000,IF(B26=1,\"N/A\",\"\"))","v":""},{"$f":"IF(Q26=\"calc\",IF(O26=\"c\",'Window & Door DATA INPUT'!U32/1000,(Parameters!$S$4-'Window & Door DATA INPUT'!Z32+Parameters!$Q$4)/1000),\"\")","v":""},"","","",{"$f":"IF(OR($H26=\"no\",$B26=0),\"\",IF($I26=Parameters!$K$15,$L26/($M26/2),$L26/$M26))","v":""},{"$f":"IF(OR($H26=\"no\",$B26=0),\"\",IF($X26<0.5,Parameters!$X$4,IF($X26<1,Parameters!$Y$4,IF($X26<2,Parameters!$Z$4,Parameters!$AA$4))))","v":""},{"$f":"IF(OR($H26=\"no\",$B26=0),\"\",IF($X26<0.5,Parameters!$X$5,IF($X26<1,Parameters!$Y$5,IF($X26<2,Parameters!$Z$5,Parameters!$AA$5))))","v":""},{"$f":"IF(OR($H26=\"no\",$B26=0),\"\",IF($I26=Parameters!$K$15,(2*($M26/2)*SIN(RADIANS(Calculations!$W26/2))),(2*$M26*SIN(RADIANS($W26/2)))))","v":""},"",{"$f":"IF(OR($H26=\"no\",$B26=0),\"\",IF($I26=Parameters!$K$15,$AB26*$N26/2,$AB26*$N26))","v":""},{"$f":"IF(OR($H26=\"no\",$B26=0),\"\",IF($I26=Parameters!$K$15,$AC26*2/Parameters!$AB$4,$AC26/Parameters!$AB$4))","v":""},{"$f":"IF(AND(O26=\"B\",Q26=\"calc\"),V26,IF(AND(O26=\"C\",Q26=\"calc\"),'Window & Door DATA INPUT'!T32/1000,\"\"))","v":""},{"$f":"IF(AND(O26=\"B\",Q26=\"input\"),'Window & Door DATA INPUT'!AA32,IF(AND(O26=\"C\",Q26=\"input\",P26=\"F\"),'Window & Door DATA INPUT'!V32,IF(AND(O26=\"C\",P26=\"E\"),0,IF(AND(O26=\"D\"),0,IF(AND(B26=1,C26=0),\"\",(Calculations!Q26))))))","v":""},"",{"$f":"IF(OR($H26=\"no\",$C26=0),\"\",IF($I26=Parameters!$K$15,$L26/($M26/2),$L26/$M26))","v":""},{"$f":"IF(OR($H26=\"no\",$C26=0),\"\",IF($AH26<0.5,Parameters!$X$4,IF($AH26<1,Parameters!$Y$4,IF($AH26<2,Parameters!$Z$4,Parameters!$AA$4))))","v":""},{"$f":"IF(OR($H26=\"no\",$C26=0),\"\",IF($AH26<0.5,Parameters!$X$5,IF($AH26<1,Parameters!$Y$5,IF($AH26<2,Parameters!$Z$5,Parameters!$AA$5))))","v":""},{"$f":"IF(OR($H26=\"no\",$C26=0),\"\",IF($I26=Parameters!$K$15,(2*($M26/2)*SIN(RADIANS(Calculations!$AG26/2))),(2*$M26*SIN(RADIANS($AG26/2)))))","v":""},"",{"$f":"IF(OR($H26=\"no\",$C26=0),\"\",IF($I26=Parameters!$K$15,$AL26*$N26/2,$AL26*$N26))","v":""},{"$f":"IF(OR($H26=\"no\",$C26=0),\"\",IF($I26=Parameters!$K$15,$AM26*2/Parameters!$AB$4,$AM26/Parameters!$AB$4))","v":""},null,{"$f":"Parameters!D26","v":"Bathroom 2"},{"v":0,"d":"0.00"},{"v":0,"d":"0.00"}," ",{"v":0,"d":"0.00"}," ",{"$nulls":7},"Bedroom 7",{"$f":"IF(AX23=1,AV23,\"\")","v":""},{"$f":"IF(AV23>0,AW23*100,IF(AND(AV23=0,AX23=1),0,\"\"))","v":""},{"$nulls":3},{"$f":"'Window & Door DATA INPUT'!H32","v":0},""]
[null,{"$f":"IF('Window & Door DATA INPUT'!B33>1,1,0)","v":0},{"$f":"IF(AND(B27=1,OR(D27=Parameters!$D$17, D27=Parameters!$D$18,D27=Parameters!$D$19,D27=Parameters!$D$20,D27=Parameters!$D$21,D27=Parameters!$D$22, D27=Parameters!$D$23, D27=Parameters!$D$24)),1,0)","v":0},{"$f":"IF('Window & Door DATA INPUT'!B33=\"\",\"\",'Window & Door DATA INPUT'!B33)","v":""},{"$f":"IF('Window & Door DATA INPUT'!D33=\"\",\"\",'Window & Door DATA INPUT'!D33)","v":""},{"$f":"IF(B27=1,'Window & Door DATA INPUT'!H33&RESULTS!$H$5,\"\")","v":""},{"$f":"IF(B27=1,VLOOKUP(F27,Parameters!$H$4:$I$20,2,FALSE),\"\")","v":""},{"$f":"IF(OR('Window & Door DATA INPUT'!J33=Parameters!$K$4,'Window & Door DATA INPUT'!J33=Parameters!$K$11),\"No\",IF('Window & Door DATA INPUT'!K33=\"\",\"\",'Window & Door DATA INPUT'!K33))","v":""},{"$f":"IF('Window & Door DATA INPUT'!J33=\"\",\"\",'Window & Door DATA INPUT'!J33)","v":""},{"$f":"IF('Window & Door DATA INPUT'!L33=Parameters!$O$5,'Window & Door DATA INPUT'!O33,IF(B27=1,('Window & Door DATA INPUT'!N33*'Window & Door DATA INPUT'!M33)/1000000,\"\"))","v":""},{"$f":"IF('Window & Door DATA INPUT'!J33=\"\",\"\",VLOOKUP('Window & Door DATA INPUT'!J33,Parameters!$K$4:$L$16,2,FALSE))","v":""},{"$f":"IF($H27=\"yes\",IF($K27=\"Y\",'Window & Door DATA INPUT'!Q33/1000,IF($K27=\"N\",'Window & Door DATA INPUT'!P33/1000)),\"\")","v":""},{"$f":"IF($H27=\"yes\",IF($K27=\"Y\",'Window & Door DATA INPUT'!P33/1000,IF($K27=\"N\",'Window & Door DATA INPUT'!Q33/1000)),\"\")","v":""},"",{"$f":"IF(AND(B27=1,C27=0,H27=\"yes\"),\"A\",IF(AND(C27=1,H27=\"yes\",'Window & Door DATA INPUT'!R33=\"no\"),\"B\",IF(AND(C27=1,H27=\"yes\",'Window & Door DATA INPUT'!R33=\"yes\",'Window & Door DATA INPUT'!S33=\"yes\"),\"C\",IF(AND(C27=1,H27=\"yes\",'Window & Door DATA INPUT'!R33=\"yes\",'Window & Door DATA INPUT'!S33=\"no\"),\"D\",\"\"))))","v":""},{"$f":"IF(AND(C27=1,H27=\"yes\",OR(I27=Parameters!$K$12,I27=Parameters!$K$13,I27=Parameters!$K$14)),\"E\",IF(AND(C27=1,H27=\"yes\",NOT(OR(I27=Parameters!$K$12,I27=Parameters!$K$13,I27=Parameters!$K$14))),\"F\",\"\"))","v":""},{"$f":"IF(AND(B27=1,H27=\"yes\"),VLOOKUP(I27,Parameters!$K$4:$M$16,3,FALSE),\"\")","v":""},{"$f":"IF(AND(OR(O27=\"A\",O27=\"B\",O27=\"d\"),Q27=\"input\"),'Window & Door DATA INPUT'!AA33,IF(AND(O27=\"C\",Q27=\"input\"),'Window & Door DATA INPUT'!W33,Calculations!Q27))","v":""},{"$f":"IF('Window & Door DATA INPUT'!X33=\"Yes\",'Window & Door DATA INPUT'!Y33/1000,IF(B27=1,\"N/A\",\"\"))","v":""},{"$f":"IF(Q27=\"calc\",IF(O27=\"c\",'Window & Door DATA INPUT'!U33/1000,(Parameters!$S$4-'Window & Door DATA INPUT'!Z33+Parameters!$Q$4)/1000),\"\")","v":""},"","","",{"$f":"IF(OR($H27=\"no\",$B27=0),\"\",IF($I27=Parameters!$K$15,$L27/($M27/2),$L27/$M27))","v":""},{"$f":"IF(OR($H27=\"no\",$B27=0),\"\",IF($X27<0.5,Parameters!$X$4,IF($X27<1,Parameters!$Y$4,IF($X27<2,Parameters!$Z$4,Parameters!$AA$4))))","v":""},{"$f":"IF(OR($H27=\"no\",$B27=0),\"\",IF($X27<0.5,Parameters!$X$5,IF($X27<1,Parameters!$Y$5,IF($X27<2,Parameters!$Z$5,Parameters!$AA$5))))","v":""},{"$f":"IF(OR($H27=\"no\",$B27=0),\"\",IF($I27=Parameters!$K$15,(2*($M27/2)*SIN(RADIANS(Calculations!$W27/2))),(2*$M27*SIN(RADIANS($W27/2)))))","v":""},"",{"$f":"IF(OR($H27=\"no\",$B27=0),\"\",IF($I27=Parameters!$K$15,$AB27*$N27/2,$AB27*$N27))","v":""},{"$f":"IF(OR($H27=\"no\",$B27=0),\"\",IF($I27=Parameters!$K$15,$AC27*2/Parameters!$AB$4,$AC27/Parameters!$AB$4))","v":""},{"$f":"IF(AND(O27=\"B\",Q27=\"calc\"),V27,IF(AND(O27=\"C\",Q27=\"calc\"),'Window & Door DATA INPUT'!T33/1000,\"\"))","v":""},{"$f":"IF(AND(O27=\"B\",Q27=\"input\"),'Window & Door DATA INPUT'!AA33,IF(AND(O27=\"C\",Q27=\"input\",P27=\"F\"),'Window & Door DATA INPUT'!V33,IF(AND(O27=\"C\",P27=\"E\"),0,IF(AND(O27=\"D\"),0,IF(AND(B27=1,C27=0),\"\",(Calculations!Q27))))))","v":""},"",{"$f":"IF(OR($H27=\"no\",$C27=0),\"\",IF($I27=Parameters!$K$15,$L27/($M27/2),$L27/$M27))","v":""},{"$f":"IF(OR($H27=\"no\",$C27=0),\"\",IF($AH27<0.5,Parameters!$X$4,IF($AH27<1,Parameters!$Y$4,IF($AH27<2,Parameters!$Z$4,Parameters!$AA$4))))","v":""},{"$f":"IF(OR($H27=\"no\",$C27=0),\"\",IF($AH27<0.5,Parameters!$X$5,IF($AH27<1,Parameters!$Y$5,IF($AH27<2,Parameters!$Z$5,Parameters!$AA$5))))","v":""},{"$f":"IF(OR($H27=\"no\",$C27=0),\"\",IF($I27=Parameters!$K$15,(2*($M27/2)*SIN(RADIANS(Calculations!$AG27/2))),(2*$M27*SIN(RADIANS($AG27/2)))))","v":""},"",{"$f":"IF(OR($H27=\"no\",$C27=0),\"\",IF($I27=Parameters!$K$15,$AL27*$N27/2,$AL27*$N27))","v":""},{"$f":"IF(OR($H27=\"no\",$C27=0),\"\",IF($I27=Parameters!$K$15,$AM27*2/Parameters!$AB$4,$AM27/Parameters!$AB$4))","v":""},null,{"$f":"Parameters!D27","v":"En-suite 1"},{"v":0,"d":"0.00"},{"v":0,"d":"0.00"}," ",{"v":0,"d":"0.00"}," ",{"$nulls":7},"Bedroom 8","","",{"$nulls":3},{"$f":"'Window & Door DATA INPUT'!H33","v":0},""]
[null,{"$f":"IF('Window & Door DATA INPUT'!B34>1,1,0)","v":0},{"$f":"IF(AND(B28=1,OR(D28=Parameters!$D$17, D28=Parameters!$D$18,D28=Parameters!$D$19,D28=Parameters!$D$20,D28=Parameters!$D$21,D28=Parameters!$D$22, D28=Parameters!$D$23, D28=Parameters!$D$24)),1,0)","v":0},{"$f":"IF('Window & Door DATA INPUT'!B34=\"\",\"\",'Window & Door DATA INPUT'!B34)","v":""},{"$f":"IF('Window & Door DATA INPUT'!D34=\"\",\"\",'Window & Door DATA INPUT'!D34)","v":""},{"$f":"IF(B28=1,'Window & Door DATA INPUT'!H34&RESULTS!$H$5,\"\")","v":""},{"$f":"IF(B28=1,VLOOKUP(F28,Parameters!$H$4:$I$20,2,FALSE),\"\")","v":""},{"$f":"IF(OR('Window & Door DATA INPUT'!J34=Parameters!$K$4,'Window & Door DATA INPUT'!J34=Parameters!$K$11),\"No\",IF('Window & Door DATA INPUT'!K34=\"\",\"\",'Window & Door DATA INPUT'!K34))","v":""},{"$f":"IF('Window & Door DATA INPUT'!J34=\"\",\"\",'Window & Door DATA INPUT'!J34)","v":""},{"$f":"IF('Window & Door DATA INPUT'!L34=Parameters!$O$5,'Window & Door DATA INPUT'!O34,IF(B28=1,('Window & Door DATA INPUT'!N34*'Window & Door DATA INPUT'!M34)/1000000,\"\"))","v":""},{"$f":"IF('Window & Door DATA INPUT'!J34=\"\",\"\",VLOOKUP('Window & Door DATA INPUT'!J34,Parameters!$K$4:$L$16,2,FALSE))","v":""},{"$f":"IF($H28=\"yes\",IF($K28=\"Y\",'Window & Door DATA INPUT'!Q34/1000,IF($K28=\"N\",'Window & Door DATA INPUT'!P34/1000)),\"\")","v":""},{"$f":"IF($H28=\"yes\",IF($K28=\"Y\",'Window & Door DATA INPUT'!P34/1000,IF($K28=\"N\",'Window & Door DATA INPUT'!Q34/1000)),\"\")","v":""},"",{"$f":"IF(AND(B28=1,C28=0,H28=\"yes\"),\"A\",IF(AND(C28=1,H28=\"yes\",'Window & Door DATA INPUT'!R34=\"no\"),\"B\",IF(AND(C28=1,H28=\"yes\",'Window & Door DATA INPUT'!R34=\"yes\",'Window & Door DATA INPUT'!S34=\"yes\"),\"C\",IF(AND(C28=1,H28=\"yes\",'Window & Door DATA INPUT'!R34=\"yes\",'Window & Door DATA INPUT'!S34=\"no\"),\"D\",\"\"))))","v":""},{"$f":"IF(AND(C28=1,H28=\"yes\",OR(I28=Parameters!$K$12,I28=Parameters!$K$13,I28=Parameters!$K$14)),\"E\",IF(AND(C28=1,H28=\"yes\",NOT(OR(I28=Parameters!$K$12,I28=Parameters!$K$13,I28=Parameters!$K$14))),\"F\",\"\"))","v":""},{"$f":"IF(AND(B28=1,H28=\"yes\"),VLOOKUP(I28,Parameters!$K$4:$M$16,3,FALSE),\"\")","v":""},{"$f":"IF(AND(OR(O28=\"A\",O28=\"B\",O28=\"d\"),Q28=\"input\"),'Window & Door DATA INPUT'!AA34,IF(AND(O28=\"C\",Q28=\"input\"),'Window & Door DATA INPUT'!W34,Calculations!Q28))","v":""},{"$f":"IF('Window & Door DATA INPUT'!X34=\"Yes\",'Window & Door DATA INPUT'!Y34/1000,IF(B28=1,\"N/A\",\"\"))","v":""},{"$f":"IF(Q28=\"calc\",IF(O28=\"c\",'Window & Door DATA INPUT'!U34/1000,(Parameters!$S$4-'Window & Door DATA INPUT'!Z34+Parameters!$Q$4)/1000),\"\")","v":""},"","","",{"$f":"IF(OR($H28=\"no\",$B28=0),\"\",IF($I28=Parameters!$K$15,$L28/($M28/2),$L28/$M28))","v":""},{"$f":"IF(OR($H28=\"no\",$B28=0),\"\",IF($X28<0.5,Parameters!$X$4,IF($X28<1,Parameters!$Y$4,IF($X28<2,Parameters!$Z$4,Parameters!$AA$4))))","v":""},{"$f":"IF(OR($H28=\"no\",$B28=0),\"\",IF($X28<0.5,Parameters!$X$5,IF($X28<1,Parameters!$Y$5,IF($X28<2,Parameters!$Z$5,Parameters!$AA$5))))","v":""},{"$f":"IF(OR($H28=\"no\",$B28=0),\"\",IF($I28=Parameters!$K$15,(2*($M28/2)*SIN(RADIANS(Calculations!$W28/2))),(2*$M28*SIN(RADIANS($W28/2)))))","v":""},"",{"$f":"IF(OR($H28=\"no\",$B28=0),\"\",IF($I28=Parameters!$K$15,$AB28*$N28/2,$AB28*$N28))","v":""},{"$f":"IF(OR($H28=\"no\",$B28=0),\"\",IF($I28=Parameters!$K$15,$AC28*2/Parameters!$AB$4,$AC28/Parameters!$AB$4))","v":""},{"$f":"IF(AND(O28=\"B\",Q28=\"calc\"),V28,IF(AND(O28=\"C\",Q28=\"calc\"),'Window & Door DATA INPUT'!T34/1000,\"\"))","v":""},{"$f":"IF(AND(O28=\"B\",Q28=\"input\"),'Window & Door DATA INPUT'!AA34,IF(AND(O28=\"C\",Q28=\"input\",P28=\"F\"),'Window & Door DATA INPUT'!V34,IF(AND(O28=\"C\",P28=\"E\"),0,IF(AND(O28=\"D\"),0,IF(AND(B28=1,C28=0),\"\",(Calculations!Q28))))))","v":""},"",{"$f":"IF(OR($H28=\"no\",$C28=0),\"\",IF($I28=Parameters!$K$15,$L28/($M28/2),$L28/$M28))","v":""},{"$f":"IF(OR($H28=\"no\",$C28=0),\"\",IF($AH28<0.5,Parameters!$X$4,IF($AH28<1,Parameters!$Y$4,IF($AH28<2,Parameters!$Z$4,Parameters!$AA$4))))","v":""},{"$f":"IF(OR($H28=\"no\",$C28=0),\"\",IF($AH28<0.5,Parameters!$X$5,IF($AH28<1,Parameters!$Y$5,IF($AH28<2,Parameters!$Z$5,Parameters!$AA$5))))","v":""},{"$f":"IF(OR($H28=\"no\",$C28=0),\"\",IF($I28=Parameters!$K$15,(2*($M28/2)*SIN(RADIANS(Calculations!$AG28/2))),(2*$M28*SIN(RADIANS($AG28/2)))))","v":""},"",{"$f":"IF(OR($H28=\"no\",$C28=0),\"\",IF($I28=Parameters!$K$15,$AL28*$N28/2,$AL28*$N28))","v":""},{"$f":"IF(OR($H28=\"no\",$C28=0),\"\",IF($I28=Parameters!$K$15,$AM28*2/Parameters!$AB$4,$AM28/Parameters!$AB$4))","v":""},null,{"$f":"Parameters!D28","v":"En-suite 2"},{"v":0,"d":"0.00"},{"v":0,"d":"0.00"}," ",{"v":0,"d":"0.00"}," ",{"$nulls":13},{"$f":"'Window & Door DATA INPUT'!H34","v":0},""]
[null,{"$f":"IF('Window & Door DATA INPUT'!B35>1,1,0)","v":0},{"$f":"IF(AND(B29=1,OR(D29=Parameters!$D$17, D29=Parameters!$D$18,D29=Parameters!$D$19,D29=Parameters!$D$20,D29=Parameters!$D$21,D29=Parameters!$D$22, D29=Parameters!$D$23, D29=Parameters!$D$24)),1,0)","v":0},{"$f":"IF('Window & Door DATA INPUT'!B35=\"\",\"\",'Window & Door DATA INPUT'!B35)","v":""},{"$f":"IF('Window & Door DATA INPUT'!D35=\"\",\"\",'Window & Door DATA INPUT'!D35)","v":""},{"$f":"IF(B29=1,'Window & Door DATA INPUT'!H35&RESULTS!$H$5,\"\")","v":""},{"$f":"IF(B29=1,VLOOKUP(F29,Parameters!$H$4:$I$20,2,FALSE),\"\")","v":""},{"$f":"IF(OR('Window & Door DATA INPUT'!J35=Parameters!$K$4,'Window & Door DATA INPUT'!J35=Parameters!$K$11),\"No\",IF('Window & Door DATA INPUT'!K35=\"\",\"\",'Window & Door DATA INPUT'!K35))","v":""},{"$f":"IF('Window & Door DATA INPUT'!J35=\"\",\"\",'Window & Door DATA INPUT'!J35)","v":""},{"$f":"IF('Window & Door DATA INPUT'!L35=Parameters!$O$5,'Window & Door DATA INPUT'!O35,IF(B29=1,('Window & Door DATA INPUT'!N35*'Window & Door DATA INPUT'!M35)/1000000,\"\"))","v":""},{"$f":"IF('Window & Door DATA INPUT'!J35=\"\",\"\",VLOOKUP('Window & Door DATA INPUT'!J35,Parameters!$K$4:$L$16,2,FALSE))","v":""},{"$f":"IF($H29=\"yes\",IF($K29=\"Y\",'Window & Door DATA INPUT'!Q35/1000,IF($K29=\"N\",'Window & Door DATA INPUT'!P35/1000)),\"\")","v":""},{"$f":"IF($H29=\"yes\",IF($K29=\"Y\",'Window & Door DATA INPUT'!P35/1000,IF($K29=\"N\",'Window & Door DATA INPUT'!Q35/1000)),\"\")","v":""},"",{"$f":"IF(AND(B29=1,C29=0,H29=\"yes\"),\"A\",IF(AND(C29=1,H29=\"yes\",'Window & Door DATA INPUT'!R35=\"no\"),\"B\",IF(AND(C29=1,H29=\"yes\",'Window & Door DATA INPUT'!R35=\"yes\",'Window & Door DATA INPUT'!S35=\"yes\"),\"C\",IF(AND(C29=1,H29=\"yes\",'Window & Door DATA INPUT'!R35=\"yes\",'Window & Door DATA INPUT'!S35=\"no\"),\"D\",\"\"))))","v":""},{"$f":"IF(AND(C29=1,H29=\"yes\",OR(I29=Parameters!$K$12,I29=Parameters!$K$13,I29=Parameters!$K$14)),\"E\",IF(AND(C29=1,H29=\"yes\",NOT(OR(I29=Parameters!$K$12,I29=Parameters!$K$13,I29=Parameters!$K$14))),\"F\",\"\"))","v":""},{"$f":"IF(AND(B29=1,H29=\"yes\"),VLOOKUP(I29,Parameters!$K$4:$M$16,3,FALSE),\"\")","v":""},{"$f":"IF(AND(OR(O29=\"A\",O29=\"B\",O29=\"d\"),Q29=\"input\"),'Window & Door DATA INPUT'!AA35,IF(AND(O29=\"C\",Q29=\"input\"),'Window & Door DATA INPUT'!W35,Calculations!Q29))","v":""},{"$f":"IF('Window & Door DATA INPUT'!X35=\"Yes\",'Window & Door DATA INPUT'!Y35/1000,IF(B29=1,\"N/A\",\"\"))","v":""},{"$f":"IF(Q29=\"calc\",IF(O29=\"c\",'Window & Door DATA INPUT'!U35/1000,(Parameters!$S$4-'Window & Door DATA INPUT'!Z35+Parameters!$Q$4)/1000),\"\")","v":""},"","","",{"$f":"IF(OR($H29=\"no\",$B29=0),\"\",IF($I29=Parameters!$K$15,$L29/($M29/2),$L29/$M29))","v":""},{"$f":"IF(OR($H29=\"no\",$B29=0),\"\",IF($X29<0.5,Parameters!$X$4,IF($X29<1,Parameters!$Y$4,IF($X29<2,Parameters!$Z$4,Parameters!$AA$4))))","v":""},{"$f":"IF(OR($H29=\"no\",$B29=0),\"\",IF($X29<0.5,Parameters!$X$5,IF($X29<1,Parameters!$Y$5,IF($X29<2,Parameters!$Z$5,Parameters!$AA$5))))","v":""},{"$f":"IF(OR($H29=\"no\",$B29=0),\"\",IF($I29=Parameters!$K$15,(2*($M29/2)*SIN(RADIANS(Calculations!$W29/2))),(2*$M29*SIN(RADIANS($W29/2)))))","v":""},"",{"$f":"IF(OR($H29=\"no\",$B29=0),\"\",IF($I29=Parameters!$K$15,$AB29*$N29/2,$AB29*$N29))","v":""},{"$f":"IF(OR($H29=\"no\",$B29=0),\"\",IF($I29=Parameters!$K$15,$AC29*2/Parameters!$AB$4,$AC29/Parameters!$AB$4))","v":""},{"$f":"IF(AND(O29=\"B\",Q29=\"calc\"),V29,IF(AND(O29=\"C\",Q29=\"calc\"),'Window & Door DATA INPUT'!T35/1000,\"\"))","v":""},{"$f":"IF(AND(O29=\"B\",Q29=\"input\"),'Window & Door DATA INPUT'!AA35,IF(AND(O29=\"C\",Q29=\"input\",P29=\"F\"),'Window & Door DATA INPUT'!V35,IF(AND(O29=\"C\",P29=\"E\"),0,IF(AND(O29=\"D\"),0,IF(AND(B29=1,C29=0),\"\",(Calculations!Q29))))))","v":""},"",{"$f":"IF(OR($H29=\"no\",$C29=0),\"\",IF($I29=Parameters!$K$15,$L29/($M29/2),$L29/$M29))","v":""},{"$f":"IF(OR($H29=\"no\",$C29=0),\"\",IF($AH29<0.5,Parameters!$X$4,IF($AH29<1,Parameters!$Y$4,IF($AH29<2,Parameters!$Z$4,Parameters!$AA$4))))","v":""},{"$f":"IF(OR($H29=\"no\",$C29=0),\"\",IF($AH29<0.5,Parameters!$X$5,IF($AH29<1,Parameters!$Y$5,IF($AH29<2,Parameters!$Z$5,Parameters!$AA$5))))","v":""},{"$f":"IF(OR($H29=\"no\",$C29=0),\"\",IF($I29=Parameters!$K$15,(2*($M29/2)*SIN(RADIANS(Calculations!$AG29/2))),(2*$M29*SIN(RADIANS($AG29/2)))))","v":""},"",{"$f":"IF(OR($H29=\"no\",$C29=0),\"\",IF($I29=Parameters!$K$15,$AL29*$N29/2,$AL29*$N29))","v":""},{"$f":"IF(OR($H29=\"no\",$C29=0),\"\",IF($I29=Parameters!$K$15,$AM29*2/Parameters!$AB$4,$AM29/Parameters!$AB$4))","v":""},null,{"$f":"Parameters!D29","v":"En-suite 3"},{"v":0,"d":"0.00"},{"v":0,"d":"0.00"}," ",{"v":0,"d":"0.00"}," ",{"$nulls":13},{"$f":"'Window & Door DATA INPUT'!H35","v":0},""]
[null,{"$f":"IF('Window & Door DATA INPUT'!B36>1,1,0)","v":0},{"$f":"IF(AND(B30=1,OR(D30=Parameters!$D$17, D30=Parameters!$D$18,D30=Parameters!$D$19,D30=Parameters!$D$20,D30=Parameters!$D$21,D30=Parameters!$D$22, D30=Parameters!$D$23, D30=Parameters!$D$24)),1,0)","v":0},{"$f":"IF('Window & Door DATA INPUT'!B36=\"\",\"\",'Window & Door DATA INPUT'!B36)","v":""},{"$f":"IF('Window & Door DATA INPUT'!D36=\"\",\"\",'Window & Door DATA INPUT'!D36)","v":""},{"$f":"IF(B30=1,'Window & Door DATA INPUT'!H36&RESULTS!$H$5,\"\")","v":""},{"$f":"IF(B30=1,VLOOKUP(F30,Parameters!$H$4:$I$20,2,FALSE),\"\")","v":""},{"$f":"IF(OR('Window & Door DATA INPUT'!J36=Parameters!$K$4,'Window & Door DATA INPUT'!J36=Parameters!$K$11),\"No\",IF('Window & Door DATA INPUT'!K36=\"\",\"\",'Window & Door DATA INPUT'!K36))","v":""},{"$f":"IF('Window & Door DATA INPUT'!J36=\"\",\"\",'Window & Door DATA INPUT'!J36)","v":""},{"$f":"IF('Window & Door DATA INPUT'!L36=Parameters!$O$5,'Window & Door DATA INPUT'!O36,IF(B30=1,('Window & Door DATA INPUT'!N36*'Window & Door DATA INPUT'!M36)/1000000,\"\"))","v":""},{"$f":"IF('Window & Door DATA INPUT'!J36=\"\",\"\",VLOOKUP('Window & Door DATA INPUT'!J36,Parameters!$K$4:$L$16,2,FALSE))","v":""},{"$f":"IF($H30=\"yes\",IF($K30=\"Y\",'Window & Door DATA INPUT'!Q36/1000,IF($K30=\"N\",'Window & Door DATA INPUT'!P36/1000)),\"\")","v":""},{"$f":"IF($H30=\"yes\",IF($K30=\"Y\",'Window & Door DATA INPUT'!P36/1000,IF($K30=\"N\",'Window & Door DATA INPUT'!Q36/1000)),\"\")","v":""},"",{"$f":"IF(AND(B30=1,C30=0,H30=\"yes\"),\"A\",IF(AND(C30=1,H30=\"yes\",'Window & Door DATA INPUT'!R36=\"no\"),\"B\",IF(AND(C30=1,H30=\"yes\",'Window & Door DATA INPUT'!R36=\"yes\",'Window & Door DATA INPUT'!S36=\"yes\"),\"C\",IF(AND(C30=1,H30=\"yes\",'Window & Door DATA INPUT'!R36=\"yes\",'Window & Door DATA INPUT'!S36=\"no\"),\"D\",\"\"))))","v":""},{"$f":"IF(AND(C30=1,H30=\"yes\",OR(I30=Parameters!$K$12,I30=Parameters!$K$13,I30=Parameters!$K$14)),\"E\",IF(AND(C30=1,H30=\"yes\",NOT(OR(I30=Parameters!$K$12,I30=Parameters!$K$13,I30=Parameters!$K$14))),\"F\",\"\"))","v":""},{"$f":"IF(AND(B30=1,H30=\"yes\"),VLOOKUP(I30,Parameters!$K$4:$M$16,3,FALSE),\"\")","v":""},{"$f":"IF(AND(OR(O30=\"A\",O30=\"B\",O30=\"d\"),Q30=\"input\"),'Window & Door DATA INPUT'!AA36,IF(AND(O30=\"C\",Q30=\"input\"),'Window & Door DATA INPUT'!W36,Calculations!Q30))","v":""},{"$f":"IF('Window & Door DATA INPUT'!X36=\"Yes\",'Window & Door DATA INPUT'!Y36/1000,IF(B30=1,\"N/A\",\"\"))","v":""},{"$f":"IF(Q30=\"calc\",IF(O30=\"c\",'Window & Door DATA INPUT'!U36/1000,(Parameters!$S$4-'Window & Door DATA INPUT'!Z36+Parameters!$Q$4)/1000),\"\")","v":""},"","","",{"$f":"IF(OR($H30=\"no\",$B30=0),\"\",IF($I30=Parameters!$K$15,$L30/($M30/2),$L30/$M30))","v":""},{"$f":"IF(OR($H30=\"no\",$B30=0),\"\",IF($X30<0.5,Parameters!$X$4,IF($X30<1,Parameters!$Y$4,IF($X30<2,Parameters!$Z$4,Parameters!$AA$4))))","v":""},{"$f":"IF(OR($H30=\"no\",$B30=0),\"\",IF($X30<0.5,Parameters!$X$5,IF($X30<1,Parameters!$Y$5,IF($X30<2,Parameters!$Z$5,Parameters!$AA$5))))","v":""},{"$f":"IF(OR($H30=\"no\",$B30=0),\"\",IF($I30=Parameters!$K$15,(2*($M30/2)*SIN(RADIANS(Calculations!$W30/2))),(2*$M30*SIN(RADIANS($W30/2)))))","v":""},"",{"$f":"IF(OR($H30=\"no\",$B30=0),\"\",IF($I30=Parameters!$K$15,$AB30*$N30/2,$AB30*$N30))","v":""},{"$f":"IF(OR($H30=\"no\",$B30=0),\"\",IF($I30=Parameters!$K$15,$AC30*2/Parameters!$AB$4,$AC30/Parameters!$AB$4))","v":""},{"$f":"IF(AND(O30=\"B\",Q30=\"calc\"),V30,IF(AND(O30=\"C\",Q30=\"calc\"),'Window & Door DATA INPUT'!T36/1000,\"\"))","v":""},{"$f":"IF(AND(O30=\"B\",Q30=\"input\"),'Window & Door DATA INPUT'!AA36,IF(AND(O30=\"C\",Q30=\"input\",P30=\"F\"),'Window & Door DATA INPUT'!V36,IF(AND(O30=\"C\",P30=\"E\"),0,IF(AND(O30=\"D\"),0,IF(AND(B30=1,C30=0),\"\",(Calculations!Q30))))))","v":""},"",{"$f":"IF(OR($H30=\"no\",$C30=0),\"\",IF($I30=Parameters!$K$15,$L30/($M30/2),$L30/$M30))","v":""},{"$f":"IF(OR($H30=\"no\",$C30=0),\"\",IF($AH30<0.5,Parameters!$X$4,IF($AH30<1,Parameters!$Y$4,IF($AH30<2,Parameters!$Z$4,Parameters!$AA$4))))","v":""},{"$f":"IF(OR($H30=\"no\",$C30=0),\"\",IF($AH30<0.5,Parameters!$X$5,IF($AH30<1,Parameters!$Y$5,IF($AH30<2,Parameters!$Z$5,Parameters!$AA$5))))","v":""},{"$f":"IF(OR($H30=\"no\",$C30=0),\"\",IF($I30=Parameters!$K$15,(2*($M30/2)*SIN(RADIANS(Calculations!$AG30/2))),(2*$M30*SIN(RADIANS($AG30/2)))))","v":""},"",{"$f":"IF(OR($H30=\"no\",$C30=0),\"\",IF($I30=Parameters!$K$15,$AL30*$N30/2,$AL30*$N30))","v":""},{"$f":"IF(OR($H30=\"no\",$C30=0),\"\",IF($I30=Parameters!$K$15,$AM30*2/Parameters!$AB$4,$AM30/Parameters!$AB$4))","v":""},null,{"$f":"Parameters!D30","v":"Dressing"},{"v":0,"d":"0.00"},{"v":0,"d":"0.00"}," ",{"v":0,"d":"0.00"}," ",{"$nulls":13},{"$f":"'Window & Door DATA INPUT'!H36","v":0},""]
[null,{"$f":"IF('Window & Door DATA INPUT'!B37>1,1,0)","v":0},{"$f":"IF(AND(B31=1,OR(D31=Parameters!$D$17, D31=Parameters!$D$18,D31=Parameters!$D$19,D31=Parameters!$D$20,D31=Parameters!$D$21,D31=Parameters!$D$22, D31=Parameters!$D$23, D31=Parameters!$D$24)),1,0)","v":0},{"$f":"IF('Window & Door DATA INPUT'!B37=\"\",\"\",'Window & Door DATA INPUT'!B37)","v":""},{"$f":"IF('Window & Door DATA INPUT'!D37=\"\",\"\",'Window & Door DATA INPUT'!D37)","v":""},{"$f":"IF(B31=1,'Window & Door DATA INPUT'!H37&RESULTS!$H$5,\"\")","v":""},{"$f":"IF(B31=1,VLOOKUP(F31,Parameters!$H$4:$I$20,2,FALSE),\"\")","v":""},{"$f":"IF(OR('Window & Door DATA INPUT'!J37=Parameters!$K$4,'Window & Door DATA INPUT'!J37=Parameters!$K$11),\"No\",IF('Window & Door DATA INPUT'!K37=\"\",\"\",'Window & Door DATA INPUT'!K37))","v":""},{"$f":"IF('Window & Door DATA INPUT'!J37=\"\",\"\",'Window & Door DATA INPUT'!J37)","v":""},{"$f":"IF('Window & Door DATA INPUT'!L37=Parameters!$O$5,'Window & Door DATA INPUT'!O37,IF(B31=1,('Window & Door DATA INPUT'!N37*'Window & Door DATA INPUT'!M37)/1000000,\"\"))","v":""},{"$f":"IF('Window & Door DATA INPUT'!J37=\"\",\"\",VLOOKUP('Window & Door DATA INPUT'!J37,Parameters!$K$4:$L$16,2,FALSE))","v":""},{"$f":"IF($H31=\"yes\",IF($K31=\"Y\",'Window & Door DATA INPUT'!Q37/1000,IF($K31=\"N\",'Window & Door DATA INPUT'!P37/1000)),\"\")","v":""},{"$f":"IF($H31=\"yes\",IF($K31=\"Y\",'Window & Door DATA INPUT'!P37/1000,IF($K31=\"N\",'Window & Door DATA INPUT'!Q37/1000)),\"\")","v":""},"",{"$f":"IF(AND(B31=1,C31=0,H31=\"yes\"),\"A\",IF(AND(C31=1,H31=\"yes\",'Window & Door DATA INPUT'!R37=\"no\"),\"B\",IF(AND(C31=1,H31=\"yes\",'Window & Door DATA INPUT'!R37=\"yes\",'Window & Door DATA INPUT'!S37=\"yes\"),\"C\",IF(AND(C31=1,H31=\"yes\",'Window & Door DATA INPUT'!R37=\"yes\",'Window & Door DATA INPUT'!S37=\"no\"),\"D\",\"\"))))","v":""},{"$f":"IF(AND(C31=1,H31=\"yes\",OR(I31=Parameters!$K$12,I31=Parameters!$K$13,I31=Parameters!$K$14)),\"E\",IF(AND(C31=1,H31=\"yes\",NOT(OR(I31=Parameters!$K$12,I31=Parameters!$K$13,I31=Parameters!$K$14))),\"F\",\"\"))","v":""},{"$f":"IF(AND(B31=1,H31=\"yes\"),VLOOKUP(I31,Parameters!$K$4:$M$16,3,FALSE),\"\")","v":""},{"$f":"IF(AND(OR(O31=\"A\",O31=\"B\",O31=\"d\"),Q31=\"input\"),'Window & Door DATA INPUT'!AA37,IF(AND(O31=\"C\",Q31=\"input\"),'Window & Door DATA INPUT'!W37,Calculations!Q31))","v":""},{"$f":"IF('Window & Door DATA INPUT'!X37=\"Yes\",'Window & Door DATA INPUT'!Y37/1000,IF(B31=1,\"N/A\",\"\"))","v":""},{"$f":"IF(Q31=\"calc\",IF(O31=\"c\",'Window & Door DATA INPUT'!U37/1000,(Parameters!$S$4-'Window & Door DATA INPUT'!Z37+Parameters!$Q$4)/1000),\"\")","v":""},"","","",{"$f":"IF(OR($H31=\"no\",$B31=0),\"\",IF($I31=Parameters!$K$15,$L31/($M31/2),$L31/$M31))","v":""},{"$f":"IF(OR($H31=\"no\",$B31=0),\"\",IF($X31<0.5,Parameters!$X$4,IF($X31<1,Parameters!$Y$4,IF($X31<2,Parameters!$Z$4,Parameters!$AA$4))))","v":""},{"$f":"IF(OR($H31=\"no\",$B31=0),\"\",IF($X31<0.5,Parameters!$X$5,IF($X31<1,Parameters!$Y$5,IF($X31<2,Parameters!$Z$5,Parameters!$AA$5))))","v":""},{"$f":"IF(OR($H31=\"no\",$B31=0),\"\",IF($I31=Parameters!$K$15,(2*($M31/2)*SIN(RADIANS(Calculations!$W31/2))),(2*$M31*SIN(RADIANS($W31/2)))))","v":""},"",{"$f":"IF(OR($H31=\"no\",$B31=0),\"\",IF($I31=Parameters!$K$15,$AB31*$N31/2,$AB31*$N31))","v":""},{"$f":"IF(OR($H31=\"no\",$B31=0),\"\",IF($I31=Parameters!$K$15,$AC31*2/Parameters!$AB$4,$AC31/Parameters!$AB$4))","v":""},{"$f":"IF(AND(O31=\"B\",Q31=\"calc\"),V31,IF(AND(O31=\"C\",Q31=\"calc\"),'Window & Door DATA INPUT'!T37/1000,\"\"))","v":""},{"$f":"IF(AND(O31=\"B\",Q31=\"input\"),'Window & Door DATA INPUT'!AA37,IF(AND(O31=\"C\",Q31=\"input\",P31=\"F\"),'Window & Door DATA INPUT'!V37,IF(AND(O31=\"C\",P31=\"E\"),0,IF(AND(O31=\"D\"),0,IF(AND(B31=1,C31=0),\"\",(Calculations!Q31))))))","v":""},"",{"$f":"IF(OR($H31=\"no\",$C31=0),\"\",IF($I31=Parameters!$K$15,$L31/($M31/2),$L31/$M31))","v":""},{"$f":"IF(OR($H31=\"no\",$C31=0),\"\",IF($AH31<0.5,Parameters!$X$4,IF($AH31<1,Parameters!$Y$4,IF($AH31<2,Parameters!$Z$4,Parameters!$AA$4))))","v":""},{"$f":"IF(OR($H31=\"no\",$C31=0),\"\",IF($AH31<0.5,Parameters!$X$5,IF($AH31<1,Parameters!$Y$5,IF($AH31<2,Parameters!$Z$5,Parameters!$AA$5))))","v":""},{"$f":"IF(OR($H31=\"no\",$C31=0),\"\",IF($I31=Parameters!$K$15,(2*($M31/2)*SIN(RADIANS(Calculations!$AG31/2))),(2*$M31*SIN(RADIANS($AG31/2)))))","v":""},"",{"$f":"IF(OR($H31=\"no\",$C31=0),\"\",IF($I31=Parameters!$K$15,$AL31*$N31/2,$AL31*$N31))","v":""},{"$f":"IF(OR($H31=\"no\",$C31=0),\"\",IF($I31=Parameters!$K$15,$AM31*2/Parameters!$AB$4,$AM31/Parameters!$AB$4))","v":""},null,{"$f":"Parameters!D31","v":"Other 1"},{"v":0,"d":"0.00"},{"v":0,"d":"0.00"}," ",{"v":0,"d":"0.00"}," ",{"$nulls":13},{"$f":"'Window & Door DATA INPUT'!H37","v":0},""]
[null,{"$f":"IF('Window & Door DATA INPUT'!B38>1,1,0)","v":0},{"$f":"IF(AND(B32=1,OR(D32=Parameters!$D$17, D32=Parameters!$D$18,D32=Parameters!$D$19,D32=Parameters!$D$20,D32=Parameters!$D$21,D32=Parameters!$D$22, D32=Parameters!$D$23, D32=Parameters!$D$24)),1,0)","v":0},{"$f":"IF('Window & Door DATA INPUT'!B38=\"\",\"\",'Window & Door DATA INPUT'!B38)","v":""},{"$f":"IF('Window & Door DATA INPUT'!D38=\"\",\"\",'Window & Door DATA INPUT'!D38)","v":""},{"$f":"IF(B32=1,'Window & Door DATA INPUT'!H38&RESULTS!$H$5,\"\")","v":""},{"$f":"IF(B32=1,VLOOKUP(F32,Parameters!$H$4:$I$20,2,FALSE),\"\")","v":""},{"$f":"IF(OR('Window & Door DATA INPUT'!J38=Parameters!$K$4,'Window & Door DATA INPUT'!J38=Parameters!$K$11),\"No\",IF('Window & Door DATA INPUT'!K38=\"\",\"\",'Window & Door DATA INPUT'!K38))","v":""},{"$f":"IF('Window & Door DATA INPUT'!J38=\"\",\"\",'Window & Door DATA INPUT'!J38)","v":""},{"$f":"IF('Window & Door DATA INPUT'!L38=Parameters!$O$5,'Window & Door DATA INPUT'!O38,IF(B32=1,('Window & Door DATA INPUT'!N38*'Window & Door DATA INPUT'!M38)/1000000,\"\"))","v":""},{"$f":"IF('Window & Door DATA INPUT'!J38=\"\",\"\",VLOOKUP('Window & Door DATA INPUT'!J38,Parameters!$K$4:$L$16,2,FALSE))","v":""},{"$f":"IF($H32=\"yes\",IF($K32=\"Y\",'Window & Door DATA INPUT'!Q38/1000,IF($K32=\"N\",'Window & Door DATA INPUT'!P38/1000)),\"\")","v":""},{"$f":"IF($H32=\"yes\",IF($K32=\"Y\",'Window & Door DATA INPUT'!P38/1000,IF($K32=\"N\",'Window & Door DATA INPUT'!Q38/1000)),\"\")","v":""},"",{"$f":"IF(AND(B32=1,C32=0,H32=\"yes\"),\"A\",IF(AND(C32=1,H32=\"yes\",'Window & Door DATA INPUT'!R38=\"no\"),\"B\",IF(AND(C32=1,H32=\"yes\",'Window & Door DATA INPUT'!R38=\"yes\",'Window & Door DATA INPUT'!S38=\"yes\"),\"C\",IF(AND(C32=1,H32=\"yes\",'Window & Door DATA INPUT'!R38=\"yes\",'Window & Door DATA INPUT'!S38=\"no\"),\"D\",\"\"))))","v":""},{"$f":"IF(AND(C32=1,H32=\"yes\",OR(I32=Parameters!$K$12,I32=Parameters!$K$13,I32=Parameters!$K$14)),\"E\",IF(AND(C32=1,H32=\"yes\",NOT(OR(I32=Parameters!$K$12,I32=Parameters!$K$13,I32=Parameters!$K$14))),\"F\",\"\"))","v":""},{"$f":"IF(AND(B32=1,H32=\"yes\"),VLOOKUP(I32,Parameters!$K$4:$M$16,3,FALSE),\"\")","v":""},{"$f":"IF(AND(OR(O32=\"A\",O32=\"B\",O32=\"d\"),Q32=\"input\"),'Window & Door DATA INPUT'!AA38,IF(AND(O32=\"C\",Q32=\"input\"),'Window & Door DATA INPUT'!W38,Calculations!Q32))","v":""},{"$f":"IF('Window & Door DATA INPUT'!X38=\"Yes\",'Window & Door DATA INPUT'!Y38/1000,IF(B32=1,\"N/A\",\"\"))","v":""},{"$f":"IF(Q32=\"calc\",IF(O32=\"c\",'Window & Door DATA INPUT'!U38/1000,(Parameters!$S$4-'Window & Door DATA INPUT'!Z38+Parameters!$Q$4)/1000),\"\")","v":""},"","","",{"$f":"IF(OR($H32=\"no\",$B32=0),\"\",IF($I32=Parameters!$K$15,$L32/($M32/2),$L32/$M32))","v":""},{"$f":"IF(OR($H32=\"no\",$B32=0),\"\",IF($X32<0.5,Parameters!$X$4,IF($X32<1,Parameters!$Y$4,IF($X32<2,Parameters!$Z$4,Parameters!$AA$4))))","v":""},{"$f":"IF(OR($H32=\"no\",$B32=0),\"\",IF($X32<0.5,Parameters!$X$5,IF($X32<1,Parameters!$Y$5,IF($X32<2,Parameters!$Z$5,Parameters!$AA$5))))","v":""},{"$f":"IF(OR($H32=\"no\",$B32=0),\"\",IF($I32=Parameters!$K$15,(2*($M32/2)*SIN(RADIANS(Calculations!$W32/2))),(2*$M32*SIN(RADIANS($W32/2)))))","v":""},"",{"$f":"IF(OR($H32=\"no\",$B32=0),\"\",IF($I32=Parameters!$K$15,$AB32*$N32/2,$AB32*$N32))","v":""},{"$f":"IF(OR($H32=\"no\",$B32=0),\"\",IF($I32=Parameters!$K$15,$AC32*2/Parameters!$AB$4,$AC32/Parameters!$AB$4))","v":""},{"$f":"IF(AND(O32=\"B\",Q32=\"calc\"),V32,IF(AND(O32=\"C\",Q32=\"calc\"),'Window & Door DATA INPUT'!T38/1000,\"\"))","v":""},{"$f":"IF(AND(O32=\"B\",Q32=\"input\"),'Window & Door DATA INPUT'!AA38,IF(AND(O32=\"C\",Q32=\"input\",P32=\"F\"),'Window & Door DATA INPUT'!V38,IF(AND(O32=\"C\",P32=\"E\"),0,IF(AND(O32=\"D\"),0,IF(AND(B32=1,C32=0),\"\",(Calculations!Q32))))))","v":""},"",{"$f":"IF(OR($H32=\"no\",$C32=0),\"\",IF($I32=Parameters!$K$15,$L32/($M32/2),$L32/$M32))","v":""},{"$f":"IF(OR($H32=\"no\",$C32=0),\"\",IF($AH32<0.5,Parameters!$X$4,IF($AH32<1,Parameters!$Y$4,IF($AH32<2,Parameters!$Z$4,Parameters!$AA$4))))","v":""},{"$f":"IF(OR($H32=\"no\",$C32=0),\"\",IF($AH32<0.5,Parameters!$X$5,IF($AH32<1,Parameters!$Y$5,IF($AH32<2,Parameters!$Z$5,Parameters!$AA$5))))","v":""},{"$f":"IF(OR($H32=\"no\",$C32=0),\"\",IF($I32=Parameters!$K$15,(2*($M32/2)*SIN(RADIANS(Calculations!$AG32/2))),(2*$M32*SIN(RADIANS($AG32/2)))))","v":""},"",{"$f":"IF(OR($H32=\"no\",$C32=0),\"\",IF($I32=Parameters!$K$15,$AL32*$N32/2,$AL32*$N32))","v":""},{"$f":"IF(OR($H32=\"no\",$C32=0),\"\",IF($I32=Parameters!$K$15,$AM32*2/Parameters!$AB$4,$AM32/Parameters!$AB$4))","v":""},null,{"$f":"Parameters!D32","v":"Other 2"},{"v":0,"d":"0.00"},{"$f":"SUMIFS($J$4:$J$143,$D$4:$D$143,AP32)","v":{"v":0,"d":"0.00"}},{"$f":"IF(AQ32>0,AR32/AQ32,\" \")","v":" "},{"$f":"SUMIFS($AD$4:$AD$143,$D$4:$D$143,AP32)","v":{"v":0,"d":"0.00"}},{"$f":"IF(AR32=$BA$12,AS32,\"\")","v":" "},{"$nulls":13},{"$f":"'Window & Door DATA INPUT'!H38","v":0},""]
[null,{"$f":"IF('Window & Door DATA INPUT'!B39>1,1,0)","v":0},{"$f":"IF(AND(B33=1,OR(D33=Parameters!$D$17, D33=Parameters!$D$18,D33=Parameters!$D$19,D33=Parameters!$D$20,D33=Parameters!$D$21,D33=Parameters!$D$22, D33=Parameters!$D$23, D33=Parameters!$D$24)),1,0)","v":0},{"$f":"IF('Window & Door DATA INPUT'!B39=\"\",\"\",'Window & Door DATA INPUT'!B39)","v":""},{"$f":"IF('Window & Door DATA INPUT'!D39=\"\",\"\",'Window & Door DATA INPUT'!D39)","v":""},{"$f":"IF(B33=1,'Window & Door DATA INPUT'!H39&RESULTS!$H$5,\"\")","v":""},{"$f":"IF(B33=1,VLOOKUP(F33,Parameters!$H$4:$I$20,2,FALSE),\"\")","v":""},{"$f":"IF(OR('Window & Door DATA INPUT'!J39=Parameters!$K$4,'Window & Door DATA INPUT'!J39=Parameters!$K$11),\"No\",IF('Window & Door DATA INPUT'!K39=\"\",\"\",'Window & Door DATA INPUT'!K39))","v":""},{"$f":"IF('Window & Door DATA INPUT'!J39=\"\",\"\",'Window & Door DATA INPUT'!J39)","v":""},{"$f":"IF('Window & Door DATA INPUT'!L39=Parameters!$O$5,'Window & Door DATA INPUT'!O39,IF(B33=1,('Window & Door DATA INPUT'!N39*'Window & Door DATA INPUT'!M39)/1000000,\"\"))","v":""},{"$f":"IF('Window & Door DATA INPUT'!J39=\"\",\"\",VLOOKUP('Window & Door DATA INPUT'!J39,Parameters!$K$4:$L$16,2,FALSE))","v":""},{"$f":"IF($H33=\"yes\",IF($K33=\"Y\",'Window & Door DATA INPUT'!Q39/1000,IF($K33=\"N\",'Window & Door DATA INPUT'!P39/1000)),\"\")","v":""},{"$f":"IF($H33=\"yes\",IF($K33=\"Y\",'Window & Door DATA INPUT'!P39/1000,IF($K33=\"N\",'Window & Door DATA INPUT'!Q39/1000)),\"\")","v":""},"",{"$f":"IF(AND(B33=1,C33=0,H33=\"yes\"),\"A\",IF(AND(C33=1,H33=\"yes\",'Window & Door DATA INPUT'!R39=\"no\"),\"B\",IF(AND(C33=1,H33=\"yes\",'Window & Door DATA INPUT'!R39=\"yes\",'Window & Door DATA INPUT'!S39=\"yes\"),\"C\",IF(AND(C33=1,H33=\"yes\",'Window & Door DATA INPUT'!R39=\"yes\",'Window & Door DATA INPUT'!S39=\"no\"),\"D\",\"\"))))","v":""},{"$f":"IF(AND(C33=1,H33=\"yes\",OR(I33=Parameters!$K$12,I33=Parameters!$K$13,I33=Parameters!$K$14)),\"E\",IF(AND(C33=1,H33=\"yes\",NOT(OR(I33=Parameters!$K$12,I33=Parameters!$K$13,I33=Parameters!$K$14))),\"F\",\"\"))","v":""},{"$f":"IF(AND(B33=1,H33=\"yes\"),VLOOKUP(I33,Parameters!$K$4:$M$16,3,FALSE),\"\")","v":""},{"$f":"IF(AND(OR(O33=\"A\",O33=\"B\",O33=\"d\"),Q33=\"input\"),'Window & Door DATA INPUT'!AA39,IF(AND(O33=\"C\",Q33=\"input\"),'Window & Door DATA INPUT'!W39,Calculations!Q33))","v":""},{"$f":"IF('Window & Door DATA INPUT'!X39=\"Yes\",'Window & Door DATA INPUT'!Y39/1000,IF(B33=1,\"N/A\",\"\"))","v":""},{"$f":"IF(Q33=\"calc\",IF(O33=\"c\",'Window & Door DATA INPUT'!U39/1000,(Parameters!$S$4-'Window & Door DATA INPUT'!Z39+Parameters!$Q$4)/1000),\"\")","v":""},"","","",{"$f":"IF(OR($H33=\"no\",$B33=0),\"\",IF($I33=Parameters!$K$15,$L33/($M33/2),$L33/$M33))","v":""},{"$f":"IF(OR($H33=\"no\",$B33=0),\"\",IF($X33<0.5,Parameters!$X$4,IF($X33<1,Parameters!$Y$4,IF($X33<2,Parameters!$Z$4,Parameters!$AA$4))))","v":""},{"$f":"IF(OR($H33=\"no\",$B33=0),\"\",IF($X33<0.5,Parameters!$X$5,IF($X33<1,Parameters!$Y$5,IF($X33<2,Parameters!$Z$5,Parameters!$AA$5))))","v":""},{"$f":"IF(OR($H33=\"no\",$B33=0),\"\",IF($I33=Parameters!$K$15,(2*($M33/2)*SIN(RADIANS(Calculations!$W33/2))),(2*$M33*SIN(RADIANS($W33/2)))))","v":""},"",{"$f":"IF(OR($H33=\"no\",$B33=0),\"\",IF($I33=Parameters!$K$15,$AB33*$N33/2,$AB33*$N33))","v":""},{"$f":"IF(OR($H33=\"no\",$B33=0),\"\",IF($I33=Parameters!$K$15,$AC33*2/Parameters!$AB$4,$AC33/Parameters!$AB$4))","v":""},{"$f":"IF(AND(O33=\"B\",Q33=\"calc\"),V33,IF(AND(O33=\"C\",Q33=\"calc\"),'Window & Door DATA INPUT'!T39/1000,\"\"))","v":""},{"$f":"IF(AND(O33=\"B\",Q33=\"input\"),'Window & Door DATA INPUT'!AA39,IF(AND(O33=\"C\",Q33=\"input\",P33=\"F\"),'Window & Door DATA INPUT'!V39,IF(AND(O33=\"C\",P33=\"E\"),0,IF(AND(O33=\"D\"),0,IF(AND(B33=1,C33=0),\"\",(Calculations!Q33))))))","v":""},"",{"$f":"IF(OR($H33=\"no\",$C33=0),\"\",IF($I33=Parameters!$K$15,$L33/($M33/2),$L33/$M33))","v":""},{"$f":"IF(OR($H33=\"no\",$C33=0),\"\",IF($AH33<0.5,Parameters!$X$4,IF($AH33<1,Parameters!$Y$4,IF($AH33<2,Parameters!$Z$4,Parameters!$AA$4))))","v":""},{"$f":"IF(OR($H33=\"no\",$C33=0),\"\",IF($AH33<0.5,Parameters!$X$5,IF($AH33<1,Parameters!$Y$5,IF($AH33<2,Parameters!$Z$5,Parameters!$AA$5))))","v":""},{"$f":"IF(OR($H33=\"no\",$C33=0),\"\",IF($I33=Parameters!$K$15,(2*($M33/2)*SIN(RADIANS(Calculations!$AG33/2))),(2*$M33*SIN(RADIANS($AG33/2)))))","v":""},"",{"$f":"IF(OR($H33=\"no\",$C33=0),\"\",IF($I33=Parameters!$K$15,$AL33*$N33/2,$AL33*$N33))","v":""},{"$f":"IF(OR($H33=\"no\",$C33=0),\"\",IF($I33=Parameters!$K$15,$AM33*2/Parameters!$AB$4,$AM33/Parameters!$AB$4))","v":""},null,{"$f":"Parameters!D33","v":"Other 3"},{"v":0,"d":"0.00"},{"v":0,"d":"0.00"}," ",{"v":0,"d":"0.00"}," ",{"$nulls":13},{"$f":"'Window & Door DATA INPUT'!H39","v":0},""]
[null,{"$f":"IF('Window & Door DATA INPUT'!B40>1,1,0)","v":0},{"$f":"IF(AND(B34=1,OR(D34=Parameters!$D$17, D34=Parameters!$D$18,D34=Parameters!$D$19,D34=Parameters!$D$20,D34=Parameters!$D$21,D34=Parameters!$D$22, D34=Parameters!$D$23, D34=Parameters!$D$24)),1,0)","v":0},{"$f":"IF('Window & Door DATA INPUT'!B40=\"\",\"\",'Window & Door DATA INPUT'!B40)","v":""},{"$f":"IF('Window & Door DATA INPUT'!D40=\"\",\"\",'Window & Door DATA INPUT'!D40)","v":""},{"$f":"IF(B34=1,'Window & Door DATA INPUT'!H40&RESULTS!$H$5,\"\")","v":""},{"$f":"IF(B34=1,VLOOKUP(F34,Parameters!$H$4:$I$20,2,FALSE),\"\")","v":""},{"$f":"IF(OR('Window & Door DATA INPUT'!J40=Parameters!$K$4,'Window & Door DATA INPUT'!J40=Parameters!$K$11),\"No\",IF('Window & Door DATA INPUT'!K40=\"\",\"\",'Window & Door DATA INPUT'!K40))","v":""},{"$f":"IF('Window & Door DATA INPUT'!J40=\"\",\"\",'Window & Door DATA INPUT'!J40)","v":""},{"$f":"IF('Window & Door DATA INPUT'!L40=Parameters!$O$5,'Window & Door DATA INPUT'!O40,IF(B34=1,('Window & Door DATA INPUT'!N40*'Window & Door DATA INPUT'!M40)/1000000,\"\"))","v":""},{"$f":"IF('Window & Door DATA INPUT'!J40=\"\",\"\",VLOOKUP('Window & Door DATA INPUT'!J40,Parameters!$K$4:$L$16,2,FALSE))","v":""},{"$f":"IF($H34=\"yes\",IF($K34=\"Y\",'Window & Door DATA INPUT'!Q40/1000,IF($K34=\"N\",'Window & Door DATA INPUT'!P40/1000)),\"\")","v":""},{"$f":"IF($H34=\"yes\",IF($K34=\"Y\",'Window & Door DATA INPUT'!P40/1000,IF($K34=\"N\",'Window & Door DATA INPUT'!Q40/1000)),\"\")","v":""},"",{"$f":"IF(AND(B34=1,C34=0,H34=\"yes\"),\"A\",IF(AND(C34=1,H34=\"yes\",'Window & Door DATA INPUT'!R40=\"no\"),\"B\",IF(AND(C34=1,H34=\"yes\",'Window & Door DATA INPUT'!R40=\"yes\",'Window & Door DATA INPUT'!S40=\"yes\"),\"C\",IF(AND(C34=1,H34=\"yes\",'Window & Door DATA INPUT'!R40=\"yes\",'Window & Door DATA INPUT'!S40=\"no\"),\"D\",\"\"))))","v":""},{"$f":"IF(AND(C34=1,H34=\"yes\",OR(I34=Parameters!$K$12,I34=Parameters!$K$13,I34=Parameters!$K$14)),\"E\",IF(AND(C34=1,H34=\"yes\",NOT(OR(I34=Parameters!$K$12,I34=Parameters!$K$13,I34=Parameters!$K$14))),\"F\",\"\"))","v":""},{"$f":"IF(AND(B34=1,H34=\"yes\"),VLOOKUP(I34,Parameters!$K$4:$M$16,3,FALSE),\"\")","v":""},{"$f":"IF(AND(OR(O34=\"A\",O34=\"B\",O34=\"d\"),Q34=\"input\"),'Window & Door DATA INPUT'!AA40,IF(AND(O34=\"C\",Q34=\"input\"),'Window & Door DATA INPUT'!W40,Calculations!Q34))","v":""},{"$f":"IF('Window & Door DATA INPUT'!X40=\"Yes\",'Window & Door DATA INPUT'!Y40/1000,IF(B34=1,\"N/A\",\"\"))","v":""},{"$f":"IF(Q34=\"calc\",IF(O34=\"c\",'Window & Door DATA INPUT'!U40/1000,(Parameters!$S$4-'Window & Door DATA INPUT'!Z40+Parameters!$Q$4)/1000),\"\")","v":""},"","","",{"$f":"IF(OR($H34=\"no\",$B34=0),\"\",IF($I34=Parameters!$K$15,$L34/($M34/2),$L34/$M34))","v":""},{"$f":"IF(OR($H34=\"no\",$B34=0),\"\",IF($X34<0.5,Parameters!$X$4,IF($X34<1,Parameters!$Y$4,IF($X34<2,Parameters!$Z$4,Parameters!$AA$4))))","v":""},{"$f":"IF(OR($H34=\"no\",$B34=0),\"\",IF($X34<0.5,Parameters!$X$5,IF($X34<1,Parameters!$Y$5,IF($X34<2,Parameters!$Z$5,Parameters!$AA$5))))","v":""},{"$f":"IF(OR($H34=\"no\",$B34=0),\"\",IF($I34=Parameters!$K$15,(2*($M34/2)*SIN(RADIANS(Calculations!$W34/2))),(2*$M34*SIN(RADIANS($W34/2)))))","v":""},"",{"$f":"IF(OR($H34=\"no\",$B34=0),\"\",IF($I34=Parameters!$K$15,$AB34*$N34/2,$AB34*$N34))","v":""},{"$f":"IF(OR($H34=\"no\",$B34=0),\"\",IF($I34=Parameters!$K$15,$AC34*2/Parameters!$AB$4,$AC34/Parameters!$AB$4))","v":""},{"$f":"IF(AND(O34=\"B\",Q34=\"calc\"),V34,IF(AND(O34=\"C\",Q34=\"calc\"),'Window & Door DATA INPUT'!T40/1000,\"\"))","v":""},{"$f":"IF(AND(O34=\"B\",Q34=\"input\"),'Window & Door DATA INPUT'!AA40,IF(AND(O34=\"C\",Q34=\"input\",P34=\"F\"),'Window & Door DATA INPUT'!V40,IF(AND(O34=\"C\",P34=\"E\"),0,IF(AND(O34=\"D\"),0,IF(AND(B34=1,C34=0),\"\",(Calculations!Q34))))))","v":""},"",{"$f":"IF(OR($H34=\"no\",$C34=0),\"\",IF($I34=Parameters!$K$15,$L34/($M34/2),$L34/$M34))","v":""},{"$f":"IF(OR($H34=\"no\",$C34=0),\"\",IF($AH34<0.5,Parameters!$X$4,IF($AH34<1,Parameters!$Y$4,IF($AH34<2,Parameters!$Z$4,Parameters!$AA$4))))","v":""},{"$f":"IF(OR($H34=\"no\",$C34=0),\"\",IF($AH34<0.5,Parameters!$X$5,IF($AH34<1,Parameters!$Y$5,IF($AH34<2,Parameters!$Z$5,Parameters!$AA$5))))","v":""},{"$f":"IF(OR($H34=\"no\",$C34=0),\"\",IF($I34=Parameters!$K$15,(2*($M34/2)*SIN(RADIANS(Calculations!$AG34/2))),(2*$M34*SIN(RADIANS($AG34/2)))))","v":""},"",{"$f":"IF(OR($H34=\"no\",$C34=0),\"\",IF($I34=Parameters!$K$15,$AL34*$N34/2,$AL34*$N34))","v":""},{"$f":"IF(OR($H34=\"no\",$C34=0),\"\",IF($I34=Parameters!$K$15,$AM34*2/Parameters!$AB$4,$AM34/Parameters!$AB$4))","v":""},null,{"$f":"Parameters!D34","v":"Other 4"},{"v":0,"d":"0.00"},{"v":0,"d":"0.00"}," ",{"v":0,"d":"0.00"}," ",{"$nulls":13},{"$f":"'Window & Door DATA INPUT'!H40","v":0},""]
[null,{"$f":"IF('Window & Door DATA INPUT'!B41>1,1,0)","v":0},{"$f":"IF(AND(B35=1,OR(D35=Parameters!$D$17, D35=Parameters!$D$18,D35=Parameters!$D$19,D35=Parameters!$D$20,D35=Parameters!$D$21,D35=Parameters!$D$22, D35=Parameters!$D$23, D35=Parameters!$D$24)),1,0)","v":0},{"$f":"IF('Window & Door DATA INPUT'!B41=\"\",\"\",'Window & Door DATA INPUT'!B41)","v":""},{"$f":"IF('Window & Door DATA INPUT'!D41=\"\",\"\",'Window & Door DATA INPUT'!D41)","v":""},{"$f":"IF(B35=1,'Window & Door DATA INPUT'!H41&RESULTS!$H$5,\"\")","v":""},{"$f":"IF(B35=1,VLOOKUP(F35,Parameters!$H$4:$I$20,2,FALSE),\"\")","v":""},{"$f":"IF(OR('Window & Door DATA INPUT'!J41=Parameters!$K$4,'Window & Door DATA INPUT'!J41=Parameters!$K$11),\"No\",IF('Window & Door DATA INPUT'!K41=\"\",\"\",'Window & Door DATA INPUT'!K41))","v":""},{"$f":"IF('Window & Door DATA INPUT'!J41=\"\",\"\",'Window & Door DATA INPUT'!J41)","v":""},{"$f":"IF('Window & Door DATA INPUT'!L41=Parameters!$O$5,'Window & Door DATA INPUT'!O41,IF(B35=1,('Window & Door DATA INPUT'!N41*'Window & Door DATA INPUT'!M41)/1000000,\"\"))","v":""},{"$f":"IF('Window & Door DATA INPUT'!J41=\"\",\"\",VLOOKUP('Window & Door DATA INPUT'!J41,Parameters!$K$4:$L$16,2,FALSE))","v":""},{"$f":"IF($H35=\"yes\",IF($K35=\"Y\",'Window & Door DATA INPUT'!Q41/1000,IF($K35=\"N\",'Window & Door DATA INPUT'!P41/1000)),\"\")","v":""},{"$f":"IF($H35=\"yes\",IF($K35=\"Y\",'Window & Door DATA INPUT'!P41/1000,IF($K35=\"N\",'Window & Door DATA INPUT'!Q41/1000)),\"\")","v":""},"",{"$f":"IF(AND(B35=1,C35=0,H35=\"yes\"),\"A\",IF(AND(C35=1,H35=\"yes\",'Window & Door DATA INPUT'!R41=\"no\"),\"B\",IF(AND(C35=1,H35=\"yes\",'Window & Door DATA INPUT'!R41=\"yes\",'Window & Door DATA INPUT'!S41=\"yes\"),\"C\",IF(AND(C35=1,H35=\"yes\",'Window & Door DATA INPUT'!R41=\"yes\",'Window & Door DATA INPUT'!S41=\"no\"),\"D\",\"\"))))","v":""},{"$f":"IF(AND(C35=1,H35=\"yes\",OR(I35=Parameters!$K$12,I35=Parameters!$K$13,I35=Parameters!$K$14)),\"E\",IF(AND(C35=1,H35=\"yes\",NOT(OR(I35=Parameters!$K$12,I35=Parameters!$K$13,I35=Parameters!$K$14))),\"F\",\"\"))","v":""},{"$f":"IF(AND(B35=1,H35=\"yes\"),VLOOKUP(I35,Parameters!$K$4:$M$16,3,FALSE),\"\")","v":""},{"$f":"IF(AND(OR(O35=\"A\",O35=\"B\",O35=\"d\"),Q35=\"input\"),'Window & Door DATA INPUT'!AA41,IF(AND(O35=\"C\",Q35=\"input\"),'Window & Door DATA INPUT'!W41,Calculations!Q35))","v":""},{"$f":"IF('Window & Door DATA INPUT'!X41=\"Yes\",'Window & Door DATA INPUT'!Y41/1000,IF(B35=1,\"N/A\",\"\"))","v":""},{"$f":"IF(Q35=\"calc\",IF(O35=\"c\",'Window & Door DATA INPUT'!U41/1000,(Parameters!$S$4-'Window & Door DATA INPUT'!Z41+Parameters!$Q$4)/1000),\"\")","v":""},"","","",{"$f":"IF(OR($H35=\"no\",$B35=0),\"\",IF($I35=Parameters!$K$15,$L35/($M35/2),$L35/$M35))","v":""},{"$f":"IF(OR($H35=\"no\",$B35=0),\"\",IF($X35<0.5,Parameters!$X$4,IF($X35<1,Parameters!$Y$4,IF($X35<2,Parameters!$Z$4,Parameters!$AA$4))))","v":""},{"$f":"IF(OR($H35=\"no\",$B35=0),\"\",IF($X35<0.5,Parameters!$X$5,IF($X35<1,Parameters!$Y$5,IF($X35<2,Parameters!$Z$5,Parameters!$AA$5))))","v":""},{"$f":"IF(OR($H35=\"no\",$B35=0),\"\",IF($I35=Parameters!$K$15,(2*($M35/2)*SIN(RADIANS(Calculations!$W35/2))),(2*$M35*SIN(RADIANS($W35/2)))))","v":""},"",{"$f":"IF(OR($H35=\"no\",$B35=0),\"\",IF($I35=Parameters!$K$15,$AB35*$N35/2,$AB35*$N35))","v":""},{"$f":"IF(OR($H35=\"no\",$B35=0),\"\",IF($I35=Parameters!$K$15,$AC35*2/Parameters!$AB$4,$AC35/Parameters!$AB$4))","v":""},{"$f":"IF(AND(O35=\"B\",Q35=\"calc\"),V35,IF(AND(O35=\"C\",Q35=\"calc\"),'Window & Door DATA INPUT'!T41/1000,\"\"))","v":""},{"$f":"IF(AND(O35=\"B\",Q35=\"input\"),'Window & Door DATA INPUT'!AA41,IF(AND(O35=\"C\",Q35=\"input\",P35=\"F\"),'Window & Door DATA INPUT'!V41,IF(AND(O35=\"C\",P35=\"E\"),0,IF(AND(O35=\"D\"),0,IF(AND(B35=1,C35=0),\"\",(Calculations!Q35))))))","v":""},"",{"$f":"IF(OR($H35=\"no\",$C35=0),\"\",IF($I35=Parameters!$K$15,$L35/($M35/2),$L35/$M35))","v":""},{"$f":"IF(OR($H35=\"no\",$C35=0),\"\",IF($AH35<0.5,Parameters!$X$4,IF($AH35<1,Parameters!$Y$4,IF($AH35<2,Parameters!$Z$4,Parameters!$AA$4))))","v":""},{"$f":"IF(OR($H35=\"no\",$C35=0),\"\",IF($AH35<0.5,Parameters!$X$5,IF($AH35<1,Parameters!$Y$5,IF($AH35<2,Parameters!$Z$5,Parameters!$AA$5))))","v":""},{"$f":"IF(OR($H35=\"no\",$C35=0),\"\",IF($I35=Parameters!$K$15,(2*($M35/2)*SIN(RADIANS(Calculations!$AG35/2))),(2*$M35*SIN(RADIANS($AG35/2)))))","v":""},"",{"$f":"IF(OR($H35=\"no\",$C35=0),\"\",IF($I35=Parameters!$K$15,$AL35*$N35/2,$AL35*$N35))","v":""},{"$f":"IF(OR($H35=\"no\",$C35=0),\"\",IF($I35=Parameters!$K$15,$AM35*2/Parameters!$AB$4,$AM35/Parameters!$AB$4))","v":""},{"$nulls":20},{"$f":"'Window & Door DATA INPUT'!H41","v":0},""]
[null,{"$f":"IF('Window & Door DATA INPUT'!B42>1,1,0)","v":0},{"$f":"IF(AND(B36=1,OR(D36=Parameters!$D$17, D36=Parameters!$D$18,D36=Parameters!$D$19,D36=Parameters!$D$20,D36=Parameters!$D$21,D36=Parameters!$D$22, D36=Parameters!$D$23, D36=Parameters!$D$24)),1,0)","v":0},{"$f":"IF('Window & Door DATA INPUT'!B42=\"\",\"\",'Window & Door DATA INPUT'!B42)","v":""},{"$f":"IF('Window & Door DATA INPUT'!D42=\"\",\"\",'Window & Door DATA INPUT'!D42)","v":""},{"$f":"IF(B36=1,'Window & Door DATA INPUT'!H42&RESULTS!$H$5,\"\")","v":""},{"$f":"IF(B36=1,VLOOKUP(F36,Parameters!$H$4:$I$20,2,FALSE),\"\")","v":""},{"$f":"IF(OR('Window & Door DATA INPUT'!J42=Parameters!$K$4,'Window & Door DATA INPUT'!J42=Parameters!$K$11),\"No\",IF('Window & Door DATA INPUT'!K42=\"\",\"\",'Window & Door DATA INPUT'!K42))","v":""},{"$f":"IF('Window & Door DATA INPUT'!J42=\"\",\"\",'Window & Door DATA INPUT'!J42)","v":""},{"$f":"IF('Window & Door DATA INPUT'!L42=Parameters!$O$5,'Window & Door DATA INPUT'!O42,IF(B36=1,('Window & Door DATA INPUT'!N42*'Window & Door DATA INPUT'!M42)/1000000,\"\"))","v":""},{"$f":"IF('Window & Door DATA INPUT'!J42=\"\",\"\",VLOOKUP('Window & Door DATA INPUT'!J42,Parameters!$K$4:$L$16,2,FALSE))","v":""},{"$f":"IF($H36=\"yes\",IF($K36=\"Y\",'Window & Door DATA INPUT'!Q42/1000,IF($K36=\"N\",'Window & Door DATA INPUT'!P42/1000)),\"\")","v":""},{"$f":"IF($H36=\"yes\",IF($K36=\"Y\",'Window & Door DATA INPUT'!P42/1000,IF($K36=\"N\",'Window & Door DATA INPUT'!Q42/1000)),\"\")","v":""},"",{"$f":"IF(AND(B36=1,C36=0,H36=\"yes\"),\"A\",IF(AND(C36=1,H36=\"yes\",'Window & Door DATA INPUT'!R42=\"no\"),\"B\",IF(AND(C36=1,H36=\"yes\",'Window & Door DATA INPUT'!R42=\"yes\",'Window & Door DATA INPUT'!S42=\"yes\"),\"C\",IF(AND(C36=1,H36=\"yes\",'Window & Door DATA INPUT'!R42=\"yes\",'Window & Door DATA INPUT'!S42=\"no\"),\"D\",\"\"))))","v":""},{"$f":"IF(AND(C36=1,H36=\"yes\",OR(I36=Parameters!$K$12,I36=Parameters!$K$13,I36=Parameters!$K$14)),\"E\",IF(AND(C36=1,H36=\"yes\",NOT(OR(I36=Parameters!$K$12,I36=Parameters!$K$13,I36=Parameters!$K$14))),\"F\",\"\"))","v":""},{"$f":"IF(AND(B36=1,H36=\"yes\"),VLOOKUP(I36,Parameters!$K$4:$M$16,3,FALSE),\"\")","v":""},{"$f":"IF(AND(OR(O36=\"A\",O36=\"B\",O36=\"d\"),Q36=\"input\"),'Window & Door DATA INPUT'!AA42,IF(AND(O36=\"C\",Q36=\"input\"),'Window & Door DATA INPUT'!W42,Calculations!Q36))","v":""},{"$f":"IF('Window & Door DATA INPUT'!X42=\"Yes\",'Window & Door DATA INPUT'!Y42/1000,IF(B36=1,\"N/A\",\"\"))","v":""},{"$f":"IF(Q36=\"calc\",IF(O36=\"c\",'Window & Door DATA INPUT'!U42/1000,(Parameters!$S$4-'Window & Door DATA INPUT'!Z42+Parameters!$Q$4)/1000),\"\")","v":""},"","","",{"$f":"IF(OR($H36=\"no\",$B36=0),\"\",IF($I36=Parameters!$K$15,$L36/($M36/2),$L36/$M36))","v":""},{"$f":"IF(OR($H36=\"no\",$B36=0),\"\",IF($X36<0.5,Parameters!$X$4,IF($X36<1,Parameters!$Y$4,IF($X36<2,Parameters!$Z$4,Parameters!$AA$4))))","v":""},{"$f":"IF(OR($H36=\"no\",$B36=0),\"\",IF($X36<0.5,Parameters!$X$5,IF($X36<1,Parameters!$Y$5,IF($X36<2,Parameters!$Z$5,Parameters!$AA$5))))","v":""},{"$f":"IF(OR($H36=\"no\",$B36=0),\"\",IF($I36=Parameters!$K$15,(2*($M36/2)*SIN(RADIANS(Calculations!$W36/2))),(2*$M36*SIN(RADIANS($W36/2)))))","v":""},"",{"$f":"IF(OR($H36=\"no\",$B36=0),\"\",IF($I36=Parameters!$K$15,$AB36*$N36/2,$AB36*$N36))","v":""},{"$f":"IF(OR($H36=\"no\",$B36=0),\"\",IF($I36=Parameters!$K$15,$AC36*2/Parameters!$AB$4,$AC36/Parameters!$AB$4))","v":""},{"$f":"IF(AND(O36=\"B\",Q36=\"calc\"),V36,IF(AND(O36=\"C\",Q36=\"calc\"),'Window & Door DATA INPUT'!T42/1000,\"\"))","v":""},{"$f":"IF(AND(O36=\"B\",Q36=\"input\"),'Window & Door DATA INPUT'!AA42,IF(AND(O36=\"C\",Q36=\"input\",P36=\"F\"),'Window & Door DATA INPUT'!V42,IF(AND(O36=\"C\",P36=\"E\"),0,IF(AND(O36=\"D\"),0,IF(AND(B36=1,C36=0),\"\",(Calculations!Q36))))))","v":""},"",{"$f":"IF(OR($H36=\"no\",$C36=0),\"\",IF($I36=Parameters!$K$15,$L36/($M36/2),$L36/$M36))","v":""},{"$f":"IF(OR($H36=\"no\",$C36=0),\"\",IF($AH36<0.5,Parameters!$X$4,IF($AH36<1,Parameters!$Y$4,IF($AH36<2,Parameters!$Z$4,Parameters!$AA$4))))","v":""},{"$f":"IF(OR($H36=\"no\",$C36=0),\"\",IF($AH36<0.5,Parameters!$X$5,IF($AH36<1,Parameters!$Y$5,IF($AH36<2,Parameters!$Z$5,Parameters!$AA$5))))","v":""},{"$f":"IF(OR($H36=\"no\",$C36=0),\"\",IF($I36=Parameters!$K$15,(2*($M36/2)*SIN(RADIANS(Calculations!$AG36/2))),(2*$M36*SIN(RADIANS($AG36/2)))))","v":""},"",{"$f":"IF(OR($H36=\"no\",$C36=0),\"\",IF($I36=Parameters!$K$15,$AL36*$N36/2,$AL36*$N36))","v":""},{"$f":"IF(OR($H36=\"no\",$C36=0),\"\",IF($I36=Parameters!$K$15,$AM36*2/Parameters!$AB$4,$AM36/Parameters!$AB$4))","v":""},null,"Whole house",{"$nulls":18},{"$f":"'Window & Door DATA INPUT'!H42","v":0},""]
[null,{"$f":"IF('Window & Door DATA INPUT'!B43>1,1,0)","v":0},{"$f":"IF(AND(B37=1,OR(D37=Parameters!$D$17, D37=Parameters!$D$18,D37=Parameters!$D$19,D37=Parameters!$D$20,D37=Parameters!$D$21,D37=Parameters!$D$22, D37=Parameters!$D$23, D37=Parameters!$D$24)),1,0)","v":0},{"$f":"IF('Window & Door DATA INPUT'!B43=\"\",\"\",'Window & Door DATA INPUT'!B43)","v":""},{"$f":"IF('Window & Door DATA INPUT'!D43=\"\",\"\",'Window & Door DATA INPUT'!D43)","v":""},{"$f":"IF(B37=1,'Window & Door DATA INPUT'!H43&RESULTS!$H$5,\"\")","v":""},{"$f":"IF(B37=1,VLOOKUP(F37,Parameters!$H$4:$I$20,2,FALSE),\"\")","v":""},{"$f":"IF(OR('Window & Door DATA INPUT'!J43=Parameters!$K$4,'Window & Door DATA INPUT'!J43=Parameters!$K$11),\"No\",IF('Window & Door DATA INPUT'!K43=\"\",\"\",'Window & Door DATA INPUT'!K43))","v":""},{"$f":"IF('Window & Door DATA INPUT'!J43=\"\",\"\",'Window & Door DATA INPUT'!J43)","v":""},{"$f":"IF('Window & Door DATA INPUT'!L43=Parameters!$O$5,'Window & Door DATA INPUT'!O43,IF(B37=1,('Window & Door DATA INPUT'!N43*'Window & Door DATA INPUT'!M43)/1000000,\"\"))","v":""},{"$f":"IF('Window & Door DATA INPUT'!J43=\"\",\"\",VLOOKUP('Window & Door DATA INPUT'!J43,Parameters!$K$4:$L$16,2,FALSE))","v":""},{"$f":"IF($H37=\"yes\",IF($K37=\"Y\",'Window & Door DATA INPUT'!Q43/1000,IF($K37=\"N\",'Window & Door DATA INPUT'!P43/1000)),\"\")","v":""},{"$f":"IF($H37=\"yes\",IF($K37=\"Y\",'Window & Door DATA INPUT'!P43/1000,IF($K37=\"N\",'Window & Door DATA INPUT'!Q43/1000)),\"\")","v":""},"",{"$f":"IF(AND(B37=1,C37=0,H37=\"yes\"),\"A\",IF(AND(C37=1,H37=\"yes\",'Window & Door DATA INPUT'!R43=\"no\"),\"B\",IF(AND(C37=1,H37=\"yes\",'Window & Door DATA INPUT'!R43=\"yes\",'Window & Door DATA INPUT'!S43=\"yes\"),\"C\",IF(AND(C37=1,H37=\"yes\",'Window & Door DATA INPUT'!R43=\"yes\",'Window & Door DATA INPUT'!S43=\"no\"),\"D\",\"\"))))","v":""},{"$f":"IF(AND(C37=1,H37=\"yes\",OR(I37=Parameters!$K$12,I37=Parameters!$K$13,I37=Parameters!$K$14)),\"E\",IF(AND(C37=1,H37=\"yes\",NOT(OR(I37=Parameters!$K$12,I37=Parameters!$K$13,I37=Parameters!$K$14))),\"F\",\"\"))","v":""},{"$f":"IF(AND(B37=1,H37=\"yes\"),VLOOKUP(I37,Parameters!$K$4:$M$16,3,FALSE),\"\")","v":""},{"$f":"IF(AND(OR(O37=\"A\",O37=\"B\",O37=\"d\"),Q37=\"input\"),'Window & Door DATA INPUT'!AA43,IF(AND(O37=\"C\",Q37=\"input\"),'Window & Door DATA INPUT'!W43,Calculations!Q37))","v":""},{"$f":"IF('Window & Door DATA INPUT'!X43=\"Yes\",'Window & Door DATA INPUT'!Y43/1000,IF(B37=1,\"N/A\",\"\"))","v":""},{"$f":"IF(Q37=\"calc\",IF(O37=\"c\",'Window & Door DATA INPUT'!U43/1000,(Parameters!$S$4-'Window & Door DATA INPUT'!Z43+Parameters!$Q$4)/1000),\"\")","v":""},"","","",{"$f":"IF(OR($H37=\"no\",$B37=0),\"\",IF($I37=Parameters!$K$15,$L37/($M37/2),$L37/$M37))","v":""},{"$f":"IF(OR($H37=\"no\",$B37=0),\"\",IF($X37<0.5,Parameters!$X$4,IF($X37<1,Parameters!$Y$4,IF($X37<2,Parameters!$Z$4,Parameters!$AA$4))))","v":""},{"$f":"IF(OR($H37=\"no\",$B37=0),\"\",IF($X37<0.5,Parameters!$X$5,IF($X37<1,Parameters!$Y$5,IF($X37<2,Parameters!$Z$5,Parameters!$AA$5))))","v":""},{"$f":"IF(OR($H37=\"no\",$B37=0),\"\",IF($I37=Parameters!$K$15,(2*($M37/2)*SIN(RADIANS(Calculations!$W37/2))),(2*$M37*SIN(RADIANS($W37/2)))))","v":""},"",{"$f":"IF(OR($H37=\"no\",$B37=0),\"\",IF($I37=Parameters!$K$15,$AB37*$N37/2,$AB37*$N37))","v":""},{"$f":"IF(OR($H37=\"no\",$B37=0),\"\",IF($I37=Parameters!$K$15,$AC37*2/Parameters!$AB$4,$AC37/Parameters!$AB$4))","v":""},{"$f":"IF(AND(O37=\"B\",Q37=\"calc\"),V37,IF(AND(O37=\"C\",Q37=\"calc\"),'Window & Door DATA INPUT'!T43/1000,\"\"))","v":""},{"$f":"IF(AND(O37=\"B\",Q37=\"input\"),'Window & Door DATA INPUT'!AA43,IF(AND(O37=\"C\",Q37=\"input\",P37=\"F\"),'Window & Door DATA INPUT'!V43,IF(AND(O37=\"C\",P37=\"E\"),0,IF(AND(O37=\"D\"),0,IF(AND(B37=1,C37=0),\"\",(Calculations!Q37))))))","v":""},"",{"$f":"IF(OR($H37=\"no\",$C37=0),\"\",IF($I37=Parameters!$K$15,$L37/($M37/2),$L37/$M37))","v":""},{"$f":"IF(OR($H37=\"no\",$C37=0),\"\",IF($AH37<0.5,Parameters!$X$4,IF($AH37<1,Parameters!$Y$4,IF($AH37<2,Parameters!$Z$4,Parameters!$AA$4))))","v":""},{"$f":"IF(OR($H37=\"no\",$C37=0),\"\",IF($AH37<0.5,Parameters!$X$5,IF($AH37<1,Parameters!$Y$5,IF($AH37<2,Parameters!$Z$5,Parameters!$AA$5))))","v":""},{"$f":"IF(OR($H37=\"no\",$C37=0),\"\",IF($I37=Parameters!$K$15,(2*($M37/2)*SIN(RADIANS(Calculations!$AG37/2))),(2*$M37*SIN(RADIANS($AG37/2)))))","v":""},"",{"$f":"IF(OR($H37=\"no\",$C37=0),\"\",IF($I37=Parameters!$K$15,$AL37*$N37/2,$AL37*$N37))","v":""},{"$f":"IF(OR($H37=\"no\",$C37=0),\"\",IF($I37=Parameters!$K$15,$AM37*2/Parameters!$AB$4,$AM37/Parameters!$AB$4))","v":""},null,"TOTAL",{"$f":"RESULTS!$D$17","v":"Error! Not defined on DATA INPUT sheet"},{"$f":"SUM(AR4:AR34)","v":{"v":0,"d":"0.00"}},{"$f":"IF(AQ37>0,AR37/AQ37,\" \")","v":{"$error":"#VALUE!"}},{"$f":"SUM(AT4:AT34)","v":{"v":0,"d":"0.00"}},null,null,{"$f":"IF(AQ37>0,AT37/AQ37,\" \")","v":{"$error":"#VALUE!"}},{"$nulls":11},{"$f":"'Window & Door DATA INPUT'!H43","v":0},""]
[null,{"$f":"IF('Window & Door DATA INPUT'!B44>1,1,0)","v":0},{"$f":"IF(AND(B38=1,OR(D38=Parameters!$D$17, D38=Parameters!$D$18,D38=Parameters!$D$19,D38=Parameters!$D$20,D38=Parameters!$D$21,D38=Parameters!$D$22, D38=Parameters!$D$23, D38=Parameters!$D$24)),1,0)","v":0},{"$f":"IF('Window & Door DATA INPUT'!B44=\"\",\"\",'Window & Door DATA INPUT'!B44)","v":""},{"$f":"IF('Window & Door DATA INPUT'!D44=\"\",\"\",'Window & Door DATA INPUT'!D44)","v":""},{"$f":"IF(B38=1,'Window & Door DATA INPUT'!H44&RESULTS!$H$5,\"\")","v":""},{"$f":"IF(B38=1,VLOOKUP(F38,Parameters!$H$4:$I$20,2,FALSE),\"\")","v":""},{"$f":"IF(OR('Window & Door DATA INPUT'!J44=Parameters!$K$4,'Window & Door DATA INPUT'!J44=Parameters!$K$11),\"No\",IF('Window & Door DATA INPUT'!K44=\"\",\"\",'Window & Door DATA INPUT'!K44))","v":""},{"$f":"IF('Window & Door DATA INPUT'!J44=\"\",\"\",'Window & Door DATA INPUT'!J44)","v":""},{"$f":"IF('Window & Door DATA INPUT'!L44=Parameters!$O$5,'Window & Door DATA INPUT'!O44,IF(B38=1,('Window & Door DATA INPUT'!N44*'Window & Door DATA INPUT'!M44)/1000000,\"\"))","v":""},{"$f":"IF('Window & Door DATA INPUT'!J44=\"\",\"\",VLOOKUP('Window & Door DATA INPUT'!J44,Parameters!$K$4:$L$16,2,FALSE))","v":""},{"$f":"IF($H38=\"yes\",IF($K38=\"Y\",'Window & Door DATA INPUT'!Q44/1000,IF($K38=\"N\",'Window & Door DATA INPUT'!P44/1000)),\"\")","v":""},{"$f":"IF($H38=\"yes\",IF($K38=\"Y\",'Window & Door DATA INPUT'!P44/1000,IF($K38=\"N\",'Window & Door DATA INPUT'!Q44/1000)),\"\")","v":""},"",{"$f":"IF(AND(B38=1,C38=0,H38=\"yes\"),\"A\",IF(AND(C38=1,H38=\"yes\",'Window & Door DATA INPUT'!R44=\"no\"),\"B\",IF(AND(C38=1,H38=\"yes\",'Window & Door DATA INPUT'!R44=\"yes\",'Window & Door DATA INPUT'!S44=\"yes\"),\"C\",IF(AND(C38=1,H38=\"yes\",'Window & Door DATA INPUT'!R44=\"yes\",'Window & Door DATA INPUT'!S44=\"no\"),\"D\",\"\"))))","v":""},{"$f":"IF(AND(C38=1,H38=\"yes\",OR(I38=Parameters!$K$12,I38=Parameters!$K$13,I38=Parameters!$K$14)),\"E\",IF(AND(C38=1,H38=\"yes\",NOT(OR(I38=Parameters!$K$12,I38=Parameters!$K$13,I38=Parameters!$K$14))),\"F\",\"\"))","v":""},{"$f":"IF(AND(B38=1,H38=\"yes\"),VLOOKUP(I38,Parameters!$K$4:$M$16,3,FALSE),\"\")","v":""},{"$f":"IF(AND(OR(O38=\"A\",O38=\"B\",O38=\"d\"),Q38=\"input\"),'Window & Door DATA INPUT'!AA44,IF(AND(O38=\"C\",Q38=\"input\"),'Window & Door DATA INPUT'!W44,Calculations!Q38))","v":""},{"$f":"IF('Window & Door DATA INPUT'!X44=\"Yes\",'Window & Door DATA INPUT'!Y44/1000,IF(B38=1,\"N/A\",\"\"))","v":""},{"$f":"IF(Q38=\"calc\",IF(O38=\"c\",'Window & Door DATA INPUT'!U44/1000,(Parameters!$S$4-'Window & Door DATA INPUT'!Z44+Parameters!$Q$4)/1000),\"\")","v":""},"","","",{"$f":"IF(OR($H38=\"no\",$B38=0),\"\",IF($I38=Parameters!$K$15,$L38/($M38/2),$L38/$M38))","v":""},{"$f":"IF(OR($H38=\"no\",$B38=0),\"\",IF($X38<0.5,Parameters!$X$4,IF($X38<1,Parameters!$Y$4,IF($X38<2,Parameters!$Z$4,Parameters!$AA$4))))","v":""},{"$f":"IF(OR($H38=\"no\",$B38=0),\"\",IF($X38<0.5,Parameters!$X$5,IF($X38<1,Parameters!$Y$5,IF($X38<2,Parameters!$Z$5,Parameters!$AA$5))))","v":""},{"$f":"IF(OR($H38=\"no\",$B38=0),\"\",IF($I38=Parameters!$K$15,(2*($M38/2)*SIN(RADIANS(Calculations!$W38/2))),(2*$M38*SIN(RADIANS($W38/2)))))","v":""},"",{"$f":"IF(OR($H38=\"no\",$B38=0),\"\",IF($I38=Parameters!$K$15,$AB38*$N38/2,$AB38*$N38))","v":""},{"$f":"IF(OR($H38=\"no\",$B38=0),\"\",IF($I38=Parameters!$K$15,$AC38*2/Parameters!$AB$4,$AC38/Parameters!$AB$4))","v":""},{"$f":"IF(AND(O38=\"B\",Q38=\"calc\"),V38,IF(AND(O38=\"C\",Q38=\"calc\"),'Window & Door DATA INPUT'!T44/1000,\"\"))","v":""},{"$f":"IF(AND(O38=\"B\",Q38=\"input\"),'Window & Door DATA INPUT'!AA44,IF(AND(O38=\"C\",Q38=\"input\",P38=\"F\"),'Window & Door DATA INPUT'!V44,IF(AND(O38=\"C\",P38=\"E\"),0,IF(AND(O38=\"D\"),0,IF(AND(B38=1,C38=0),\"\",(Calculations!Q38))))))","v":""},"",{"$f":"IF(OR($H38=\"no\",$C38=0),\"\",IF($I38=Parameters!$K$15,$L38/($M38/2),$L38/$M38))","v":""},{"$f":"IF(OR($H38=\"no\",$C38=0),\"\",IF($AH38<0.5,Parameters!$X$4,IF($AH38<1,Parameters!$Y$4,IF($AH38<2,Parameters!$Z$4,Parameters!$AA$4))))","v":""},{"$f":"IF(OR($H38=\"no\",$C38=0),\"\",IF($AH38<0.5,Parameters!$X$5,IF($AH38<1,Parameters!$Y$5,IF($AH38<2,Parameters!$Z$5,Parameters!$AA$5))))","v":""},{"$f":"IF(OR($H38=\"no\",$C38=0),\"\",IF($I38=Parameters!$K$15,(2*($M38/2)*SIN(RADIANS(Calculations!$AG38/2))),(2*$M38*SIN(RADIANS($AG38/2)))))","v":""},"",{"$f":"IF(OR($H38=\"no\",$C38=0),\"\",IF($I38=Parameters!$K$15,$AL38*$N38/2,$AL38*$N38))","v":""},{"$f":"IF(OR($H38=\"no\",$C38=0),\"\",IF($I38=Parameters!$K$15,$AM38*2/Parameters!$AB$4,$AM38/Parameters!$AB$4))","v":""},{"$nulls":20},{"$f":"'Window & Door DATA INPUT'!H44","v":0},""]
[null,{"$f":"IF('Window & Door DATA INPUT'!B45>1,1,0)","v":0},{"$f":"IF(AND(B39=1,OR(D39=Parameters!$D$17, D39=Parameters!$D$18,D39=Parameters!$D$19,D39=Parameters!$D$20,D39=Parameters!$D$21,D39=Parameters!$D$22, D39=Parameters!$D$23, D39=Parameters!$D$24)),1,0)","v":0},{"$f":"IF('Window & Door DATA INPUT'!B45=\"\",\"\",'Window & Door DATA INPUT'!B45)","v":""},{"$f":"IF('Window & Door DATA INPUT'!D45=\"\",\"\",'Window & Door DATA INPUT'!D45)","v":""},{"$f":"IF(B39=1,'Window & Door DATA INPUT'!H45&RESULTS!$H$5,\"\")","v":""},{"$f":"IF(B39=1,VLOOKUP(F39,Parameters!$H$4:$I$20,2,FALSE),\"\")","v":""},{"$f":"IF(OR('Window & Door DATA INPUT'!J45=Parameters!$K$4,'Window & Door DATA INPUT'!J45=Parameters!$K$11),\"No\",IF('Window & Door DATA INPUT'!K45=\"\",\"\",'Window & Door DATA INPUT'!K45))","v":""},{"$f":"IF('Window & Door DATA INPUT'!J45=\"\",\"\",'Window & Door DATA INPUT'!J45)","v":""},{"$f":"IF('Window & Door DATA INPUT'!L45=Parameters!$O$5,'Window & Door DATA INPUT'!O45,IF(B39=1,('Window & Door DATA INPUT'!N45*'Window & Door DATA INPUT'!M45)/1000000,\"\"))","v":""},{"$f":"IF('Window & Door DATA INPUT'!J45=\"\",\"\",VLOOKUP('Window & Door DATA INPUT'!J45,Parameters!$K$4:$L$16,2,FALSE))","v":""},{"$f":"IF($H39=\"yes\",IF($K39=\"Y\",'Window & Door DATA INPUT'!Q45/1000,IF($K39=\"N\",'Window & Door DATA INPUT'!P45/1000)),\"\")","v":""},{"$f":"IF($H39=\"yes\",IF($K39=\"Y\",'Window & Door DATA INPUT'!P45/1000,IF($K39=\"N\",'Window & Door DATA INPUT'!Q45/1000)),\"\")","v":""},"",{"$f":"IF(AND(B39=1,C39=0,H39=\"yes\"),\"A\",IF(AND(C39=1,H39=\"yes\",'Window & Door DATA INPUT'!R45=\"no\"),\"B\",IF(AND(C39=1,H39=\"yes\",'Window & Door DATA INPUT'!R45=\"yes\",'Window & Door DATA INPUT'!S45=\"yes\"),\"C\",IF(AND(C39=1,H39=\"yes\",'Window & Door DATA INPUT'!R45=\"yes\",'Window & Door DATA INPUT'!S45=\"no\"),\"D\",\"\"))))","v":""},{"$f":"IF(AND(C39=1,H39=\"yes\",OR(I39=Parameters!$K$12,I39=Parameters!$K$13,I39=Parameters!$K$14)),\"E\",IF(AND(C39=1,H39=\"yes\",NOT(OR(I39=Parameters!$K$12,I39=Parameters!$K$13,I39=Parameters!$K$14))),\"F\",\"\"))","v":""},{"$f":"IF(AND(B39=1,H39=\"yes\"),VLOOKUP(I39,Parameters!$K$4:$M$16,3,FALSE),\"\")","v":""},{"$f":"IF(AND(OR(O39=\"A\",O39=\"B\",O39=\"d\"),Q39=\"input\"),'Window & Door DATA INPUT'!AA45,IF(AND(O39=\"C\",Q39=\"input\"),'Window & Door DATA INPUT'!W45,Calculations!Q39))","v":""},{"$f":"IF('Window & Door DATA INPUT'!X45=\"Yes\",'Window & Door DATA INPUT'!Y45/1000,IF(B39=1,\"N/A\",\"\"))","v":""},{"$f":"IF(Q39=\"calc\",IF(O39=\"c\",'Window & Door DATA INPUT'!U45/1000,(Parameters!$S$4-'Window & Door DATA INPUT'!Z45+Parameters!$Q$4)/1000),\"\")","v":""},"","","",{"$f":"IF(OR($H39=\"no\",$B39=0),\"\",IF($I39=Parameters!$K$15,$L39/($M39/2),$L39/$M39))","v":""},{"$f":"IF(OR($H39=\"no\",$B39=0),\"\",IF($X39<0.5,Parameters!$X$4,IF($X39<1,Parameters!$Y$4,IF($X39<2,Parameters!$Z$4,Parameters!$AA$4))))","v":""},{"$f":"IF(OR($H39=\"no\",$B39=0),\"\",IF($X39<0.5,Parameters!$X$5,IF($X39<1,Parameters!$Y$5,IF($X39<2,Parameters!$Z$5,Parameters!$AA$5))))","v":""},{"$f":"IF(OR($H39=\"no\",$B39=0),\"\",IF($I39=Parameters!$K$15,(2*($M39/2)*SIN(RADIANS(Calculations!$W39/2))),(2*$M39*SIN(RADIANS($W39/2)))))","v":""},"",{"$f":"IF(OR($H39=\"no\",$B39=0),\"\",IF($I39=Parameters!$K$15,$AB39*$N39/2,$AB39*$N39))","v":""},{"$f":"IF(OR($H39=\"no\",$B39=0),\"\",IF($I39=Parameters!$K$15,$AC39*2/Parameters!$AB$4,$AC39/Parameters!$AB$4))","v":""},{"$f":"IF(AND(O39=\"B\",Q39=\"calc\"),V39,IF(AND(O39=\"C\",Q39=\"calc\"),'Window & Door DATA INPUT'!T45/1000,\"\"))","v":""},{"$f":"IF(AND(O39=\"B\",Q39=\"input\"),'Window & Door DATA INPUT'!AA45,IF(AND(O39=\"C\",Q39=\"input\",P39=\"F\"),'Window & Door DATA INPUT'!V45,IF(AND(O39=\"C\",P39=\"E\"),0,IF(AND(O39=\"D\"),0,IF(AND(B39=1,C39=0),\"\",(Calculations!Q39))))))","v":""},"",{"$f":"IF(OR($H39=\"no\",$C39=0),\"\",IF($I39=Parameters!$K$15,$L39/($M39/2),$L39/$M39))","v":""},{"$f":"IF(OR($H39=\"no\",$C39=0),\"\",IF($AH39<0.5,Parameters!$X$4,IF($AH39<1,Parameters!$Y$4,IF($AH39<2,Parameters!$Z$4,Parameters!$AA$4))))","v":""},{"$f":"IF(OR($H39=\"no\",$C39=0),\"\",IF($AH39<0.5,Parameters!$X$5,IF($AH39<1,Parameters!$Y$5,IF($AH39<2,Parameters!$Z$5,Parameters!$AA$5))))","v":""},{"$f":"IF(OR($H39=\"no\",$C39=0),\"\",IF($I39=Parameters!$K$15,(2*($M39/2)*SIN(RADIANS(Calculations!$AG39/2))),(2*$M39*SIN(RADIANS($AG39/2)))))","v":""},"",{"$f":"IF(OR($H39=\"no\",$C39=0),\"\",IF($I39=Parameters!$K$15,$AL39*$N39/2,$AL39*$N39))","v":""},{"$f":"IF(OR($H39=\"no\",$C39=0),\"\",IF($I39=Parameters!$K$15,$AM39*2/Parameters!$AB$4,$AM39/Parameters!$AB$4))","v":""},{"$nulls":20},{"$f":"'Window & Door DATA INPUT'!H45","v":0},""]
[null,{"$f":"IF('Window & Door DATA INPUT'!B46>1,1,0)","v":0},{"$f":"IF(AND(B40=1,OR(D40=Parameters!$D$17, D40=Parameters!$D$18,D40=Parameters!$D$19,D40=Parameters!$D$20,D40=Parameters!$D$21,D40=Parameters!$D$22, D40=Parameters!$D$23, D40=Parameters!$D$24)),1,0)","v":0},{"$f":"IF('Window & Door DATA INPUT'!B46=\"\",\"\",'Window & Door DATA INPUT'!B46)","v":""},{"$f":"IF('Window & Door DATA INPUT'!D46=\"\",\"\",'Window & Door DATA INPUT'!D46)","v":""},{"$f":"IF(B40=1,'Window & Door DATA INPUT'!H46&RESULTS!$H$5,\"\")","v":""},{"$f":"IF(B40=1,VLOOKUP(F40,Parameters!$H$4:$I$20,2,FALSE),\"\")","v":""},{"$f":"IF(OR('Window & Door DATA INPUT'!J46=Parameters!$K$4,'Window & Door DATA INPUT'!J46=Parameters!$K$11),\"No\",IF('Window & Door DATA INPUT'!K46=\"\",\"\",'Window & Door DATA INPUT'!K46))","v":""},{"$f":"IF('Window & Door DATA INPUT'!J46=\"\",\"\",'Window & Door DATA INPUT'!J46)","v":""},{"$f":"IF('Window & Door DATA INPUT'!L46=Parameters!$O$5,'Window & Door DATA INPUT'!O46,IF(B40=1,('Window & Door DATA INPUT'!N46*'Window & Door DATA INPUT'!M46)/1000000,\"\"))","v":""},{"$f":"IF('Window & Door DATA INPUT'!J46=\"\",\"\",VLOOKUP('Window & Door DATA INPUT'!J46,Parameters!$K$4:$L$16,2,FALSE))","v":""},{"$f":"IF($H40=\"yes\",IF($K40=\"Y\",'Window & Door DATA INPUT'!Q46/1000,IF($K40=\"N\",'Window & Door DATA INPUT'!P46/1000)),\"\")","v":""},{"$f":"IF($H40=\"yes\",IF($K40=\"Y\",'Window & Door DATA INPUT'!P46/1000,IF($K40=\"N\",'Window & Door DATA INPUT'!Q46/1000)),\"\")","v":""},"",{"$f":"IF(AND(B40=1,C40=0,H40=\"yes\"),\"A\",IF(AND(C40=1,H40=\"yes\",'Window & Door DATA INPUT'!R46=\"no\"),\"B\",IF(AND(C40=1,H40=\"yes\",'Window & Door DATA INPUT'!R46=\"yes\",'Window & Door DATA INPUT'!S46=\"yes\"),\"C\",IF(AND(C40=1,H40=\"yes\",'Window & Door DATA INPUT'!R46=\"yes\",'Window & Door DATA INPUT'!S46=\"no\"),\"D\",\"\"))))","v":""},{"$f":"IF(AND(C40=1,H40=\"yes\",OR(I40=Parameters!$K$12,I40=Parameters!$K$13,I40=Parameters!$K$14)),\"E\",IF(AND(C40=1,H40=\"yes\",NOT(OR(I40=Parameters!$K$12,I40=Parameters!$K$13,I40=Parameters!$K$14))),\"F\",\"\"))","v":""},{"$f":"IF(AND(B40=1,H40=\"yes\"),VLOOKUP(I40,Parameters!$K$4:$M$16,3,FALSE),\"\")","v":""},{"$f":"IF(AND(OR(O40=\"A\",O40=\"B\",O40=\"d\"),Q40=\"input\"),'Window & Door DATA INPUT'!AA46,IF(AND(O40=\"C\",Q40=\"input\"),'Window & Door DATA INPUT'!W46,Calculations!Q40))","v":""},{"$f":"IF('Window & Door DATA INPUT'!X46=\"Yes\",'Window & Door DATA INPUT'!Y46/1000,IF(B40=1,\"N/A\",\"\"))","v":""},{"$f":"IF(Q40=\"calc\",IF(O40=\"c\",'Window & Door DATA INPUT'!U46/1000,(Parameters!$S$4-'Window & Door DATA INPUT'!Z46+Parameters!$Q$4)/1000),\"\")","v":""},"","","",{"$f":"IF(OR($H40=\"no\",$B40=0),\"\",IF($I40=Parameters!$K$15,$L40/($M40/2),$L40/$M40))","v":""},{"$f":"IF(OR($H40=\"no\",$B40=0),\"\",IF($X40<0.5,Parameters!$X$4,IF($X40<1,Parameters!$Y$4,IF($X40<2,Parameters!$Z$4,Parameters!$AA$4))))","v":""},{"$f":"IF(OR($H40=\"no\",$B40=0),\"\",IF($X40<0.5,Parameters!$X$5,IF($X40<1,Parameters!$Y$5,IF($X40<2,Parameters!$Z$5,Parameters!$AA$5))))","v":""},{"$f":"IF(OR($H40=\"no\",$B40=0),\"\",IF($I40=Parameters!$K$15,(2*($M40/2)*SIN(RADIANS(Calculations!$W40/2))),(2*$M40*SIN(RADIANS($W40/2)))))","v":""},"",{"$f":"IF(OR($H40=\"no\",$B40=0),\"\",IF($I40=Parameters!$K$15,$AB40*$N40/2,$AB40*$N40))","v":""},{"$f":"IF(OR($H40=\"no\",$B40=0),\"\",IF($I40=Parameters!$K$15,$AC40*2/Parameters!$AB$4,$AC40/Parameters!$AB$4))","v":""},{"$f":"IF(AND(O40=\"B\",Q40=\"calc\"),V40,IF(AND(O40=\"C\",Q40=\"calc\"),'Window & Door DATA INPUT'!T46/1000,\"\"))","v":""},{"$f":"IF(AND(O40=\"B\",Q40=\"input\"),'Window & Door DATA INPUT'!AA46,IF(AND(O40=\"C\",Q40=\"input\",P40=\"F\"),'Window & Door DATA INPUT'!V46,IF(AND(O40=\"C\",P40=\"E\"),0,IF(AND(O40=\"D\"),0,IF(AND(B40=1,C40=0),\"\",(Calculations!Q40))))))","v":""},"",{"$f":"IF(OR($H40=\"no\",$C40=0),\"\",IF($I40=Parameters!$K$15,$L40/($M40/2),$L40/$M40))","v":""},{"$f":"IF(OR($H40=\"no\",$C40=0),\"\",IF($AH40<0.5,Parameters!$X$4,IF($AH40<1,Parameters!$Y$4,IF($AH40<2,Parameters!$Z$4,Parameters!$AA$4))))","v":""},{"$f":"IF(OR($H40=\"no\",$C40=0),\"\",IF($AH40<0.5,Parameters!$X$5,IF($AH40<1,Parameters!$Y$5,IF($AH40<2,Parameters!$Z$5,Parameters!$AA$5))))","v":""},{"$f":"IF(OR($H40=\"no\",$C40=0),\"\",IF($I40=Parameters!$K$15,(2*($M40/2)*SIN(RADIANS(Calculations!$AG40/2))),(2*$M40*SIN(RADIANS($AG40/2)))))","v":""},"",{"$f":"IF(OR($H40=\"no\",$C40=0),\"\",IF($I40=Parameters!$K$15,$AL40*$N40/2,$AL40*$N40))","v":""},{"$f":"IF(OR($H40=\"no\",$C40=0),\"\",IF($I40=Parameters!$K$15,$AM40*2/Parameters!$AB$4,$AM40/Parameters!$AB$4))","v":""},{"$nulls":20},{"$f":"'Window & Door DATA INPUT'!H46","v":0},""]
[null,{"$f":"IF('Window & Door DATA INPUT'!B47>1,1,0)","v":0},{"$f":"IF(AND(B41=1,OR(D41=Parameters!$D$17, D41=Parameters!$D$18,D41=Parameters!$D$19,D41=Parameters!$D$20,D41=Parameters!$D$21,D41=Parameters!$D$22, D41=Parameters!$D$23, D41=Parameters!$D$24)),1,0)","v":0},{"$f":"IF('Window & Door DATA INPUT'!B47=\"\",\"\",'Window & Door DATA INPUT'!B47)","v":""},{"$f":"IF('Window & Door DATA INPUT'!D47=\"\",\"\",'Window & Door DATA INPUT'!D47)","v":""},{"$f":"IF(B41=1,'Window & Door DATA INPUT'!H47&RESULTS!$H$5,\"\")","v":""},{"$f":"IF(B41=1,VLOOKUP(F41,Parameters!$H$4:$I$20,2,FALSE),\"\")","v":""},{"$f":"IF(OR('Window & Door DATA INPUT'!J47=Parameters!$K$4,'Window & Door DATA INPUT'!J47=Parameters!$K$11),\"No\",IF('Window & Door DATA INPUT'!K47=\"\",\"\",'Window & Door DATA INPUT'!K47))","v":""},{"$f":"IF('Window & Door DATA INPUT'!J47=\"\",\"\",'Window & Door DATA INPUT'!J47)","v":""},{"$f":"IF('Window & Door DATA INPUT'!L47=Parameters!$O$5,'Window & Door DATA INPUT'!O47,IF(B41=1,('Window & Door DATA INPUT'!N47*'Window & Door DATA INPUT'!M47)/1000000,\"\"))","v":""},{"$f":"IF('Window & Door DATA INPUT'!J47=\"\",\"\",VLOOKUP('Window & Door DATA INPUT'!J47,Parameters!$K$4:$L$16,2,FALSE))","v":""},{"$f":"IF($H41=\"yes\",IF($K41=\"Y\",'Window & Door DATA INPUT'!Q47/1000,IF($K41=\"N\",'Window & Door DATA INPUT'!P47/1000)),\"\")","v":""},{"$f":"IF($H41=\"yes\",IF($K41=\"Y\",'Window & Door DATA INPUT'!P47/1000,IF($K41=\"N\",'Window & Door DATA INPUT'!Q47/1000)),\"\")","v":""},"",{"$f":"IF(AND(B41=1,C41=0,H41=\"yes\"),\"A\",IF(AND(C41=1,H41=\"yes\",'Window & Door DATA INPUT'!R47=\"no\"),\"B\",IF(AND(C41=1,H41=\"yes\",'Window & Door DATA INPUT'!R47=\"yes\",'Window & Door DATA INPUT'!S47=\"yes\"),\"C\",IF(AND(C41=1,H41=\"yes\",'Window & Door DATA INPUT'!R47=\"yes\",'Window & Door DATA INPUT'!S47=\"no\"),\"D\",\"\"))))","v":""},{"$f":"IF(AND(C41=1,H41=\"yes\",OR(I41=Parameters!$K$12,I41=Parameters!$K$13,I41=Parameters!$K$14)),\"E\",IF(AND(C41=1,H41=\"yes\",NOT(OR(I41=Parameters!$K$12,I41=Parameters!$K$13,I41=Parameters!$K$14))),\"F\",\"\"))","v":""},{"$f":"IF(AND(B41=1,H41=\"yes\"),VLOOKUP(I41,Parameters!$K$4:$M$16,3,FALSE),\"\")","v":""},{"$f":"IF(AND(OR(O41=\"A\",O41=\"B\",O41=\"d\"),Q41=\"input\"),'Window & Door DATA INPUT'!AA47,IF(AND(O41=\"C\",Q41=\"input\"),'Window & Door DATA INPUT'!W47,Calculations!Q41))","v":""},{"$f":"IF('Window & Door DATA INPUT'!X47=\"Yes\",'Window & Door DATA INPUT'!Y47/1000,IF(B41=1,\"N/A\",\"\"))","v":""},{"$f":"IF(Q41=\"calc\",IF(O41=\"c\",'Window & Door DATA INPUT'!U47/1000,(Parameters!$S$4-'Window & Door DATA INPUT'!Z47+Parameters!$Q$4)/1000),\"\")","v":""},"","","",{"$f":"IF(OR($H41=\"no\",$B41=0),\"\",IF($I41=Parameters!$K$15,$L41/($M41/2),$L41/$M41))","v":""},{"$f":"IF(OR($H41=\"no\",$B41=0),\"\",IF($X41<0.5,Parameters!$X$4,IF($X41<1,Parameters!$Y$4,IF($X41<2,Parameters!$Z$4,Parameters!$AA$4))))","v":""},{"$f":"IF(OR($H41=\"no\",$B41=0),\"\",IF($X41<0.5,Parameters!$X$5,IF($X41<1,Parameters!$Y$5,IF($X41<2,Parameters!$Z$5,Parameters!$AA$5))))","v":""},{"$f":"IF(OR($H41=\"no\",$B41=0),\"\",IF($I41=Parameters!$K$15,(2*($M41/2)*SIN(RADIANS(Calculations!$W41/2))),(2*$M41*SIN(RADIANS($W41/2)))))","v":""},"",{"$f":"IF(OR($H41=\"no\",$B41=0),\"\",IF($I41=Parameters!$K$15,$AB41*$N41/2,$AB41*$N41))","v":""},{"$f":"IF(OR($H41=\"no\",$B41=0),\"\",IF($I41=Parameters!$K$15,$AC41*2/Parameters!$AB$4,$AC41/Parameters!$AB$4))","v":""},{"$f":"IF(AND(O41=\"B\",Q41=\"calc\"),V41,IF(AND(O41=\"C\",Q41=\"calc\"),'Window & Door DATA INPUT'!T47/1000,\"\"))","v":""},{"$f":"IF(AND(O41=\"B\",Q41=\"input\"),'Window & Door DATA INPUT'!AA47,IF(AND(O41=\"C\",Q41=\"input\",P41=\"F\"),'Window & Door DATA INPUT'!V47,IF(AND(O41=\"C\",P41=\"E\"),0,IF(AND(O41=\"D\"),0,IF(AND(B41=1,C41=0),\"\",(Calculations!Q41))))))","v":""},"",{"$f":"IF(OR($H41=\"no\",$C41=0),\"\",IF($I41=Parameters!$K$15,$L41/($M41/2),$L41/$M41))","v":""},{"$f":"IF(OR($H41=\"no\",$C41=0),\"\",IF($AH41<0.5,Parameters!$X$4,IF($AH41<1,Parameters!$Y$4,IF($AH41<2,Parameters!$Z$4,Parameters!$AA$4))))","v":""},{"$f":"IF(OR($H41=\"no\",$C41=0),\"\",IF($AH41<0.5,Parameters!$X$5,IF($AH41<1,Parameters!$Y$5,IF($AH41<2,Parameters!$Z$5,Parameters!$AA$5))))","v":""},{"$f":"IF(OR($H41=\"no\",$C41=0),\"\",IF($I41=Parameters!$K$15,(2*($M41/2)*SIN(RADIANS(Calculations!$AG41/2))),(2*$M41*SIN(RADIANS($AG41/2)))))","v":""},"",{"$f":"IF(OR($H41=\"no\",$C41=0),\"\",IF($I41=Parameters!$K$15,$AL41*$N41/2,$AL41*$N41))","v":""},{"$f":"IF(OR($H41=\"no\",$C41=0),\"\",IF($I41=Parameters!$K$15,$AM41*2/Parameters!$AB$4,$AM41/Parameters!$AB$4))","v":""},{"$nulls":20},{"$f":"'Window & Door DATA INPUT'!H47","v":0},""]
[null,{"$f":"IF('Window & Door DATA INPUT'!B48>1,1,0)","v":0},{"$f":"IF(AND(B42=1,OR(D42=Parameters!$D$17, D42=Parameters!$D$18,D42=Parameters!$D$19,D42=Parameters!$D$20,D42=Parameters!$D$21,D42=Parameters!$D$22, D42=Parameters!$D$23, D42=Parameters!$D$24)),1,0)","v":0},{"$f":"IF('Window & Door DATA INPUT'!B48=\"\",\"\",'Window & Door DATA INPUT'!B48)","v":""},{"$f":"IF('Window & Door DATA INPUT'!D48=\"\",\"\",'Window & Door DATA INPUT'!D48)","v":""},{"$f":"IF(B42=1,'Window & Door DATA INPUT'!H48&RESULTS!$H$5,\"\")","v":""},{"$f":"IF(B42=1,VLOOKUP(F42,Parameters!$H$4:$I$20,2,FALSE),\"\")","v":""},{"$f":"IF(OR('Window & Door DATA INPUT'!J48=Parameters!$K$4,'Window & Door DATA INPUT'!J48=Parameters!$K$11),\"No\",IF('Window & Door DATA INPUT'!K48=\"\",\"\",'Window & Door DATA INPUT'!K48))","v":""},{"$f":"IF('Window & Door DATA INPUT'!J48=\"\",\"\",'Window & Door DATA INPUT'!J48)","v":""},{"$f":"IF('Window & Door DATA INPUT'!L48=Parameters!$O$5,'Window & Door DATA INPUT'!O48,IF(B42=1,('Window & Door DATA INPUT'!N48*'Window & Door DATA INPUT'!M48)/1000000,\"\"))","v":""},{"$f":"IF('Window & Door DATA INPUT'!J48=\"\",\"\",VLOOKUP('Window & Door DATA INPUT'!J48,Parameters!$K$4:$L$16,2,FALSE))","v":""},{"$f":"IF($H42=\"yes\",IF($K42=\"Y\",'Window & Door DATA INPUT'!Q48/1000,IF($K42=\"N\",'Window & Door DATA INPUT'!P48/1000)),\"\")","v":""},{"$f":"IF($H42=\"yes\",IF($K42=\"Y\",'Window & Door DATA INPUT'!P48/1000,IF($K42=\"N\",'Window & Door DATA INPUT'!Q48/1000)),\"\")","v":""},"",{"$f":"IF(AND(B42=1,C42=0,H42=\"yes\"),\"A\",IF(AND(C42=1,H42=\"yes\",'Window & Door DATA INPUT'!R48=\"no\"),\"B\",IF(AND(C42=1,H42=\"yes\",'Window & Door DATA INPUT'!R48=\"yes\",'Window & Door DATA INPUT'!S48=\"yes\"),\"C\",IF(AND(C42=1,H42=\"yes\",'Window & Door DATA INPUT'!R48=\"yes\",'Window & Door DATA INPUT'!S48=\"no\"),\"D\",\"\"))))","v":""},{"$f":"IF(AND(C42=1,H42=\"yes\",OR(I42=Parameters!$K$12,I42=Parameters!$K$13,I42=Parameters!$K$14)),\"E\",IF(AND(C42=1,H42=\"yes\",NOT(OR(I42=Parameters!$K$12,I42=Parameters!$K$13,I42=Parameters!$K$14))),\"F\",\"\"))","v":""},{"$f":"IF(AND(B42=1,H42=\"yes\"),VLOOKUP(I42,Parameters!$K$4:$M$16,3,FALSE),\"\")","v":""},{"$f":"IF(AND(OR(O42=\"A\",O42=\"B\",O42=\"d\"),Q42=\"input\"),'Window & Door DATA INPUT'!AA48,IF(AND(O42=\"C\",Q42=\"input\"),'Window & Door DATA INPUT'!W48,Calculations!Q42))","v":""},{"$f":"IF('Window & Door DATA INPUT'!X48=\"Yes\",'Window & Door DATA INPUT'!Y48/1000,IF(B42=1,\"N/A\",\"\"))","v":""},{"$f":"IF(Q42=\"calc\",IF(O42=\"c\",'Window & Door DATA INPUT'!U48/1000,(Parameters!$S$4-'Window & Door DATA INPUT'!Z48+Parameters!$Q$4)/1000),\"\")","v":""},"","","",{"$f":"IF(OR($H42=\"no\",$B42=0),\"\",IF($I42=Parameters!$K$15,$L42/($M42/2),$L42/$M42))","v":""},{"$f":"IF(OR($H42=\"no\",$B42=0),\"\",IF($X42<0.5,Parameters!$X$4,IF($X42<1,Parameters!$Y$4,IF($X42<2,Parameters!$Z$4,Parameters!$AA$4))))","v":""},{"$f":"IF(OR($H42=\"no\",$B42=0),\"\",IF($X42<0.5,Parameters!$X$5,IF($X42<1,Parameters!$Y$5,IF($X42<2,Parameters!$Z$5,Parameters!$AA$5))))","v":""},{"$f":"IF(OR($H42=\"no\",$B42=0),\"\",IF($I42=Parameters!$K$15,(2*($M42/2)*SIN(RADIANS(Calculations!$W42/2))),(2*$M42*SIN(RADIANS($W42/2)))))","v":""},"",{"$f":"IF(OR($H42=\"no\",$B42=0),\"\",IF($I42=Parameters!$K$15,$AB42*$N42/2,$AB42*$N42))","v":""},{"$f":"IF(OR($H42=\"no\",$B42=0),\"\",IF($I42=Parameters!$K$15,$AC42*2/Parameters!$AB$4,$AC42/Parameters!$AB$4))","v":""},{"$f":"IF(AND(O42=\"B\",Q42=\"calc\"),V42,IF(AND(O42=\"C\",Q42=\"calc\"),'Window & Door DATA INPUT'!T48/1000,\"\"))","v":""},{"$f":"IF(AND(O42=\"B\",Q42=\"input\"),'Window & Door DATA INPUT'!AA48,IF(AND(O42=\"C\",Q42=\"input\",P42=\"F\"),'Window & Door DATA INPUT'!V48,IF(AND(O42=\"C\",P42=\"E\"),0,IF(AND(O42=\"D\"),0,IF(AND(B42=1,C42=0),\"\",(Calculations!Q42))))))","v":""},"",{"$f":"IF(OR($H42=\"no\",$C42=0),\"\",IF($I42=Parameters!$K$15,$L42/($M42/2),$L42/$M42))","v":""},{"$f":"IF(OR($H42=\"no\",$C42=0),\"\",IF($AH42<0.5,Parameters!$X$4,IF($AH42<1,Parameters!$Y$4,IF($AH42<2,Parameters!$Z$4,Parameters!$AA$4))))","v":""},{"$f":"IF(OR($H42=\"no\",$C42=0),\"\",IF($AH42<0.5,Parameters!$X$5,IF($AH42<1,Parameters!$Y$5,IF($AH42<2,Parameters!$Z$5,Parameters!$AA$5))))","v":""},{"$f":"IF(OR($H42=\"no\",$C42=0),\"\",IF($I42=Parameters!$K$15,(2*($M42/2)*SIN(RADIANS(Calculations!$AG42/2))),(2*$M42*SIN(RADIANS($AG42/2)))))","v":""},"",{"$f":"IF(OR($H42=\"no\",$C42=0),\"\",IF($I42=Parameters!$K$15,$AL42*$N42/2,$AL42*$N42))","v":""},{"$f":"IF(OR($H42=\"no\",$C42=0),\"\",IF($I42=Parameters!$K$15,$AM42*2/Parameters!$AB$4,$AM42/Parameters!$AB$4))","v":""},{"$nulls":20},{"$f":"'Window & Door DATA INPUT'!H48","v":0},""]
[null,{"$f":"IF('Window & Door DATA INPUT'!B49>1,1,0)","v":0},{"$f":"IF(AND(B43=1,OR(D43=Parameters!$D$17, D43=Parameters!$D$18,D43=Parameters!$D$19,D43=Parameters!$D$20,D43=Parameters!$D$21,D43=Parameters!$D$22, D43=Parameters!$D$23, D43=Parameters!$D$24)),1,0)","v":0},{"$f":"IF('Window & Door DATA INPUT'!B49=\"\",\"\",'Window & Door DATA INPUT'!B49)","v":""},{"$f":"IF('Window & Door DATA INPUT'!D49=\"\",\"\",'Window & Door DATA INPUT'!D49)","v":""},{"$f":"IF(B43=1,'Window & Door DATA INPUT'!H49&RESULTS!$H$5,\"\")","v":""},{"$f":"IF(B43=1,VLOOKUP(F43,Parameters!$H$4:$I$20,2,FALSE),\"\")","v":""},{"$f":"IF(OR('Window & Door DATA INPUT'!J49=Parameters!$K$4,'Window & Door DATA INPUT'!J49=Parameters!$K$11),\"No\",IF('Window & Door DATA INPUT'!K49=\"\",\"\",'Window & Door DATA INPUT'!K49))","v":""},{"$f":"IF('Window & Door DATA INPUT'!J49=\"\",\"\",'Window & Door DATA INPUT'!J49)","v":""},{"$f":"IF('Window & Door DATA INPUT'!L49=Parameters!$O$5,'Window & Door DATA INPUT'!O49,IF(B43=1,('Window & Door DATA INPUT'!N49*'Window & Door DATA INPUT'!M49)/1000000,\"\"))","v":""},{"$f":"IF('Window & Door DATA INPUT'!J49=\"\",\"\",VLOOKUP('Window & Door DATA INPUT'!J49,Parameters!$K$4:$L$16,2,FALSE))","v":""},{"$f":"IF($H43=\"yes\",IF($K43=\"Y\",'Window & Door DATA INPUT'!Q49/1000,IF($K43=\"N\",'Window & Door DATA INPUT'!P49/1000)),\"\")","v":""},{"$f":"IF($H43=\"yes\",IF($K43=\"Y\",'Window & Door DATA INPUT'!P49/1000,IF($K43=\"N\",'Window & Door DATA INPUT'!Q49/1000)),\"\")","v":""},"",{"$f":"IF(AND(B43=1,C43=0,H43=\"yes\"),\"A\",IF(AND(C43=1,H43=\"yes\",'Window & Door DATA INPUT'!R49=\"no\"),\"B\",IF(AND(C43=1,H43=\"yes\",'Window & Door DATA INPUT'!R49=\"yes\",'Window & Door DATA INPUT'!S49=\"yes\"),\"C\",IF(AND(C43=1,H43=\"yes\",'Window & Door DATA INPUT'!R49=\"yes\",'Window & Door DATA INPUT'!S49=\"no\"),\"D\",\"\"))))","v":""},{"$f":"IF(AND(C43=1,H43=\"yes\",OR(I43=Parameters!$K$12,I43=Parameters!$K$13,I43=Parameters!$K$14)),\"E\",IF(AND(C43=1,H43=\"yes\",NOT(OR(I43=Parameters!$K$12,I43=Parameters!$K$13,I43=Parameters!$K$14))),\"F\",\"\"))","v":""},{"$f":"IF(AND(B43=1,H43=\"yes\"),VLOOKUP(I43,Parameters!$K$4:$M$16,3,FALSE),\"\")","v":""},{"$f":"IF(AND(OR(O43=\"A\",O43=\"B\",O43=\"d\"),Q43=\"input\"),'Window & Door DATA INPUT'!AA49,IF(AND(O43=\"C\",Q43=\"input\"),'Window & Door DATA INPUT'!W49,Calculations!Q43))","v":""},{"$f":"IF('Window & Door DATA INPUT'!X49=\"Yes\",'Window & Door DATA INPUT'!Y49/1000,IF(B43=1,\"N/A\",\"\"))","v":""},{"$f":"IF(Q43=\"calc\",IF(O43=\"c\",'Window & Door DATA INPUT'!U49/1000,(Parameters!$S$4-'Window & Door DATA INPUT'!Z49+Parameters!$Q$4)/1000),\"\")","v":""},"","","",{"$f":"IF(OR($H43=\"no\",$B43=0),\"\",IF($I43=Parameters!$K$15,$L43/($M43/2),$L43/$M43))","v":""},{"$f":"IF(OR($H43=\"no\",$B43=0),\"\",IF($X43<0.5,Parameters!$X$4,IF($X43<1,Parameters!$Y$4,IF($X43<2,Parameters!$Z$4,Parameters!$AA$4))))","v":""},{"$f":"IF(OR($H43=\"no\",$B43=0),\"\",IF($X43<0.5,Parameters!$X$5,IF($X43<1,Parameters!$Y$5,IF($X43<2,Parameters!$Z$5,Parameters!$AA$5))))","v":""},{"$f":"IF(OR($H43=\"no\",$B43=0),\"\",IF($I43=Parameters!$K$15,(2*($M43/2)*SIN(RADIANS(Calculations!$W43/2))),(2*$M43*SIN(RADIANS($W43/2)))))","v":""},"",{"$f":"IF(OR($H43=\"no\",$B43=0),\"\",IF($I43=Parameters!$K$15,$AB43*$N43/2,$AB43*$N43))","v":""},{"$f":"IF(OR($H43=\"no\",$B43=0),\"\",IF($I43=Parameters!$K$15,$AC43*2/Parameters!$AB$4,$AC43/Parameters!$AB$4))","v":""},{"$f":"IF(AND(O43=\"B\",Q43=\"calc\"),V43,IF(AND(O43=\"C\",Q43=\"calc\"),'Window & Door DATA INPUT'!T49/1000,\"\"))","v":""},{"$f":"IF(AND(O43=\"B\",Q43=\"input\"),'Window & Door DATA INPUT'!AA49,IF(AND(O43=\"C\",Q43=\"input\",P43=\"F\"),'Window & Door DATA INPUT'!V49,IF(AND(O43=\"C\",P43=\"E\"),0,IF(AND(O43=\"D\"),0,IF(AND(B43=1,C43=0),\"\",(Calculations!Q43))))))","v":""},"",{"$f":"IF(OR($H43=\"no\",$C43=0),\"\",IF($I43=Parameters!$K$15,$L43/($M43/2),$L43/$M43))","v":""},{"$f":"IF(OR($H43=\"no\",$C43=0),\"\",IF($AH43<0.5,Parameters!$X$4,IF($AH43<1,Parameters!$Y$4,IF($AH43<2,Parameters!$Z$4,Parameters!$AA$4))))","v":""},{"$f":"IF(OR($H43=\"no\",$C43=0),\"\",IF($AH43<0.5,Parameters!$X$5,IF($AH43<1,Parameters!$Y$5,IF($AH43<2,Parameters!$Z$5,Parameters!$AA$5))))","v":""},{"$f":"IF(OR($H43=\"no\",$C43=0),\"\",IF($I43=Parameters!$K$15,(2*($M43/2)*SIN(RADIANS(Calculations!$AG43/2))),(2*$M43*SIN(RADIANS($AG43/2)))))","v":""},"",{"$f":"IF(OR($H43=\"no\",$C43=0),\"\",IF($I43=Parameters!$K$15,$AL43*$N43/2,$AL43*$N43))","v":""},{"$f":"IF(OR($H43=\"no\",$C43=0),\"\",IF($I43=Parameters!$K$15,$AM43*2/Parameters!$AB$4,$AM43/Parameters!$AB$4))","v":""},{"$nulls":20},{"$f":"'Window & Door DATA INPUT'!H49","v":0},""]
[null,{"$f":"IF('Window & Door DATA INPUT'!B50>1,1,0)","v":0},{"$f":"IF(AND(B44=1,OR(D44=Parameters!$D$17, D44=Parameters!$D$18,D44=Parameters!$D$19,D44=Parameters!$D$20,D44=Parameters!$D$21,D44=Parameters!$D$22, D44=Parameters!$D$23, D44=Parameters!$D$24)),1,0)","v":0},{"$f":"IF('Window & Door DATA INPUT'!B50=\"\",\"\",'Window & Door DATA INPUT'!B50)","v":""},{"$f":"IF('Window & Door DATA INPUT'!D50=\"\",\"\",'Window & Door DATA INPUT'!D50)","v":""},{"$f":"IF(B44=1,'Window & Door DATA INPUT'!H50&RESULTS!$H$5,\"\")","v":""},{"$f":"IF(B44=1,VLOOKUP(F44,Parameters!$H$4:$I$20,2,FALSE),\"\")","v":""},{"$f":"IF(OR('Window & Door DATA INPUT'!J50=Parameters!$K$4,'Window & Door DATA INPUT'!J50=Parameters!$K$11),\"No\",IF('Window & Door DATA INPUT'!K50=\"\",\"\",'Window & Door DATA INPUT'!K50))","v":""},{"$f":"IF('Window & Door DATA INPUT'!J50=\"\",\"\",'Window & Door DATA INPUT'!J50)","v":""},{"$f":"IF('Window & Door DATA INPUT'!L50=Parameters!$O$5,'Window & Door DATA INPUT'!O50,IF(B44=1,('Window & Door DATA INPUT'!N50*'Window & Door DATA INPUT'!M50)/1000000,\"\"))","v":""},{"$f":"IF('Window & Door DATA INPUT'!J50=\"\",\"\",VLOOKUP('Window & Door DATA INPUT'!J50,Parameters!$K$4:$L$16,2,FALSE))","v":""},{"$f":"IF($H44=\"yes\",IF($K44=\"Y\",'Window & Door DATA INPUT'!Q50/1000,IF($K44=\"N\",'Window & Door DATA INPUT'!P50/1000)),\"\")","v":""},{"$f":"IF($H44=\"yes\",IF($K44=\"Y\",'Window & Door DATA INPUT'!P50/1000,IF($K44=\"N\",'Window & Door DATA INPUT'!Q50/1000)),\"\")","v":""},"",{"$f":"IF(AND(B44=1,C44=0,H44=\"yes\"),\"A\",IF(AND(C44=1,H44=\"yes\",'Window & Door DATA INPUT'!R50=\"no\"),\"B\",IF(AND(C44=1,H44=\"yes\",'Window & Door DATA INPUT'!R50=\"yes\",'Window & Door DATA INPUT'!S50=\"yes\"),\"C\",IF(AND(C44=1,H44=\"yes\",'Window & Door DATA INPUT'!R50=\"yes\",'Window & Door DATA INPUT'!S50=\"no\"),\"D\",\"\"))))","v":""},{"$f":"IF(AND(C44=1,H44=\"yes\",OR(I44=Parameters!$K$12,I44=Parameters!$K$13,I44=Parameters!$K$14)),\"E\",IF(AND(C44=1,H44=\"yes\",NOT(OR(I44=Parameters!$K$12,I44=Parameters!$K$13,I44=Parameters!$K$14))),\"F\",\"\"))","v":""},{"$f":"IF(AND(B44=1,H44=\"yes\"),VLOOKUP(I44,Parameters!$K$4:$M$16,3,FALSE),\"\")","v":""},{"$f":"IF(AND(OR(O44=\"A\",O44=\"B\",O44=\"d\"),Q44=\"input\"),'Window & Door DATA INPUT'!AA50,IF(AND(O44=\"C\",Q44=\"input\"),'Window & Door DATA INPUT'!W50,Calculations!Q44))","v":""},{"$f":"IF('Window & Door DATA INPUT'!X50=\"Yes\",'Window & Door DATA INPUT'!Y50/1000,IF(B44=1,\"N/A\",\"\"))","v":""},{"$f":"IF(Q44=\"calc\",IF(O44=\"c\",'Window & Door DATA INPUT'!U50/1000,(Parameters!$S$4-'Window & Door DATA INPUT'!Z50+Parameters!$Q$4)/1000),\"\")","v":""},"","","",{"$f":"IF(OR($H44=\"no\",$B44=0),\"\",IF($I44=Parameters!$K$15,$L44/($M44/2),$L44/$M44))","v":""},{"$f":"IF(OR($H44=\"no\",$B44=0),\"\",IF($X44<0.5,Parameters!$X$4,IF($X44<1,Parameters!$Y$4,IF($X44<2,Parameters!$Z$4,Parameters!$AA$4))))","v":""},{"$f":"IF(OR($H44=\"no\",$B44=0),\"\",IF($X44<0.5,Parameters!$X$5,IF($X44<1,Parameters!$Y$5,IF($X44<2,Parameters!$Z$5,Parameters!$AA$5))))","v":""},{"$f":"IF(OR($H44=\"no\",$B44=0),\"\",IF($I44=Parameters!$K$15,(2*($M44/2)*SIN(RADIANS(Calculations!$W44/2))),(2*$M44*SIN(RADIANS($W44/2)))))","v":""},"",{"$f":"IF(OR($H44=\"no\",$B44=0),\"\",IF($I44=Parameters!$K$15,$AB44*$N44/2,$AB44*$N44))","v":""},{"$f":"IF(OR($H44=\"no\",$B44=0),\"\",IF($I44=Parameters!$K$15,$AC44*2/Parameters!$AB$4,$AC44/Parameters!$AB$4))","v":""},{"$f":"IF(AND(O44=\"B\",Q44=\"calc\"),V44,IF(AND(O44=\"C\",Q44=\"calc\"),'Window & Door DATA INPUT'!T50/1000,\"\"))","v":""},{"$f":"IF(AND(O44=\"B\",Q44=\"input\"),'Window & Door DATA INPUT'!AA50,IF(AND(O44=\"C\",Q44=\"input\",P44=\"F\"),'Window & Door DATA INPUT'!V50,IF(AND(O44=\"C\",P44=\"E\"),0,IF(AND(O44=\"D\"),0,IF(AND(B44=1,C44=0),\"\",(Calculations!Q44))))))","v":""},"",{"$f":"IF(OR($H44=\"no\",$C44=0),\"\",IF($I44=Parameters!$K$15,$L44/($M44/2),$L44/$M44))","v":""},{"$f":"IF(OR($H44=\"no\",$C44=0),\"\",IF($AH44<0.5,Parameters!$X$4,IF($AH44<1,Parameters!$Y$4,IF($AH44<2,Parameters!$Z$4,Parameters!$AA$4))))","v":""},{"$f":"IF(OR($H44=\"no\",$C44=0),\"\",IF($AH44<0.5,Parameters!$X$5,IF($AH44<1,Parameters!$Y$5,IF($AH44<2,Parameters!$Z$5,Parameters!$AA$5))))","v":""},{"$f":"IF(OR($H44=\"no\",$C44=0),\"\",IF($I44=Parameters!$K$15,(2*($M44/2)*SIN(RADIANS(Calculations!$AG44/2))),(2*$M44*SIN(RADIANS($AG44/2)))))","v":""},"",{"$f":"IF(OR($H44=\"no\",$C44=0),\"\",IF($I44=Parameters!$K$15,$AL44*$N44/2,$AL44*$N44))","v":""},{"$f":"IF(OR($H44=\"no\",$C44=0),\"\",IF($I44=Parameters!$K$15,$AM44*2/Parameters!$AB$4,$AM44/Parameters!$AB$4))","v":""},{"$nulls":20},{"$f":"'Window & Door DATA INPUT'!H50","v":0},""]
[null,{"$f":"IF('Window & Door DATA INPUT'!B51>1,1,0)","v":0},{"$f":"IF(AND(B45=1,OR(D45=Parameters!$D$17, D45=Parameters!$D$18,D45=Parameters!$D$19,D45=Parameters!$D$20,D45=Parameters!$D$21,D45=Parameters!$D$22, D45=Parameters!$D$23, D45=Parameters!$D$24)),1,0)","v":0},{"$f":"IF('Window & Door DATA INPUT'!B51=\"\",\"\",'Window & Door DATA INPUT'!B51)","v":""},{"$f":"IF('Window & Door DATA INPUT'!D51=\"\",\"\",'Window & Door DATA INPUT'!D51)","v":""},{"$f":"IF(B45=1,'Window & Door DATA INPUT'!H51&RESULTS!$H$5,\"\")","v":""},{"$f":"IF(B45=1,VLOOKUP(F45,Parameters!$H$4:$I$20,2,FALSE),\"\")","v":""},{"$f":"IF(OR('Window & Door DATA INPUT'!J51=Parameters!$K$4,'Window & Door DATA INPUT'!J51=Parameters!$K$11),\"No\",IF('Window & Door DATA INPUT'!K51=\"\",\"\",'Window & Door DATA INPUT'!K51))","v":""},{"$f":"IF('Window & Door DATA INPUT'!J51=\"\",\"\",'Window & Door DATA INPUT'!J51)","v":""},{"$f":"IF('Window & Door DATA INPUT'!L51=Parameters!$O$5,'Window & Door DATA INPUT'!O51,IF(B45=1,('Window & Door DATA INPUT'!N51*'Window & Door DATA INPUT'!M51)/1000000,\"\"))","v":""},{"$f":"IF('Window & Door DATA INPUT'!J51=\"\",\"\",VLOOKUP('Window & Door DATA INPUT'!J51,Parameters!$K$4:$L$16,2,FALSE))","v":""},{"$f":"IF($H45=\"yes\",IF($K45=\"Y\",'Window & Door DATA INPUT'!Q51/1000,IF($K45=\"N\",'Window & Door DATA INPUT'!P51/1000)),\"\")","v":""},{"$f":"IF($H45=\"yes\",IF($K45=\"Y\",'Window & Door DATA INPUT'!P51/1000,IF($K45=\"N\",'Window & Door DATA INPUT'!Q51/1000)),\"\")","v":""},"",{"$f":"IF(AND(B45=1,C45=0,H45=\"yes\"),\"A\",IF(AND(C45=1,H45=\"yes\",'Window & Door DATA INPUT'!R51=\"no\"),\"B\",IF(AND(C45=1,H45=\"yes\",'Window & Door DATA INPUT'!R51=\"yes\",'Window & Door DATA INPUT'!S51=\"yes\"),\"C\",IF(AND(C45=1,H45=\"yes\",'Window & Door DATA INPUT'!R51=\"yes\",'Window & Door DATA INPUT'!S51=\"no\"),\"D\",\"\"))))","v":""},{"$f":"IF(AND(C45=1,H45=\"yes\",OR(I45=Parameters!$K$12,I45=Parameters!$K$13,I45=Parameters!$K$14)),\"E\",IF(AND(C45=1,H45=\"yes\",NOT(OR(I45=Parameters!$K$12,I45=Parameters!$K$13,I45=Parameters!$K$14))),\"F\",\"\"))","v":""},{"$f":"IF(AND(B45=1,H45=\"yes\"),VLOOKUP(I45,Parameters!$K$4:$M$16,3,FALSE),\"\")","v":""},{"$f":"IF(AND(OR(O45=\"A\",O45=\"B\",O45=\"d\"),Q45=\"input\"),'Window & Door DATA INPUT'!AA51,IF(AND(O45=\"C\",Q45=\"input\"),'Window & Door DATA INPUT'!W51,Calculations!Q45))","v":""},{"$f":"IF('Window & Door DATA INPUT'!X51=\"Yes\",'Window & Door DATA INPUT'!Y51/1000,IF(B45=1,\"N/A\",\"\"))","v":""},{"$f":"IF(Q45=\"calc\",IF(O45=\"c\",'Window & Door DATA INPUT'!U51/1000,(Parameters!$S$4-'Window & Door DATA INPUT'!Z51+Parameters!$Q$4)/1000),\"\")","v":""},"","","",{"$f":"IF(OR($H45=\"no\",$B45=0),\"\",IF($I45=Parameters!$K$15,$L45/($M45/2),$L45/$M45))","v":""},{"$f":"IF(OR($H45=\"no\",$B45=0),\"\",IF($X45<0.5,Parameters!$X$4,IF($X45<1,Parameters!$Y$4,IF($X45<2,Parameters!$Z$4,Parameters!$AA$4))))","v":""},{"$f":"IF(OR($H45=\"no\",$B45=0),\"\",IF($X45<0.5,Parameters!$X$5,IF($X45<1,Parameters!$Y$5,IF($X45<2,Parameters!$Z$5,Parameters!$AA$5))))","v":""},{"$f":"IF(OR($H45=\"no\",$B45=0),\"\",IF($I45=Parameters!$K$15,(2*($M45/2)*SIN(RADIANS(Calculations!$W45/2))),(2*$M45*SIN(RADIANS($W45/2)))))","v":""},"",{"$f":"IF(OR($H45=\"no\",$B45=0),\"\",IF($I45=Parameters!$K$15,$AB45*$N45/2,$AB45*$N45))","v":""},{"$f":"IF(OR($H45=\"no\",$B45=0),\"\",IF($I45=Parameters!$K$15,$AC45*2/Parameters!$AB$4,$AC45/Parameters!$AB$4))","v":""},{"$f":"IF(AND(O45=\"B\",Q45=\"calc\"),V45,IF(AND(O45=\"C\",Q45=\"calc\"),'Window & Door DATA INPUT'!T51/1000,\"\"))","v":""},{"$f":"IF(AND(O45=\"B\",Q45=\"input\"),'Window & Door DATA INPUT'!AA51,IF(AND(O45=\"C\",Q45=\"input\",P45=\"F\"),'Window & Door DATA INPUT'!V51,IF(AND(O45=\"C\",P45=\"E\"),0,IF(AND(O45=\"D\"),0,IF(AND(B45=1,C45=0),\"\",(Calculations!Q45))))))","v":""},"",{"$f":"IF(OR($H45=\"no\",$C45=0),\"\",IF($I45=Parameters!$K$15,$L45/($M45/2),$L45/$M45))","v":""},{"$f":"IF(OR($H45=\"no\",$C45=0),\"\",IF($AH45<0.5,Parameters!$X$4,IF($AH45<1,Parameters!$Y$4,IF($AH45<2,Parameters!$Z$4,Parameters!$AA$4))))","v":""},{"$f":"IF(OR($H45=\"no\",$C45=0),\"\",IF($AH45<0.5,Parameters!$X$5,IF($AH45<1,Parameters!$Y$5,IF($AH45<2,Parameters!$Z$5,Parameters!$AA$5))))","v":""},{"$f":"IF(OR($H45=\"no\",$C45=0),\"\",IF($I45=Parameters!$K$15,(2*($M45/2)*SIN(RADIANS(Calculations!$AG45/2))),(2*$M45*SIN(RADIANS($AG45/2)))))","v":""},"",{"$f":"IF(OR($H45=\"no\",$C45=0),\"\",IF($I45=Parameters!$K$15,$AL45*$N45/2,$AL45*$N45))","v":""},{"$f":"IF(OR($H45=\"no\",$C45=0),\"\",IF($I45=Parameters!$K$15,$AM45*2/Parameters!$AB$4,$AM45/Parameters!$AB$4))","v":""},{"$nulls":20},{"$f":"'Window & Door DATA INPUT'!H51","v":0},""]
[null,{"$f":"IF('Window & Door DATA INPUT'!B52>1,1,0)","v":0},{"$f":"IF(AND(B46=1,OR(D46=Parameters!$D$17, D46=Parameters!$D$18,D46=Parameters!$D$19,D46=Parameters!$D$20,D46=Parameters!$D$21,D46=Parameters!$D$22, D46=Parameters!$D$23, D46=Parameters!$D$24)),1,0)","v":0},{"$f":"IF('Window & Door DATA INPUT'!B52=\"\",\"\",'Window & Door DATA INPUT'!B52)","v":""},{"$f":"IF('Window & Door DATA INPUT'!D52=\"\",\"\",'Window & Door DATA INPUT'!D52)","v":""},{"$f":"IF(B46=1,'Window & Door DATA INPUT'!H52&RESULTS!$H$5,\"\")","v":""},{"$f":"IF(B46=1,VLOOKUP(F46,Parameters!$H$4:$I$20,2,FALSE),\"\")","v":""},{"$f":"IF(OR('Window & Door DATA INPUT'!J52=Parameters!$K$4,'Window & Door DATA INPUT'!J52=Parameters!$K$11),\"No\",IF('Window & Door DATA INPUT'!K52=\"\",\"\",'Window & Door DATA INPUT'!K52))","v":""},{"$f":"IF('Window & Door DATA INPUT'!J52=\"\",\"\",'Window & Door DATA INPUT'!J52)","v":""},{"$f":"IF('Window & Door DATA INPUT'!L52=Parameters!$O$5,'Window & Door DATA INPUT'!O52,IF(B46=1,('Window & Door DATA INPUT'!N52*'Window & Door DATA INPUT'!M52)/1000000,\"\"))","v":""},{"$f":"IF('Window & Door DATA INPUT'!J52=\"\",\"\",VLOOKUP('Window & Door DATA INPUT'!J52,Parameters!$K$4:$L$16,2,FALSE))","v":""},{"$f":"IF($H46=\"yes\",IF($K46=\"Y\",'Window & Door DATA INPUT'!Q52/1000,IF($K46=\"N\",'Window & Door DATA INPUT'!P52/1000)),\"\")","v":""},{"$f":"IF($H46=\"yes\",IF($K46=\"Y\",'Window & Door DATA INPUT'!P52/1000,IF($K46=\"N\",'Window & Door DATA INPUT'!Q52/1000)),\"\")","v":""},"",{"$f":"IF(AND(B46=1,C46=0,H46=\"yes\"),\"A\",IF(AND(C46=1,H46=\"yes\",'Window & Door DATA INPUT'!R52=\"no\"),\"B\",IF(AND(C46=1,H46=\"yes\",'Window & Door DATA INPUT'!R52=\"yes\",'Window & Door DATA INPUT'!S52=\"yes\"),\"C\",IF(AND(C46=1,H46=\"yes\",'Window & Door DATA INPUT'!R52=\"yes\",'Window & Door DATA INPUT'!S52=\"no\"),\"D\",\"\"))))","v":""},{"$f":"IF(AND(C46=1,H46=\"yes\",OR(I46=Parameters!$K$12,I46=Parameters!$K$13,I46=Parameters!$K$14)),\"E\",IF(AND(C46=1,H46=\"yes\",NOT(OR(I46=Parameters!$K$12,I46=Parameters!$K$13,I46=Parameters!$K$14))),\"F\",\"\"))","v":""},{"$f":"IF(AND(B46=1,H46=\"yes\"),VLOOKUP(I46,Parameters!$K$4:$M$16,3,FALSE),\"\")","v":""},{"$f":"IF(AND(OR(O46=\"A\",O46=\"B\",O46=\"d\"),Q46=\"input\"),'Window & Door DATA INPUT'!AA52,IF(AND(O46=\"C\",Q46=\"input\"),'Window & Door DATA INPUT'!W52,Calculations!Q46))","v":""},{"$f":"IF('Window & Door DATA INPUT'!X52=\"Yes\",'Window & Door DATA INPUT'!Y52/1000,IF(B46=1,\"N/A\",\"\"))","v":""},{"$f":"IF(Q46=\"calc\",IF(O46=\"c\",'Window & Door DATA INPUT'!U52/1000,(Parameters!$S$4-'Window & Door DATA INPUT'!Z52+Parameters!$Q$4)/1000),\"\")","v":""},"","","",{"$f":"IF(OR($H46=\"no\",$B46=0),\"\",IF($I46=Parameters!$K$15,$L46/($M46/2),$L46/$M46))","v":""},{"$f":"IF(OR($H46=\"no\",$B46=0),\"\",IF($X46<0.5,Parameters!$X$4,IF($X46<1,Parameters!$Y$4,IF($X46<2,Parameters!$Z$4,Parameters!$AA$4))))","v":""},{"$f":"IF(OR($H46=\"no\",$B46=0),\"\",IF($X46<0.5,Parameters!$X$5,IF($X46<1,Parameters!$Y$5,IF($X46<2,Parameters!$Z$5,Parameters!$AA$5))))","v":""},{"$f":"IF(OR($H46=\"no\",$B46=0),\"\",IF($I46=Parameters!$K$15,(2*($M46/2)*SIN(RADIANS(Calculations!$W46/2))),(2*$M46*SIN(RADIANS($W46/2)))))","v":""},"",{"$f":"IF(OR($H46=\"no\",$B46=0),\"\",IF($I46=Parameters!$K$15,$AB46*$N46/2,$AB46*$N46))","v":""},{"$f":"IF(OR($H46=\"no\",$B46=0),\"\",IF($I46=Parameters!$K$15,$AC46*2/Parameters!$AB$4,$AC46/Parameters!$AB$4))","v":""},{"$f":"IF(AND(O46=\"B\",Q46=\"calc\"),V46,IF(AND(O46=\"C\",Q46=\"calc\"),'Window & Door DATA INPUT'!T52/1000,\"\"))","v":""},{"$f":"IF(AND(O46=\"B\",Q46=\"input\"),'Window & Door DATA INPUT'!AA52,IF(AND(O46=\"C\",Q46=\"input\",P46=\"F\"),'Window & Door DATA INPUT'!V52,IF(AND(O46=\"C\",P46=\"E\"),0,IF(AND(O46=\"D\"),0,IF(AND(B46=1,C46=0),\"\",(Calculations!Q46))))))","v":""},"",{"$f":"IF(OR($H46=\"no\",$C46=0),\"\",IF($I46=Parameters!$K$15,$L46/($M46/2),$L46/$M46))","v":""},{"$f":"IF(OR($H46=\"no\",$C46=0),\"\",IF($AH46<0.5,Parameters!$X$4,IF($AH46<1,Parameters!$Y$4,IF($AH46<2,Parameters!$Z$4,Parameters!$AA$4))))","v":""},{"$f":"IF(OR($H46=\"no\",$C46=0),\"\",IF($AH46<0.5,Parameters!$X$5,IF($AH46<1,Parameters!$Y$5,IF($AH46<2,Parameters!$Z$5,Parameters!$AA$5))))","v":""},{"$f":"IF(OR($H46=\"no\",$C46=0),\"\",IF($I46=Parameters!$K$15,(2*($M46/2)*SIN(RADIANS(Calculations!$AG46/2))),(2*$M46*SIN(RADIANS($AG46/2)))))","v":""},"",{"$f":"IF(OR($H46=\"no\",$C46=0),\"\",IF($I46=Parameters!$K$15,$AL46*$N46/2,$AL46*$N46))","v":""},{"$f":"IF(OR($H46=\"no\",$C46=0),\"\",IF($I46=Parameters!$K$15,$AM46*2/Parameters!$AB$4,$AM46/Parameters!$AB$4))","v":""},{"$nulls":20},{"$f":"'Window & Door DATA INPUT'!H52","v":0},""]
[null,{"$f":"IF('Window & Door DATA INPUT'!B53>1,1,0)","v":0},{"$f":"IF(AND(B47=1,OR(D47=Parameters!$D$17, D47=Parameters!$D$18,D47=Parameters!$D$19,D47=Parameters!$D$20,D47=Parameters!$D$21,D47=Parameters!$D$22, D47=Parameters!$D$23, D47=Parameters!$D$24)),1,0)","v":0},{"$f":"IF('Window & Door DATA INPUT'!B53=\"\",\"\",'Window & Door DATA INPUT'!B53)","v":""},{"$f":"IF('Window & Door DATA INPUT'!D53=\"\",\"\",'Window & Door DATA INPUT'!D53)","v":""},{"$f":"IF(B47=1,'Window & Door DATA INPUT'!H53&RESULTS!$H$5,\"\")","v":""},{"$f":"IF(B47=1,VLOOKUP(F47,Parameters!$H$4:$I$20,2,FALSE),\"\")","v":""},{"$f":"IF(OR('Window & Door DATA INPUT'!J53=Parameters!$K$4,'Window & Door DATA INPUT'!J53=Parameters!$K$11),\"No\",IF('Window & Door DATA INPUT'!K53=\"\",\"\",'Window & Door DATA INPUT'!K53))","v":""},{"$f":"IF('Window & Door DATA INPUT'!J53=\"\",\"\",'Window & Door DATA INPUT'!J53)","v":""},{"$f":"IF('Window & Door DATA INPUT'!L53=Parameters!$O$5,'Window & Door DATA INPUT'!O53,IF(B47=1,('Window & Door DATA INPUT'!N53*'Window & Door DATA INPUT'!M53)/1000000,\"\"))","v":""},{"$f":"IF('Window & Door DATA INPUT'!J53=\"\",\"\",VLOOKUP('Window & Door DATA INPUT'!J53,Parameters!$K$4:$L$16,2,FALSE))","v":""},{"$f":"IF($H47=\"yes\",IF($K47=\"Y\",'Window & Door DATA INPUT'!Q53/1000,IF($K47=\"N\",'Window & Door DATA INPUT'!P53/1000)),\"\")","v":""},{"$f":"IF($H47=\"yes\",IF($K47=\"Y\",'Window & Door DATA INPUT'!P53/1000,IF($K47=\"N\",'Window & Door DATA INPUT'!Q53/1000)),\"\")","v":""},"",{"$f":"IF(AND(B47=1,C47=0,H47=\"yes\"),\"A\",IF(AND(C47=1,H47=\"yes\",'Window & Door DATA INPUT'!R53=\"no\"),\"B\",IF(AND(C47=1,H47=\"yes\",'Window & Door DATA INPUT'!R53=\"yes\",'Window & Door DATA INPUT'!S53=\"yes\"),\"C\",IF(AND(C47=1,H47=\"yes\",'Window & Door DATA INPUT'!R53=\"yes\",'Window & Door DATA INPUT'!S53=\"no\"),\"D\",\"\"))))","v":""},{"$f":"IF(AND(C47=1,H47=\"yes\",OR(I47=Parameters!$K$12,I47=Parameters!$K$13,I47=Parameters!$K$14)),\"E\",IF(AND(C47=1,H47=\"yes\",NOT(OR(I47=Parameters!$K$12,I47=Parameters!$K$13,I47=Parameters!$K$14))),\"F\",\"\"))","v":""},{"$f":"IF(AND(B47=1,H47=\"yes\"),VLOOKUP(I47,Parameters!$K$4:$M$16,3,FALSE),\"\")","v":""},{"$f":"IF(AND(OR(O47=\"A\",O47=\"B\",O47=\"d\"),Q47=\"input\"),'Window & Door DATA INPUT'!AA53,IF(AND(O47=\"C\",Q47=\"input\"),'Window & Door DATA INPUT'!W53,Calculations!Q47))","v":""},{"$f":"IF('Window & Door DATA INPUT'!X53=\"Yes\",'Window & Door DATA INPUT'!Y53/1000,IF(B47=1,\"N/A\",\"\"))","v":""},{"$f":"IF(Q47=\"calc\",IF(O47=\"c\",'Window & Door DATA INPUT'!U53/1000,(Parameters!$S$4-'Window & Door DATA INPUT'!Z53+Parameters!$Q$4)/1000),\"\")","v":""},"","","",{"$f":"IF(OR($H47=\"no\",$B47=0),\"\",IF($I47=Parameters!$K$15,$L47/($M47/2),$L47/$M47))","v":""},{"$f":"IF(OR($H47=\"no\",$B47=0),\"\",IF($X47<0.5,Parameters!$X$4,IF($X47<1,Parameters!$Y$4,IF($X47<2,Parameters!$Z$4,Parameters!$AA$4))))","v":""},{"$f":"IF(OR($H47=\"no\",$B47=0),\"\",IF($X47<0.5,Parameters!$X$5,IF($X47<1,Parameters!$Y$5,IF($X47<2,Parameters!$Z$5,Parameters!$AA$5))))","v":""},{"$f":"IF(OR($H47=\"no\",$B47=0),\"\",IF($I47=Parameters!$K$15,(2*($M47/2)*SIN(RADIANS(Calculations!$W47/2))),(2*$M47*SIN(RADIANS($W47/2)))))","v":""},"",{"$f":"IF(OR($H47=\"no\",$B47=0),\"\",IF($I47=Parameters!$K$15,$AB47*$N47/2,$AB47*$N47))","v":""},{"$f":"IF(OR($H47=\"no\",$B47=0),\"\",IF($I47=Parameters!$K$15,$AC47*2/Parameters!$AB$4,$AC47/Parameters!$AB$4))","v":""},{"$f":"IF(AND(O47=\"B\",Q47=\"calc\"),V47,IF(AND(O47=\"C\",Q47=\"calc\"),'Window & Door DATA INPUT'!T53/1000,\"\"))","v":""},{"$f":"IF(AND(O47=\"B\",Q47=\"input\"),'Window & Door DATA INPUT'!AA53,IF(AND(O47=\"C\",Q47=\"input\",P47=\"F\"),'Window & Door DATA INPUT'!V53,IF(AND(O47=\"C\",P47=\"E\"),0,IF(AND(O47=\"D\"),0,IF(AND(B47=1,C47=0),\"\",(Calculations!Q47))))))","v":""},"",{"$f":"IF(OR($H47=\"no\",$C47=0),\"\",IF($I47=Parameters!$K$15,$L47/($M47/2),$L47/$M47))","v":""},{"$f":"IF(OR($H47=\"no\",$C47=0),\"\",IF($AH47<0.5,Parameters!$X$4,IF($AH47<1,Parameters!$Y$4,IF($AH47<2,Parameters!$Z$4,Parameters!$AA$4))))","v":""},{"$f":"IF(OR($H47=\"no\",$C47=0),\"\",IF($AH47<0.5,Parameters!$X$5,IF($AH47<1,Parameters!$Y$5,IF($AH47<2,Parameters!$Z$5,Parameters!$AA$5))))","v":""},{"$f":"IF(OR($H47=\"no\",$C47=0),\"\",IF($I47=Parameters!$K$15,(2*($M47/2)*SIN(RADIANS(Calculations!$AG47/2))),(2*$M47*SIN(RADIANS($AG47/2)))))","v":""},"",{"$f":"IF(OR($H47=\"no\",$C47=0),\"\",IF($I47=Parameters!$K$15,$AL47*$N47/2,$AL47*$N47))","v":""},{"$f":"IF(OR($H47=\"no\",$C47=0),\"\",IF($I47=Parameters!$K$15,$AM47*2/Parameters!$AB$4,$AM47/Parameters!$AB$4))","v":""},{"$nulls":20},{"$f":"'Window & Door DATA INPUT'!H53","v":0},""]
[null,{"$f":"IF('Window & Door DATA INPUT'!B54>1,1,0)","v":0},{"$f":"IF(AND(B48=1,OR(D48=Parameters!$D$17, D48=Parameters!$D$18,D48=Parameters!$D$19,D48=Parameters!$D$20,D48=Parameters!$D$21,D48=Parameters!$D$22, D48=Parameters!$D$23, D48=Parameters!$D$24)),1,0)","v":0},{"$f":"IF('Window & Door DATA INPUT'!B54=\"\",\"\",'Window & Door DATA INPUT'!B54)","v":""},{"$f":"IF('Window & Door DATA INPUT'!D54=\"\",\"\",'Window & Door DATA INPUT'!D54)","v":""},{"$f":"IF(B48=1,'Window & Door DATA INPUT'!H54&RESULTS!$H$5,\"\")","v":""},{"$f":"IF(B48=1,VLOOKUP(F48,Parameters!$H$4:$I$20,2,FALSE),\"\")","v":""},{"$f":"IF(OR('Window & Door DATA INPUT'!J54=Parameters!$K$4,'Window & Door DATA INPUT'!J54=Parameters!$K$11),\"No\",IF('Window & Door DATA INPUT'!K54=\"\",\"\",'Window & Door DATA INPUT'!K54))","v":""},{"$f":"IF('Window & Door DATA INPUT'!J54=\"\",\"\",'Window & Door DATA INPUT'!J54)","v":""},{"$f":"IF('Window & Door DATA INPUT'!L54=Parameters!$O$5,'Window & Door DATA INPUT'!O54,IF(B48=1,('Window & Door DATA INPUT'!N54*'Window & Door DATA INPUT'!M54)/1000000,\"\"))","v":""},{"$f":"IF('Window & Door DATA INPUT'!J54=\"\",\"\",VLOOKUP('Window & Door DATA INPUT'!J54,Parameters!$K$4:$L$16,2,FALSE))","v":""},{"$f":"IF($H48=\"yes\",IF($K48=\"Y\",'Window & Door DATA INPUT'!Q54/1000,IF($K48=\"N\",'Window & Door DATA INPUT'!P54/1000)),\"\")","v":""},{"$f":"IF($H48=\"yes\",IF($K48=\"Y\",'Window & Door DATA INPUT'!P54/1000,IF($K48=\"N\",'Window & Door DATA INPUT'!Q54/1000)),\"\")","v":""},"",{"$f":"IF(AND(B48=1,C48=0,H48=\"yes\"),\"A\",IF(AND(C48=1,H48=\"yes\",'Window & Door DATA INPUT'!R54=\"no\"),\"B\",IF(AND(C48=1,H48=\"yes\",'Window & Door DATA INPUT'!R54=\"yes\",'Window & Door DATA INPUT'!S54=\"yes\"),\"C\",IF(AND(C48=1,H48=\"yes\",'Window & Door DATA INPUT'!R54=\"yes\",'Window & Door DATA INPUT'!S54=\"no\"),\"D\",\"\"))))","v":""},{"$f":"IF(AND(C48=1,H48=\"yes\",OR(I48=Parameters!$K$12,I48=Parameters!$K$13,I48=Parameters!$K$14)),\"E\",IF(AND(C48=1,H48=\"yes\",NOT(OR(I48=Parameters!$K$12,I48=Parameters!$K$13,I48=Parameters!$K$14))),\"F\",\"\"))","v":""},{"$f":"IF(AND(B48=1,H48=\"yes\"),VLOOKUP(I48,Parameters!$K$4:$M$16,3,FALSE),\"\")","v":""},{"$f":"IF(AND(OR(O48=\"A\",O48=\"B\",O48=\"d\"),Q48=\"input\"),'Window & Door DATA INPUT'!AA54,IF(AND(O48=\"C\",Q48=\"input\"),'Window & Door DATA INPUT'!W54,Calculations!Q48))","v":""},{"$f":"IF('Window & Door DATA INPUT'!X54=\"Yes\",'Window & Door DATA INPUT'!Y54/1000,IF(B48=1,\"N/A\",\"\"))","v":""},{"$f":"IF(Q48=\"calc\",IF(O48=\"c\",'Window & Door DATA INPUT'!U54/1000,(Parameters!$S$4-'Window & Door DATA INPUT'!Z54+Parameters!$Q$4)/1000),\"\")","v":""},"","","",{"$f":"IF(OR($H48=\"no\",$B48=0),\"\",IF($I48=Parameters!$K$15,$L48/($M48/2),$L48/$M48))","v":""},{"$f":"IF(OR($H48=\"no\",$B48=0),\"\",IF($X48<0.5,Parameters!$X$4,IF($X48<1,Parameters!$Y$4,IF($X48<2,Parameters!$Z$4,Parameters!$AA$4))))","v":""},{"$f":"IF(OR($H48=\"no\",$B48=0),\"\",IF($X48<0.5,Parameters!$X$5,IF($X48<1,Parameters!$Y$5,IF($X48<2,Parameters!$Z$5,Parameters!$AA$5))))","v":""},{"$f":"IF(OR($H48=\"no\",$B48=0),\"\",IF($I48=Parameters!$K$15,(2*($M48/2)*SIN(RADIANS(Calculations!$W48/2))),(2*$M48*SIN(RADIANS($W48/2)))))","v":""},"",{"$f":"IF(OR($H48=\"no\",$B48=0),\"\",IF($I48=Parameters!$K$15,$AB48*$N48/2,$AB48*$N48))","v":""},{"$f":"IF(OR($H48=\"no\",$B48=0),\"\",IF($I48=Parameters!$K$15,$AC48*2/Parameters!$AB$4,$AC48/Parameters!$AB$4))","v":""},{"$f":"IF(AND(O48=\"B\",Q48=\"calc\"),V48,IF(AND(O48=\"C\",Q48=\"calc\"),'Window & Door DATA INPUT'!T54/1000,\"\"))","v":""},{"$f":"IF(AND(O48=\"B\",Q48=\"input\"),'Window & Door DATA INPUT'!AA54,IF(AND(O48=\"C\",Q48=\"input\",P48=\"F\"),'Window & Door DATA INPUT'!V54,IF(AND(O48=\"C\",P48=\"E\"),0,IF(AND(O48=\"D\"),0,IF(AND(B48=1,C48=0),\"\",(Calculations!Q48))))))","v":""},"",{"$f":"IF(OR($H48=\"no\",$C48=0),\"\",IF($I48=Parameters!$K$15,$L48/($M48/2),$L48/$M48))","v":""},{"$f":"IF(OR($H48=\"no\",$C48=0),\"\",IF($AH48<0.5,Parameters!$X$4,IF($AH48<1,Parameters!$Y$4,IF($AH48<2,Parameters!$Z$4,Parameters!$AA$4))))","v":""},{"$f":"IF(OR($H48=\"no\",$C48=0),\"\",IF($AH48<0.5,Parameters!$X$5,IF($AH48<1,Parameters!$Y$5,IF($AH48<2,Parameters!$Z$5,Parameters!$AA$5))))","v":""},{"$f":"IF(OR($H48=\"no\",$C48=0),\"\",IF($I48=Parameters!$K$15,(2*($M48/2)*SIN(RADIANS(Calculations!$AG48/2))),(2*$M48*SIN(RADIANS($AG48/2)))))","v":""},"",{"$f":"IF(OR($H48=\"no\",$C48=0),\"\",IF($I48=Parameters!$K$15,$AL48*$N48/2,$AL48*$N48))","v":""},{"$f":"IF(OR($H48=\"no\",$C48=0),\"\",IF($I48=Parameters!$K$15,$AM48*2/Parameters!$AB$4,$AM48/Parameters!$AB$4))","v":""},{"$nulls":20},{"$f":"'Window & Door DATA INPUT'!H54","v":0},""]
[null,{"$f":"IF('Window & Door DATA INPUT'!B55>1,1,0)","v":0},{"$f":"IF(AND(B49=1,OR(D49=Parameters!$D$17, D49=Parameters!$D$18,D49=Parameters!$D$19,D49=Parameters!$D$20,D49=Parameters!$D$21,D49=Parameters!$D$22, D49=Parameters!$D$23, D49=Parameters!$D$24)),1,0)","v":0},{"$f":"IF('Window & Door DATA INPUT'!B55=\"\",\"\",'Window & Door DATA INPUT'!B55)","v":""},{"$f":"IF('Window & Door DATA INPUT'!D55=\"\",\"\",'Window & Door DATA INPUT'!D55)","v":""},{"$f":"IF(B49=1,'Window & Door DATA INPUT'!H55&RESULTS!$H$5,\"\")","v":""},{"$f":"IF(B49=1,VLOOKUP(F49,Parameters!$H$4:$I$20,2,FALSE),\"\")","v":""},{"$f":"IF(OR('Window & Door DATA INPUT'!J55=Parameters!$K$4,'Window & Door DATA INPUT'!J55=Parameters!$K$11),\"No\",IF('Window & Door DATA INPUT'!K55=\"\",\"\",'Window & Door DATA INPUT'!K55))","v":""},{"$f":"IF('Window & Door DATA INPUT'!J55=\"\",\"\",'Window & Door DATA INPUT'!J55)","v":""},{"$f":"IF('Window & Door DATA INPUT'!L55=Parameters!$O$5,'Window & Door DATA INPUT'!O55,IF(B49=1,('Window & Door DATA INPUT'!N55*'Window & Door DATA INPUT'!M55)/1000000,\"\"))","v":""},{"$f":"IF('Window & Door DATA INPUT'!J55=\"\",\"\",VLOOKUP('Window & Door DATA INPUT'!J55,Parameters!$K$4:$L$16,2,FALSE))","v":""},{"$f":"IF($H49=\"yes\",IF($K49=\"Y\",'Window & Door DATA INPUT'!Q55/1000,IF($K49=\"N\",'Window & Door DATA INPUT'!P55/1000)),\"\")","v":""},{"$f":"IF($H49=\"yes\",IF($K49=\"Y\",'Window & Door DATA INPUT'!P55/1000,IF($K49=\"N\",'Window & Door DATA INPUT'!Q55/1000)),\"\")","v":""},"",{"$f":"IF(AND(B49=1,C49=0,H49=\"yes\"),\"A\",IF(AND(C49=1,H49=\"yes\",'Window & Door DATA INPUT'!R55=\"no\"),\"B\",IF(AND(C49=1,H49=\"yes\",'Window & Door DATA INPUT'!R55=\"yes\",'Window & Door DATA INPUT'!S55=\"yes\"),\"C\",IF(AND(C49=1,H49=\"yes\",'Window & Door DATA INPUT'!R55=\"yes\",'Window & Door DATA INPUT'!S55=\"no\"),\"D\",\"\"))))","v":""},{"$f":"IF(AND(C49=1,H49=\"yes\",OR(I49=Parameters!$K$12,I49=Parameters!$K$13,I49=Parameters!$K$14)),\"E\",IF(AND(C49=1,H49=\"yes\",NOT(OR(I49=Parameters!$K$12,I49=Parameters!$K$13,I49=Parameters!$K$14))),\"F\",\"\"))","v":""},{"$f":"IF(AND(B49=1,H49=\"yes\"),VLOOKUP(I49,Parameters!$K$4:$M$16,3,FALSE),\"\")","v":""},{"$f":"IF(AND(OR(O49=\"A\",O49=\"B\",O49=\"d\"),Q49=\"input\"),'Window & Door DATA INPUT'!AA55,IF(AND(O49=\"C\",Q49=\"input\"),'Window & Door DATA INPUT'!W55,Calculations!Q49))","v":""},{"$f":"IF('Window & Door DATA INPUT'!X55=\"Yes\",'Window & Door DATA INPUT'!Y55/1000,IF(B49=1,\"N/A\",\"\"))","v":""},{"$f":"IF(Q49=\"calc\",IF(O49=\"c\",'Window & Door DATA INPUT'!U55/1000,(Parameters!$S$4-'Window & Door DATA INPUT'!Z55+Parameters!$Q$4)/1000),\"\")","v":""},"","","",{"$f":"IF(OR($H49=\"no\",$B49=0),\"\",IF($I49=Parameters!$K$15,$L49/($M49/2),$L49/$M49))","v":""},{"$f":"IF(OR($H49=\"no\",$B49=0),\"\",IF($X49<0.5,Parameters!$X$4,IF($X49<1,Parameters!$Y$4,IF($X49<2,Parameters!$Z$4,Parameters!$AA$4))))","v":""},{"$f":"IF(OR($H49=\"no\",$B49=0),\"\",IF($X49<0.5,Parameters!$X$5,IF($X49<1,Parameters!$Y$5,IF($X49<2,Parameters!$Z$5,Parameters!$AA$5))))","v":""},{"$f":"IF(OR($H49=\"no\",$B49=0),\"\",IF($I49=Parameters!$K$15,(2*($M49/2)*SIN(RADIANS(Calculations!$W49/2))),(2*$M49*SIN(RADIANS($W49/2)))))","v":""},"",{"$f":"IF(OR($H49=\"no\",$B49=0),\"\",IF($I49=Parameters!$K$15,$AB49*$N49/2,$AB49*$N49))","v":""},{"$f":"IF(OR($H49=\"no\",$B49=0),\"\",IF($I49=Parameters!$K$15,$AC49*2/Parameters!$AB$4,$AC49/Parameters!$AB$4))","v":""},{"$f":"IF(AND(O49=\"B\",Q49=\"calc\"),V49,IF(AND(O49=\"C\",Q49=\"calc\"),'Window & Door DATA INPUT'!T55/1000,\"\"))","v":""},{"$f":"IF(AND(O49=\"B\",Q49=\"input\"),'Window & Door DATA INPUT'!AA55,IF(AND(O49=\"C\",Q49=\"input\",P49=\"F\"),'Window & Door DATA INPUT'!V55,IF(AND(O49=\"C\",P49=\"E\"),0,IF(AND(O49=\"D\"),0,IF(AND(B49=1,C49=0),\"\",(Calculations!Q49))))))","v":""},"",{"$f":"IF(OR($H49=\"no\",$C49=0),\"\",IF($I49=Parameters!$K$15,$L49/($M49/2),$L49/$M49))","v":""},{"$f":"IF(OR($H49=\"no\",$C49=0),\"\",IF($AH49<0.5,Parameters!$X$4,IF($AH49<1,Parameters!$Y$4,IF($AH49<2,Parameters!$Z$4,Parameters!$AA$4))))","v":""},{"$f":"IF(OR($H49=\"no\",$C49=0),\"\",IF($AH49<0.5,Parameters!$X$5,IF($AH49<1,Parameters!$Y$5,IF($AH49<2,Parameters!$Z$5,Parameters!$AA$5))))","v":""},{"$f":"IF(OR($H49=\"no\",$C49=0),\"\",IF($I49=Parameters!$K$15,(2*($M49/2)*SIN(RADIANS(Calculations!$AG49/2))),(2*$M49*SIN(RADIANS($AG49/2)))))","v":""},"",{"$f":"IF(OR($H49=\"no\",$C49=0),\"\",IF($I49=Parameters!$K$15,$AL49*$N49/2,$AL49*$N49))","v":""},{"$f":"IF(OR($H49=\"no\",$C49=0),\"\",IF($I49=Parameters!$K$15,$AM49*2/Parameters!$AB$4,$AM49/Parameters!$AB$4))","v":""},{"$nulls":20},{"$f":"'Window & Door DATA INPUT'!H55","v":0},""]
[null,{"$f":"IF('Window & Door DATA INPUT'!B56>1,1,0)","v":0},{"$f":"IF(AND(B50=1,OR(D50=Parameters!$D$17, D50=Parameters!$D$18,D50=Parameters!$D$19,D50=Parameters!$D$20,D50=Parameters!$D$21,D50=Parameters!$D$22, D50=Parameters!$D$23, D50=Parameters!$D$24)),1,0)","v":0},{"$f":"IF('Window & Door DATA INPUT'!B56=\"\",\"\",'Window & Door DATA INPUT'!B56)","v":""},{"$f":"IF('Window & Door DATA INPUT'!D56=\"\",\"\",'Window & Door DATA INPUT'!D56)","v":""},{"$f":"IF(B50=1,'Window & Door DATA INPUT'!H56&RESULTS!$H$5,\"\")","v":""},{"$f":"IF(B50=1,VLOOKUP(F50,Parameters!$H$4:$I$20,2,FALSE),\"\")","v":""},{"$f":"IF(OR('Window & Door DATA INPUT'!J56=Parameters!$K$4,'Window & Door DATA INPUT'!J56=Parameters!$K$11),\"No\",IF('Window & Door DATA INPUT'!K56=\"\",\"\",'Window & Door DATA INPUT'!K56))","v":""},{"$f":"IF('Window & Door DATA INPUT'!J56=\"\",\"\",'Window & Door DATA INPUT'!J56)","v":""},{"$f":"IF('Window & Door DATA INPUT'!L56=Parameters!$O$5,'Window & Door DATA INPUT'!O56,IF(B50=1,('Window & Door DATA INPUT'!N56*'Window & Door DATA INPUT'!M56)/1000000,\"\"))","v":""},{"$f":"IF('Window & Door DATA INPUT'!J56=\"\",\"\",VLOOKUP('Window & Door DATA INPUT'!J56,Parameters!$K$4:$L$16,2,FALSE))","v":""},{"$f":"IF($H50=\"yes\",IF($K50=\"Y\",'Window & Door DATA INPUT'!Q56/1000,IF($K50=\"N\",'Window & Door DATA INPUT'!P56/1000)),\"\")","v":""},{"$f":"IF($H50=\"yes\",IF($K50=\"Y\",'Window & Door DATA INPUT'!P56/1000,IF($K50=\"N\",'Window & Door DATA INPUT'!Q56/1000)),\"\")","v":""},"",{"$f":"IF(AND(B50=1,C50=0,H50=\"yes\"),\"A\",IF(AND(C50=1,H50=\"yes\",'Window & Door DATA INPUT'!R56=\"no\"),\"B\",IF(AND(C50=1,H50=\"yes\",'Window & Door DATA INPUT'!R56=\"yes\",'Window & Door DATA INPUT'!S56=\"yes\"),\"C\",IF(AND(C50=1,H50=\"yes\",'Window & Door DATA INPUT'!R56=\"yes\",'Window & Door DATA INPUT'!S56=\"no\"),\"D\",\"\"))))","v":""},{"$f":"IF(AND(C50=1,H50=\"yes\",OR(I50=Parameters!$K$12,I50=Parameters!$K$13,I50=Parameters!$K$14)),\"E\",IF(AND(C50=1,H50=\"yes\",NOT(OR(I50=Parameters!$K$12,I50=Parameters!$K$13,I50=Parameters!$K$14))),\"F\",\"\"))","v":""},{"$f":"IF(AND(B50=1,H50=\"yes\"),VLOOKUP(I50,Parameters!$K$4:$M$16,3,FALSE),\"\")","v":""},{"$f":"IF(AND(OR(O50=\"A\",O50=\"B\",O50=\"d\"),Q50=\"input\"),'Window & Door DATA INPUT'!AA56,IF(AND(O50=\"C\",Q50=\"input\"),'Window & Door DATA INPUT'!W56,Calculations!Q50))","v":""},{"$f":"IF('Window & Door DATA INPUT'!X56=\"Yes\",'Window & Door DATA INPUT'!Y56/1000,IF(B50=1,\"N/A\",\"\"))","v":""},{"$f":"IF(Q50=\"calc\",IF(O50=\"c\",'Window & Door DATA INPUT'!U56/1000,(Parameters!$S$4-'Window & Door DATA INPUT'!Z56+Parameters!$Q$4)/1000),\"\")","v":""},"","","",{"$f":"IF(OR($H50=\"no\",$B50=0),\"\",IF($I50=Parameters!$K$15,$L50/($M50/2),$L50/$M50))","v":""},{"$f":"IF(OR($H50=\"no\",$B50=0),\"\",IF($X50<0.5,Parameters!$X$4,IF($X50<1,Parameters!$Y$4,IF($X50<2,Parameters!$Z$4,Parameters!$AA$4))))","v":""},{"$f":"IF(OR($H50=\"no\",$B50=0),\"\",IF($X50<0.5,Parameters!$X$5,IF($X50<1,Parameters!$Y$5,IF($X50<2,Parameters!$Z$5,Parameters!$AA$5))))","v":""},{"$f":"IF(OR($H50=\"no\",$B50=0),\"\",IF($I50=Parameters!$K$15,(2*($M50/2)*SIN(RADIANS(Calculations!$W50/2))),(2*$M50*SIN(RADIANS($W50/2)))))","v":""},"",{"$f":"IF(OR($H50=\"no\",$B50=0),\"\",IF($I50=Parameters!$K$15,$AB50*$N50/2,$AB50*$N50))","v":""},{"$f":"IF(OR($H50=\"no\",$B50=0),\"\",IF($I50=Parameters!$K$15,$AC50*2/Parameters!$AB$4,$AC50/Parameters!$AB$4))","v":""},{"$f":"IF(AND(O50=\"B\",Q50=\"calc\"),V50,IF(AND(O50=\"C\",Q50=\"calc\"),'Window & Door DATA INPUT'!T56/1000,\"\"))","v":""},{"$f":"IF(AND(O50=\"B\",Q50=\"input\"),'Window & Door DATA INPUT'!AA56,IF(AND(O50=\"C\",Q50=\"input\",P50=\"F\"),'Window & Door DATA INPUT'!V56,IF(AND(O50=\"C\",P50=\"E\"),0,IF(AND(O50=\"D\"),0,IF(AND(B50=1,C50=0),\"\",(Calculations!Q50))))))","v":""},"",{"$f":"IF(OR($H50=\"no\",$C50=0),\"\",IF($I50=Parameters!$K$15,$L50/($M50/2),$L50/$M50))","v":""},{"$f":"IF(OR($H50=\"no\",$C50=0),\"\",IF($AH50<0.5,Parameters!$X$4,IF($AH50<1,Parameters!$Y$4,IF($AH50<2,Parameters!$Z$4,Parameters!$AA$4))))","v":""},{"$f":"IF(OR($H50=\"no\",$C50=0),\"\",IF($AH50<0.5,Parameters!$X$5,IF($AH50<1,Parameters!$Y$5,IF($AH50<2,Parameters!$Z$5,Parameters!$AA$5))))","v":""},{"$f":"IF(OR($H50=\"no\",$C50=0),\"\",IF($I50=Parameters!$K$15,(2*($M50/2)*SIN(RADIANS(Calculations!$AG50/2))),(2*$M50*SIN(RADIANS($AG50/2)))))","v":""},"",{"$f":"IF(OR($H50=\"no\",$C50=0),\"\",IF($I50=Parameters!$K$15,$AL50*$N50/2,$AL50*$N50))","v":""},{"$f":"IF(OR($H50=\"no\",$C50=0),\"\",IF($I50=Parameters!$K$15,$AM50*2/Parameters!$AB$4,$AM50/Parameters!$AB$4))","v":""},{"$nulls":20},{"$f":"'Window & Door DATA INPUT'!H56","v":0},""]
[null,{"$f":"IF('Window & Door DATA INPUT'!B57>1,1,0)","v":0},{"$f":"IF(AND(B51=1,OR(D51=Parameters!$D$17, D51=Parameters!$D$18,D51=Parameters!$D$19,D51=Parameters!$D$20,D51=Parameters!$D$21,D51=Parameters!$D$22, D51=Parameters!$D$23, D51=Parameters!$D$24)),1,0)","v":0},{"$f":"IF('Window & Door DATA INPUT'!B57=\"\",\"\",'Window & Door DATA INPUT'!B57)","v":""},{"$f":"IF('Window & Door DATA INPUT'!D57=\"\",\"\",'Window & Door DATA INPUT'!D57)","v":""},{"$f":"IF(B51=1,'Window & Door DATA INPUT'!H57&RESULTS!$H$5,\"\")","v":""},{"$f":"IF(B51=1,VLOOKUP(F51,Parameters!$H$4:$I$20,2,FALSE),\"\")","v":""},{"$f":"IF(OR('Window & Door DATA INPUT'!J57=Parameters!$K$4,'Window & Door DATA INPUT'!J57=Parameters!$K$11),\"No\",IF('Window & Door DATA INPUT'!K57=\"\",\"\",'Window & Door DATA INPUT'!K57))","v":""},{"$f":"IF('Window & Door DATA INPUT'!J57=\"\",\"\",'Window & Door DATA INPUT'!J57)","v":""},{"$f":"IF('Window & Door DATA INPUT'!L57=Parameters!$O$5,'Window & Door DATA INPUT'!O57,IF(B51=1,('Window & Door DATA INPUT'!N57*'Window & Door DATA INPUT'!M57)/1000000,\"\"))","v":""},{"$f":"IF('Window & Door DATA INPUT'!J57=\"\",\"\",VLOOKUP('Window & Door DATA INPUT'!J57,Parameters!$K$4:$L$16,2,FALSE))","v":""},{"$f":"IF($H51=\"yes\",IF($K51=\"Y\",'Window & Door DATA INPUT'!Q57/1000,IF($K51=\"N\",'Window & Door DATA INPUT'!P57/1000)),\"\")","v":""},{"$f":"IF($H51=\"yes\",IF($K51=\"Y\",'Window & Door DATA INPUT'!P57/1000,IF($K51=\"N\",'Window & Door DATA INPUT'!Q57/1000)),\"\")","v":""},"",{"$f":"IF(AND(B51=1,C51=0,H51=\"yes\"),\"A\",IF(AND(C51=1,H51=\"yes\",'Window & Door DATA INPUT'!R57=\"no\"),\"B\",IF(AND(C51=1,H51=\"yes\",'Window & Door DATA INPUT'!R57=\"yes\",'Window & Door DATA INPUT'!S57=\"yes\"),\"C\",IF(AND(C51=1,H51=\"yes\",'Window & Door DATA INPUT'!R57=\"yes\",'Window & Door DATA INPUT'!S57=\"no\"),\"D\",\"\"))))","v":""},{"$f":"IF(AND(C51=1,H51=\"yes\",OR(I51=Parameters!$K$12,I51=Parameters!$K$13,I51=Parameters!$K$14)),\"E\",IF(AND(C51=1,H51=\"yes\",NOT(OR(I51=Parameters!$K$12,I51=Parameters!$K$13,I51=Parameters!$K$14))),\"F\",\"\"))","v":""},{"$f":"IF(AND(B51=1,H51=\"yes\"),VLOOKUP(I51,Parameters!$K$4:$M$16,3,FALSE),\"\")","v":""},{"$f":"IF(AND(OR(O51=\"A\",O51=\"B\",O51=\"d\"),Q51=\"input\"),'Window & Door DATA INPUT'!AA57,IF(AND(O51=\"C\",Q51=\"input\"),'Window & Door DATA INPUT'!W57,Calculations!Q51))","v":""},{"$f":"IF('Window & Door DATA INPUT'!X57=\"Yes\",'Window & Door DATA INPUT'!Y57/1000,IF(B51=1,\"N/A\",\"\"))","v":""},{"$f":"IF(Q51=\"calc\",IF(O51=\"c\",'Window & Door DATA INPUT'!U57/1000,(Parameters!$S$4-'Window & Door DATA INPUT'!Z57+Parameters!$Q$4)/1000),\"\")","v":""},"","","",{"$f":"IF(OR($H51=\"no\",$B51=0),\"\",IF($I51=Parameters!$K$15,$L51/($M51/2),$L51/$M51))","v":""},{"$f":"IF(OR($H51=\"no\",$B51=0),\"\",IF($X51<0.5,Parameters!$X$4,IF($X51<1,Parameters!$Y$4,IF($X51<2,Parameters!$Z$4,Parameters!$AA$4))))","v":""},{"$f":"IF(OR($H51=\"no\",$B51=0),\"\",IF($X51<0.5,Parameters!$X$5,IF($X51<1,Parameters!$Y$5,IF($X51<2,Parameters!$Z$5,Parameters!$AA$5))))","v":""},{"$f":"IF(OR($H51=\"no\",$B51=0),\"\",IF($I51=Parameters!$K$15,(2*($M51/2)*SIN(RADIANS(Calculations!$W51/2))),(2*$M51*SIN(RADIANS($W51/2)))))","v":""},"",{"$f":"IF(OR($H51=\"no\",$B51=0),\"\",IF($I51=Parameters!$K$15,$AB51*$N51/2,$AB51*$N51))","v":""},{"$f":"IF(OR($H51=\"no\",$B51=0),\"\",IF($I51=Parameters!$K$15,$AC51*2/Parameters!$AB$4,$AC51/Parameters!$AB$4))","v":""},{"$f":"IF(AND(O51=\"B\",Q51=\"calc\"),V51,IF(AND(O51=\"C\",Q51=\"calc\"),'Window & Door DATA INPUT'!T57/1000,\"\"))","v":""},{"$f":"IF(AND(O51=\"B\",Q51=\"input\"),'Window & Door DATA INPUT'!AA57,IF(AND(O51=\"C\",Q51=\"input\",P51=\"F\"),'Window & Door DATA INPUT'!V57,IF(AND(O51=\"C\",P51=\"E\"),0,IF(AND(O51=\"D\"),0,IF(AND(B51=1,C51=0),\"\",(Calculations!Q51))))))","v":""},"",{"$f":"IF(OR($H51=\"no\",$C51=0),\"\",IF($I51=Parameters!$K$15,$L51/($M51/2),$L51/$M51))","v":""},{"$f":"IF(OR($H51=\"no\",$C51=0),\"\",IF($AH51<0.5,Parameters!$X$4,IF($AH51<1,Parameters!$Y$4,IF($AH51<2,Parameters!$Z$4,Parameters!$AA$4))))","v":""},{"$f":"IF(OR($H51=\"no\",$C51=0),\"\",IF($AH51<0.5,Parameters!$X$5,IF($AH51<1,Parameters!$Y$5,IF($AH51<2,Parameters!$Z$5,Parameters!$AA$5))))","v":""},{"$f":"IF(OR($H51=\"no\",$C51=0),\"\",IF($I51=Parameters!$K$15,(2*($M51/2)*SIN(RADIANS(Calculations!$AG51/2))),(2*$M51*SIN(RADIANS($AG51/2)))))","v":""},"",{"$f":"IF(OR($H51=\"no\",$C51=0),\"\",IF($I51=Parameters!$K$15,$AL51*$N51/2,$AL51*$N51))","v":""},{"$f":"IF(OR($H51=\"no\",$C51=0),\"\",IF($I51=Parameters!$K$15,$AM51*2/Parameters!$AB$4,$AM51/Parameters!$AB$4))","v":""},{"$nulls":20},{"$f":"'Window & Door DATA INPUT'!H57","v":0},""]
[null,{"$f":"IF('Window & Door DATA INPUT'!B58>1,1,0)","v":0},{"$f":"IF(AND(B52=1,OR(D52=Parameters!$D$17, D52=Parameters!$D$18,D52=Parameters!$D$19,D52=Parameters!$D$20,D52=Parameters!$D$21,D52=Parameters!$D$22, D52=Parameters!$D$23, D52=Parameters!$D$24)),1,0)","v":0},{"$f":"IF('Window & Door DATA INPUT'!B58=\"\",\"\",'Window & Door DATA INPUT'!B58)","v":""},{"$f":"IF('Window & Door DATA INPUT'!D58=\"\",\"\",'Window & Door DATA INPUT'!D58)","v":""},{"$f":"IF(B52=1,'Window & Door DATA INPUT'!H58&RESULTS!$H$5,\"\")","v":""},{"$f":"IF(B52=1,VLOOKUP(F52,Parameters!$H$4:$I$20,2,FALSE),\"\")","v":""},{"$f":"IF(OR('Window & Door DATA INPUT'!J58=Parameters!$K$4,'Window & Door DATA INPUT'!J58=Parameters!$K$11),\"No\",IF('Window & Door DATA INPUT'!K58=\"\",\"\",'Window & Door DATA INPUT'!K58))","v":""},{"$f":"IF('Window & Door DATA INPUT'!J58=\"\",\"\",'Window & Door DATA INPUT'!J58)","v":""},{"$f":"IF('Window & Door DATA INPUT'!L58=Parameters!$O$5,'Window & Door DATA INPUT'!O58,IF(B52=1,('Window & Door DATA INPUT'!N58*'Window & Door DATA INPUT'!M58)/1000000,\"\"))","v":""},{"$f":"IF('Window & Door DATA INPUT'!J58=\"\",\"\",VLOOKUP('Window & Door DATA INPUT'!J58,Parameters!$K$4:$L$16,2,FALSE))","v":""},{"$f":"IF($H52=\"yes\",IF($K52=\"Y\",'Window & Door DATA INPUT'!Q58/1000,IF($K52=\"N\",'Window & Door DATA INPUT'!P58/1000)),\"\")","v":""},{"$f":"IF($H52=\"yes\",IF($K52=\"Y\",'Window & Door DATA INPUT'!P58/1000,IF($K52=\"N\",'Window & Door DATA INPUT'!Q58/1000)),\"\")","v":""},"",{"$f":"IF(AND(B52=1,C52=0,H52=\"yes\"),\"A\",IF(AND(C52=1,H52=\"yes\",'Window & Door DATA INPUT'!R58=\"no\"),\"B\",IF(AND(C52=1,H52=\"yes\",'Window & Door DATA INPUT'!R58=\"yes\",'Window & Door DATA INPUT'!S58=\"yes\"),\"C\",IF(AND(C52=1,H52=\"yes\",'Window & Door DATA INPUT'!R58=\"yes\",'Window & Door DATA INPUT'!S58=\"no\"),\"D\",\"\"))))","v":""},{"$f":"IF(AND(C52=1,H52=\"yes\",OR(I52=Parameters!$K$12,I52=Parameters!$K$13,I52=Parameters!$K$14)),\"E\",IF(AND(C52=1,H52=\"yes\",NOT(OR(I52=Parameters!$K$12,I52=Parameters!$K$13,I52=Parameters!$K$14))),\"F\",\"\"))","v":""},{"$f":"IF(AND(B52=1,H52=\"yes\"),VLOOKUP(I52,Parameters!$K$4:$M$16,3,FALSE),\"\")","v":""},{"$f":"IF(AND(OR(O52=\"A\",O52=\"B\",O52=\"d\"),Q52=\"input\"),'Window & Door DATA INPUT'!AA58,IF(AND(O52=\"C\",Q52=\"input\"),'Window & Door DATA INPUT'!W58,Calculations!Q52))","v":""},{"$f":"IF('Window & Door DATA INPUT'!X58=\"Yes\",'Window & Door DATA INPUT'!Y58/1000,IF(B52=1,\"N/A\",\"\"))","v":""},{"$f":"IF(Q52=\"calc\",IF(O52=\"c\",'Window & Door DATA INPUT'!U58/1000,(Parameters!$S$4-'Window & Door DATA INPUT'!Z58+Parameters!$Q$4)/1000),\"\")","v":""},"","","",{"$f":"IF(OR($H52=\"no\",$B52=0),\"\",IF($I52=Parameters!$K$15,$L52/($M52/2),$L52/$M52))","v":""},{"$f":"IF(OR($H52=\"no\",$B52=0),\"\",IF($X52<0.5,Parameters!$X$4,IF($X52<1,Parameters!$Y$4,IF($X52<2,Parameters!$Z$4,Parameters!$AA$4))))","v":""},{"$f":"IF(OR($H52=\"no\",$B52=0),\"\",IF($X52<0.5,Parameters!$X$5,IF($X52<1,Parameters!$Y$5,IF($X52<2,Parameters!$Z$5,Parameters!$AA$5))))","v":""},{"$f":"IF(OR($H52=\"no\",$B52=0),\"\",IF($I52=Parameters!$K$15,(2*($M52/2)*SIN(RADIANS(Calculations!$W52/2))),(2*$M52*SIN(RADIANS($W52/2)))))","v":""},"",{"$f":"IF(OR($H52=\"no\",$B52=0),\"\",IF($I52=Parameters!$K$15,$AB52*$N52/2,$AB52*$N52))","v":""},{"$f":"IF(OR($H52=\"no\",$B52=0),\"\",IF($I52=Parameters!$K$15,$AC52*2/Parameters!$AB$4,$AC52/Parameters!$AB$4))","v":""},{"$f":"IF(AND(O52=\"B\",Q52=\"calc\"),V52,IF(AND(O52=\"C\",Q52=\"calc\"),'Window & Door DATA INPUT'!T58/1000,\"\"))","v":""},{"$f":"IF(AND(O52=\"B\",Q52=\"input\"),'Window & Door DATA INPUT'!AA58,IF(AND(O52=\"C\",Q52=\"input\",P52=\"F\"),'Window & Door DATA INPUT'!V58,IF(AND(O52=\"C\",P52=\"E\"),0,IF(AND(O52=\"D\"),0,IF(AND(B52=1,C52=0),\"\",(Calculations!Q52))))))","v":""},"",{"$f":"IF(OR($H52=\"no\",$C52=0),\"\",IF($I52=Parameters!$K$15,$L52/($M52/2),$L52/$M52))","v":""},{"$f":"IF(OR($H52=\"no\",$C52=0),\"\",IF($AH52<0.5,Parameters!$X$4,IF($AH52<1,Parameters!$Y$4,IF($AH52<2,Parameters!$Z$4,Parameters!$AA$4))))","v":""},{"$f":"IF(OR($H52=\"no\",$C52=0),\"\",IF($AH52<0.5,Parameters!$X$5,IF($AH52<1,Parameters!$Y$5,IF($AH52<2,Parameters!$Z$5,Parameters!$AA$5))))","v":""},{"$f":"IF(OR($H52=\"no\",$C52=0),\"\",IF($I52=Parameters!$K$15,(2*($M52/2)*SIN(RADIANS(Calculations!$AG52/2))),(2*$M52*SIN(RADIANS($AG52/2)))))","v":""},"",{"$f":"IF(OR($H52=\"no\",$C52=0),\"\",IF($I52=Parameters!$K$15,$AL52*$N52/2,$AL52*$N52))","v":""},{"$f":"IF(OR($H52=\"no\",$C52=0),\"\",IF($I52=Parameters!$K$15,$AM52*2/Parameters!$AB$4,$AM52/Parameters!$AB$4))","v":""},{"$nulls":20},{"$f":"'Window & Door DATA INPUT'!H58","v":0},""]
[null,{"$f":"IF('Window & Door DATA INPUT'!B59>1,1,0)","v":0},{"$f":"IF(AND(B53=1,OR(D53=Parameters!$D$17, D53=Parameters!$D$18,D53=Parameters!$D$19,D53=Parameters!$D$20,D53=Parameters!$D$21,D53=Parameters!$D$22, D53=Parameters!$D$23, D53=Parameters!$D$24)),1,0)","v":0},{"$f":"IF('Window & Door DATA INPUT'!B59=\"\",\"\",'Window & Door DATA INPUT'!B59)","v":""},{"$f":"IF('Window & Door DATA INPUT'!D59=\"\",\"\",'Window & Door DATA INPUT'!D59)","v":""},{"$f":"IF(B53=1,'Window & Door DATA INPUT'!H59&RESULTS!$H$5,\"\")","v":""},{"$f":"IF(B53=1,VLOOKUP(F53,Parameters!$H$4:$I$20,2,FALSE),\"\")","v":""},{"$f":"IF(OR('Window & Door DATA INPUT'!J59=Parameters!$K$4,'Window & Door DATA INPUT'!J59=Parameters!$K$11),\"No\",IF('Window & Door DATA INPUT'!K59=\"\",\"\",'Window & Door DATA INPUT'!K59))","v":""},{"$f":"IF('Window & Door DATA INPUT'!J59=\"\",\"\",'Window & Door DATA INPUT'!J59)","v":""},{"$f":"IF('Window & Door DATA INPUT'!L59=Parameters!$O$5,'Window & Door DATA INPUT'!O59,IF(B53=1,('Window & Door DATA INPUT'!N59*'Window & Door DATA INPUT'!M59)/1000000,\"\"))","v":""},{"$f":"IF('Window & Door DATA INPUT'!J59=\"\",\"\",VLOOKUP('Window & Door DATA INPUT'!J59,Parameters!$K$4:$L$16,2,FALSE))","v":""},{"$f":"IF($H53=\"yes\",IF($K53=\"Y\",'Window & Door DATA INPUT'!Q59/1000,IF($K53=\"N\",'Window & Door DATA INPUT'!P59/1000)),\"\")","v":""},{"$f":"IF($H53=\"yes\",IF($K53=\"Y\",'Window & Door DATA INPUT'!P59/1000,IF($K53=\"N\",'Window & Door DATA INPUT'!Q59/1000)),\"\")","v":""},"",{"$f":"IF(AND(B53=1,C53=0,H53=\"yes\"),\"A\",IF(AND(C53=1,H53=\"yes\",'Window & Door DATA INPUT'!R59=\"no\"),\"B\",IF(AND(C53=1,H53=\"yes\",'Window & Door DATA INPUT'!R59=\"yes\",'Window & Door DATA INPUT'!S59=\"yes\"),\"C\",IF(AND(C53=1,H53=\"yes\",'Window & Door DATA INPUT'!R59=\"yes\",'Window & Door DATA INPUT'!S59=\"no\"),\"D\",\"\"))))","v":""},{"$f":"IF(AND(C53=1,H53=\"yes\",OR(I53=Parameters!$K$12,I53=Parameters!$K$13,I53=Parameters!$K$14)),\"E\",IF(AND(C53=1,H53=\"yes\",NOT(OR(I53=Parameters!$K$12,I53=Parameters!$K$13,I53=Parameters!$K$14))),\"F\",\"\"))","v":""},{"$f":"IF(AND(B53=1,H53=\"yes\"),VLOOKUP(I53,Parameters!$K$4:$M$16,3,FALSE),\"\")","v":""},{"$f":"IF(AND(OR(O53=\"A\",O53=\"B\",O53=\"d\"),Q53=\"input\"),'Window & Door DATA INPUT'!AA59,IF(AND(O53=\"C\",Q53=\"input\"),'Window & Door DATA INPUT'!W59,Calculations!Q53))","v":""},{"$f":"IF('Window & Door DATA INPUT'!X59=\"Yes\",'Window & Door DATA INPUT'!Y59/1000,IF(B53=1,\"N/A\",\"\"))","v":""},{"$f":"IF(Q53=\"calc\",IF(O53=\"c\",'Window & Door DATA INPUT'!U59/1000,(Parameters!$S$4-'Window & Door DATA INPUT'!Z59+Parameters!$Q$4)/1000),\"\")","v":""},"","","",{"$f":"IF(OR($H53=\"no\",$B53=0),\"\",IF($I53=Parameters!$K$15,$L53/($M53/2),$L53/$M53))","v":""},{"$f":"IF(OR($H53=\"no\",$B53=0),\"\",IF($X53<0.5,Parameters!$X$4,IF($X53<1,Parameters!$Y$4,IF($X53<2,Parameters!$Z$4,Parameters!$AA$4))))","v":""},{"$f":"IF(OR($H53=\"no\",$B53=0),\"\",IF($X53<0.5,Parameters!$X$5,IF($X53<1,Parameters!$Y$5,IF($X53<2,Parameters!$Z$5,Parameters!$AA$5))))","v":""},{"$f":"IF(OR($H53=\"no\",$B53=0),\"\",IF($I53=Parameters!$K$15,(2*($M53/2)*SIN(RADIANS(Calculations!$W53/2))),(2*$M53*SIN(RADIANS($W53/2)))))","v":""},"",{"$f":"IF(OR($H53=\"no\",$B53=0),\"\",IF($I53=Parameters!$K$15,$AB53*$N53/2,$AB53*$N53))","v":""},{"$f":"IF(OR($H53=\"no\",$B53=0),\"\",IF($I53=Parameters!$K$15,$AC53*2/Parameters!$AB$4,$AC53/Parameters!$AB$4))","v":""},{"$f":"IF(AND(O53=\"B\",Q53=\"calc\"),V53,IF(AND(O53=\"C\",Q53=\"calc\"),'Window & Door DATA INPUT'!T59/1000,\"\"))","v":""},{"$f":"IF(AND(O53=\"B\",Q53=\"input\"),'Window & Door DATA INPUT'!AA59,IF(AND(O53=\"C\",Q53=\"input\",P53=\"F\"),'Window & Door DATA INPUT'!V59,IF(AND(O53=\"C\",P53=\"E\"),0,IF(AND(O53=\"D\"),0,IF(AND(B53=1,C53=0),\"\",(Calculations!Q53))))))","v":""},"",{"$f":"IF(OR($H53=\"no\",$C53=0),\"\",IF($I53=Parameters!$K$15,$L53/($M53/2),$L53/$M53))","v":""},{"$f":"IF(OR($H53=\"no\",$C53=0),\"\",IF($AH53<0.5,Parameters!$X$4,IF($AH53<1,Parameters!$Y$4,IF($AH53<2,Parameters!$Z$4,Parameters!$AA$4))))","v":""},{"$f":"IF(OR($H53=\"no\",$C53=0),\"\",IF($AH53<0.5,Parameters!$X$5,IF($AH53<1,Parameters!$Y$5,IF($AH53<2,Parameters!$Z$5,Parameters!$AA$5))))","v":""},{"$f":"IF(OR($H53=\"no\",$C53=0),\"\",IF($I53=Parameters!$K$15,(2*($M53/2)*SIN(RADIANS(Calculations!$AG53/2))),(2*$M53*SIN(RADIANS($AG53/2)))))","v":""},"",{"$f":"IF(OR($H53=\"no\",$C53=0),\"\",IF($I53=Parameters!$K$15,$AL53*$N53/2,$AL53*$N53))","v":""},{"$f":"IF(OR($H53=\"no\",$C53=0),\"\",IF($I53=Parameters!$K$15,$AM53*2/Parameters!$AB$4,$AM53/Parameters!$AB$4))","v":""},{"$nulls":20},{"$f":"'Window & Door DATA INPUT'!H59","v":0},""]
[null,{"$f":"IF('Window & Door DATA INPUT'!B60>1,1,0)","v":0},{"$f":"IF(AND(B54=1,OR(D54=Parameters!$D$17, D54=Parameters!$D$18,D54=Parameters!$D$19,D54=Parameters!$D$20,D54=Parameters!$D$21,D54=Parameters!$D$22, D54=Parameters!$D$23, D54=Parameters!$D$24)),1,0)","v":0},{"$f":"IF('Window & Door DATA INPUT'!B60=\"\",\"\",'Window & Door DATA INPUT'!B60)","v":""},{"$f":"IF('Window & Door DATA INPUT'!D60=\"\",\"\",'Window & Door DATA INPUT'!D60)","v":""},{"$f":"IF(B54=1,'Window & Door DATA INPUT'!H60&RESULTS!$H$5,\"\")","v":""},{"$f":"IF(B54=1,VLOOKUP(F54,Parameters!$H$4:$I$20,2,FALSE),\"\")","v":""},{"$f":"IF(OR('Window & Door DATA INPUT'!J60=Parameters!$K$4,'Window & Door DATA INPUT'!J60=Parameters!$K$11),\"No\",IF('Window & Door DATA INPUT'!K60=\"\",\"\",'Window & Door DATA INPUT'!K60))","v":""},{"$f":"IF('Window & Door DATA INPUT'!J60=\"\",\"\",'Window & Door DATA INPUT'!J60)","v":""},{"$f":"IF('Window & Door DATA INPUT'!L60=Parameters!$O$5,'Window & Door DATA INPUT'!O60,IF(B54=1,('Window & Door DATA INPUT'!N60*'Window & Door DATA INPUT'!M60)/1000000,\"\"))","v":""},{"$f":"IF('Window & Door DATA INPUT'!J60=\"\",\"\",VLOOKUP('Window & Door DATA INPUT'!J60,Parameters!$K$4:$L$16,2,FALSE))","v":""},{"$f":"IF($H54=\"yes\",IF($K54=\"Y\",'Window & Door DATA INPUT'!Q60/1000,IF($K54=\"N\",'Window & Door DATA INPUT'!P60/1000)),\"\")","v":""},{"$f":"IF($H54=\"yes\",IF($K54=\"Y\",'Window & Door DATA INPUT'!P60/1000,IF($K54=\"N\",'Window & Door DATA INPUT'!Q60/1000)),\"\")","v":""},"",{"$f":"IF(AND(B54=1,C54=0,H54=\"yes\"),\"A\",IF(AND(C54=1,H54=\"yes\",'Window & Door DATA INPUT'!R60=\"no\"),\"B\",IF(AND(C54=1,H54=\"yes\",'Window & Door DATA INPUT'!R60=\"yes\",'Window & Door DATA INPUT'!S60=\"yes\"),\"C\",IF(AND(C54=1,H54=\"yes\",'Window & Door DATA INPUT'!R60=\"yes\",'Window & Door DATA INPUT'!S60=\"no\"),\"D\",\"\"))))","v":""},{"$f":"IF(AND(C54=1,H54=\"yes\",OR(I54=Parameters!$K$12,I54=Parameters!$K$13,I54=Parameters!$K$14)),\"E\",IF(AND(C54=1,H54=\"yes\",NOT(OR(I54=Parameters!$K$12,I54=Parameters!$K$13,I54=Parameters!$K$14))),\"F\",\"\"))","v":""},{"$f":"IF(AND(B54=1,H54=\"yes\"),VLOOKUP(I54,Parameters!$K$4:$M$16,3,FALSE),\"\")","v":""},{"$f":"IF(AND(OR(O54=\"A\",O54=\"B\",O54=\"d\"),Q54=\"input\"),'Window & Door DATA INPUT'!AA60,IF(AND(O54=\"C\",Q54=\"input\"),'Window & Door DATA INPUT'!W60,Calculations!Q54))","v":""},{"$f":"IF('Window & Door DATA INPUT'!X60=\"Yes\",'Window & Door DATA INPUT'!Y60/1000,IF(B54=1,\"N/A\",\"\"))","v":""},{"$f":"IF(Q54=\"calc\",IF(O54=\"c\",'Window & Door DATA INPUT'!U60/1000,(Parameters!$S$4-'Window & Door DATA INPUT'!Z60+Parameters!$Q$4)/1000),\"\")","v":""},"","","",{"$f":"IF(OR($H54=\"no\",$B54=0),\"\",IF($I54=Parameters!$K$15,$L54/($M54/2),$L54/$M54))","v":""},{"$f":"IF(OR($H54=\"no\",$B54=0),\"\",IF($X54<0.5,Parameters!$X$4,IF($X54<1,Parameters!$Y$4,IF($X54<2,Parameters!$Z$4,Parameters!$AA$4))))","v":""},{"$f":"IF(OR($H54=\"no\",$B54=0),\"\",IF($X54<0.5,Parameters!$X$5,IF($X54<1,Parameters!$Y$5,IF($X54<2,Parameters!$Z$5,Parameters!$AA$5))))","v":""},{"$f":"IF(OR($H54=\"no\",$B54=0),\"\",IF($I54=Parameters!$K$15,(2*($M54/2)*SIN(RADIANS(Calculations!$W54/2))),(2*$M54*SIN(RADIANS($W54/2)))))","v":""},"",{"$f":"IF(OR($H54=\"no\",$B54=0),\"\",IF($I54=Parameters!$K$15,$AB54*$N54/2,$AB54*$N54))","v":""},{"$f":"IF(OR($H54=\"no\",$B54=0),\"\",IF($I54=Parameters!$K$15,$AC54*2/Parameters!$AB$4,$AC54/Parameters!$AB$4))","v":""},{"$f":"IF(AND(O54=\"B\",Q54=\"calc\"),V54,IF(AND(O54=\"C\",Q54=\"calc\"),'Window & Door DATA INPUT'!T60/1000,\"\"))","v":""},{"$f":"IF(AND(O54=\"B\",Q54=\"input\"),'Window & Door DATA INPUT'!AA60,IF(AND(O54=\"C\",Q54=\"input\",P54=\"F\"),'Window & Door DATA INPUT'!V60,IF(AND(O54=\"C\",P54=\"E\"),0,IF(AND(O54=\"D\"),0,IF(AND(B54=1,C54=0),\"\",(Calculations!Q54))))))","v":""},"",{"$f":"IF(OR($H54=\"no\",$C54=0),\"\",IF($I54=Parameters!$K$15,$L54/($M54/2),$L54/$M54))","v":""},{"$f":"IF(OR($H54=\"no\",$C54=0),\"\",IF($AH54<0.5,Parameters!$X$4,IF($AH54<1,Parameters!$Y$4,IF($AH54<2,Parameters!$Z$4,Parameters!$AA$4))))","v":""},{"$f":"IF(OR($H54=\"no\",$C54=0),\"\",IF($AH54<0.5,Parameters!$X$5,IF($AH54<1,Parameters!$Y$5,IF($AH54<2,Parameters!$Z$5,Parameters!$AA$5))))","v":""},{"$f":"IF(OR($H54=\"no\",$C54=0),\"\",IF($I54=Parameters!$K$15,(2*($M54/2)*SIN(RADIANS(Calculations!$AG54/2))),(2*$M54*SIN(RADIANS($AG54/2)))))","v":""},"",{"$f":"IF(OR($H54=\"no\",$C54=0),\"\",IF($I54=Parameters!$K$15,$AL54*$N54/2,$AL54*$N54))","v":""},{"$f":"IF(OR($H54=\"no\",$C54=0),\"\",IF($I54=Parameters!$K$15,$AM54*2/Parameters!$AB$4,$AM54/Parameters!$AB$4))","v":""},{"$nulls":20},{"$f":"'Window & Door DATA INPUT'!H60","v":0},""]
[null,{"$f":"IF('Window & Door DATA INPUT'!B61>1,1,0)","v":0},{"$f":"IF(AND(B55=1,OR(D55=Parameters!$D$17, D55=Parameters!$D$18,D55=Parameters!$D$19,D55=Parameters!$D$20,D55=Parameters!$D$21,D55=Parameters!$D$22, D55=Parameters!$D$23, D55=Parameters!$D$24)),1,0)","v":0},{"$f":"IF('Window & Door DATA INPUT'!B61=\"\",\"\",'Window & Door DATA INPUT'!B61)","v":""},{"$f":"IF('Window & Door DATA INPUT'!D61=\"\",\"\",'Window & Door DATA INPUT'!D61)","v":""},{"$f":"IF(B55=1,'Window & Door DATA INPUT'!H61&RESULTS!$H$5,\"\")","v":""},{"$f":"IF(B55=1,VLOOKUP(F55,Parameters!$H$4:$I$20,2,FALSE),\"\")","v":""},{"$f":"IF(OR('Window & Door DATA INPUT'!J61=Parameters!$K$4,'Window & Door DATA INPUT'!J61=Parameters!$K$11),\"No\",IF('Window & Door DATA INPUT'!K61=\"\",\"\",'Window & Door DATA INPUT'!K61))","v":""},{"$f":"IF('Window & Door DATA INPUT'!J61=\"\",\"\",'Window & Door DATA INPUT'!J61)","v":""},{"$f":"IF('Window & Door DATA INPUT'!L61=Parameters!$O$5,'Window & Door DATA INPUT'!O61,IF(B55=1,('Window & Door DATA INPUT'!N61*'Window & Door DATA INPUT'!M61)/1000000,\"\"))","v":""},{"$f":"IF('Window & Door DATA INPUT'!J61=\"\",\"\",VLOOKUP('Window & Door DATA INPUT'!J61,Parameters!$K$4:$L$16,2,FALSE))","v":""},{"$f":"IF($H55=\"yes\",IF($K55=\"Y\",'Window & Door DATA INPUT'!Q61/1000,IF($K55=\"N\",'Window & Door DATA INPUT'!P61/1000)),\"\")","v":""},{"$f":"IF($H55=\"yes\",IF($K55=\"Y\",'Window & Door DATA INPUT'!P61/1000,IF($K55=\"N\",'Window & Door DATA INPUT'!Q61/1000)),\"\")","v":""},"",{"$f":"IF(AND(B55=1,C55=0,H55=\"yes\"),\"A\",IF(AND(C55=1,H55=\"yes\",'Window & Door DATA INPUT'!R61=\"no\"),\"B\",IF(AND(C55=1,H55=\"yes\",'Window & Door DATA INPUT'!R61=\"yes\",'Window & Door DATA INPUT'!S61=\"yes\"),\"C\",IF(AND(C55=1,H55=\"yes\",'Window & Door DATA INPUT'!R61=\"yes\",'Window & Door DATA INPUT'!S61=\"no\"),\"D\",\"\"))))","v":""},{"$f":"IF(AND(C55=1,H55=\"yes\",OR(I55=Parameters!$K$12,I55=Parameters!$K$13,I55=Parameters!$K$14)),\"E\",IF(AND(C55=1,H55=\"yes\",NOT(OR(I55=Parameters!$K$12,I55=Parameters!$K$13,I55=Parameters!$K$14))),\"F\",\"\"))","v":""},{"$f":"IF(AND(B55=1,H55=\"yes\"),VLOOKUP(I55,Parameters!$K$4:$M$16,3,FALSE),\"\")","v":""},{"$f":"IF(AND(OR(O55=\"A\",O55=\"B\",O55=\"d\"),Q55=\"input\"),'Window & Door DATA INPUT'!AA61,IF(AND(O55=\"C\",Q55=\"input\"),'Window & Door DATA INPUT'!W61,Calculations!Q55))","v":""},{"$f":"IF('Window & Door DATA INPUT'!X61=\"Yes\",'Window & Door DATA INPUT'!Y61/1000,IF(B55=1,\"N/A\",\"\"))","v":""},{"$f":"IF(Q55=\"calc\",IF(O55=\"c\",'Window & Door DATA INPUT'!U61/1000,(Parameters!$S$4-'Window & Door DATA INPUT'!Z61+Parameters!$Q$4)/1000),\"\")","v":""},"","","",{"$f":"IF(OR($H55=\"no\",$B55=0),\"\",IF($I55=Parameters!$K$15,$L55/($M55/2),$L55/$M55))","v":""},{"$f":"IF(OR($H55=\"no\",$B55=0),\"\",IF($X55<0.5,Parameters!$X$4,IF($X55<1,Parameters!$Y$4,IF($X55<2,Parameters!$Z$4,Parameters!$AA$4))))","v":""},{"$f":"IF(OR($H55=\"no\",$B55=0),\"\",IF($X55<0.5,Parameters!$X$5,IF($X55<1,Parameters!$Y$5,IF($X55<2,Parameters!$Z$5,Parameters!$AA$5))))","v":""},{"$f":"IF(OR($H55=\"no\",$B55=0),\"\",IF($I55=Parameters!$K$15,(2*($M55/2)*SIN(RADIANS(Calculations!$W55/2))),(2*$M55*SIN(RADIANS($W55/2)))))","v":""},"",{"$f":"IF(OR($H55=\"no\",$B55=0),\"\",IF($I55=Parameters!$K$15,$AB55*$N55/2,$AB55*$N55))","v":""},{"$f":"IF(OR($H55=\"no\",$B55=0),\"\",IF($I55=Parameters!$K$15,$AC55*2/Parameters!$AB$4,$AC55/Parameters!$AB$4))","v":""},{"$f":"IF(AND(O55=\"B\",Q55=\"calc\"),V55,IF(AND(O55=\"C\",Q55=\"calc\"),'Window & Door DATA INPUT'!T61/1000,\"\"))","v":""},{"$f":"IF(AND(O55=\"B\",Q55=\"input\"),'Window & Door DATA INPUT'!AA61,IF(AND(O55=\"C\",Q55=\"input\",P55=\"F\"),'Window & Door DATA INPUT'!V61,IF(AND(O55=\"C\",P55=\"E\"),0,IF(AND(O55=\"D\"),0,IF(AND(B55=1,C55=0),\"\",(Calculations!Q55))))))","v":""},"",{"$f":"IF(OR($H55=\"no\",$C55=0),\"\",IF($I55=Parameters!$K$15,$L55/($M55/2),$L55/$M55))","v":""},{"$f":"IF(OR($H55=\"no\",$C55=0),\"\",IF($AH55<0.5,Parameters!$X$4,IF($AH55<1,Parameters!$Y$4,IF($AH55<2,Parameters!$Z$4,Parameters!$AA$4))))","v":""},{"$f":"IF(OR($H55=\"no\",$C55=0),\"\",IF($AH55<0.5,Parameters!$X$5,IF($AH55<1,Parameters!$Y$5,IF($AH55<2,Parameters!$Z$5,Parameters!$AA$5))))","v":""},{"$f":"IF(OR($H55=\"no\",$C55=0),\"\",IF($I55=Parameters!$K$15,(2*($M55/2)*SIN(RADIANS(Calculations!$AG55/2))),(2*$M55*SIN(RADIANS($AG55/2)))))","v":""},"",{"$f":"IF(OR($H55=\"no\",$C55=0),\"\",IF($I55=Parameters!$K$15,$AL55*$N55/2,$AL55*$N55))","v":""},{"$f":"IF(OR($H55=\"no\",$C55=0),\"\",IF($I55=Parameters!$K$15,$AM55*2/Parameters!$AB$4,$AM55/Parameters!$AB$4))","v":""},{"$nulls":20},{"$f":"'Window & Door DATA INPUT'!H61","v":0},""]
[null,{"$f":"IF('Window & Door DATA INPUT'!B62>1,1,0)","v":0},{"$f":"IF(AND(B56=1,OR(D56=Parameters!$D$17, D56=Parameters!$D$18,D56=Parameters!$D$19,D56=Parameters!$D$20,D56=Parameters!$D$21,D56=Parameters!$D$22, D56=Parameters!$D$23, D56=Parameters!$D$24)),1,0)","v":0},{"$f":"IF('Window & Door DATA INPUT'!B62=\"\",\"\",'Window & Door DATA INPUT'!B62)","v":""},{"$f":"IF('Window & Door DATA INPUT'!D62=\"\",\"\",'Window & Door DATA INPUT'!D62)","v":""},{"$f":"IF(B56=1,'Window & Door DATA INPUT'!H62&RESULTS!$H$5,\"\")","v":""},{"$f":"IF(B56=1,VLOOKUP(F56,Parameters!$H$4:$I$20,2,FALSE),\"\")","v":""},{"$f":"IF(OR('Window & Door DATA INPUT'!J62=Parameters!$K$4,'Window & Door DATA INPUT'!J62=Parameters!$K$11),\"No\",IF('Window & Door DATA INPUT'!K62=\"\",\"\",'Window & Door DATA INPUT'!K62))","v":""},{"$f":"IF('Window & Door DATA INPUT'!J62=\"\",\"\",'Window & Door DATA INPUT'!J62)","v":""},{"$f":"IF('Window & Door DATA INPUT'!L62=Parameters!$O$5,'Window & Door DATA INPUT'!O62,IF(B56=1,('Window & Door DATA INPUT'!N62*'Window & Door DATA INPUT'!M62)/1000000,\"\"))","v":""},{"$f":"IF('Window & Door DATA INPUT'!J62=\"\",\"\",VLOOKUP('Window & Door DATA INPUT'!J62,Parameters!$K$4:$L$16,2,FALSE))","v":""},{"$f":"IF($H56=\"yes\",IF($K56=\"Y\",'Window & Door DATA INPUT'!Q62/1000,IF($K56=\"N\",'Window & Door DATA INPUT'!P62/1000)),\"\")","v":""},{"$f":"IF($H56=\"yes\",IF($K56=\"Y\",'Window & Door DATA INPUT'!P62/1000,IF($K56=\"N\",'Window & Door DATA INPUT'!Q62/1000)),\"\")","v":""},"",{"$f":"IF(AND(B56=1,C56=0,H56=\"yes\"),\"A\",IF(AND(C56=1,H56=\"yes\",'Window & Door DATA INPUT'!R62=\"no\"),\"B\",IF(AND(C56=1,H56=\"yes\",'Window & Door DATA INPUT'!R62=\"yes\",'Window & Door DATA INPUT'!S62=\"yes\"),\"C\",IF(AND(C56=1,H56=\"yes\",'Window & Door DATA INPUT'!R62=\"yes\",'Window & Door DATA INPUT'!S62=\"no\"),\"D\",\"\"))))","v":""},{"$f":"IF(AND(C56=1,H56=\"yes\",OR(I56=Parameters!$K$12,I56=Parameters!$K$13,I56=Parameters!$K$14)),\"E\",IF(AND(C56=1,H56=\"yes\",NOT(OR(I56=Parameters!$K$12,I56=Parameters!$K$13,I56=Parameters!$K$14))),\"F\",\"\"))","v":""},{"$f":"IF(AND(B56=1,H56=\"yes\"),VLOOKUP(I56,Parameters!$K$4:$M$16,3,FALSE),\"\")","v":""},{"$f":"IF(AND(OR(O56=\"A\",O56=\"B\",O56=\"d\"),Q56=\"input\"),'Window & Door DATA INPUT'!AA62,IF(AND(O56=\"C\",Q56=\"input\"),'Window & Door DATA INPUT'!W62,Calculations!Q56))","v":""},{"$f":"IF('Window & Door DATA INPUT'!X62=\"Yes\",'Window & Door DATA INPUT'!Y62/1000,IF(B56=1,\"N/A\",\"\"))","v":""},{"$f":"IF(Q56=\"calc\",IF(O56=\"c\",'Window & Door DATA INPUT'!U62/1000,(Parameters!$S$4-'Window & Door DATA INPUT'!Z62+Parameters!$Q$4)/1000),\"\")","v":""},"","","",{"$f":"IF(OR($H56=\"no\",$B56=0),\"\",IF($I56=Parameters!$K$15,$L56/($M56/2),$L56/$M56))","v":""},{"$f":"IF(OR($H56=\"no\",$B56=0),\"\",IF($X56<0.5,Parameters!$X$4,IF($X56<1,Parameters!$Y$4,IF($X56<2,Parameters!$Z$4,Parameters!$AA$4))))","v":""},{"$f":"IF(OR($H56=\"no\",$B56=0),\"\",IF($X56<0.5,Parameters!$X$5,IF($X56<1,Parameters!$Y$5,IF($X56<2,Parameters!$Z$5,Parameters!$AA$5))))","v":""},{"$f":"IF(OR($H56=\"no\",$B56=0),\"\",IF($I56=Parameters!$K$15,(2*($M56/2)*SIN(RADIANS(Calculations!$W56/2))),(2*$M56*SIN(RADIANS($W56/2)))))","v":""},"",{"$f":"IF(OR($H56=\"no\",$B56=0),\"\",IF($I56=Parameters!$K$15,$AB56*$N56/2,$AB56*$N56))","v":""},{"$f":"IF(OR($H56=\"no\",$B56=0),\"\",IF($I56=Parameters!$K$15,$AC56*2/Parameters!$AB$4,$AC56/Parameters!$AB$4))","v":""},{"$f":"IF(AND(O56=\"B\",Q56=\"calc\"),V56,IF(AND(O56=\"C\",Q56=\"calc\"),'Window & Door DATA INPUT'!T62/1000,\"\"))","v":""},{"$f":"IF(AND(O56=\"B\",Q56=\"input\"),'Window & Door DATA INPUT'!AA62,IF(AND(O56=\"C\",Q56=\"input\",P56=\"F\"),'Window & Door DATA INPUT'!V62,IF(AND(O56=\"C\",P56=\"E\"),0,IF(AND(O56=\"D\"),0,IF(AND(B56=1,C56=0),\"\",(Calculations!Q56))))))","v":""},"",{"$f":"IF(OR($H56=\"no\",$C56=0),\"\",IF($I56=Parameters!$K$15,$L56/($M56/2),$L56/$M56))","v":""},{"$f":"IF(OR($H56=\"no\",$C56=0),\"\",IF($AH56<0.5,Parameters!$X$4,IF($AH56<1,Parameters!$Y$4,IF($AH56<2,Parameters!$Z$4,Parameters!$AA$4))))","v":""},{"$f":"IF(OR($H56=\"no\",$C56=0),\"\",IF($AH56<0.5,Parameters!$X$5,IF($AH56<1,Parameters!$Y$5,IF($AH56<2,Parameters!$Z$5,Parameters!$AA$5))))","v":""},{"$f":"IF(OR($H56=\"no\",$C56=0),\"\",IF($I56=Parameters!$K$15,(2*($M56/2)*SIN(RADIANS(Calculations!$AG56/2))),(2*$M56*SIN(RADIANS($AG56/2)))))","v":""},"",{"$f":"IF(OR($H56=\"no\",$C56=0),\"\",IF($I56=Parameters!$K$15,$AL56*$N56/2,$AL56*$N56))","v":""},{"$f":"IF(OR($H56=\"no\",$C56=0),\"\",IF($I56=Parameters!$K$15,$AM56*2/Parameters!$AB$4,$AM56/Parameters!$AB$4))","v":""},{"$nulls":20},{"$f":"'Window & Door DATA INPUT'!H62","v":0},""]
[null,{"$f":"IF('Window & Door DATA INPUT'!B63>1,1,0)","v":0},{"$f":"IF(AND(B57=1,OR(D57=Parameters!$D$17, D57=Parameters!$D$18,D57=Parameters!$D$19,D57=Parameters!$D$20,D57=Parameters!$D$21,D57=Parameters!$D$22, D57=Parameters!$D$23, D57=Parameters!$D$24)),1,0)","v":0},{"$f":"IF('Window & Door DATA INPUT'!B63=\"\",\"\",'Window & Door DATA INPUT'!B63)","v":""},{"$f":"IF('Window & Door DATA INPUT'!D63=\"\",\"\",'Window & Door DATA INPUT'!D63)","v":""},{"$f":"IF(B57=1,'Window & Door DATA INPUT'!H63&RESULTS!$H$5,\"\")","v":""},{"$f":"IF(B57=1,VLOOKUP(F57,Parameters!$H$4:$I$20,2,FALSE),\"\")","v":""},{"$f":"IF(OR('Window & Door DATA INPUT'!J63=Parameters!$K$4,'Window & Door DATA INPUT'!J63=Parameters!$K$11),\"No\",IF('Window & Door DATA INPUT'!K63=\"\",\"\",'Window & Door DATA INPUT'!K63))","v":""},{"$f":"IF('Window & Door DATA INPUT'!J63=\"\",\"\",'Window & Door DATA INPUT'!J63)","v":""},{"$f":"IF('Window & Door DATA INPUT'!L63=Parameters!$O$5,'Window & Door DATA INPUT'!O63,IF(B57=1,('Window & Door DATA INPUT'!N63*'Window & Door DATA INPUT'!M63)/1000000,\"\"))","v":""},{"$f":"IF('Window & Door DATA INPUT'!J63=\"\",\"\",VLOOKUP('Window & Door DATA INPUT'!J63,Parameters!$K$4:$L$16,2,FALSE))","v":""},{"$f":"IF($H57=\"yes\",IF($K57=\"Y\",'Window & Door DATA INPUT'!Q63/1000,IF($K57=\"N\",'Window & Door DATA INPUT'!P63/1000)),\"\")","v":""},{"$f":"IF($H57=\"yes\",IF($K57=\"Y\",'Window & Door DATA INPUT'!P63/1000,IF($K57=\"N\",'Window & Door DATA INPUT'!Q63/1000)),\"\")","v":""},"",{"$f":"IF(AND(B57=1,C57=0,H57=\"yes\"),\"A\",IF(AND(C57=1,H57=\"yes\",'Window & Door DATA INPUT'!R63=\"no\"),\"B\",IF(AND(C57=1,H57=\"yes\",'Window & Door DATA INPUT'!R63=\"yes\",'Window & Door DATA INPUT'!S63=\"yes\"),\"C\",IF(AND(C57=1,H57=\"yes\",'Window & Door DATA INPUT'!R63=\"yes\",'Window & Door DATA INPUT'!S63=\"no\"),\"D\",\"\"))))","v":""},{"$f":"IF(AND(C57=1,H57=\"yes\",OR(I57=Parameters!$K$12,I57=Parameters!$K$13,I57=Parameters!$K$14)),\"E\",IF(AND(C57=1,H57=\"yes\",NOT(OR(I57=Parameters!$K$12,I57=Parameters!$K$13,I57=Parameters!$K$14))),\"F\",\"\"))","v":""},{"$f":"IF(AND(B57=1,H57=\"yes\"),VLOOKUP(I57,Parameters!$K$4:$M$16,3,FALSE),\"\")","v":""},{"$f":"IF(AND(OR(O57=\"A\",O57=\"B\",O57=\"d\"),Q57=\"input\"),'Window & Door DATA INPUT'!AA63,IF(AND(O57=\"C\",Q57=\"input\"),'Window & Door DATA INPUT'!W63,Calculations!Q57))","v":""},{"$f":"IF('Window & Door DATA INPUT'!X63=\"Yes\",'Window & Door DATA INPUT'!Y63/1000,IF(B57=1,\"N/A\",\"\"))","v":""},{"$f":"IF(Q57=\"calc\",IF(O57=\"c\",'Window & Door DATA INPUT'!U63/1000,(Parameters!$S$4-'Window & Door DATA INPUT'!Z63+Parameters!$Q$4)/1000),\"\")","v":""},"","","",{"$f":"IF(OR($H57=\"no\",$B57=0),\"\",IF($I57=Parameters!$K$15,$L57/($M57/2),$L57/$M57))","v":""},{"$f":"IF(OR($H57=\"no\",$B57=0),\"\",IF($X57<0.5,Parameters!$X$4,IF($X57<1,Parameters!$Y$4,IF($X57<2,Parameters!$Z$4,Parameters!$AA$4))))","v":""},{"$f":"IF(OR($H57=\"no\",$B57=0),\"\",IF($X57<0.5,Parameters!$X$5,IF($X57<1,Parameters!$Y$5,IF($X57<2,Parameters!$Z$5,Parameters!$AA$5))))","v":""},{"$f":"IF(OR($H57=\"no\",$B57=0),\"\",IF($I57=Parameters!$K$15,(2*($M57/2)*SIN(RADIANS(Calculations!$W57/2))),(2*$M57*SIN(RADIANS($W57/2)))))","v":""},"",{"$f":"IF(OR($H57=\"no\",$B57=0),\"\",IF($I57=Parameters!$K$15,$AB57*$N57/2,$AB57*$N57))","v":""},{"$f":"IF(OR($H57=\"no\",$B57=0),\"\",IF($I57=Parameters!$K$15,$AC57*2/Parameters!$AB$4,$AC57/Parameters!$AB$4))","v":""},{"$f":"IF(AND(O57=\"B\",Q57=\"calc\"),V57,IF(AND(O57=\"C\",Q57=\"calc\"),'Window & Door DATA INPUT'!T63/1000,\"\"))","v":""},{"$f":"IF(AND(O57=\"B\",Q57=\"input\"),'Window & Door DATA INPUT'!AA63,IF(AND(O57=\"C\",Q57=\"input\",P57=\"F\"),'Window & Door DATA INPUT'!V63,IF(AND(O57=\"C\",P57=\"E\"),0,IF(AND(O57=\"D\"),0,IF(AND(B57=1,C57=0),\"\",(Calculations!Q57))))))","v":""},"",{"$f":"IF(OR($H57=\"no\",$C57=0),\"\",IF($I57=Parameters!$K$15,$L57/($M57/2),$L57/$M57))","v":""},{"$f":"IF(OR($H57=\"no\",$C57=0),\"\",IF($AH57<0.5,Parameters!$X$4,IF($AH57<1,Parameters!$Y$4,IF($AH57<2,Parameters!$Z$4,Parameters!$AA$4))))","v":""},{"$f":"IF(OR($H57=\"no\",$C57=0),\"\",IF($AH57<0.5,Parameters!$X$5,IF($AH57<1,Parameters!$Y$5,IF($AH57<2,Parameters!$Z$5,Parameters!$AA$5))))","v":""},{"$f":"IF(OR($H57=\"no\",$C57=0),\"\",IF($I57=Parameters!$K$15,(2*($M57/2)*SIN(RADIANS(Calculations!$AG57/2))),(2*$M57*SIN(RADIANS($AG57/2)))))","v":""},"",{"$f":"IF(OR($H57=\"no\",$C57=0),\"\",IF($I57=Parameters!$K$15,$AL57*$N57/2,$AL57*$N57))","v":""},{"$f":"IF(OR($H57=\"no\",$C57=0),\"\",IF($I57=Parameters!$K$15,$AM57*2/Parameters!$AB$4,$AM57/Parameters!$AB$4))","v":""},{"$nulls":20},{"$f":"'Window & Door DATA INPUT'!H63","v":0},""]
[null,{"$f":"IF('Window & Door DATA INPUT'!B64>1,1,0)","v":0},{"$f":"IF(AND(B58=1,OR(D58=Parameters!$D$17, D58=Parameters!$D$18,D58=Parameters!$D$19,D58=Parameters!$D$20,D58=Parameters!$D$21,D58=Parameters!$D$22, D58=Parameters!$D$23, D58=Parameters!$D$24)),1,0)","v":0},{"$f":"IF('Window & Door DATA INPUT'!B64=\"\",\"\",'Window & Door DATA INPUT'!B64)","v":""},{"$f":"IF('Window & Door DATA INPUT'!D64=\"\",\"\",'Window & Door DATA INPUT'!D64)","v":""},{"$f":"IF(B58=1,'Window & Door DATA INPUT'!H64&RESULTS!$H$5,\"\")","v":""},{"$f":"IF(B58=1,VLOOKUP(F58,Parameters!$H$4:$I$20,2,FALSE),\"\")","v":""},{"$f":"IF(OR('Window & Door DATA INPUT'!J64=Parameters!$K$4,'Window & Door DATA INPUT'!J64=Parameters!$K$11),\"No\",IF('Window & Door DATA INPUT'!K64=\"\",\"\",'Window & Door DATA INPUT'!K64))","v":""},{"$f":"IF('Window & Door DATA INPUT'!J64=\"\",\"\",'Window & Door DATA INPUT'!J64)","v":""},{"$f":"IF('Window & Door DATA INPUT'!L64=Parameters!$O$5,'Window & Door DATA INPUT'!O64,IF(B58=1,('Window & Door DATA INPUT'!N64*'Window & Door DATA INPUT'!M64)/1000000,\"\"))","v":""},{"$f":"IF('Window & Door DATA INPUT'!J64=\"\",\"\",VLOOKUP('Window & Door DATA INPUT'!J64,Parameters!$K$4:$L$16,2,FALSE))","v":""},{"$f":"IF($H58=\"yes\",IF($K58=\"Y\",'Window & Door DATA INPUT'!Q64/1000,IF($K58=\"N\",'Window & Door DATA INPUT'!P64/1000)),\"\")","v":""},{"$f":"IF($H58=\"yes\",IF($K58=\"Y\",'Window & Door DATA INPUT'!P64/1000,IF($K58=\"N\",'Window & Door DATA INPUT'!Q64/1000)),\"\")","v":""},"",{"$f":"IF(AND(B58=1,C58=0,H58=\"yes\"),\"A\",IF(AND(C58=1,H58=\"yes\",'Window & Door DATA INPUT'!R64=\"no\"),\"B\",IF(AND(C58=1,H58=\"yes\",'Window & Door DATA INPUT'!R64=\"yes\",'Window & Door DATA INPUT'!S64=\"yes\"),\"C\",IF(AND(C58=1,H58=\"yes\",'Window & Door DATA INPUT'!R64=\"yes\",'Window & Door DATA INPUT'!S64=\"no\"),\"D\",\"\"))))","v":""},{"$f":"IF(AND(C58=1,H58=\"yes\",OR(I58=Parameters!$K$12,I58=Parameters!$K$13,I58=Parameters!$K$14)),\"E\",IF(AND(C58=1,H58=\"yes\",NOT(OR(I58=Parameters!$K$12,I58=Parameters!$K$13,I58=Parameters!$K$14))),\"F\",\"\"))","v":""},{"$f":"IF(AND(B58=1,H58=\"yes\"),VLOOKUP(I58,Parameters!$K$4:$M$16,3,FALSE),\"\")","v":""},{"$f":"IF(AND(OR(O58=\"A\",O58=\"B\",O58=\"d\"),Q58=\"input\"),'Window & Door DATA INPUT'!AA64,IF(AND(O58=\"C\",Q58=\"input\"),'Window & Door DATA INPUT'!W64,Calculations!Q58))","v":""},{"$f":"IF('Window & Door DATA INPUT'!X64=\"Yes\",'Window & Door DATA INPUT'!Y64/1000,IF(B58=1,\"N/A\",\"\"))","v":""},{"$f":"IF(Q58=\"calc\",IF(O58=\"c\",'Window & Door DATA INPUT'!U64/1000,(Parameters!$S$4-'Window & Door DATA INPUT'!Z64+Parameters!$Q$4)/1000),\"\")","v":""},"","","",{"$f":"IF(OR($H58=\"no\",$B58=0),\"\",IF($I58=Parameters!$K$15,$L58/($M58/2),$L58/$M58))","v":""},{"$f":"IF(OR($H58=\"no\",$B58=0),\"\",IF($X58<0.5,Parameters!$X$4,IF($X58<1,Parameters!$Y$4,IF($X58<2,Parameters!$Z$4,Parameters!$AA$4))))","v":""},{"$f":"IF(OR($H58=\"no\",$B58=0),\"\",IF($X58<0.5,Parameters!$X$5,IF($X58<1,Parameters!$Y$5,IF($X58<2,Parameters!$Z$5,Parameters!$AA$5))))","v":""},{"$f":"IF(OR($H58=\"no\",$B58=0),\"\",IF($I58=Parameters!$K$15,(2*($M58/2)*SIN(RADIANS(Calculations!$W58/2))),(2*$M58*SIN(RADIANS($W58/2)))))","v":""},"",{"$f":"IF(OR($H58=\"no\",$B58=0),\"\",IF($I58=Parameters!$K$15,$AB58*$N58/2,$AB58*$N58))","v":""},{"$f":"IF(OR($H58=\"no\",$B58=0),\"\",IF($I58=Parameters!$K$15,$AC58*2/Parameters!$AB$4,$AC58/Parameters!$AB$4))","v":""},{"$f":"IF(AND(O58=\"B\",Q58=\"calc\"),V58,IF(AND(O58=\"C\",Q58=\"calc\"),'Window & Door DATA INPUT'!T64/1000,\"\"))","v":""},{"$f":"IF(AND(O58=\"B\",Q58=\"input\"),'Window & Door DATA INPUT'!AA64,IF(AND(O58=\"C\",Q58=\"input\",P58=\"F\"),'Window & Door DATA INPUT'!V64,IF(AND(O58=\"C\",P58=\"E\"),0,IF(AND(O58=\"D\"),0,IF(AND(B58=1,C58=0),\"\",(Calculations!Q58))))))","v":""},"",{"$f":"IF(OR($H58=\"no\",$C58=0),\"\",IF($I58=Parameters!$K$15,$L58/($M58/2),$L58/$M58))","v":""},{"$f":"IF(OR($H58=\"no\",$C58=0),\"\",IF($AH58<0.5,Parameters!$X$4,IF($AH58<1,Parameters!$Y$4,IF($AH58<2,Parameters!$Z$4,Parameters!$AA$4))))","v":""},{"$f":"IF(OR($H58=\"no\",$C58=0),\"\",IF($AH58<0.5,Parameters!$X$5,IF($AH58<1,Parameters!$Y$5,IF($AH58<2,Parameters!$Z$5,Parameters!$AA$5))))","v":""},{"$f":"IF(OR($H58=\"no\",$C58=0),\"\",IF($I58=Parameters!$K$15,(2*($M58/2)*SIN(RADIANS(Calculations!$AG58/2))),(2*$M58*SIN(RADIANS($AG58/2)))))","v":""},"",{"$f":"IF(OR($H58=\"no\",$C58=0),\"\",IF($I58=Parameters!$K$15,$AL58*$N58/2,$AL58*$N58))","v":""},{"$f":"IF(OR($H58=\"no\",$C58=0),\"\",IF($I58=Parameters!$K$15,$AM58*2/Parameters!$AB$4,$AM58/Parameters!$AB$4))","v":""},{"$nulls":20},{"$f":"'Window & Door DATA INPUT'!H64","v":0},""]
[null,{"$f":"IF('Window & Door DATA INPUT'!B65>1,1,0)","v":0},{"$f":"IF(AND(B59=1,OR(D59=Parameters!$D$17, D59=Parameters!$D$18,D59=Parameters!$D$19,D59=Parameters!$D$20,D59=Parameters!$D$21,D59=Parameters!$D$22, D59=Parameters!$D$23, D59=Parameters!$D$24)),1,0)","v":0},{"$f":"IF('Window & Door DATA INPUT'!B65=\"\",\"\",'Window & Door DATA INPUT'!B65)","v":""},{"$f":"IF('Window & Door DATA INPUT'!D65=\"\",\"\",'Window & Door DATA INPUT'!D65)","v":""},{"$f":"IF(B59=1,'Window & Door DATA INPUT'!H65&RESULTS!$H$5,\"\")","v":""},{"$f":"IF(B59=1,VLOOKUP(F59,Parameters!$H$4:$I$20,2,FALSE),\"\")","v":""},{"$f":"IF(OR('Window & Door DATA INPUT'!J65=Parameters!$K$4,'Window & Door DATA INPUT'!J65=Parameters!$K$11),\"No\",IF('Window & Door DATA INPUT'!K65=\"\",\"\",'Window & Door DATA INPUT'!K65))","v":""},{"$f":"IF('Window & Door DATA INPUT'!J65=\"\",\"\",'Window & Door DATA INPUT'!J65)","v":""},{"$f":"IF('Window & Door DATA INPUT'!L65=Parameters!$O$5,'Window & Door DATA INPUT'!O65,IF(B59=1,('Window & Door DATA INPUT'!N65*'Window & Door DATA INPUT'!M65)/1000000,\"\"))","v":""},{"$f":"IF('Window & Door DATA INPUT'!J65=\"\",\"\",VLOOKUP('Window & Door DATA INPUT'!J65,Parameters!$K$4:$L$16,2,FALSE))","v":""},{"$f":"IF($H59=\"yes\",IF($K59=\"Y\",'Window & Door DATA INPUT'!Q65/1000,IF($K59=\"N\",'Window & Door DATA INPUT'!P65/1000)),\"\")","v":""},{"$f":"IF($H59=\"yes\",IF($K59=\"Y\",'Window & Door DATA INPUT'!P65/1000,IF($K59=\"N\",'Window & Door DATA INPUT'!Q65/1000)),\"\")","v":""},"",{"$f":"IF(AND(B59=1,C59=0,H59=\"yes\"),\"A\",IF(AND(C59=1,H59=\"yes\",'Window & Door DATA INPUT'!R65=\"no\"),\"B\",IF(AND(C59=1,H59=\"yes\",'Window & Door DATA INPUT'!R65=\"yes\",'Window & Door DATA INPUT'!S65=\"yes\"),\"C\",IF(AND(C59=1,H59=\"yes\",'Window & Door DATA INPUT'!R65=\"yes\",'Window & Door DATA INPUT'!S65=\"no\"),\"D\",\"\"))))","v":""},{"$f":"IF(AND(C59=1,H59=\"yes\",OR(I59=Parameters!$K$12,I59=Parameters!$K$13,I59=Parameters!$K$14)),\"E\",IF(AND(C59=1,H59=\"yes\",NOT(OR(I59=Parameters!$K$12,I59=Parameters!$K$13,I59=Parameters!$K$14))),\"F\",\"\"))","v":""},{"$f":"IF(AND(B59=1,H59=\"yes\"),VLOOKUP(I59,Parameters!$K$4:$M$16,3,FALSE),\"\")","v":""},{"$f":"IF(AND(OR(O59=\"A\",O59=\"B\",O59=\"d\"),Q59=\"input\"),'Window & Door DATA INPUT'!AA65,IF(AND(O59=\"C\",Q59=\"input\"),'Window & Door DATA INPUT'!W65,Calculations!Q59))","v":""},{"$f":"IF('Window & Door DATA INPUT'!X65=\"Yes\",'Window & Door DATA INPUT'!Y65/1000,IF(B59=1,\"N/A\",\"\"))","v":""},{"$f":"IF(Q59=\"calc\",IF(O59=\"c\",'Window & Door DATA INPUT'!U65/1000,(Parameters!$S$4-'Window & Door DATA INPUT'!Z65+Parameters!$Q$4)/1000),\"\")","v":""},"","","",{"$f":"IF(OR($H59=\"no\",$B59=0),\"\",IF($I59=Parameters!$K$15,$L59/($M59/2),$L59/$M59))","v":""},{"$f":"IF(OR($H59=\"no\",$B59=0),\"\",IF($X59<0.5,Parameters!$X$4,IF($X59<1,Parameters!$Y$4,IF($X59<2,Parameters!$Z$4,Parameters!$AA$4))))","v":""},{"$f":"IF(OR($H59=\"no\",$B59=0),\"\",IF($X59<0.5,Parameters!$X$5,IF($X59<1,Parameters!$Y$5,IF($X59<2,Parameters!$Z$5,Parameters!$AA$5))))","v":""},{"$f":"IF(OR($H59=\"no\",$B59=0),\"\",IF($I59=Parameters!$K$15,(2*($M59/2)*SIN(RADIANS(Calculations!$W59/2))),(2*$M59*SIN(RADIANS($W59/2)))))","v":""},"",{"$f":"IF(OR($H59=\"no\",$B59=0),\"\",IF($I59=Parameters!$K$15,$AB59*$N59/2,$AB59*$N59))","v":""},{"$f":"IF(OR($H59=\"no\",$B59=0),\"\",IF($I59=Parameters!$K$15,$AC59*2/Parameters!$AB$4,$AC59/Parameters!$AB$4))","v":""},{"$f":"IF(AND(O59=\"B\",Q59=\"calc\"),V59,IF(AND(O59=\"C\",Q59=\"calc\"),'Window & Door DATA INPUT'!T65/1000,\"\"))","v":""},{"$f":"IF(AND(O59=\"B\",Q59=\"input\"),'Window & Door DATA INPUT'!AA65,IF(AND(O59=\"C\",Q59=\"input\",P59=\"F\"),'Window & Door DATA INPUT'!V65,IF(AND(O59=\"C\",P59=\"E\"),0,IF(AND(O59=\"D\"),0,IF(AND(B59=1,C59=0),\"\",(Calculations!Q59))))))","v":""},"",{"$f":"IF(OR($H59=\"no\",$C59=0),\"\",IF($I59=Parameters!$K$15,$L59/($M59/2),$L59/$M59))","v":""},{"$f":"IF(OR($H59=\"no\",$C59=0),\"\",IF($AH59<0.5,Parameters!$X$4,IF($AH59<1,Parameters!$Y$4,IF($AH59<2,Parameters!$Z$4,Parameters!$AA$4))))","v":""},{"$f":"IF(OR($H59=\"no\",$C59=0),\"\",IF($AH59<0.5,Parameters!$X$5,IF($AH59<1,Parameters!$Y$5,IF($AH59<2,Parameters!$Z$5,Parameters!$AA$5))))","v":""},{"$f":"IF(OR($H59=\"no\",$C59=0),\"\",IF($I59=Parameters!$K$15,(2*($M59/2)*SIN(RADIANS(Calculations!$AG59/2))),(2*$M59*SIN(RADIANS($AG59/2)))))","v":""},"",{"$f":"IF(OR($H59=\"no\",$C59=0),\"\",IF($I59=Parameters!$K$15,$AL59*$N59/2,$AL59*$N59))","v":""},{"$f":"IF(OR($H59=\"no\",$C59=0),\"\",IF($I59=Parameters!$K$15,$AM59*2/Parameters!$AB$4,$AM59/Parameters!$AB$4))","v":""},{"$nulls":20},{"$f":"'Window & Door DATA INPUT'!H65","v":0},""]
[null,{"$f":"IF('Window & Door DATA INPUT'!B66>1,1,0)","v":0},{"$f":"IF(AND(B60=1,OR(D60=Parameters!$D$17, D60=Parameters!$D$18,D60=Parameters!$D$19,D60=Parameters!$D$20,D60=Parameters!$D$21,D60=Parameters!$D$22, D60=Parameters!$D$23, D60=Parameters!$D$24)),1,0)","v":0},{"$f":"IF('Window & Door DATA INPUT'!B66=\"\",\"\",'Window & Door DATA INPUT'!B66)","v":""},{"$f":"IF('Window & Door DATA INPUT'!D66=\"\",\"\",'Window & Door DATA INPUT'!D66)","v":""},{"$f":"IF(B60=1,'Window & Door DATA INPUT'!H66&RESULTS!$H$5,\"\")","v":""},{"$f":"IF(B60=1,VLOOKUP(F60,Parameters!$H$4:$I$20,2,FALSE),\"\")","v":""},{"$f":"IF(OR('Window & Door DATA INPUT'!J66=Parameters!$K$4,'Window & Door DATA INPUT'!J66=Parameters!$K$11),\"No\",IF('Window & Door DATA INPUT'!K66=\"\",\"\",'Window & Door DATA INPUT'!K66))","v":""},{"$f":"IF('Window & Door DATA INPUT'!J66=\"\",\"\",'Window & Door DATA INPUT'!J66)","v":""},{"$f":"IF('Window & Door DATA INPUT'!L66=Parameters!$O$5,'Window & Door DATA INPUT'!O66,IF(B60=1,('Window & Door DATA INPUT'!N66*'Window & Door DATA INPUT'!M66)/1000000,\"\"))","v":""},{"$f":"IF('Window & Door DATA INPUT'!J66=\"\",\"\",VLOOKUP('Window & Door DATA INPUT'!J66,Parameters!$K$4:$L$16,2,FALSE))","v":""},{"$f":"IF($H60=\"yes\",IF($K60=\"Y\",'Window & Door DATA INPUT'!Q66/1000,IF($K60=\"N\",'Window & Door DATA INPUT'!P66/1000)),\"\")","v":""},{"$f":"IF($H60=\"yes\",IF($K60=\"Y\",'Window & Door DATA INPUT'!P66/1000,IF($K60=\"N\",'Window & Door DATA INPUT'!Q66/1000)),\"\")","v":""},"",{"$f":"IF(AND(B60=1,C60=0,H60=\"yes\"),\"A\",IF(AND(C60=1,H60=\"yes\",'Window & Door DATA INPUT'!R66=\"no\"),\"B\",IF(AND(C60=1,H60=\"yes\",'Window & Door DATA INPUT'!R66=\"yes\",'Window & Door DATA INPUT'!S66=\"yes\"),\"C\",IF(AND(C60=1,H60=\"yes\",'Window & Door DATA INPUT'!R66=\"yes\",'Window & Door DATA INPUT'!S66=\"no\"),\"D\",\"\"))))","v":""},{"$f":"IF(AND(C60=1,H60=\"yes\",OR(I60=Parameters!$K$12,I60=Parameters!$K$13,I60=Parameters!$K$14)),\"E\",IF(AND(C60=1,H60=\"yes\",NOT(OR(I60=Parameters!$K$12,I60=Parameters!$K$13,I60=Parameters!$K$14))),\"F\",\"\"))","v":""},{"$f":"IF(AND(B60=1,H60=\"yes\"),VLOOKUP(I60,Parameters!$K$4:$M$16,3,FALSE),\"\")","v":""},{"$f":"IF(AND(OR(O60=\"A\",O60=\"B\",O60=\"d\"),Q60=\"input\"),'Window & Door DATA INPUT'!AA66,IF(AND(O60=\"C\",Q60=\"input\"),'Window & Door DATA INPUT'!W66,Calculations!Q60))","v":""},{"$f":"IF('Window & Door DATA INPUT'!X66=\"Yes\",'Window & Door DATA INPUT'!Y66/1000,IF(B60=1,\"N/A\",\"\"))","v":""},{"$f":"IF(Q60=\"calc\",IF(O60=\"c\",'Window & Door DATA INPUT'!U66/1000,(Parameters!$S$4-'Window & Door DATA INPUT'!Z66+Parameters!$Q$4)/1000),\"\")","v":""},"","","",{"$f":"IF(OR($H60=\"no\",$B60=0),\"\",IF($I60=Parameters!$K$15,$L60/($M60/2),$L60/$M60))","v":""},{"$f":"IF(OR($H60=\"no\",$B60=0),\"\",IF($X60<0.5,Parameters!$X$4,IF($X60<1,Parameters!$Y$4,IF($X60<2,Parameters!$Z$4,Parameters!$AA$4))))","v":""},{"$f":"IF(OR($H60=\"no\",$B60=0),\"\",IF($X60<0.5,Parameters!$X$5,IF($X60<1,Parameters!$Y$5,IF($X60<2,Parameters!$Z$5,Parameters!$AA$5))))","v":""},{"$f":"IF(OR($H60=\"no\",$B60=0),\"\",IF($I60=Parameters!$K$15,(2*($M60/2)*SIN(RADIANS(Calculations!$W60/2))),(2*$M60*SIN(RADIANS($W60/2)))))","v":""},"",{"$f":"IF(OR($H60=\"no\",$B60=0),\"\",IF($I60=Parameters!$K$15,$AB60*$N60/2,$AB60*$N60))","v":""},{"$f":"IF(OR($H60=\"no\",$B60=0),\"\",IF($I60=Parameters!$K$15,$AC60*2/Parameters!$AB$4,$AC60/Parameters!$AB$4))","v":""},{"$f":"IF(AND(O60=\"B\",Q60=\"calc\"),V60,IF(AND(O60=\"C\",Q60=\"calc\"),'Window & Door DATA INPUT'!T66/1000,\"\"))","v":""},{"$f":"IF(AND(O60=\"B\",Q60=\"input\"),'Window & Door DATA INPUT'!AA66,IF(AND(O60=\"C\",Q60=\"input\",P60=\"F\"),'Window & Door DATA INPUT'!V66,IF(AND(O60=\"C\",P60=\"E\"),0,IF(AND(O60=\"D\"),0,IF(AND(B60=1,C60=0),\"\",(Calculations!Q60))))))","v":""},"",{"$f":"IF(OR($H60=\"no\",$C60=0),\"\",IF($I60=Parameters!$K$15,$L60/($M60/2),$L60/$M60))","v":""},{"$f":"IF(OR($H60=\"no\",$C60=0),\"\",IF($AH60<0.5,Parameters!$X$4,IF($AH60<1,Parameters!$Y$4,IF($AH60<2,Parameters!$Z$4,Parameters!$AA$4))))","v":""},{"$f":"IF(OR($H60=\"no\",$C60=0),\"\",IF($AH60<0.5,Parameters!$X$5,IF($AH60<1,Parameters!$Y$5,IF($AH60<2,Parameters!$Z$5,Parameters!$AA$5))))","v":""},{"$f":"IF(OR($H60=\"no\",$C60=0),\"\",IF($I60=Parameters!$K$15,(2*($M60/2)*SIN(RADIANS(Calculations!$AG60/2))),(2*$M60*SIN(RADIANS($AG60/2)))))","v":""},"",{"$f":"IF(OR($H60=\"no\",$C60=0),\"\",IF($I60=Parameters!$K$15,$AL60*$N60/2,$AL60*$N60))","v":""},{"$f":"IF(OR($H60=\"no\",$C60=0),\"\",IF($I60=Parameters!$K$15,$AM60*2/Parameters!$AB$4,$AM60/Parameters!$AB$4))","v":""},{"$nulls":20},{"$f":"'Window & Door DATA INPUT'!H66","v":0},""]
[null,{"$f":"IF('Window & Door DATA INPUT'!B67>1,1,0)","v":0},{"$f":"IF(AND(B61=1,OR(D61=Parameters!$D$17, D61=Parameters!$D$18,D61=Parameters!$D$19,D61=Parameters!$D$20,D61=Parameters!$D$21,D61=Parameters!$D$22, D61=Parameters!$D$23, D61=Parameters!$D$24)),1,0)","v":0},{"$f":"IF('Window & Door DATA INPUT'!B67=\"\",\"\",'Window & Door DATA INPUT'!B67)","v":""},{"$f":"IF('Window & Door DATA INPUT'!D67=\"\",\"\",'Window & Door DATA INPUT'!D67)","v":""},{"$f":"IF(B61=1,'Window & Door DATA INPUT'!H67&RESULTS!$H$5,\"\")","v":""},{"$f":"IF(B61=1,VLOOKUP(F61,Parameters!$H$4:$I$20,2,FALSE),\"\")","v":""},{"$f":"IF(OR('Window & Door DATA INPUT'!J67=Parameters!$K$4,'Window & Door DATA INPUT'!J67=Parameters!$K$11),\"No\",IF('Window & Door DATA INPUT'!K67=\"\",\"\",'Window & Door DATA INPUT'!K67))","v":""},{"$f":"IF('Window & Door DATA INPUT'!J67=\"\",\"\",'Window & Door DATA INPUT'!J67)","v":""},{"$f":"IF('Window & Door DATA INPUT'!L67=Parameters!$O$5,'Window & Door DATA INPUT'!O67,IF(B61=1,('Window & Door DATA INPUT'!N67*'Window & Door DATA INPUT'!M67)/1000000,\"\"))","v":""},{"$f":"IF('Window & Door DATA INPUT'!J67=\"\",\"\",VLOOKUP('Window & Door DATA INPUT'!J67,Parameters!$K$4:$L$16,2,FALSE))","v":""},{"$f":"IF($H61=\"yes\",IF($K61=\"Y\",'Window & Door DATA INPUT'!Q67/1000,IF($K61=\"N\",'Window & Door DATA INPUT'!P67/1000)),\"\")","v":""},{"$f":"IF($H61=\"yes\",IF($K61=\"Y\",'Window & Door DATA INPUT'!P67/1000,IF($K61=\"N\",'Window & Door DATA INPUT'!Q67/1000)),\"\")","v":""},"",{"$f":"IF(AND(B61=1,C61=0,H61=\"yes\"),\"A\",IF(AND(C61=1,H61=\"yes\",'Window & Door DATA INPUT'!R67=\"no\"),\"B\",IF(AND(C61=1,H61=\"yes\",'Window & Door DATA INPUT'!R67=\"yes\",'Window & Door DATA INPUT'!S67=\"yes\"),\"C\",IF(AND(C61=1,H61=\"yes\",'Window & Door DATA INPUT'!R67=\"yes\",'Window & Door DATA INPUT'!S67=\"no\"),\"D\",\"\"))))","v":""},{"$f":"IF(AND(C61=1,H61=\"yes\",OR(I61=Parameters!$K$12,I61=Parameters!$K$13,I61=Parameters!$K$14)),\"E\",IF(AND(C61=1,H61=\"yes\",NOT(OR(I61=Parameters!$K$12,I61=Parameters!$K$13,I61=Parameters!$K$14))),\"F\",\"\"))","v":""},{"$f":"IF(AND(B61=1,H61=\"yes\"),VLOOKUP(I61,Parameters!$K$4:$M$16,3,FALSE),\"\")","v":""},{"$f":"IF(AND(OR(O61=\"A\",O61=\"B\",O61=\"d\"),Q61=\"input\"),'Window & Door DATA INPUT'!AA67,IF(AND(O61=\"C\",Q61=\"input\"),'Window & Door DATA INPUT'!W67,Calculations!Q61))","v":""},{"$f":"IF('Window & Door DATA INPUT'!X67=\"Yes\",'Window & Door DATA INPUT'!Y67/1000,IF(B61=1,\"N/A\",\"\"))","v":""},{"$f":"IF(Q61=\"calc\",IF(O61=\"c\",'Window & Door DATA INPUT'!U67/1000,(Parameters!$S$4-'Window & Door DATA INPUT'!Z67+Parameters!$Q$4)/1000),\"\")","v":""},"","","",{"$f":"IF(OR($H61=\"no\",$B61=0),\"\",IF($I61=Parameters!$K$15,$L61/($M61/2),$L61/$M61))","v":""},{"$f":"IF(OR($H61=\"no\",$B61=0),\"\",IF($X61<0.5,Parameters!$X$4,IF($X61<1,Parameters!$Y$4,IF($X61<2,Parameters!$Z$4,Parameters!$AA$4))))","v":""},{"$f":"IF(OR($H61=\"no\",$B61=0),\"\",IF($X61<0.5,Parameters!$X$5,IF($X61<1,Parameters!$Y$5,IF($X61<2,Parameters!$Z$5,Parameters!$AA$5))))","v":""},{"$f":"IF(OR($H61=\"no\",$B61=0),\"\",IF($I61=Parameters!$K$15,(2*($M61/2)*SIN(RADIANS(Calculations!$W61/2))),(2*$M61*SIN(RADIANS($W61/2)))))","v":""},"",{"$f":"IF(OR($H61=\"no\",$B61=0),\"\",IF($I61=Parameters!$K$15,$AB61*$N61/2,$AB61*$N61))","v":""},{"$f":"IF(OR($H61=\"no\",$B61=0),\"\",IF($I61=Parameters!$K$15,$AC61*2/Parameters!$AB$4,$AC61/Parameters!$AB$4))","v":""},{"$f":"IF(AND(O61=\"B\",Q61=\"calc\"),V61,IF(AND(O61=\"C\",Q61=\"calc\"),'Window & Door DATA INPUT'!T67/1000,\"\"))","v":""},{"$f":"IF(AND(O61=\"B\",Q61=\"input\"),'Window & Door DATA INPUT'!AA67,IF(AND(O61=\"C\",Q61=\"input\",P61=\"F\"),'Window & Door DATA INPUT'!V67,IF(AND(O61=\"C\",P61=\"E\"),0,IF(AND(O61=\"D\"),0,IF(AND(B61=1,C61=0),\"\",(Calculations!Q61))))))","v":""},"",{"$f":"IF(OR($H61=\"no\",$C61=0),\"\",IF($I61=Parameters!$K$15,$L61/($M61/2),$L61/$M61))","v":""},{"$f":"IF(OR($H61=\"no\",$C61=0),\"\",IF($AH61<0.5,Parameters!$X$4,IF($AH61<1,Parameters!$Y$4,IF($AH61<2,Parameters!$Z$4,Parameters!$AA$4))))","v":""},{"$f":"IF(OR($H61=\"no\",$C61=0),\"\",IF($AH61<0.5,Parameters!$X$5,IF($AH61<1,Parameters!$Y$5,IF($AH61<2,Parameters!$Z$5,Parameters!$AA$5))))","v":""},{"$f":"IF(OR($H61=\"no\",$C61=0),\"\",IF($I61=Parameters!$K$15,(2*($M61/2)*SIN(RADIANS(Calculations!$AG61/2))),(2*$M61*SIN(RADIANS($AG61/2)))))","v":""},"",{"$f":"IF(OR($H61=\"no\",$C61=0),\"\",IF($I61=Parameters!$K$15,$AL61*$N61/2,$AL61*$N61))","v":""},{"$f":"IF(OR($H61=\"no\",$C61=0),\"\",IF($I61=Parameters!$K$15,$AM61*2/Parameters!$AB$4,$AM61/Parameters!$AB$4))","v":""},{"$nulls":20},{"$f":"'Window & Door DATA INPUT'!H67","v":0},""]
[null,{"$f":"IF('Window & Door DATA INPUT'!B68>1,1,0)","v":0},{"$f":"IF(AND(B62=1,OR(D62=Parameters!$D$17, D62=Parameters!$D$18,D62=Parameters!$D$19,D62=Parameters!$D$20,D62=Parameters!$D$21,D62=Parameters!$D$22, D62=Parameters!$D$23, D62=Parameters!$D$24)),1,0)","v":0},{"$f":"IF('Window & Door DATA INPUT'!B68=\"\",\"\",'Window & Door DATA INPUT'!B68)","v":""},{"$f":"IF('Window & Door DATA INPUT'!D68=\"\",\"\",'Window & Door DATA INPUT'!D68)","v":""},{"$f":"IF(B62=1,'Window & Door DATA INPUT'!H68&RESULTS!$H$5,\"\")","v":""},{"$f":"IF(B62=1,VLOOKUP(F62,Parameters!$H$4:$I$20,2,FALSE),\"\")","v":""},{"$f":"IF(OR('Window & Door DATA INPUT'!J68=Parameters!$K$4,'Window & Door DATA INPUT'!J68=Parameters!$K$11),\"No\",IF('Window & Door DATA INPUT'!K68=\"\",\"\",'Window & Door DATA INPUT'!K68))","v":""},{"$f":"IF('Window & Door DATA INPUT'!J68=\"\",\"\",'Window & Door DATA INPUT'!J68)","v":""},{"$f":"IF('Window & Door DATA INPUT'!L68=Parameters!$O$5,'Window & Door DATA INPUT'!O68,IF(B62=1,('Window & Door DATA INPUT'!N68*'Window & Door DATA INPUT'!M68)/1000000,\"\"))","v":""},{"$f":"IF('Window & Door DATA INPUT'!J68=\"\",\"\",VLOOKUP('Window & Door DATA INPUT'!J68,Parameters!$K$4:$L$16,2,FALSE))","v":""},{"$f":"IF($H62=\"yes\",IF($K62=\"Y\",'Window & Door DATA INPUT'!Q68/1000,IF($K62=\"N\",'Window & Door DATA INPUT'!P68/1000)),\"\")","v":""},{"$f":"IF($H62=\"yes\",IF($K62=\"Y\",'Window & Door DATA INPUT'!P68/1000,IF($K62=\"N\",'Window & Door DATA INPUT'!Q68/1000)),\"\")","v":""},"",{"$f":"IF(AND(B62=1,C62=0,H62=\"yes\"),\"A\",IF(AND(C62=1,H62=\"yes\",'Window & Door DATA INPUT'!R68=\"no\"),\"B\",IF(AND(C62=1,H62=\"yes\",'Window & Door DATA INPUT'!R68=\"yes\",'Window & Door DATA INPUT'!S68=\"yes\"),\"C\",IF(AND(C62=1,H62=\"yes\",'Window & Door DATA INPUT'!R68=\"yes\",'Window & Door DATA INPUT'!S68=\"no\"),\"D\",\"\"))))","v":""},{"$f":"IF(AND(C62=1,H62=\"yes\",OR(I62=Parameters!$K$12,I62=Parameters!$K$13,I62=Parameters!$K$14)),\"E\",IF(AND(C62=1,H62=\"yes\",NOT(OR(I62=Parameters!$K$12,I62=Parameters!$K$13,I62=Parameters!$K$14))),\"F\",\"\"))","v":""},{"$f":"IF(AND(B62=1,H62=\"yes\"),VLOOKUP(I62,Parameters!$K$4:$M$16,3,FALSE),\"\")","v":""},{"$f":"IF(AND(OR(O62=\"A\",O62=\"B\",O62=\"d\"),Q62=\"input\"),'Window & Door DATA INPUT'!AA68,IF(AND(O62=\"C\",Q62=\"input\"),'Window & Door DATA INPUT'!W68,Calculations!Q62))","v":""},{"$f":"IF('Window & Door DATA INPUT'!X68=\"Yes\",'Window & Door DATA INPUT'!Y68/1000,IF(B62=1,\"N/A\",\"\"))","v":""},{"$f":"IF(Q62=\"calc\",IF(O62=\"c\",'Window & Door DATA INPUT'!U68/1000,(Parameters!$S$4-'Window & Door DATA INPUT'!Z68+Parameters!$Q$4)/1000),\"\")","v":""},"","","",{"$f":"IF(OR($H62=\"no\",$B62=0),\"\",IF($I62=Parameters!$K$15,$L62/($M62/2),$L62/$M62))","v":""},{"$f":"IF(OR($H62=\"no\",$B62=0),\"\",IF($X62<0.5,Parameters!$X$4,IF($X62<1,Parameters!$Y$4,IF($X62<2,Parameters!$Z$4,Parameters!$AA$4))))","v":""},{"$f":"IF(OR($H62=\"no\",$B62=0),\"\",IF($X62<0.5,Parameters!$X$5,IF($X62<1,Parameters!$Y$5,IF($X62<2,Parameters!$Z$5,Parameters!$AA$5))))","v":""},{"$f":"IF(OR($H62=\"no\",$B62=0),\"\",IF($I62=Parameters!$K$15,(2*($M62/2)*SIN(RADIANS(Calculations!$W62/2))),(2*$M62*SIN(RADIANS($W62/2)))))","v":""},"",{"$f":"IF(OR($H62=\"no\",$B62=0),\"\",IF($I62=Parameters!$K$15,$AB62*$N62/2,$AB62*$N62))","v":""},{"$f":"IF(OR($H62=\"no\",$B62=0),\"\",IF($I62=Parameters!$K$15,$AC62*2/Parameters!$AB$4,$AC62/Parameters!$AB$4))","v":""},{"$f":"IF(AND(O62=\"B\",Q62=\"calc\"),V62,IF(AND(O62=\"C\",Q62=\"calc\"),'Window & Door DATA INPUT'!T68/1000,\"\"))","v":""},{"$f":"IF(AND(O62=\"B\",Q62=\"input\"),'Window & Door DATA INPUT'!AA68,IF(AND(O62=\"C\",Q62=\"input\",P62=\"F\"),'Window & Door DATA INPUT'!V68,IF(AND(O62=\"C\",P62=\"E\"),0,IF(AND(O62=\"D\"),0,IF(AND(B62=1,C62=0),\"\",(Calculations!Q62))))))","v":""},"",{"$f":"IF(OR($H62=\"no\",$C62=0),\"\",IF($I62=Parameters!$K$15,$L62/($M62/2),$L62/$M62))","v":""},{"$f":"IF(OR($H62=\"no\",$C62=0),\"\",IF($AH62<0.5,Parameters!$X$4,IF($AH62<1,Parameters!$Y$4,IF($AH62<2,Parameters!$Z$4,Parameters!$AA$4))))","v":""},{"$f":"IF(OR($H62=\"no\",$C62=0),\"\",IF($AH62<0.5,Parameters!$X$5,IF($AH62<1,Parameters!$Y$5,IF($AH62<2,Parameters!$Z$5,Parameters!$AA$5))))","v":""},{"$f":"IF(OR($H62=\"no\",$C62=0),\"\",IF($I62=Parameters!$K$15,(2*($M62/2)*SIN(RADIANS(Calculations!$AG62/2))),(2*$M62*SIN(RADIANS($AG62/2)))))","v":""},"",{"$f":"IF(OR($H62=\"no\",$C62=0),\"\",IF($I62=Parameters!$K$15,$AL62*$N62/2,$AL62*$N62))","v":""},{"$f":"IF(OR($H62=\"no\",$C62=0),\"\",IF($I62=Parameters!$K$15,$AM62*2/Parameters!$AB$4,$AM62/Parameters!$AB$4))","v":""},{"$nulls":20},{"$f":"'Window & Door DATA INPUT'!H68","v":0},""]
[null,{"$f":"IF('Window & Door DATA INPUT'!B69>1,1,0)","v":0},{"$f":"IF(AND(B63=1,OR(D63=Parameters!$D$17, D63=Parameters!$D$18,D63=Parameters!$D$19,D63=Parameters!$D$20,D63=Parameters!$D$21,D63=Parameters!$D$22, D63=Parameters!$D$23, D63=Parameters!$D$24)),1,0)","v":0},{"$f":"IF('Window & Door DATA INPUT'!B69=\"\",\"\",'Window & Door DATA INPUT'!B69)","v":""},{"$f":"IF('Window & Door DATA INPUT'!D69=\"\",\"\",'Window & Door DATA INPUT'!D69)","v":""},{"$f":"IF(B63=1,'Window & Door DATA INPUT'!H69&RESULTS!$H$5,\"\")","v":""},{"$f":"IF(B63=1,VLOOKUP(F63,Parameters!$H$4:$I$20,2,FALSE),\"\")","v":""},{"$f":"IF(OR('Window & Door DATA INPUT'!J69=Parameters!$K$4,'Window & Door DATA INPUT'!J69=Parameters!$K$11),\"No\",IF('Window & Door DATA INPUT'!K69=\"\",\"\",'Window & Door DATA INPUT'!K69))","v":""},{"$f":"IF('Window & Door DATA INPUT'!J69=\"\",\"\",'Window & Door DATA INPUT'!J69)","v":""},{"$f":"IF('Window & Door DATA INPUT'!L69=Parameters!$O$5,'Window & Door DATA INPUT'!O69,IF(B63=1,('Window & Door DATA INPUT'!N69*'Window & Door DATA INPUT'!M69)/1000000,\"\"))","v":""},{"$f":"IF('Window & Door DATA INPUT'!J69=\"\",\"\",VLOOKUP('Window & Door DATA INPUT'!J69,Parameters!$K$4:$L$16,2,FALSE))","v":""},{"$f":"IF($H63=\"yes\",IF($K63=\"Y\",'Window & Door DATA INPUT'!Q69/1000,IF($K63=\"N\",'Window & Door DATA INPUT'!P69/1000)),\"\")","v":""},{"$f":"IF($H63=\"yes\",IF($K63=\"Y\",'Window & Door DATA INPUT'!P69/1000,IF($K63=\"N\",'Window & Door DATA INPUT'!Q69/1000)),\"\")","v":""},"",{"$f":"IF(AND(B63=1,C63=0,H63=\"yes\"),\"A\",IF(AND(C63=1,H63=\"yes\",'Window & Door DATA INPUT'!R69=\"no\"),\"B\",IF(AND(C63=1,H63=\"yes\",'Window & Door DATA INPUT'!R69=\"yes\",'Window & Door DATA INPUT'!S69=\"yes\"),\"C\",IF(AND(C63=1,H63=\"yes\",'Window & Door DATA INPUT'!R69=\"yes\",'Window & Door DATA INPUT'!S69=\"no\"),\"D\",\"\"))))","v":""},{"$f":"IF(AND(C63=1,H63=\"yes\",OR(I63=Parameters!$K$12,I63=Parameters!$K$13,I63=Parameters!$K$14)),\"E\",IF(AND(C63=1,H63=\"yes\",NOT(OR(I63=Parameters!$K$12,I63=Parameters!$K$13,I63=Parameters!$K$14))),\"F\",\"\"))","v":""},{"$f":"IF(AND(B63=1,H63=\"yes\"),VLOOKUP(I63,Parameters!$K$4:$M$16,3,FALSE),\"\")","v":""},{"$f":"IF(AND(OR(O63=\"A\",O63=\"B\",O63=\"d\"),Q63=\"input\"),'Window & Door DATA INPUT'!AA69,IF(AND(O63=\"C\",Q63=\"input\"),'Window & Door DATA INPUT'!W69,Calculations!Q63))","v":""},{"$f":"IF('Window & Door DATA INPUT'!X69=\"Yes\",'Window & Door DATA INPUT'!Y69/1000,IF(B63=1,\"N/A\",\"\"))","v":""},{"$f":"IF(Q63=\"calc\",IF(O63=\"c\",'Window & Door DATA INPUT'!U69/1000,(Parameters!$S$4-'Window & Door DATA INPUT'!Z69+Parameters!$Q$4)/1000),\"\")","v":""},"","","",{"$f":"IF(OR($H63=\"no\",$B63=0),\"\",IF($I63=Parameters!$K$15,$L63/($M63/2),$L63/$M63))","v":""},{"$f":"IF(OR($H63=\"no\",$B63=0),\"\",IF($X63<0.5,Parameters!$X$4,IF($X63<1,Parameters!$Y$4,IF($X63<2,Parameters!$Z$4,Parameters!$AA$4))))","v":""},{"$f":"IF(OR($H63=\"no\",$B63=0),\"\",IF($X63<0.5,Parameters!$X$5,IF($X63<1,Parameters!$Y$5,IF($X63<2,Parameters!$Z$5,Parameters!$AA$5))))","v":""},{"$f":"IF(OR($H63=\"no\",$B63=0),\"\",IF($I63=Parameters!$K$15,(2*($M63/2)*SIN(RADIANS(Calculations!$W63/2))),(2*$M63*SIN(RADIANS($W63/2)))))","v":""},"",{"$f":"IF(OR($H63=\"no\",$B63=0),\"\",IF($I63=Parameters!$K$15,$AB63*$N63/2,$AB63*$N63))","v":""},{"$f":"IF(OR($H63=\"no\",$B63=0),\"\",IF($I63=Parameters!$K$15,$AC63*2/Parameters!$AB$4,$AC63/Parameters!$AB$4))","v":""},{"$f":"IF(AND(O63=\"B\",Q63=\"calc\"),V63,IF(AND(O63=\"C\",Q63=\"calc\"),'Window & Door DATA INPUT'!T69/1000,\"\"))","v":""},{"$f":"IF(AND(O63=\"B\",Q63=\"input\"),'Window & Door DATA INPUT'!AA69,IF(AND(O63=\"C\",Q63=\"input\",P63=\"F\"),'Window & Door DATA INPUT'!V69,IF(AND(O63=\"C\",P63=\"E\"),0,IF(AND(O63=\"D\"),0,IF(AND(B63=1,C63=0),\"\",(Calculations!Q63))))))","v":""},"",{"$f":"IF(OR($H63=\"no\",$C63=0),\"\",IF($I63=Parameters!$K$15,$L63/($M63/2),$L63/$M63))","v":""},{"$f":"IF(OR($H63=\"no\",$C63=0),\"\",IF($AH63<0.5,Parameters!$X$4,IF($AH63<1,Parameters!$Y$4,IF($AH63<2,Parameters!$Z$4,Parameters!$AA$4))))","v":""},{"$f":"IF(OR($H63=\"no\",$C63=0),\"\",IF($AH63<0.5,Parameters!$X$5,IF($AH63<1,Parameters!$Y$5,IF($AH63<2,Parameters!$Z$5,Parameters!$AA$5))))","v":""},{"$f":"IF(OR($H63=\"no\",$C63=0),\"\",IF($I63=Parameters!$K$15,(2*($M63/2)*SIN(RADIANS(Calculations!$AG63/2))),(2*$M63*SIN(RADIANS($AG63/2)))))","v":""},"",{"$f":"IF(OR($H63=\"no\",$C63=0),\"\",IF($I63=Parameters!$K$15,$AL63*$N63/2,$AL63*$N63))","v":""},{"$f":"IF(OR($H63=\"no\",$C63=0),\"\",IF($I63=Parameters!$K$15,$AM63*2/Parameters!$AB$4,$AM63/Parameters!$AB$4))","v":""},{"$nulls":20},{"$f":"'Window & Door DATA INPUT'!H69","v":0},""]
[null,{"$f":"IF('Window & Door DATA INPUT'!B70>1,1,0)","v":0},{"$f":"IF(AND(B64=1,OR(D64=Parameters!$D$17, D64=Parameters!$D$18,D64=Parameters!$D$19,D64=Parameters!$D$20,D64=Parameters!$D$21,D64=Parameters!$D$22, D64=Parameters!$D$23, D64=Parameters!$D$24)),1,0)","v":0},{"$f":"IF('Window & Door DATA INPUT'!B70=\"\",\"\",'Window & Door DATA INPUT'!B70)","v":""},{"$f":"IF('Window & Door DATA INPUT'!D70=\"\",\"\",'Window & Door DATA INPUT'!D70)","v":""},{"$f":"IF(B64=1,'Window & Door DATA INPUT'!H70&RESULTS!$H$5,\"\")","v":""},{"$f":"IF(B64=1,VLOOKUP(F64,Parameters!$H$4:$I$20,2,FALSE),\"\")","v":""},{"$f":"IF(OR('Window & Door DATA INPUT'!J70=Parameters!$K$4,'Window & Door DATA INPUT'!J70=Parameters!$K$11),\"No\",IF('Window & Door DATA INPUT'!K70=\"\",\"\",'Window & Door DATA INPUT'!K70))","v":""},{"$f":"IF('Window & Door DATA INPUT'!J70=\"\",\"\",'Window & Door DATA INPUT'!J70)","v":""},{"$f":"IF('Window & Door DATA INPUT'!L70=Parameters!$O$5,'Window & Door DATA INPUT'!O70,IF(B64=1,('Window & Door DATA INPUT'!N70*'Window & Door DATA INPUT'!M70)/1000000,\"\"))","v":""},{"$f":"IF('Window & Door DATA INPUT'!J70=\"\",\"\",VLOOKUP('Window & Door DATA INPUT'!J70,Parameters!$K$4:$L$16,2,FALSE))","v":""},{"$f":"IF($H64=\"yes\",IF($K64=\"Y\",'Window & Door DATA INPUT'!Q70/1000,IF($K64=\"N\",'Window & Door DATA INPUT'!P70/1000)),\"\")","v":""},{"$f":"IF($H64=\"yes\",IF($K64=\"Y\",'Window & Door DATA INPUT'!P70/1000,IF($K64=\"N\",'Window & Door DATA INPUT'!Q70/1000)),\"\")","v":""},"",{"$f":"IF(AND(B64=1,C64=0,H64=\"yes\"),\"A\",IF(AND(C64=1,H64=\"yes\",'Window & Door DATA INPUT'!R70=\"no\"),\"B\",IF(AND(C64=1,H64=\"yes\",'Window & Door DATA INPUT'!R70=\"yes\",'Window & Door DATA INPUT'!S70=\"yes\"),\"C\",IF(AND(C64=1,H64=\"yes\",'Window & Door DATA INPUT'!R70=\"yes\",'Window & Door DATA INPUT'!S70=\"no\"),\"D\",\"\"))))","v":""},{"$f":"IF(AND(C64=1,H64=\"yes\",OR(I64=Parameters!$K$12,I64=Parameters!$K$13,I64=Parameters!$K$14)),\"E\",IF(AND(C64=1,H64=\"yes\",NOT(OR(I64=Parameters!$K$12,I64=Parameters!$K$13,I64=Parameters!$K$14))),\"F\",\"\"))","v":""},{"$f":"IF(AND(B64=1,H64=\"yes\"),VLOOKUP(I64,Parameters!$K$4:$M$16,3,FALSE),\"\")","v":""},{"$f":"IF(AND(OR(O64=\"A\",O64=\"B\",O64=\"d\"),Q64=\"input\"),'Window & Door DATA INPUT'!AA70,IF(AND(O64=\"C\",Q64=\"input\"),'Window & Door DATA INPUT'!W70,Calculations!Q64))","v":""},{"$f":"IF('Window & Door DATA INPUT'!X70=\"Yes\",'Window & Door DATA INPUT'!Y70/1000,IF(B64=1,\"N/A\",\"\"))","v":""},{"$f":"IF(Q64=\"calc\",IF(O64=\"c\",'Window & Door DATA INPUT'!U70/1000,(Parameters!$S$4-'Window & Door DATA INPUT'!Z70+Parameters!$Q$4)/1000),\"\")","v":""},"","","",{"$f":"IF(OR($H64=\"no\",$B64=0),\"\",IF($I64=Parameters!$K$15,$L64/($M64/2),$L64/$M64))","v":""},{"$f":"IF(OR($H64=\"no\",$B64=0),\"\",IF($X64<0.5,Parameters!$X$4,IF($X64<1,Parameters!$Y$4,IF($X64<2,Parameters!$Z$4,Parameters!$AA$4))))","v":""},{"$f":"IF(OR($H64=\"no\",$B64=0),\"\",IF($X64<0.5,Parameters!$X$5,IF($X64<1,Parameters!$Y$5,IF($X64<2,Parameters!$Z$5,Parameters!$AA$5))))","v":""},{"$f":"IF(OR($H64=\"no\",$B64=0),\"\",IF($I64=Parameters!$K$15,(2*($M64/2)*SIN(RADIANS(Calculations!$W64/2))),(2*$M64*SIN(RADIANS($W64/2)))))","v":""},"",{"$f":"IF(OR($H64=\"no\",$B64=0),\"\",IF($I64=Parameters!$K$15,$AB64*$N64/2,$AB64*$N64))","v":""},{"$f":"IF(OR($H64=\"no\",$B64=0),\"\",IF($I64=Parameters!$K$15,$AC64*2/Parameters!$AB$4,$AC64/Parameters!$AB$4))","v":""},{"$f":"IF(AND(O64=\"B\",Q64=\"calc\"),V64,IF(AND(O64=\"C\",Q64=\"calc\"),'Window & Door DATA INPUT'!T70/1000,\"\"))","v":""},{"$f":"IF(AND(O64=\"B\",Q64=\"input\"),'Window & Door DATA INPUT'!AA70,IF(AND(O64=\"C\",Q64=\"input\",P64=\"F\"),'Window & Door DATA INPUT'!V70,IF(AND(O64=\"C\",P64=\"E\"),0,IF(AND(O64=\"D\"),0,IF(AND(B64=1,C64=0),\"\",(Calculations!Q64))))))","v":""},"",{"$f":"IF(OR($H64=\"no\",$C64=0),\"\",IF($I64=Parameters!$K$15,$L64/($M64/2),$L64/$M64))","v":""},{"$f":"IF(OR($H64=\"no\",$C64=0),\"\",IF($AH64<0.5,Parameters!$X$4,IF($AH64<1,Parameters!$Y$4,IF($AH64<2,Parameters!$Z$4,Parameters!$AA$4))))","v":""},{"$f":"IF(OR($H64=\"no\",$C64=0),\"\",IF($AH64<0.5,Parameters!$X$5,IF($AH64<1,Parameters!$Y$5,IF($AH64<2,Parameters!$Z$5,Parameters!$AA$5))))","v":""},{"$f":"IF(OR($H64=\"no\",$C64=0),\"\",IF($I64=Parameters!$K$15,(2*($M64/2)*SIN(RADIANS(Calculations!$AG64/2))),(2*$M64*SIN(RADIANS($AG64/2)))))","v":""},"",{"$f":"IF(OR($H64=\"no\",$C64=0),\"\",IF($I64=Parameters!$K$15,$AL64*$N64/2,$AL64*$N64))","v":""},{"$f":"IF(OR($H64=\"no\",$C64=0),\"\",IF($I64=Parameters!$K$15,$AM64*2/Parameters!$AB$4,$AM64/Parameters!$AB$4))","v":""},{"$nulls":20},{"$f":"'Window & Door DATA INPUT'!H70","v":0},""]
[null,{"$f":"IF('Window & Door DATA INPUT'!B71>1,1,0)","v":0},{"$f":"IF(AND(B65=1,OR(D65=Parameters!$D$17, D65=Parameters!$D$18,D65=Parameters!$D$19,D65=Parameters!$D$20,D65=Parameters!$D$21,D65=Parameters!$D$22, D65=Parameters!$D$23, D65=Parameters!$D$24)),1,0)","v":0},{"$f":"IF('Window & Door DATA INPUT'!B71=\"\",\"\",'Window & Door DATA INPUT'!B71)","v":""},{"$f":"IF('Window & Door DATA INPUT'!D71=\"\",\"\",'Window & Door DATA INPUT'!D71)","v":""},{"$f":"IF(B65=1,'Window & Door DATA INPUT'!H71&RESULTS!$H$5,\"\")","v":""},{"$f":"IF(B65=1,VLOOKUP(F65,Parameters!$H$4:$I$20,2,FALSE),\"\")","v":""},{"$f":"IF(OR('Window & Door DATA INPUT'!J71=Parameters!$K$4,'Window & Door DATA INPUT'!J71=Parameters!$K$11),\"No\",IF('Window & Door DATA INPUT'!K71=\"\",\"\",'Window & Door DATA INPUT'!K71))","v":""},{"$f":"IF('Window & Door DATA INPUT'!J71=\"\",\"\",'Window & Door DATA INPUT'!J71)","v":""},{"$f":"IF('Window & Door DATA INPUT'!L71=Parameters!$O$5,'Window & Door DATA INPUT'!O71,IF(B65=1,('Window & Door DATA INPUT'!N71*'Window & Door DATA INPUT'!M71)/1000000,\"\"))","v":""},{"$f":"IF('Window & Door DATA INPUT'!J71=\"\",\"\",VLOOKUP('Window & Door DATA INPUT'!J71,Parameters!$K$4:$L$16,2,FALSE))","v":""},{"$f":"IF($H65=\"yes\",IF($K65=\"Y\",'Window & Door DATA INPUT'!Q71/1000,IF($K65=\"N\",'Window & Door DATA INPUT'!P71/1000)),\"\")","v":""},{"$f":"IF($H65=\"yes\",IF($K65=\"Y\",'Window & Door DATA INPUT'!P71/1000,IF($K65=\"N\",'Window & Door DATA INPUT'!Q71/1000)),\"\")","v":""},"",{"$f":"IF(AND(B65=1,C65=0,H65=\"yes\"),\"A\",IF(AND(C65=1,H65=\"yes\",'Window & Door DATA INPUT'!R71=\"no\"),\"B\",IF(AND(C65=1,H65=\"yes\",'Window & Door DATA INPUT'!R71=\"yes\",'Window & Door DATA INPUT'!S71=\"yes\"),\"C\",IF(AND(C65=1,H65=\"yes\",'Window & Door DATA INPUT'!R71=\"yes\",'Window & Door DATA INPUT'!S71=\"no\"),\"D\",\"\"))))","v":""},{"$f":"IF(AND(C65=1,H65=\"yes\",OR(I65=Parameters!$K$12,I65=Parameters!$K$13,I65=Parameters!$K$14)),\"E\",IF(AND(C65=1,H65=\"yes\",NOT(OR(I65=Parameters!$K$12,I65=Parameters!$K$13,I65=Parameters!$K$14))),\"F\",\"\"))","v":""},{"$f":"IF(AND(B65=1,H65=\"yes\"),VLOOKUP(I65,Parameters!$K$4:$M$16,3,FALSE),\"\")","v":""},{"$f":"IF(AND(OR(O65=\"A\",O65=\"B\",O65=\"d\"),Q65=\"input\"),'Window & Door DATA INPUT'!AA71,IF(AND(O65=\"C\",Q65=\"input\"),'Window & Door DATA INPUT'!W71,Calculations!Q65))","v":""},{"$f":"IF('Window & Door DATA INPUT'!X71=\"Yes\",'Window & Door DATA INPUT'!Y71/1000,IF(B65=1,\"N/A\",\"\"))","v":""},{"$f":"IF(Q65=\"calc\",IF(O65=\"c\",'Window & Door DATA INPUT'!U71/1000,(Parameters!$S$4-'Window & Door DATA INPUT'!Z71+Parameters!$Q$4)/1000),\"\")","v":""},"","","",{"$f":"IF(OR($H65=\"no\",$B65=0),\"\",IF($I65=Parameters!$K$15,$L65/($M65/2),$L65/$M65))","v":""},{"$f":"IF(OR($H65=\"no\",$B65=0),\"\",IF($X65<0.5,Parameters!$X$4,IF($X65<1,Parameters!$Y$4,IF($X65<2,Parameters!$Z$4,Parameters!$AA$4))))","v":""},{"$f":"IF(OR($H65=\"no\",$B65=0),\"\",IF($X65<0.5,Parameters!$X$5,IF($X65<1,Parameters!$Y$5,IF($X65<2,Parameters!$Z$5,Parameters!$AA$5))))","v":""},{"$f":"IF(OR($H65=\"no\",$B65=0),\"\",IF($I65=Parameters!$K$15,(2*($M65/2)*SIN(RADIANS(Calculations!$W65/2))),(2*$M65*SIN(RADIANS($W65/2)))))","v":""},"",{"$f":"IF(OR($H65=\"no\",$B65=0),\"\",IF($I65=Parameters!$K$15,$AB65*$N65/2,$AB65*$N65))","v":""},{"$f":"IF(OR($H65=\"no\",$B65=0),\"\",IF($I65=Parameters!$K$15,$AC65*2/Parameters!$AB$4,$AC65/Parameters!$AB$4))","v":""},{"$f":"IF(AND(O65=\"B\",Q65=\"calc\"),V65,IF(AND(O65=\"C\",Q65=\"calc\"),'Window & Door DATA INPUT'!T71/1000,\"\"))","v":""},{"$f":"IF(AND(O65=\"B\",Q65=\"input\"),'Window & Door DATA INPUT'!AA71,IF(AND(O65=\"C\",Q65=\"input\",P65=\"F\"),'Window & Door DATA INPUT'!V71,IF(AND(O65=\"C\",P65=\"E\"),0,IF(AND(O65=\"D\"),0,IF(AND(B65=1,C65=0),\"\",(Calculations!Q65))))))","v":""},"",{"$f":"IF(OR($H65=\"no\",$C65=0),\"\",IF($I65=Parameters!$K$15,$L65/($M65/2),$L65/$M65))","v":""},{"$f":"IF(OR($H65=\"no\",$C65=0),\"\",IF($AH65<0.5,Parameters!$X$4,IF($AH65<1,Parameters!$Y$4,IF($AH65<2,Parameters!$Z$4,Parameters!$AA$4))))","v":""},{"$f":"IF(OR($H65=\"no\",$C65=0),\"\",IF($AH65<0.5,Parameters!$X$5,IF($AH65<1,Parameters!$Y$5,IF($AH65<2,Parameters!$Z$5,Parameters!$AA$5))))","v":""},{"$f":"IF(OR($H65=\"no\",$C65=0),\"\",IF($I65=Parameters!$K$15,(2*($M65/2)*SIN(RADIANS(Calculations!$AG65/2))),(2*$M65*SIN(RADIANS($AG65/2)))))","v":""},"",{"$f":"IF(OR($H65=\"no\",$C65=0),\"\",IF($I65=Parameters!$K$15,$AL65*$N65/2,$AL65*$N65))","v":""},{"$f":"IF(OR($H65=\"no\",$C65=0),\"\",IF($I65=Parameters!$K$15,$AM65*2/Parameters!$AB$4,$AM65/Parameters!$AB$4))","v":""},{"$nulls":20},{"$f":"'Window & Door DATA INPUT'!H71","v":0},""]
[null,{"$f":"IF('Window & Door DATA INPUT'!B72>1,1,0)","v":0},{"$f":"IF(AND(B66=1,OR(D66=Parameters!$D$17, D66=Parameters!$D$18,D66=Parameters!$D$19,D66=Parameters!$D$20,D66=Parameters!$D$21,D66=Parameters!$D$22, D66=Parameters!$D$23, D66=Parameters!$D$24)),1,0)","v":0},{"$f":"IF('Window & Door DATA INPUT'!B72=\"\",\"\",'Window & Door DATA INPUT'!B72)","v":""},{"$f":"IF('Window & Door DATA INPUT'!D72=\"\",\"\",'Window & Door DATA INPUT'!D72)","v":""},{"$f":"IF(B66=1,'Window & Door DATA INPUT'!H72&RESULTS!$H$5,\"\")","v":""},{"$f":"IF(B66=1,VLOOKUP(F66,Parameters!$H$4:$I$20,2,FALSE),\"\")","v":""},{"$f":"IF(OR('Window & Door DATA INPUT'!J72=Parameters!$K$4,'Window & Door DATA INPUT'!J72=Parameters!$K$11),\"No\",IF('Window & Door DATA INPUT'!K72=\"\",\"\",'Window & Door DATA INPUT'!K72))","v":""},{"$f":"IF('Window & Door DATA INPUT'!J72=\"\",\"\",'Window & Door DATA INPUT'!J72)","v":""},{"$f":"IF('Window & Door DATA INPUT'!L72=Parameters!$O$5,'Window & Door DATA INPUT'!O72,IF(B66=1,('Window & Door DATA INPUT'!N72*'Window & Door DATA INPUT'!M72)/1000000,\"\"))","v":""},{"$f":"IF('Window & Door DATA INPUT'!J72=\"\",\"\",VLOOKUP('Window & Door DATA INPUT'!J72,Parameters!$K$4:$L$16,2,FALSE))","v":""},{"$f":"IF($H66=\"yes\",IF($K66=\"Y\",'Window & Door DATA INPUT'!Q72/1000,IF($K66=\"N\",'Window & Door DATA INPUT'!P72/1000)),\"\")","v":""},{"$f":"IF($H66=\"yes\",IF($K66=\"Y\",'Window & Door DATA INPUT'!P72/1000,IF($K66=\"N\",'Window & Door DATA INPUT'!Q72/1000)),\"\")","v":""},"",{"$f":"IF(AND(B66=1,C66=0,H66=\"yes\"),\"A\",IF(AND(C66=1,H66=\"yes\",'Window & Door DATA INPUT'!R72=\"no\"),\"B\",IF(AND(C66=1,H66=\"yes\",'Window & Door DATA INPUT'!R72=\"yes\",'Window & Door DATA INPUT'!S72=\"yes\"),\"C\",IF(AND(C66=1,H66=\"yes\",'Window & Door DATA INPUT'!R72=\"yes\",'Window & Door DATA INPUT'!S72=\"no\"),\"D\",\"\"))))","v":""},{"$f":"IF(AND(C66=1,H66=\"yes\",OR(I66=Parameters!$K$12,I66=Parameters!$K$13,I66=Parameters!$K$14)),\"E\",IF(AND(C66=1,H66=\"yes\",NOT(OR(I66=Parameters!$K$12,I66=Parameters!$K$13,I66=Parameters!$K$14))),\"F\",\"\"))","v":""},{"$f":"IF(AND(B66=1,H66=\"yes\"),VLOOKUP(I66,Parameters!$K$4:$M$16,3,FALSE),\"\")","v":""},{"$f":"IF(AND(OR(O66=\"A\",O66=\"B\",O66=\"d\"),Q66=\"input\"),'Window & Door DATA INPUT'!AA72,IF(AND(O66=\"C\",Q66=\"input\"),'Window & Door DATA INPUT'!W72,Calculations!Q66))","v":""},{"$f":"IF('Window & Door DATA INPUT'!X72=\"Yes\",'Window & Door DATA INPUT'!Y72/1000,IF(B66=1,\"N/A\",\"\"))","v":""},{"$f":"IF(Q66=\"calc\",IF(O66=\"c\",'Window & Door DATA INPUT'!U72/1000,(Parameters!$S$4-'Window & Door DATA INPUT'!Z72+Parameters!$Q$4)/1000),\"\")","v":""},"","","",{"$f":"IF(OR($H66=\"no\",$B66=0),\"\",IF($I66=Parameters!$K$15,$L66/($M66/2),$L66/$M66))","v":""},{"$f":"IF(OR($H66=\"no\",$B66=0),\"\",IF($X66<0.5,Parameters!$X$4,IF($X66<1,Parameters!$Y$4,IF($X66<2,Parameters!$Z$4,Parameters!$AA$4))))","v":""},{"$f":"IF(OR($H66=\"no\",$B66=0),\"\",IF($X66<0.5,Parameters!$X$5,IF($X66<1,Parameters!$Y$5,IF($X66<2,Parameters!$Z$5,Parameters!$AA$5))))","v":""},{"$f":"IF(OR($H66=\"no\",$B66=0),\"\",IF($I66=Parameters!$K$15,(2*($M66/2)*SIN(RADIANS(Calculations!$W66/2))),(2*$M66*SIN(RADIANS($W66/2)))))","v":""},"",{"$f":"IF(OR($H66=\"no\",$B66=0),\"\",IF($I66=Parameters!$K$15,$AB66*$N66/2,$AB66*$N66))","v":""},{"$f":"IF(OR($H66=\"no\",$B66=0),\"\",IF($I66=Parameters!$K$15,$AC66*2/Parameters!$AB$4,$AC66/Parameters!$AB$4))","v":""},{"$f":"IF(AND(O66=\"B\",Q66=\"calc\"),V66,IF(AND(O66=\"C\",Q66=\"calc\"),'Window & Door DATA INPUT'!T72/1000,\"\"))","v":""},{"$f":"IF(AND(O66=\"B\",Q66=\"input\"),'Window & Door DATA INPUT'!AA72,IF(AND(O66=\"C\",Q66=\"input\",P66=\"F\"),'Window & Door DATA INPUT'!V72,IF(AND(O66=\"C\",P66=\"E\"),0,IF(AND(O66=\"D\"),0,IF(AND(B66=1,C66=0),\"\",(Calculations!Q66))))))","v":""},"",{"$f":"IF(OR($H66=\"no\",$C66=0),\"\",IF($I66=Parameters!$K$15,$L66/($M66/2),$L66/$M66))","v":""},{"$f":"IF(OR($H66=\"no\",$C66=0),\"\",IF($AH66<0.5,Parameters!$X$4,IF($AH66<1,Parameters!$Y$4,IF($AH66<2,Parameters!$Z$4,Parameters!$AA$4))))","v":""},{"$f":"IF(OR($H66=\"no\",$C66=0),\"\",IF($AH66<0.5,Parameters!$X$5,IF($AH66<1,Parameters!$Y$5,IF($AH66<2,Parameters!$Z$5,Parameters!$AA$5))))","v":""},{"$f":"IF(OR($H66=\"no\",$C66=0),\"\",IF($I66=Parameters!$K$15,(2*($M66/2)*SIN(RADIANS(Calculations!$AG66/2))),(2*$M66*SIN(RADIANS($AG66/2)))))","v":""},"",{"$f":"IF(OR($H66=\"no\",$C66=0),\"\",IF($I66=Parameters!$K$15,$AL66*$N66/2,$AL66*$N66))","v":""},{"$f":"IF(OR($H66=\"no\",$C66=0),\"\",IF($I66=Parameters!$K$15,$AM66*2/Parameters!$AB$4,$AM66/Parameters!$AB$4))","v":""},{"$nulls":20},{"$f":"'Window & Door DATA INPUT'!H72","v":0},""]
[null,{"$f":"IF('Window & Door DATA INPUT'!B73>1,1,0)","v":0},{"$f":"IF(AND(B67=1,OR(D67=Parameters!$D$17, D67=Parameters!$D$18,D67=Parameters!$D$19,D67=Parameters!$D$20,D67=Parameters!$D$21,D67=Parameters!$D$22, D67=Parameters!$D$23, D67=Parameters!$D$24)),1,0)","v":0},{"$f":"IF('Window & Door DATA INPUT'!B73=\"\",\"\",'Window & Door DATA INPUT'!B73)","v":""},{"$f":"IF('Window & Door DATA INPUT'!D73=\"\",\"\",'Window & Door DATA INPUT'!D73)","v":""},{"$f":"IF(B67=1,'Window & Door DATA INPUT'!H73&RESULTS!$H$5,\"\")","v":""},{"$f":"IF(B67=1,VLOOKUP(F67,Parameters!$H$4:$I$20,2,FALSE),\"\")","v":""},{"$f":"IF(OR('Window & Door DATA INPUT'!J73=Parameters!$K$4,'Window & Door DATA INPUT'!J73=Parameters!$K$11),\"No\",IF('Window & Door DATA INPUT'!K73=\"\",\"\",'Window & Door DATA INPUT'!K73))","v":""},{"$f":"IF('Window & Door DATA INPUT'!J73=\"\",\"\",'Window & Door DATA INPUT'!J73)","v":""},{"$f":"IF('Window & Door DATA INPUT'!L73=Parameters!$O$5,'Window & Door DATA INPUT'!O73,IF(B67=1,('Window & Door DATA INPUT'!N73*'Window & Door DATA INPUT'!M73)/1000000,\"\"))","v":""},{"$f":"IF('Window & Door DATA INPUT'!J73=\"\",\"\",VLOOKUP('Window & Door DATA INPUT'!J73,Parameters!$K$4:$L$16,2,FALSE))","v":""},{"$f":"IF($H67=\"yes\",IF($K67=\"Y\",'Window & Door DATA INPUT'!Q73/1000,IF($K67=\"N\",'Window & Door DATA INPUT'!P73/1000)),\"\")","v":""},{"$f":"IF($H67=\"yes\",IF($K67=\"Y\",'Window & Door DATA INPUT'!P73/1000,IF($K67=\"N\",'Window & Door DATA INPUT'!Q73/1000)),\"\")","v":""},"",{"$f":"IF(AND(B67=1,C67=0,H67=\"yes\"),\"A\",IF(AND(C67=1,H67=\"yes\",'Window & Door DATA INPUT'!R73=\"no\"),\"B\",IF(AND(C67=1,H67=\"yes\",'Window & Door DATA INPUT'!R73=\"yes\",'Window & Door DATA INPUT'!S73=\"yes\"),\"C\",IF(AND(C67=1,H67=\"yes\",'Window & Door DATA INPUT'!R73=\"yes\",'Window & Door DATA INPUT'!S73=\"no\"),\"D\",\"\"))))","v":""},{"$f":"IF(AND(C67=1,H67=\"yes\",OR(I67=Parameters!$K$12,I67=Parameters!$K$13,I67=Parameters!$K$14)),\"E\",IF(AND(C67=1,H67=\"yes\",NOT(OR(I67=Parameters!$K$12,I67=Parameters!$K$13,I67=Parameters!$K$14))),\"F\",\"\"))","v":""},{"$f":"IF(AND(B67=1,H67=\"yes\"),VLOOKUP(I67,Parameters!$K$4:$M$16,3,FALSE),\"\")","v":""},{"$f":"IF(AND(OR(O67=\"A\",O67=\"B\",O67=\"d\"),Q67=\"input\"),'Window & Door DATA INPUT'!AA73,IF(AND(O67=\"C\",Q67=\"input\"),'Window & Door DATA INPUT'!W73,Calculations!Q67))","v":""},{"$f":"IF('Window & Door DATA INPUT'!X73=\"Yes\",'Window & Door DATA INPUT'!Y73/1000,IF(B67=1,\"N/A\",\"\"))","v":""},{"$f":"IF(Q67=\"calc\",IF(O67=\"c\",'Window & Door DATA INPUT'!U73/1000,(Parameters!$S$4-'Window & Door DATA INPUT'!Z73+Parameters!$Q$4)/1000),\"\")","v":""},"","","",{"$f":"IF(OR($H67=\"no\",$B67=0),\"\",IF($I67=Parameters!$K$15,$L67/($M67/2),$L67/$M67))","v":""},{"$f":"IF(OR($H67=\"no\",$B67=0),\"\",IF($X67<0.5,Parameters!$X$4,IF($X67<1,Parameters!$Y$4,IF($X67<2,Parameters!$Z$4,Parameters!$AA$4))))","v":""},{"$f":"IF(OR($H67=\"no\",$B67=0),\"\",IF($X67<0.5,Parameters!$X$5,IF($X67<1,Parameters!$Y$5,IF($X67<2,Parameters!$Z$5,Parameters!$AA$5))))","v":""},{"$f":"IF(OR($H67=\"no\",$B67=0),\"\",IF($I67=Parameters!$K$15,(2*($M67/2)*SIN(RADIANS(Calculations!$W67/2))),(2*$M67*SIN(RADIANS($W67/2)))))","v":""},"",{"$f":"IF(OR($H67=\"no\",$B67=0),\"\",IF($I67=Parameters!$K$15,$AB67*$N67/2,$AB67*$N67))","v":""},{"$f":"IF(OR($H67=\"no\",$B67=0),\"\",IF($I67=Parameters!$K$15,$AC67*2/Parameters!$AB$4,$AC67/Parameters!$AB$4))","v":""},{"$f":"IF(AND(O67=\"B\",Q67=\"calc\"),V67,IF(AND(O67=\"C\",Q67=\"calc\"),'Window & Door DATA INPUT'!T73/1000,\"\"))","v":""},{"$f":"IF(AND(O67=\"B\",Q67=\"input\"),'Window & Door DATA INPUT'!AA73,IF(AND(O67=\"C\",Q67=\"input\",P67=\"F\"),'Window & Door DATA INPUT'!V73,IF(AND(O67=\"C\",P67=\"E\"),0,IF(AND(O67=\"D\"),0,IF(AND(B67=1,C67=0),\"\",(Calculations!Q67))))))","v":""},"",{"$f":"IF(OR($H67=\"no\",$C67=0),\"\",IF($I67=Parameters!$K$15,$L67/($M67/2),$L67/$M67))","v":""},{"$f":"IF(OR($H67=\"no\",$C67=0),\"\",IF($AH67<0.5,Parameters!$X$4,IF($AH67<1,Parameters!$Y$4,IF($AH67<2,Parameters!$Z$4,Parameters!$AA$4))))","v":""},{"$f":"IF(OR($H67=\"no\",$C67=0),\"\",IF($AH67<0.5,Parameters!$X$5,IF($AH67<1,Parameters!$Y$5,IF($AH67<2,Parameters!$Z$5,Parameters!$AA$5))))","v":""},{"$f":"IF(OR($H67=\"no\",$C67=0),\"\",IF($I67=Parameters!$K$15,(2*($M67/2)*SIN(RADIANS(Calculations!$AG67/2))),(2*$M67*SIN(RADIANS($AG67/2)))))","v":""},"",{"$f":"IF(OR($H67=\"no\",$C67=0),\"\",IF($I67=Parameters!$K$15,$AL67*$N67/2,$AL67*$N67))","v":""},{"$f":"IF(OR($H67=\"no\",$C67=0),\"\",IF($I67=Parameters!$K$15,$AM67*2/Parameters!$AB$4,$AM67/Parameters!$AB$4))","v":""},{"$nulls":20},{"$f":"'Window & Door DATA INPUT'!H73","v":0},""]
[null,{"$f":"IF('Window & Door DATA INPUT'!B74>1,1,0)","v":0},{"$f":"IF(AND(B68=1,OR(D68=Parameters!$D$17, D68=Parameters!$D$18,D68=Parameters!$D$19,D68=Parameters!$D$20,D68=Parameters!$D$21,D68=Parameters!$D$22, D68=Parameters!$D$23, D68=Parameters!$D$24)),1,0)","v":0},{"$f":"IF('Window & Door DATA INPUT'!B74=\"\",\"\",'Window & Door DATA INPUT'!B74)","v":""},{"$f":"IF('Window & Door DATA INPUT'!D74=\"\",\"\",'Window & Door DATA INPUT'!D74)","v":""},{"$f":"IF(B68=1,'Window & Door DATA INPUT'!H74&RESULTS!$H$5,\"\")","v":""},{"$f":"IF(B68=1,VLOOKUP(F68,Parameters!$H$4:$I$20,2,FALSE),\"\")","v":""},{"$f":"IF(OR('Window & Door DATA INPUT'!J74=Parameters!$K$4,'Window & Door DATA INPUT'!J74=Parameters!$K$11),\"No\",IF('Window & Door DATA INPUT'!K74=\"\",\"\",'Window & Door DATA INPUT'!K74))","v":""},{"$f":"IF('Window & Door DATA INPUT'!J74=\"\",\"\",'Window & Door DATA INPUT'!J74)","v":""},{"$f":"IF('Window & Door DATA INPUT'!L74=Parameters!$O$5,'Window & Door DATA INPUT'!O74,IF(B68=1,('Window & Door DATA INPUT'!N74*'Window & Door DATA INPUT'!M74)/1000000,\"\"))","v":""},{"$f":"IF('Window & Door DATA INPUT'!J74=\"\",\"\",VLOOKUP('Window & Door DATA INPUT'!J74,Parameters!$K$4:$L$16,2,FALSE))","v":""},{"$f":"IF($H68=\"yes\",IF($K68=\"Y\",'Window & Door DATA INPUT'!Q74/1000,IF($K68=\"N\",'Window & Door DATA INPUT'!P74/1000)),\"\")","v":""},{"$f":"IF($H68=\"yes\",IF($K68=\"Y\",'Window & Door DATA INPUT'!P74/1000,IF($K68=\"N\",'Window & Door DATA INPUT'!Q74/1000)),\"\")","v":""},"",{"$f":"IF(AND(B68=1,C68=0,H68=\"yes\"),\"A\",IF(AND(C68=1,H68=\"yes\",'Window & Door DATA INPUT'!R74=\"no\"),\"B\",IF(AND(C68=1,H68=\"yes\",'Window & Door DATA INPUT'!R74=\"yes\",'Window & Door DATA INPUT'!S74=\"yes\"),\"C\",IF(AND(C68=1,H68=\"yes\",'Window & Door DATA INPUT'!R74=\"yes\",'Window & Door DATA INPUT'!S74=\"no\"),\"D\",\"\"))))","v":""},{"$f":"IF(AND(C68=1,H68=\"yes\",OR(I68=Parameters!$K$12,I68=Parameters!$K$13,I68=Parameters!$K$14)),\"E\",IF(AND(C68=1,H68=\"yes\",NOT(OR(I68=Parameters!$K$12,I68=Parameters!$K$13,I68=Parameters!$K$14))),\"F\",\"\"))","v":""},{"$f":"IF(AND(B68=1,H68=\"yes\"),VLOOKUP(I68,Parameters!$K$4:$M$16,3,FALSE),\"\")","v":""},{"$f":"IF(AND(OR(O68=\"A\",O68=\"B\",O68=\"d\"),Q68=\"input\"),'Window & Door DATA INPUT'!AA74,IF(AND(O68=\"C\",Q68=\"input\"),'Window & Door DATA INPUT'!W74,Calculations!Q68))","v":""},{"$f":"IF('Window & Door DATA INPUT'!X74=\"Yes\",'Window & Door DATA INPUT'!Y74/1000,IF(B68=1,\"N/A\",\"\"))","v":""},{"$f":"IF(Q68=\"calc\",IF(O68=\"c\",'Window & Door DATA INPUT'!U74/1000,(Parameters!$S$4-'Window & Door DATA INPUT'!Z74+Parameters!$Q$4)/1000),\"\")","v":""},"","","",{"$f":"IF(OR($H68=\"no\",$B68=0),\"\",IF($I68=Parameters!$K$15,$L68/($M68/2),$L68/$M68))","v":""},{"$f":"IF(OR($H68=\"no\",$B68=0),\"\",IF($X68<0.5,Parameters!$X$4,IF($X68<1,Parameters!$Y$4,IF($X68<2,Parameters!$Z$4,Parameters!$AA$4))))","v":""},{"$f":"IF(OR($H68=\"no\",$B68=0),\"\",IF($X68<0.5,Parameters!$X$5,IF($X68<1,Parameters!$Y$5,IF($X68<2,Parameters!$Z$5,Parameters!$AA$5))))","v":""},{"$f":"IF(OR($H68=\"no\",$B68=0),\"\",IF($I68=Parameters!$K$15,(2*($M68/2)*SIN(RADIANS(Calculations!$W68/2))),(2*$M68*SIN(RADIANS($W68/2)))))","v":""},"",{"$f":"IF(OR($H68=\"no\",$B68=0),\"\",IF($I68=Parameters!$K$15,$AB68*$N68/2,$AB68*$N68))","v":""},{"$f":"IF(OR($H68=\"no\",$B68=0),\"\",IF($I68=Parameters!$K$15,$AC68*2/Parameters!$AB$4,$AC68/Parameters!$AB$4))","v":""},{"$f":"IF(AND(O68=\"B\",Q68=\"calc\"),V68,IF(AND(O68=\"C\",Q68=\"calc\"),'Window & Door DATA INPUT'!T74/1000,\"\"))","v":""},{"$f":"IF(AND(O68=\"B\",Q68=\"input\"),'Window & Door DATA INPUT'!AA74,IF(AND(O68=\"C\",Q68=\"input\",P68=\"F\"),'Window & Door DATA INPUT'!V74,IF(AND(O68=\"C\",P68=\"E\"),0,IF(AND(O68=\"D\"),0,IF(AND(B68=1,C68=0),\"\",(Calculations!Q68))))))","v":""},"",{"$f":"IF(OR($H68=\"no\",$C68=0),\"\",IF($I68=Parameters!$K$15,$L68/($M68/2),$L68/$M68))","v":""},{"$f":"IF(OR($H68=\"no\",$C68=0),\"\",IF($AH68<0.5,Parameters!$X$4,IF($AH68<1,Parameters!$Y$4,IF($AH68<2,Parameters!$Z$4,Parameters!$AA$4))))","v":""},{"$f":"IF(OR($H68=\"no\",$C68=0),\"\",IF($AH68<0.5,Parameters!$X$5,IF($AH68<1,Parameters!$Y$5,IF($AH68<2,Parameters!$Z$5,Parameters!$AA$5))))","v":""},{"$f":"IF(OR($H68=\"no\",$C68=0),\"\",IF($I68=Parameters!$K$15,(2*($M68/2)*SIN(RADIANS(Calculations!$AG68/2))),(2*$M68*SIN(RADIANS($AG68/2)))))","v":""},"",{"$f":"IF(OR($H68=\"no\",$C68=0),\"\",IF($I68=Parameters!$K$15,$AL68*$N68/2,$AL68*$N68))","v":""},{"$f":"IF(OR($H68=\"no\",$C68=0),\"\",IF($I68=Parameters!$K$15,$AM68*2/Parameters!$AB$4,$AM68/Parameters!$AB$4))","v":""},{"$nulls":20},{"$f":"'Window & Door DATA INPUT'!H74","v":0},""]
[null,{"$f":"IF('Window & Door DATA INPUT'!B75>1,1,0)","v":0},{"$f":"IF(AND(B69=1,OR(D69=Parameters!$D$17, D69=Parameters!$D$18,D69=Parameters!$D$19,D69=Parameters!$D$20,D69=Parameters!$D$21,D69=Parameters!$D$22, D69=Parameters!$D$23, D69=Parameters!$D$24)),1,0)","v":0},{"$f":"IF('Window & Door DATA INPUT'!B75=\"\",\"\",'Window & Door DATA INPUT'!B75)","v":""},{"$f":"IF('Window & Door DATA INPUT'!D75=\"\",\"\",'Window & Door DATA INPUT'!D75)","v":""},{"$f":"IF(B69=1,'Window & Door DATA INPUT'!H75&RESULTS!$H$5,\"\")","v":""},{"$f":"IF(B69=1,VLOOKUP(F69,Parameters!$H$4:$I$20,2,FALSE),\"\")","v":""},{"$f":"IF(OR('Window & Door DATA INPUT'!J75=Parameters!$K$4,'Window & Door DATA INPUT'!J75=Parameters!$K$11),\"No\",IF('Window & Door DATA INPUT'!K75=\"\",\"\",'Window & Door DATA INPUT'!K75))","v":""},{"$f":"IF('Window & Door DATA INPUT'!J75=\"\",\"\",'Window & Door DATA INPUT'!J75)","v":""},{"$f":"IF('Window & Door DATA INPUT'!L75=Parameters!$O$5,'Window & Door DATA INPUT'!O75,IF(B69=1,('Window & Door DATA INPUT'!N75*'Window & Door DATA INPUT'!M75)/1000000,\"\"))","v":""},{"$f":"IF('Window & Door DATA INPUT'!J75=\"\",\"\",VLOOKUP('Window & Door DATA INPUT'!J75,Parameters!$K$4:$L$16,2,FALSE))","v":""},{"$f":"IF($H69=\"yes\",IF($K69=\"Y\",'Window & Door DATA INPUT'!Q75/1000,IF($K69=\"N\",'Window & Door DATA INPUT'!P75/1000)),\"\")","v":""},{"$f":"IF($H69=\"yes\",IF($K69=\"Y\",'Window & Door DATA INPUT'!P75/1000,IF($K69=\"N\",'Window & Door DATA INPUT'!Q75/1000)),\"\")","v":""},"",{"$f":"IF(AND(B69=1,C69=0,H69=\"yes\"),\"A\",IF(AND(C69=1,H69=\"yes\",'Window & Door DATA INPUT'!R75=\"no\"),\"B\",IF(AND(C69=1,H69=\"yes\",'Window & Door DATA INPUT'!R75=\"yes\",'Window & Door DATA INPUT'!S75=\"yes\"),\"C\",IF(AND(C69=1,H69=\"yes\",'Window & Door DATA INPUT'!R75=\"yes\",'Window & Door DATA INPUT'!S75=\"no\"),\"D\",\"\"))))","v":""},{"$f":"IF(AND(C69=1,H69=\"yes\",OR(I69=Parameters!$K$12,I69=Parameters!$K$13,I69=Parameters!$K$14)),\"E\",IF(AND(C69=1,H69=\"yes\",NOT(OR(I69=Parameters!$K$12,I69=Parameters!$K$13,I69=Parameters!$K$14))),\"F\",\"\"))","v":""},{"$f":"IF(AND(B69=1,H69=\"yes\"),VLOOKUP(I69,Parameters!$K$4:$M$16,3,FALSE),\"\")","v":""},{"$f":"IF(AND(OR(O69=\"A\",O69=\"B\",O69=\"d\"),Q69=\"input\"),'Window & Door DATA INPUT'!AA75,IF(AND(O69=\"C\",Q69=\"input\"),'Window & Door DATA INPUT'!W75,Calculations!Q69))","v":""},{"$f":"IF('Window & Door DATA INPUT'!X75=\"Yes\",'Window & Door DATA INPUT'!Y75/1000,IF(B69=1,\"N/A\",\"\"))","v":""},{"$f":"IF(Q69=\"calc\",IF(O69=\"c\",'Window & Door DATA INPUT'!U75/1000,(Parameters!$S$4-'Window & Door DATA INPUT'!Z75+Parameters!$Q$4)/1000),\"\")","v":""},"","","",{"$f":"IF(OR($H69=\"no\",$B69=0),\"\",IF($I69=Parameters!$K$15,$L69/($M69/2),$L69/$M69))","v":""},{"$f":"IF(OR($H69=\"no\",$B69=0),\"\",IF($X69<0.5,Parameters!$X$4,IF($X69<1,Parameters!$Y$4,IF($X69<2,Parameters!$Z$4,Parameters!$AA$4))))","v":""},{"$f":"IF(OR($H69=\"no\",$B69=0),\"\",IF($X69<0.5,Parameters!$X$5,IF($X69<1,Parameters!$Y$5,IF($X69<2,Parameters!$Z$5,Parameters!$AA$5))))","v":""},{"$f":"IF(OR($H69=\"no\",$B69=0),\"\",IF($I69=Parameters!$K$15,(2*($M69/2)*SIN(RADIANS(Calculations!$W69/2))),(2*$M69*SIN(RADIANS($W69/2)))))","v":""},"",{"$f":"IF(OR($H69=\"no\",$B69=0),\"\",IF($I69=Parameters!$K$15,$AB69*$N69/2,$AB69*$N69))","v":""},{"$f":"IF(OR($H69=\"no\",$B69=0),\"\",IF($I69=Parameters!$K$15,$AC69*2/Parameters!$AB$4,$AC69/Parameters!$AB$4))","v":""},{"$f":"IF(AND(O69=\"B\",Q69=\"calc\"),V69,IF(AND(O69=\"C\",Q69=\"calc\"),'Window & Door DATA INPUT'!T75/1000,\"\"))","v":""},{"$f":"IF(AND(O69=\"B\",Q69=\"input\"),'Window & Door DATA INPUT'!AA75,IF(AND(O69=\"C\",Q69=\"input\",P69=\"F\"),'Window & Door DATA INPUT'!V75,IF(AND(O69=\"C\",P69=\"E\"),0,IF(AND(O69=\"D\"),0,IF(AND(B69=1,C69=0),\"\",(Calculations!Q69))))))","v":""},"",{"$f":"IF(OR($H69=\"no\",$C69=0),\"\",IF($I69=Parameters!$K$15,$L69/($M69/2),$L69/$M69))","v":""},{"$f":"IF(OR($H69=\"no\",$C69=0),\"\",IF($AH69<0.5,Parameters!$X$4,IF($AH69<1,Parameters!$Y$4,IF($AH69<2,Parameters!$Z$4,Parameters!$AA$4))))","v":""},{"$f":"IF(OR($H69=\"no\",$C69=0),\"\",IF($AH69<0.5,Parameters!$X$5,IF($AH69<1,Parameters!$Y$5,IF($AH69<2,Parameters!$Z$5,Parameters!$AA$5))))","v":""},{"$f":"IF(OR($H69=\"no\",$C69=0),\"\",IF($I69=Parameters!$K$15,(2*($M69/2)*SIN(RADIANS(Calculations!$AG69/2))),(2*$M69*SIN(RADIANS($AG69/2)))))","v":""},"",{"$f":"IF(OR($H69=\"no\",$C69=0),\"\",IF($I69=Parameters!$K$15,$AL69*$N69/2,$AL69*$N69))","v":""},{"$f":"IF(OR($H69=\"no\",$C69=0),\"\",IF($I69=Parameters!$K$15,$AM69*2/Parameters!$AB$4,$AM69/Parameters!$AB$4))","v":""},{"$nulls":20},{"$f":"'Window & Door DATA INPUT'!H75","v":0},""]
[null,{"$f":"IF('Window & Door DATA INPUT'!B76>1,1,0)","v":0},{"$f":"IF(AND(B70=1,OR(D70=Parameters!$D$17, D70=Parameters!$D$18,D70=Parameters!$D$19,D70=Parameters!$D$20,D70=Parameters!$D$21,D70=Parameters!$D$22, D70=Parameters!$D$23, D70=Parameters!$D$24)),1,0)","v":0},{"$f":"IF('Window & Door DATA INPUT'!B76=\"\",\"\",'Window & Door DATA INPUT'!B76)","v":""},{"$f":"IF('Window & Door DATA INPUT'!D76=\"\",\"\",'Window & Door DATA INPUT'!D76)","v":""},{"$f":"IF(B70=1,'Window & Door DATA INPUT'!H76&RESULTS!$H$5,\"\")","v":""},{"$f":"IF(B70=1,VLOOKUP(F70,Parameters!$H$4:$I$20,2,FALSE),\"\")","v":""},{"$f":"IF(OR('Window & Door DATA INPUT'!J76=Parameters!$K$4,'Window & Door DATA INPUT'!J76=Parameters!$K$11),\"No\",IF('Window & Door DATA INPUT'!K76=\"\",\"\",'Window & Door DATA INPUT'!K76))","v":""},{"$f":"IF('Window & Door DATA INPUT'!J76=\"\",\"\",'Window & Door DATA INPUT'!J76)","v":""},{"$f":"IF('Window & Door DATA INPUT'!L76=Parameters!$O$5,'Window & Door DATA INPUT'!O76,IF(B70=1,('Window & Door DATA INPUT'!N76*'Window & Door DATA INPUT'!M76)/1000000,\"\"))","v":""},{"$f":"IF('Window & Door DATA INPUT'!J76=\"\",\"\",VLOOKUP('Window & Door DATA INPUT'!J76,Parameters!$K$4:$L$16,2,FALSE))","v":""},{"$f":"IF($H70=\"yes\",IF($K70=\"Y\",'Window & Door DATA INPUT'!Q76/1000,IF($K70=\"N\",'Window & Door DATA INPUT'!P76/1000)),\"\")","v":""},{"$f":"IF($H70=\"yes\",IF($K70=\"Y\",'Window & Door DATA INPUT'!P76/1000,IF($K70=\"N\",'Window & Door DATA INPUT'!Q76/1000)),\"\")","v":""},"",{"$f":"IF(AND(B70=1,C70=0,H70=\"yes\"),\"A\",IF(AND(C70=1,H70=\"yes\",'Window & Door DATA INPUT'!R76=\"no\"),\"B\",IF(AND(C70=1,H70=\"yes\",'Window & Door DATA INPUT'!R76=\"yes\",'Window & Door DATA INPUT'!S76=\"yes\"),\"C\",IF(AND(C70=1,H70=\"yes\",'Window & Door DATA INPUT'!R76=\"yes\",'Window & Door DATA INPUT'!S76=\"no\"),\"D\",\"\"))))","v":""},{"$f":"IF(AND(C70=1,H70=\"yes\",OR(I70=Parameters!$K$12,I70=Parameters!$K$13,I70=Parameters!$K$14)),\"E\",IF(AND(C70=1,H70=\"yes\",NOT(OR(I70=Parameters!$K$12,I70=Parameters!$K$13,I70=Parameters!$K$14))),\"F\",\"\"))","v":""},{"$f":"IF(AND(B70=1,H70=\"yes\"),VLOOKUP(I70,Parameters!$K$4:$M$16,3,FALSE),\"\")","v":""},{"$f":"IF(AND(OR(O70=\"A\",O70=\"B\",O70=\"d\"),Q70=\"input\"),'Window & Door DATA INPUT'!AA76,IF(AND(O70=\"C\",Q70=\"input\"),'Window & Door DATA INPUT'!W76,Calculations!Q70))","v":""},{"$f":"IF('Window & Door DATA INPUT'!X76=\"Yes\",'Window & Door DATA INPUT'!Y76/1000,IF(B70=1,\"N/A\",\"\"))","v":""},{"$f":"IF(Q70=\"calc\",IF(O70=\"c\",'Window & Door DATA INPUT'!U76/1000,(Parameters!$S$4-'Window & Door DATA INPUT'!Z76+Parameters!$Q$4)/1000),\"\")","v":""},"","","",{"$f":"IF(OR($H70=\"no\",$B70=0),\"\",IF($I70=Parameters!$K$15,$L70/($M70/2),$L70/$M70))","v":""},{"$f":"IF(OR($H70=\"no\",$B70=0),\"\",IF($X70<0.5,Parameters!$X$4,IF($X70<1,Parameters!$Y$4,IF($X70<2,Parameters!$Z$4,Parameters!$AA$4))))","v":""},{"$f":"IF(OR($H70=\"no\",$B70=0),\"\",IF($X70<0.5,Parameters!$X$5,IF($X70<1,Parameters!$Y$5,IF($X70<2,Parameters!$Z$5,Parameters!$AA$5))))","v":""},{"$f":"IF(OR($H70=\"no\",$B70=0),\"\",IF($I70=Parameters!$K$15,(2*($M70/2)*SIN(RADIANS(Calculations!$W70/2))),(2*$M70*SIN(RADIANS($W70/2)))))","v":""},"",{"$f":"IF(OR($H70=\"no\",$B70=0),\"\",IF($I70=Parameters!$K$15,$AB70*$N70/2,$AB70*$N70))","v":""},{"$f":"IF(OR($H70=\"no\",$B70=0),\"\",IF($I70=Parameters!$K$15,$AC70*2/Parameters!$AB$4,$AC70/Parameters!$AB$4))","v":""},{"$f":"IF(AND(O70=\"B\",Q70=\"calc\"),V70,IF(AND(O70=\"C\",Q70=\"calc\"),'Window & Door DATA INPUT'!T76/1000,\"\"))","v":""},{"$f":"IF(AND(O70=\"B\",Q70=\"input\"),'Window & Door DATA INPUT'!AA76,IF(AND(O70=\"C\",Q70=\"input\",P70=\"F\"),'Window & Door DATA INPUT'!V76,IF(AND(O70=\"C\",P70=\"E\"),0,IF(AND(O70=\"D\"),0,IF(AND(B70=1,C70=0),\"\",(Calculations!Q70))))))","v":""},"",{"$f":"IF(OR($H70=\"no\",$C70=0),\"\",IF($I70=Parameters!$K$15,$L70/($M70/2),$L70/$M70))","v":""},{"$f":"IF(OR($H70=\"no\",$C70=0),\"\",IF($AH70<0.5,Parameters!$X$4,IF($AH70<1,Parameters!$Y$4,IF($AH70<2,Parameters!$Z$4,Parameters!$AA$4))))","v":""},{"$f":"IF(OR($H70=\"no\",$C70=0),\"\",IF($AH70<0.5,Parameters!$X$5,IF($AH70<1,Parameters!$Y$5,IF($AH70<2,Parameters!$Z$5,Parameters!$AA$5))))","v":""},{"$f":"IF(OR($H70=\"no\",$C70=0),\"\",IF($I70=Parameters!$K$15,(2*($M70/2)*SIN(RADIANS(Calculations!$AG70/2))),(2*$M70*SIN(RADIANS($AG70/2)))))","v":""},"",{"$f":"IF(OR($H70=\"no\",$C70=0),\"\",IF($I70=Parameters!$K$15,$AL70*$N70/2,$AL70*$N70))","v":""},{"$f":"IF(OR($H70=\"no\",$C70=0),\"\",IF($I70=Parameters!$K$15,$AM70*2/Parameters!$AB$4,$AM70/Parameters!$AB$4))","v":""},{"$nulls":20},{"$f":"'Window & Door DATA INPUT'!H76","v":0},""]
[null,{"$f":"IF('Window & Door DATA INPUT'!B77>1,1,0)","v":0},{"$f":"IF(AND(B71=1,OR(D71=Parameters!$D$17, D71=Parameters!$D$18,D71=Parameters!$D$19,D71=Parameters!$D$20,D71=Parameters!$D$21,D71=Parameters!$D$22, D71=Parameters!$D$23, D71=Parameters!$D$24)),1,0)","v":0},{"$f":"IF('Window & Door DATA INPUT'!B77=\"\",\"\",'Window & Door DATA INPUT'!B77)","v":""},{"$f":"IF('Window & Door DATA INPUT'!D77=\"\",\"\",'Window & Door DATA INPUT'!D77)","v":""},{"$f":"IF(B71=1,'Window & Door DATA INPUT'!H77&RESULTS!$H$5,\"\")","v":""},{"$f":"IF(B71=1,VLOOKUP(F71,Parameters!$H$4:$I$20,2,FALSE),\"\")","v":""},{"$f":"IF(OR('Window & Door DATA INPUT'!J77=Parameters!$K$4,'Window & Door DATA INPUT'!J77=Parameters!$K$11),\"No\",IF('Window & Door DATA INPUT'!K77=\"\",\"\",'Window & Door DATA INPUT'!K77))","v":""},{"$f":"IF('Window & Door DATA INPUT'!J77=\"\",\"\",'Window & Door DATA INPUT'!J77)","v":""},{"$f":"IF('Window & Door DATA INPUT'!L77=Parameters!$O$5,'Window & Door DATA INPUT'!O77,IF(B71=1,('Window & Door DATA INPUT'!N77*'Window & Door DATA INPUT'!M77)/1000000,\"\"))","v":""},{"$f":"IF('Window & Door DATA INPUT'!J77=\"\",\"\",VLOOKUP('Window & Door DATA INPUT'!J77,Parameters!$K$4:$L$16,2,FALSE))","v":""},{"$f":"IF($H71=\"yes\",IF($K71=\"Y\",'Window & Door DATA INPUT'!Q77/1000,IF($K71=\"N\",'Window & Door DATA INPUT'!P77/1000)),\"\")","v":""},{"$f":"IF($H71=\"yes\",IF($K71=\"Y\",'Window & Door DATA INPUT'!P77/1000,IF($K71=\"N\",'Window & Door DATA INPUT'!Q77/1000)),\"\")","v":""},"",{"$f":"IF(AND(B71=1,C71=0,H71=\"yes\"),\"A\",IF(AND(C71=1,H71=\"yes\",'Window & Door DATA INPUT'!R77=\"no\"),\"B\",IF(AND(C71=1,H71=\"yes\",'Window & Door DATA INPUT'!R77=\"yes\",'Window & Door DATA INPUT'!S77=\"yes\"),\"C\",IF(AND(C71=1,H71=\"yes\",'Window & Door DATA INPUT'!R77=\"yes\",'Window & Door DATA INPUT'!S77=\"no\"),\"D\",\"\"))))","v":""},{"$f":"IF(AND(C71=1,H71=\"yes\",OR(I71=Parameters!$K$12,I71=Parameters!$K$13,I71=Parameters!$K$14)),\"E\",IF(AND(C71=1,H71=\"yes\",NOT(OR(I71=Parameters!$K$12,I71=Parameters!$K$13,I71=Parameters!$K$14))),\"F\",\"\"))","v":""},{"$f":"IF(AND(B71=1,H71=\"yes\"),VLOOKUP(I71,Parameters!$K$4:$M$16,3,FALSE),\"\")","v":""},{"$f":"IF(AND(OR(O71=\"A\",O71=\"B\",O71=\"d\"),Q71=\"input\"),'Window & Door DATA INPUT'!AA77,IF(AND(O71=\"C\",Q71=\"input\"),'Window & Door DATA INPUT'!W77,Calculations!Q71))","v":""},{"$f":"IF('Window & Door DATA INPUT'!X77=\"Yes\",'Window & Door DATA INPUT'!Y77/1000,IF(B71=1,\"N/A\",\"\"))","v":""},{"$f":"IF(Q71=\"calc\",IF(O71=\"c\",'Window & Door DATA INPUT'!U77/1000,(Parameters!$S$4-'Window & Door DATA INPUT'!Z77+Parameters!$Q$4)/1000),\"\")","v":""},"","","",{"$f":"IF(OR($H71=\"no\",$B71=0),\"\",IF($I71=Parameters!$K$15,$L71/($M71/2),$L71/$M71))","v":""},{"$f":"IF(OR($H71=\"no\",$B71=0),\"\",IF($X71<0.5,Parameters!$X$4,IF($X71<1,Parameters!$Y$4,IF($X71<2,Parameters!$Z$4,Parameters!$AA$4))))","v":""},{"$f":"IF(OR($H71=\"no\",$B71=0),\"\",IF($X71<0.5,Parameters!$X$5,IF($X71<1,Parameters!$Y$5,IF($X71<2,Parameters!$Z$5,Parameters!$AA$5))))","v":""},{"$f":"IF(OR($H71=\"no\",$B71=0),\"\",IF($I71=Parameters!$K$15,(2*($M71/2)*SIN(RADIANS(Calculations!$W71/2))),(2*$M71*SIN(RADIANS($W71/2)))))","v":""},"",{"$f":"IF(OR($H71=\"no\",$B71=0),\"\",IF($I71=Parameters!$K$15,$AB71*$N71/2,$AB71*$N71))","v":""},{"$f":"IF(OR($H71=\"no\",$B71=0),\"\",IF($I71=Parameters!$K$15,$AC71*2/Parameters!$AB$4,$AC71/Parameters!$AB$4))","v":""},{"$f":"IF(AND(O71=\"B\",Q71=\"calc\"),V71,IF(AND(O71=\"C\",Q71=\"calc\"),'Window & Door DATA INPUT'!T77/1000,\"\"))","v":""},{"$f":"IF(AND(O71=\"B\",Q71=\"input\"),'Window & Door DATA INPUT'!AA77,IF(AND(O71=\"C\",Q71=\"input\",P71=\"F\"),'Window & Door DATA INPUT'!V77,IF(AND(O71=\"C\",P71=\"E\"),0,IF(AND(O71=\"D\"),0,IF(AND(B71=1,C71=0),\"\",(Calculations!Q71))))))","v":""},"",{"$f":"IF(OR($H71=\"no\",$C71=0),\"\",IF($I71=Parameters!$K$15,$L71/($M71/2),$L71/$M71))","v":""},{"$f":"IF(OR($H71=\"no\",$C71=0),\"\",IF($AH71<0.5,Parameters!$X$4,IF($AH71<1,Parameters!$Y$4,IF($AH71<2,Parameters!$Z$4,Parameters!$AA$4))))","v":""},{"$f":"IF(OR($H71=\"no\",$C71=0),\"\",IF($AH71<0.5,Parameters!$X$5,IF($AH71<1,Parameters!$Y$5,IF($AH71<2,Parameters!$Z$5,Parameters!$AA$5))))","v":""},{"$f":"IF(OR($H71=\"no\",$C71=0),\"\",IF($I71=Parameters!$K$15,(2*($M71/2)*SIN(RADIANS(Calculations!$AG71/2))),(2*$M71*SIN(RADIANS($AG71/2)))))","v":""},"",{"$f":"IF(OR($H71=\"no\",$C71=0),\"\",IF($I71=Parameters!$K$15,$AL71*$N71/2,$AL71*$N71))","v":""},{"$f":"IF(OR($H71=\"no\",$C71=0),\"\",IF($I71=Parameters!$K$15,$AM71*2/Parameters!$AB$4,$AM71/Parameters!$AB$4))","v":""},{"$nulls":20},{"$f":"'Window & Door DATA INPUT'!H77","v":0},""]
[null,{"$f":"IF('Window & Door DATA INPUT'!B78>1,1,0)","v":0},{"$f":"IF(AND(B72=1,OR(D72=Parameters!$D$17, D72=Parameters!$D$18,D72=Parameters!$D$19,D72=Parameters!$D$20,D72=Parameters!$D$21,D72=Parameters!$D$22, D72=Parameters!$D$23, D72=Parameters!$D$24)),1,0)","v":0},{"$f":"IF('Window & Door DATA INPUT'!B78=\"\",\"\",'Window & Door DATA INPUT'!B78)","v":""},{"$f":"IF('Window & Door DATA INPUT'!D78=\"\",\"\",'Window & Door DATA INPUT'!D78)","v":""},{"$f":"IF(B72=1,'Window & Door DATA INPUT'!H78&RESULTS!$H$5,\"\")","v":""},{"$f":"IF(B72=1,VLOOKUP(F72,Parameters!$H$4:$I$20,2,FALSE),\"\")","v":""},{"$f":"IF(OR('Window & Door DATA INPUT'!J78=Parameters!$K$4,'Window & Door DATA INPUT'!J78=Parameters!$K$11),\"No\",IF('Window & Door DATA INPUT'!K78=\"\",\"\",'Window & Door DATA INPUT'!K78))","v":""},{"$f":"IF('Window & Door DATA INPUT'!J78=\"\",\"\",'Window & Door DATA INPUT'!J78)","v":""},{"$f":"IF('Window & Door DATA INPUT'!L78=Parameters!$O$5,'Window & Door DATA INPUT'!O78,IF(B72=1,('Window & Door DATA INPUT'!N78*'Window & Door DATA INPUT'!M78)/1000000,\"\"))","v":""},{"$f":"IF('Window & Door DATA INPUT'!J78=\"\",\"\",VLOOKUP('Window & Door DATA INPUT'!J78,Parameters!$K$4:$L$16,2,FALSE))","v":""},{"$f":"IF($H72=\"yes\",IF($K72=\"Y\",'Window & Door DATA INPUT'!Q78/1000,IF($K72=\"N\",'Window & Door DATA INPUT'!P78/1000)),\"\")","v":""},{"$f":"IF($H72=\"yes\",IF($K72=\"Y\",'Window & Door DATA INPUT'!P78/1000,IF($K72=\"N\",'Window & Door DATA INPUT'!Q78/1000)),\"\")","v":""},"",{"$f":"IF(AND(B72=1,C72=0,H72=\"yes\"),\"A\",IF(AND(C72=1,H72=\"yes\",'Window & Door DATA INPUT'!R78=\"no\"),\"B\",IF(AND(C72=1,H72=\"yes\",'Window & Door DATA INPUT'!R78=\"yes\",'Window & Door DATA INPUT'!S78=\"yes\"),\"C\",IF(AND(C72=1,H72=\"yes\",'Window & Door DATA INPUT'!R78=\"yes\",'Window & Door DATA INPUT'!S78=\"no\"),\"D\",\"\"))))","v":""},{"$f":"IF(AND(C72=1,H72=\"yes\",OR(I72=Parameters!$K$12,I72=Parameters!$K$13,I72=Parameters!$K$14)),\"E\",IF(AND(C72=1,H72=\"yes\",NOT(OR(I72=Parameters!$K$12,I72=Parameters!$K$13,I72=Parameters!$K$14))),\"F\",\"\"))","v":""},{"$f":"IF(AND(B72=1,H72=\"yes\"),VLOOKUP(I72,Parameters!$K$4:$M$16,3,FALSE),\"\")","v":""},{"$f":"IF(AND(OR(O72=\"A\",O72=\"B\",O72=\"d\"),Q72=\"input\"),'Window & Door DATA INPUT'!AA78,IF(AND(O72=\"C\",Q72=\"input\"),'Window & Door DATA INPUT'!W78,Calculations!Q72))","v":""},{"$f":"IF('Window & Door DATA INPUT'!X78=\"Yes\",'Window & Door DATA INPUT'!Y78/1000,IF(B72=1,\"N/A\",\"\"))","v":""},{"$f":"IF(Q72=\"calc\",IF(O72=\"c\",'Window & Door DATA INPUT'!U78/1000,(Parameters!$S$4-'Window & Door DATA INPUT'!Z78+Parameters!$Q$4)/1000),\"\")","v":""},"","","",{"$f":"IF(OR($H72=\"no\",$B72=0),\"\",IF($I72=Parameters!$K$15,$L72/($M72/2),$L72/$M72))","v":""},{"$f":"IF(OR($H72=\"no\",$B72=0),\"\",IF($X72<0.5,Parameters!$X$4,IF($X72<1,Parameters!$Y$4,IF($X72<2,Parameters!$Z$4,Parameters!$AA$4))))","v":""},{"$f":"IF(OR($H72=\"no\",$B72=0),\"\",IF($X72<0.5,Parameters!$X$5,IF($X72<1,Parameters!$Y$5,IF($X72<2,Parameters!$Z$5,Parameters!$AA$5))))","v":""},{"$f":"IF(OR($H72=\"no\",$B72=0),\"\",IF($I72=Parameters!$K$15,(2*($M72/2)*SIN(RADIANS(Calculations!$W72/2))),(2*$M72*SIN(RADIANS($W72/2)))))","v":""},"",{"$f":"IF(OR($H72=\"no\",$B72=0),\"\",IF($I72=Parameters!$K$15,$AB72*$N72/2,$AB72*$N72))","v":""},{"$f":"IF(OR($H72=\"no\",$B72=0),\"\",IF($I72=Parameters!$K$15,$AC72*2/Parameters!$AB$4,$AC72/Parameters!$AB$4))","v":""},{"$f":"IF(AND(O72=\"B\",Q72=\"calc\"),V72,IF(AND(O72=\"C\",Q72=\"calc\"),'Window & Door DATA INPUT'!T78/1000,\"\"))","v":""},{"$f":"IF(AND(O72=\"B\",Q72=\"input\"),'Window & Door DATA INPUT'!AA78,IF(AND(O72=\"C\",Q72=\"input\",P72=\"F\"),'Window & Door DATA INPUT'!V78,IF(AND(O72=\"C\",P72=\"E\"),0,IF(AND(O72=\"D\"),0,IF(AND(B72=1,C72=0),\"\",(Calculations!Q72))))))","v":""},"",{"$f":"IF(OR($H72=\"no\",$C72=0),\"\",IF($I72=Parameters!$K$15,$L72/($M72/2),$L72/$M72))","v":""},{"$f":"IF(OR($H72=\"no\",$C72=0),\"\",IF($AH72<0.5,Parameters!$X$4,IF($AH72<1,Parameters!$Y$4,IF($AH72<2,Parameters!$Z$4,Parameters!$AA$4))))","v":""},{"$f":"IF(OR($H72=\"no\",$C72=0),\"\",IF($AH72<0.5,Parameters!$X$5,IF($AH72<1,Parameters!$Y$5,IF($AH72<2,Parameters!$Z$5,Parameters!$AA$5))))","v":""},{"$f":"IF(OR($H72=\"no\",$C72=0),\"\",IF($I72=Parameters!$K$15,(2*($M72/2)*SIN(RADIANS(Calculations!$AG72/2))),(2*$M72*SIN(RADIANS($AG72/2)))))","v":""},"",{"$f":"IF(OR($H72=\"no\",$C72=0),\"\",IF($I72=Parameters!$K$15,$AL72*$N72/2,$AL72*$N72))","v":""},{"$f":"IF(OR($H72=\"no\",$C72=0),\"\",IF($I72=Parameters!$K$15,$AM72*2/Parameters!$AB$4,$AM72/Parameters!$AB$4))","v":""},{"$nulls":20},{"$f":"'Window & Door DATA INPUT'!H78","v":0},""]
[null,{"$f":"IF('Window & Door DATA INPUT'!B79>1,1,0)","v":0},{"$f":"IF(AND(B73=1,OR(D73=Parameters!$D$17, D73=Parameters!$D$18,D73=Parameters!$D$19,D73=Parameters!$D$20,D73=Parameters!$D$21,D73=Parameters!$D$22, D73=Parameters!$D$23, D73=Parameters!$D$24)),1,0)","v":0},{"$f":"IF('Window & Door DATA INPUT'!B79=\"\",\"\",'Window & Door DATA INPUT'!B79)","v":""},{"$f":"IF('Window & Door DATA INPUT'!D79=\"\",\"\",'Window & Door DATA INPUT'!D79)","v":""},{"$f":"IF(B73=1,'Window & Door DATA INPUT'!H79&RESULTS!$H$5,\"\")","v":""},{"$f":"IF(B73=1,VLOOKUP(F73,Parameters!$H$4:$I$20,2,FALSE),\"\")","v":""},{"$f":"IF(OR('Window & Door DATA INPUT'!J79=Parameters!$K$4,'Window & Door DATA INPUT'!J79=Parameters!$K$11),\"No\",IF('Window & Door DATA INPUT'!K79=\"\",\"\",'Window & Door DATA INPUT'!K79))","v":""},{"$f":"IF('Window & Door DATA INPUT'!J79=\"\",\"\",'Window & Door DATA INPUT'!J79)","v":""},{"$f":"IF('Window & Door DATA INPUT'!L79=Parameters!$O$5,'Window & Door DATA INPUT'!O79,IF(B73=1,('Window & Door DATA INPUT'!N79*'Window & Door DATA INPUT'!M79)/1000000,\"\"))","v":""},{"$f":"IF('Window & Door DATA INPUT'!J79=\"\",\"\",VLOOKUP('Window & Door DATA INPUT'!J79,Parameters!$K$4:$L$16,2,FALSE))","v":""},{"$f":"IF($H73=\"yes\",IF($K73=\"Y\",'Window & Door DATA INPUT'!Q79/1000,IF($K73=\"N\",'Window & Door DATA INPUT'!P79/1000)),\"\")","v":""},{"$f":"IF($H73=\"yes\",IF($K73=\"Y\",'Window & Door DATA INPUT'!P79/1000,IF($K73=\"N\",'Window & Door DATA INPUT'!Q79/1000)),\"\")","v":""},"",{"$f":"IF(AND(B73=1,C73=0,H73=\"yes\"),\"A\",IF(AND(C73=1,H73=\"yes\",'Window & Door DATA INPUT'!R79=\"no\"),\"B\",IF(AND(C73=1,H73=\"yes\",'Window & Door DATA INPUT'!R79=\"yes\",'Window & Door DATA INPUT'!S79=\"yes\"),\"C\",IF(AND(C73=1,H73=\"yes\",'Window & Door DATA INPUT'!R79=\"yes\",'Window & Door DATA INPUT'!S79=\"no\"),\"D\",\"\"))))","v":""},{"$f":"IF(AND(C73=1,H73=\"yes\",OR(I73=Parameters!$K$12,I73=Parameters!$K$13,I73=Parameters!$K$14)),\"E\",IF(AND(C73=1,H73=\"yes\",NOT(OR(I73=Parameters!$K$12,I73=Parameters!$K$13,I73=Parameters!$K$14))),\"F\",\"\"))","v":""},{"$f":"IF(AND(B73=1,H73=\"yes\"),VLOOKUP(I73,Parameters!$K$4:$M$16,3,FALSE),\"\")","v":""},{"$f":"IF(AND(OR(O73=\"A\",O73=\"B\",O73=\"d\"),Q73=\"input\"),'Window & Door DATA INPUT'!AA79,IF(AND(O73=\"C\",Q73=\"input\"),'Window & Door DATA INPUT'!W79,Calculations!Q73))","v":""},{"$f":"IF('Window & Door DATA INPUT'!X79=\"Yes\",'Window & Door DATA INPUT'!Y79/1000,IF(B73=1,\"N/A\",\"\"))","v":""},{"$f":"IF(Q73=\"calc\",IF(O73=\"c\",'Window & Door DATA INPUT'!U79/1000,(Parameters!$S$4-'Window & Door DATA INPUT'!Z79+Parameters!$Q$4)/1000),\"\")","v":""},"","","",{"$f":"IF(OR($H73=\"no\",$B73=0),\"\",IF($I73=Parameters!$K$15,$L73/($M73/2),$L73/$M73))","v":""},{"$f":"IF(OR($H73=\"no\",$B73=0),\"\",IF($X73<0.5,Parameters!$X$4,IF($X73<1,Parameters!$Y$4,IF($X73<2,Parameters!$Z$4,Parameters!$AA$4))))","v":""},{"$f":"IF(OR($H73=\"no\",$B73=0),\"\",IF($X73<0.5,Parameters!$X$5,IF($X73<1,Parameters!$Y$5,IF($X73<2,Parameters!$Z$5,Parameters!$AA$5))))","v":""},{"$f":"IF(OR($H73=\"no\",$B73=0),\"\",IF($I73=Parameters!$K$15,(2*($M73/2)*SIN(RADIANS(Calculations!$W73/2))),(2*$M73*SIN(RADIANS($W73/2)))))","v":""},"",{"$f":"IF(OR($H73=\"no\",$B73=0),\"\",IF($I73=Parameters!$K$15,$AB73*$N73/2,$AB73*$N73))","v":""},{"$f":"IF(OR($H73=\"no\",$B73=0),\"\",IF($I73=Parameters!$K$15,$AC73*2/Parameters!$AB$4,$AC73/Parameters!$AB$4))","v":""},{"$f":"IF(AND(O73=\"B\",Q73=\"calc\"),V73,IF(AND(O73=\"C\",Q73=\"calc\"),'Window & Door DATA INPUT'!T79/1000,\"\"))","v":""},{"$f":"IF(AND(O73=\"B\",Q73=\"input\"),'Window & Door DATA INPUT'!AA79,IF(AND(O73=\"C\",Q73=\"input\",P73=\"F\"),'Window & Door DATA INPUT'!V79,IF(AND(O73=\"C\",P73=\"E\"),0,IF(AND(O73=\"D\"),0,IF(AND(B73=1,C73=0),\"\",(Calculations!Q73))))))","v":""},"",{"$f":"IF(OR($H73=\"no\",$C73=0),\"\",IF($I73=Parameters!$K$15,$L73/($M73/2),$L73/$M73))","v":""},{"$f":"IF(OR($H73=\"no\",$C73=0),\"\",IF($AH73<0.5,Parameters!$X$4,IF($AH73<1,Parameters!$Y$4,IF($AH73<2,Parameters!$Z$4,Parameters!$AA$4))))","v":""},{"$f":"IF(OR($H73=\"no\",$C73=0),\"\",IF($AH73<0.5,Parameters!$X$5,IF($AH73<1,Parameters!$Y$5,IF($AH73<2,Parameters!$Z$5,Parameters!$AA$5))))","v":""},{"$f":"IF(OR($H73=\"no\",$C73=0),\"\",IF($I73=Parameters!$K$15,(2*($M73/2)*SIN(RADIANS(Calculations!$AG73/2))),(2*$M73*SIN(RADIANS($AG73/2)))))","v":""},"",{"$f":"IF(OR($H73=\"no\",$C73=0),\"\",IF($I73=Parameters!$K$15,$AL73*$N73/2,$AL73*$N73))","v":""},{"$f":"IF(OR($H73=\"no\",$C73=0),\"\",IF($I73=Parameters!$K$15,$AM73*2/Parameters!$AB$4,$AM73/Parameters!$AB$4))","v":""},{"$nulls":20},{"$f":"'Window & Door DATA INPUT'!H79","v":0},""]
[null,{"$f":"IF('Window & Door DATA INPUT'!B80>1,1,0)","v":0},{"$f":"IF(AND(B74=1,OR(D74=Parameters!$D$17, D74=Parameters!$D$18,D74=Parameters!$D$19,D74=Parameters!$D$20,D74=Parameters!$D$21,D74=Parameters!$D$22, D74=Parameters!$D$23, D74=Parameters!$D$24)),1,0)","v":0},{"$f":"IF('Window & Door DATA INPUT'!B80=\"\",\"\",'Window & Door DATA INPUT'!B80)","v":""},{"$f":"IF('Window & Door DATA INPUT'!D80=\"\",\"\",'Window & Door DATA INPUT'!D80)","v":""},{"$f":"IF(B74=1,'Window & Door DATA INPUT'!H80&RESULTS!$H$5,\"\")","v":""},{"$f":"IF(B74=1,VLOOKUP(F74,Parameters!$H$4:$I$20,2,FALSE),\"\")","v":""},{"$f":"IF(OR('Window & Door DATA INPUT'!J80=Parameters!$K$4,'Window & Door DATA INPUT'!J80=Parameters!$K$11),\"No\",IF('Window & Door DATA INPUT'!K80=\"\",\"\",'Window & Door DATA INPUT'!K80))","v":""},{"$f":"IF('Window & Door DATA INPUT'!J80=\"\",\"\",'Window & Door DATA INPUT'!J80)","v":""},{"$f":"IF('Window & Door DATA INPUT'!L80=Parameters!$O$5,'Window & Door DATA INPUT'!O80,IF(B74=1,('Window & Door DATA INPUT'!N80*'Window & Door DATA INPUT'!M80)/1000000,\"\"))","v":""},{"$f":"IF('Window & Door DATA INPUT'!J80=\"\",\"\",VLOOKUP('Window & Door DATA INPUT'!J80,Parameters!$K$4:$L$16,2,FALSE))","v":""},{"$f":"IF($H74=\"yes\",IF($K74=\"Y\",'Window & Door DATA INPUT'!Q80/1000,IF($K74=\"N\",'Window & Door DATA INPUT'!P80/1000)),\"\")","v":""},{"$f":"IF($H74=\"yes\",IF($K74=\"Y\",'Window & Door DATA INPUT'!P80/1000,IF($K74=\"N\",'Window & Door DATA INPUT'!Q80/1000)),\"\")","v":""},"",{"$f":"IF(AND(B74=1,C74=0,H74=\"yes\"),\"A\",IF(AND(C74=1,H74=\"yes\",'Window & Door DATA INPUT'!R80=\"no\"),\"B\",IF(AND(C74=1,H74=\"yes\",'Window & Door DATA INPUT'!R80=\"yes\",'Window & Door DATA INPUT'!S80=\"yes\"),\"C\",IF(AND(C74=1,H74=\"yes\",'Window & Door DATA INPUT'!R80=\"yes\",'Window & Door DATA INPUT'!S80=\"no\"),\"D\",\"\"))))","v":""},{"$f":"IF(AND(C74=1,H74=\"yes\",OR(I74=Parameters!$K$12,I74=Parameters!$K$13,I74=Parameters!$K$14)),\"E\",IF(AND(C74=1,H74=\"yes\",NOT(OR(I74=Parameters!$K$12,I74=Parameters!$K$13,I74=Parameters!$K$14))),\"F\",\"\"))","v":""},{"$f":"IF(AND(B74=1,H74=\"yes\"),VLOOKUP(I74,Parameters!$K$4:$M$16,3,FALSE),\"\")","v":""},{"$f":"IF(AND(OR(O74=\"A\",O74=\"B\",O74=\"d\"),Q74=\"input\"),'Window & Door DATA INPUT'!AA80,IF(AND(O74=\"C\",Q74=\"input\"),'Window & Door DATA INPUT'!W80,Calculations!Q74))","v":""},{"$f":"IF('Window & Door DATA INPUT'!X80=\"Yes\",'Window & Door DATA INPUT'!Y80/1000,IF(B74=1,\"N/A\",\"\"))","v":""},{"$f":"IF(Q74=\"calc\",IF(O74=\"c\",'Window & Door DATA INPUT'!U80/1000,(Parameters!$S$4-'Window & Door DATA INPUT'!Z80+Parameters!$Q$4)/1000),\"\")","v":""},"","","",{"$f":"IF(OR($H74=\"no\",$B74=0),\"\",IF($I74=Parameters!$K$15,$L74/($M74/2),$L74/$M74))","v":""},{"$f":"IF(OR($H74=\"no\",$B74=0),\"\",IF($X74<0.5,Parameters!$X$4,IF($X74<1,Parameters!$Y$4,IF($X74<2,Parameters!$Z$4,Parameters!$AA$4))))","v":""},{"$f":"IF(OR($H74=\"no\",$B74=0),\"\",IF($X74<0.5,Parameters!$X$5,IF($X74<1,Parameters!$Y$5,IF($X74<2,Parameters!$Z$5,Parameters!$AA$5))))","v":""},{"$f":"IF(OR($H74=\"no\",$B74=0),\"\",IF($I74=Parameters!$K$15,(2*($M74/2)*SIN(RADIANS(Calculations!$W74/2))),(2*$M74*SIN(RADIANS($W74/2)))))","v":""},"",{"$f":"IF(OR($H74=\"no\",$B74=0),\"\",IF($I74=Parameters!$K$15,$AB74*$N74/2,$AB74*$N74))","v":""},{"$f":"IF(OR($H74=\"no\",$B74=0),\"\",IF($I74=Parameters!$K$15,$AC74*2/Parameters!$AB$4,$AC74/Parameters!$AB$4))","v":""},{"$f":"IF(AND(O74=\"B\",Q74=\"calc\"),V74,IF(AND(O74=\"C\",Q74=\"calc\"),'Window & Door DATA INPUT'!T80/1000,\"\"))","v":""},{"$f":"IF(AND(O74=\"B\",Q74=\"input\"),'Window & Door DATA INPUT'!AA80,IF(AND(O74=\"C\",Q74=\"input\",P74=\"F\"),'Window & Door DATA INPUT'!V80,IF(AND(O74=\"C\",P74=\"E\"),0,IF(AND(O74=\"D\"),0,IF(AND(B74=1,C74=0),\"\",(Calculations!Q74))))))","v":""},"",{"$f":"IF(OR($H74=\"no\",$C74=0),\"\",IF($I74=Parameters!$K$15,$L74/($M74/2),$L74/$M74))","v":""},{"$f":"IF(OR($H74=\"no\",$C74=0),\"\",IF($AH74<0.5,Parameters!$X$4,IF($AH74<1,Parameters!$Y$4,IF($AH74<2,Parameters!$Z$4,Parameters!$AA$4))))","v":""},{"$f":"IF(OR($H74=\"no\",$C74=0),\"\",IF($AH74<0.5,Parameters!$X$5,IF($AH74<1,Parameters!$Y$5,IF($AH74<2,Parameters!$Z$5,Parameters!$AA$5))))","v":""},{"$f":"IF(OR($H74=\"no\",$C74=0),\"\",IF($I74=Parameters!$K$15,(2*($M74/2)*SIN(RADIANS(Calculations!$AG74/2))),(2*$M74*SIN(RADIANS($AG74/2)))))","v":""},"",{"$f":"IF(OR($H74=\"no\",$C74=0),\"\",IF($I74=Parameters!$K$15,$AL74*$N74/2,$AL74*$N74))","v":""},{"$f":"IF(OR($H74=\"no\",$C74=0),\"\",IF($I74=Parameters!$K$15,$AM74*2/Parameters!$AB$4,$AM74/Parameters!$AB$4))","v":""},{"$nulls":20},{"$f":"'Window & Door DATA INPUT'!H80","v":0},""]
[null,{"$f":"IF('Window & Door DATA INPUT'!B81>1,1,0)","v":0},{"$f":"IF(AND(B75=1,OR(D75=Parameters!$D$17, D75=Parameters!$D$18,D75=Parameters!$D$19,D75=Parameters!$D$20,D75=Parameters!$D$21,D75=Parameters!$D$22, D75=Parameters!$D$23, D75=Parameters!$D$24)),1,0)","v":0},{"$f":"IF('Window & Door DATA INPUT'!B81=\"\",\"\",'Window & Door DATA INPUT'!B81)","v":""},{"$f":"IF('Window & Door DATA INPUT'!D81=\"\",\"\",'Window & Door DATA INPUT'!D81)","v":""},{"$f":"IF(B75=1,'Window & Door DATA INPUT'!H81&RESULTS!$H$5,\"\")","v":""},{"$f":"IF(B75=1,VLOOKUP(F75,Parameters!$H$4:$I$20,2,FALSE),\"\")","v":""},{"$f":"IF(OR('Window & Door DATA INPUT'!J81=Parameters!$K$4,'Window & Door DATA INPUT'!J81=Parameters!$K$11),\"No\",IF('Window & Door DATA INPUT'!K81=\"\",\"\",'Window & Door DATA INPUT'!K81))","v":""},{"$f":"IF('Window & Door DATA INPUT'!J81=\"\",\"\",'Window & Door DATA INPUT'!J81)","v":""},{"$f":"IF('Window & Door DATA INPUT'!L81=Parameters!$O$5,'Window & Door DATA INPUT'!O81,IF(B75=1,('Window & Door DATA INPUT'!N81*'Window & Door DATA INPUT'!M81)/1000000,\"\"))","v":""},{"$f":"IF('Window & Door DATA INPUT'!J81=\"\",\"\",VLOOKUP('Window & Door DATA INPUT'!J81,Parameters!$K$4:$L$16,2,FALSE))","v":""},{"$f":"IF($H75=\"yes\",IF($K75=\"Y\",'Window & Door DATA INPUT'!Q81/1000,IF($K75=\"N\",'Window & Door DATA INPUT'!P81/1000)),\"\")","v":""},{"$f":"IF($H75=\"yes\",IF($K75=\"Y\",'Window & Door DATA INPUT'!P81/1000,IF($K75=\"N\",'Window & Door DATA INPUT'!Q81/1000)),\"\")","v":""},"",{"$f":"IF(AND(B75=1,C75=0,H75=\"yes\"),\"A\",IF(AND(C75=1,H75=\"yes\",'Window & Door DATA INPUT'!R81=\"no\"),\"B\",IF(AND(C75=1,H75=\"yes\",'Window & Door DATA INPUT'!R81=\"yes\",'Window & Door DATA INPUT'!S81=\"yes\"),\"C\",IF(AND(C75=1,H75=\"yes\",'Window & Door DATA INPUT'!R81=\"yes\",'Window & Door DATA INPUT'!S81=\"no\"),\"D\",\"\"))))","v":""},{"$f":"IF(AND(C75=1,H75=\"yes\",OR(I75=Parameters!$K$12,I75=Parameters!$K$13,I75=Parameters!$K$14)),\"E\",IF(AND(C75=1,H75=\"yes\",NOT(OR(I75=Parameters!$K$12,I75=Parameters!$K$13,I75=Parameters!$K$14))),\"F\",\"\"))","v":""},{"$f":"IF(AND(B75=1,H75=\"yes\"),VLOOKUP(I75,Parameters!$K$4:$M$16,3,FALSE),\"\")","v":""},{"$f":"IF(AND(OR(O75=\"A\",O75=\"B\",O75=\"d\"),Q75=\"input\"),'Window & Door DATA INPUT'!AA81,IF(AND(O75=\"C\",Q75=\"input\"),'Window & Door DATA INPUT'!W81,Calculations!Q75))","v":""},{"$f":"IF('Window & Door DATA INPUT'!X81=\"Yes\",'Window & Door DATA INPUT'!Y81/1000,IF(B75=1,\"N/A\",\"\"))","v":""},{"$f":"IF(Q75=\"calc\",IF(O75=\"c\",'Window & Door DATA INPUT'!U81/1000,(Parameters!$S$4-'Window & Door DATA INPUT'!Z81+Parameters!$Q$4)/1000),\"\")","v":""},"","","",{"$f":"IF(OR($H75=\"no\",$B75=0),\"\",IF($I75=Parameters!$K$15,$L75/($M75/2),$L75/$M75))","v":""},{"$f":"IF(OR($H75=\"no\",$B75=0),\"\",IF($X75<0.5,Parameters!$X$4,IF($X75<1,Parameters!$Y$4,IF($X75<2,Parameters!$Z$4,Parameters!$AA$4))))","v":""},{"$f":"IF(OR($H75=\"no\",$B75=0),\"\",IF($X75<0.5,Parameters!$X$5,IF($X75<1,Parameters!$Y$5,IF($X75<2,Parameters!$Z$5,Parameters!$AA$5))))","v":""},{"$f":"IF(OR($H75=\"no\",$B75=0),\"\",IF($I75=Parameters!$K$15,(2*($M75/2)*SIN(RADIANS(Calculations!$W75/2))),(2*$M75*SIN(RADIANS($W75/2)))))","v":""},"",{"$f":"IF(OR($H75=\"no\",$B75=0),\"\",IF($I75=Parameters!$K$15,$AB75*$N75/2,$AB75*$N75))","v":""},{"$f":"IF(OR($H75=\"no\",$B75=0),\"\",IF($I75=Parameters!$K$15,$AC75*2/Parameters!$AB$4,$AC75/Parameters!$AB$4))","v":""},{"$f":"IF(AND(O75=\"B\",Q75=\"calc\"),V75,IF(AND(O75=\"C\",Q75=\"calc\"),'Window & Door DATA INPUT'!T81/1000,\"\"))","v":""},{"$f":"IF(AND(O75=\"B\",Q75=\"input\"),'Window & Door DATA INPUT'!AA81,IF(AND(O75=\"C\",Q75=\"input\",P75=\"F\"),'Window & Door DATA INPUT'!V81,IF(AND(O75=\"C\",P75=\"E\"),0,IF(AND(O75=\"D\"),0,IF(AND(B75=1,C75=0),\"\",(Calculations!Q75))))))","v":""},"",{"$f":"IF(OR($H75=\"no\",$C75=0),\"\",IF($I75=Parameters!$K$15,$L75/($M75/2),$L75/$M75))","v":""},{"$f":"IF(OR($H75=\"no\",$C75=0),\"\",IF($AH75<0.5,Parameters!$X$4,IF($AH75<1,Parameters!$Y$4,IF($AH75<2,Parameters!$Z$4,Parameters!$AA$4))))","v":""},{"$f":"IF(OR($H75=\"no\",$C75=0),\"\",IF($AH75<0.5,Parameters!$X$5,IF($AH75<1,Parameters!$Y$5,IF($AH75<2,Parameters!$Z$5,Parameters!$AA$5))))","v":""},{"$f":"IF(OR($H75=\"no\",$C75=0),\"\",IF($I75=Parameters!$K$15,(2*($M75/2)*SIN(RADIANS(Calculations!$AG75/2))),(2*$M75*SIN(RADIANS($AG75/2)))))","v":""},"",{"$f":"IF(OR($H75=\"no\",$C75=0),\"\",IF($I75=Parameters!$K$15,$AL75*$N75/2,$AL75*$N75))","v":""},{"$f":"IF(OR($H75=\"no\",$C75=0),\"\",IF($I75=Parameters!$K$15,$AM75*2/Parameters!$AB$4,$AM75/Parameters!$AB$4))","v":""},{"$nulls":20},{"$f":"'Window & Door DATA INPUT'!H81","v":0},""]
[null,{"$f":"IF('Window & Door DATA INPUT'!B82>1,1,0)","v":0},{"$f":"IF(AND(B76=1,OR(D76=Parameters!$D$17, D76=Parameters!$D$18,D76=Parameters!$D$19,D76=Parameters!$D$20,D76=Parameters!$D$21,D76=Parameters!$D$22, D76=Parameters!$D$23, D76=Parameters!$D$24)),1,0)","v":0},{"$f":"IF('Window & Door DATA INPUT'!B82=\"\",\"\",'Window & Door DATA INPUT'!B82)","v":""},{"$f":"IF('Window & Door DATA INPUT'!D82=\"\",\"\",'Window & Door DATA INPUT'!D82)","v":""},{"$f":"IF(B76=1,'Window & Door DATA INPUT'!H82&RESULTS!$H$5,\"\")","v":""},{"$f":"IF(B76=1,VLOOKUP(F76,Parameters!$H$4:$I$20,2,FALSE),\"\")","v":""},{"$f":"IF(OR('Window & Door DATA INPUT'!J82=Parameters!$K$4,'Window & Door DATA INPUT'!J82=Parameters!$K$11),\"No\",IF('Window & Door DATA INPUT'!K82=\"\",\"\",'Window & Door DATA INPUT'!K82))","v":""},{"$f":"IF('Window & Door DATA INPUT'!J82=\"\",\"\",'Window & Door DATA INPUT'!J82)","v":""},{"$f":"IF('Window & Door DATA INPUT'!L82=Parameters!$O$5,'Window & Door DATA INPUT'!O82,IF(B76=1,('Window & Door DATA INPUT'!N82*'Window & Door DATA INPUT'!M82)/1000000,\"\"))","v":""},{"$f":"IF('Window & Door DATA INPUT'!J82=\"\",\"\",VLOOKUP('Window & Door DATA INPUT'!J82,Parameters!$K$4:$L$16,2,FALSE))","v":""},{"$f":"IF($H76=\"yes\",IF($K76=\"Y\",'Window & Door DATA INPUT'!Q82/1000,IF($K76=\"N\",'Window & Door DATA INPUT'!P82/1000)),\"\")","v":""},{"$f":"IF($H76=\"yes\",IF($K76=\"Y\",'Window & Door DATA INPUT'!P82/1000,IF($K76=\"N\",'Window & Door DATA INPUT'!Q82/1000)),\"\")","v":""},"",{"$f":"IF(AND(B76=1,C76=0,H76=\"yes\"),\"A\",IF(AND(C76=1,H76=\"yes\",'Window & Door DATA INPUT'!R82=\"no\"),\"B\",IF(AND(C76=1,H76=\"yes\",'Window & Door DATA INPUT'!R82=\"yes\",'Window & Door DATA INPUT'!S82=\"yes\"),\"C\",IF(AND(C76=1,H76=\"yes\",'Window & Door DATA INPUT'!R82=\"yes\",'Window & Door DATA INPUT'!S82=\"no\"),\"D\",\"\"))))","v":""},{"$f":"IF(AND(C76=1,H76=\"yes\",OR(I76=Parameters!$K$12,I76=Parameters!$K$13,I76=Parameters!$K$14)),\"E\",IF(AND(C76=1,H76=\"yes\",NOT(OR(I76=Parameters!$K$12,I76=Parameters!$K$13,I76=Parameters!$K$14))),\"F\",\"\"))","v":""},{"$f":"IF(AND(B76=1,H76=\"yes\"),VLOOKUP(I76,Parameters!$K$4:$M$16,3,FALSE),\"\")","v":""},{"$f":"IF(AND(OR(O76=\"A\",O76=\"B\",O76=\"d\"),Q76=\"input\"),'Window & Door DATA INPUT'!AA82,IF(AND(O76=\"C\",Q76=\"input\"),'Window & Door DATA INPUT'!W82,Calculations!Q76))","v":""},{"$f":"IF('Window & Door DATA INPUT'!X82=\"Yes\",'Window & Door DATA INPUT'!Y82/1000,IF(B76=1,\"N/A\",\"\"))","v":""},{"$f":"IF(Q76=\"calc\",IF(O76=\"c\",'Window & Door DATA INPUT'!U82/1000,(Parameters!$S$4-'Window & Door DATA INPUT'!Z82+Parameters!$Q$4)/1000),\"\")","v":""},"","","",{"$f":"IF(OR($H76=\"no\",$B76=0),\"\",IF($I76=Parameters!$K$15,$L76/($M76/2),$L76/$M76))","v":""},{"$f":"IF(OR($H76=\"no\",$B76=0),\"\",IF($X76<0.5,Parameters!$X$4,IF($X76<1,Parameters!$Y$4,IF($X76<2,Parameters!$Z$4,Parameters!$AA$4))))","v":""},{"$f":"IF(OR($H76=\"no\",$B76=0),\"\",IF($X76<0.5,Parameters!$X$5,IF($X76<1,Parameters!$Y$5,IF($X76<2,Parameters!$Z$5,Parameters!$AA$5))))","v":""},{"$f":"IF(OR($H76=\"no\",$B76=0),\"\",IF($I76=Parameters!$K$15,(2*($M76/2)*SIN(RADIANS(Calculations!$W76/2))),(2*$M76*SIN(RADIANS($W76/2)))))","v":""},"",{"$f":"IF(OR($H76=\"no\",$B76=0),\"\",IF($I76=Parameters!$K$15,$AB76*$N76/2,$AB76*$N76))","v":""},{"$f":"IF(OR($H76=\"no\",$B76=0),\"\",IF($I76=Parameters!$K$15,$AC76*2/Parameters!$AB$4,$AC76/Parameters!$AB$4))","v":""},{"$f":"IF(AND(O76=\"B\",Q76=\"calc\"),V76,IF(AND(O76=\"C\",Q76=\"calc\"),'Window & Door DATA INPUT'!T82/1000,\"\"))","v":""},{"$f":"IF(AND(O76=\"B\",Q76=\"input\"),'Window & Door DATA INPUT'!AA82,IF(AND(O76=\"C\",Q76=\"input\",P76=\"F\"),'Window & Door DATA INPUT'!V82,IF(AND(O76=\"C\",P76=\"E\"),0,IF(AND(O76=\"D\"),0,IF(AND(B76=1,C76=0),\"\",(Calculations!Q76))))))","v":""},"",{"$f":"IF(OR($H76=\"no\",$C76=0),\"\",IF($I76=Parameters!$K$15,$L76/($M76/2),$L76/$M76))","v":""},{"$f":"IF(OR($H76=\"no\",$C76=0),\"\",IF($AH76<0.5,Parameters!$X$4,IF($AH76<1,Parameters!$Y$4,IF($AH76<2,Parameters!$Z$4,Parameters!$AA$4))))","v":""},{"$f":"IF(OR($H76=\"no\",$C76=0),\"\",IF($AH76<0.5,Parameters!$X$5,IF($AH76<1,Parameters!$Y$5,IF($AH76<2,Parameters!$Z$5,Parameters!$AA$5))))","v":""},{"$f":"IF(OR($H76=\"no\",$C76=0),\"\",IF($I76=Parameters!$K$15,(2*($M76/2)*SIN(RADIANS(Calculations!$AG76/2))),(2*$M76*SIN(RADIANS($AG76/2)))))","v":""},"",{"$f":"IF(OR($H76=\"no\",$C76=0),\"\",IF($I76=Parameters!$K$15,$AL76*$N76/2,$AL76*$N76))","v":""},{"$f":"IF(OR($H76=\"no\",$C76=0),\"\",IF($I76=Parameters!$K$15,$AM76*2/Parameters!$AB$4,$AM76/Parameters!$AB$4))","v":""},{"$nulls":20},{"$f":"'Window & Door DATA INPUT'!H82","v":0},""]
[null,{"$f":"IF('Window & Door DATA INPUT'!B83>1,1,0)","v":0},{"$f":"IF(AND(B77=1,OR(D77=Parameters!$D$17, D77=Parameters!$D$18,D77=Parameters!$D$19,D77=Parameters!$D$20,D77=Parameters!$D$21,D77=Parameters!$D$22, D77=Parameters!$D$23, D77=Parameters!$D$24)),1,0)","v":0},{"$f":"IF('Window & Door DATA INPUT'!B83=\"\",\"\",'Window & Door DATA INPUT'!B83)","v":""},{"$f":"IF('Window & Door DATA INPUT'!D83=\"\",\"\",'Window & Door DATA INPUT'!D83)","v":""},{"$f":"IF(B77=1,'Window & Door DATA INPUT'!H83&RESULTS!$H$5,\"\")","v":""},{"$f":"IF(B77=1,VLOOKUP(F77,Parameters!$H$4:$I$20,2,FALSE),\"\")","v":""},{"$f":"IF(OR('Window & Door DATA INPUT'!J83=Parameters!$K$4,'Window & Door DATA INPUT'!J83=Parameters!$K$11),\"No\",IF('Window & Door DATA INPUT'!K83=\"\",\"\",'Window & Door DATA INPUT'!K83))","v":""},{"$f":"IF('Window & Door DATA INPUT'!J83=\"\",\"\",'Window & Door DATA INPUT'!J83)","v":""},{"$f":"IF('Window & Door DATA INPUT'!L83=Parameters!$O$5,'Window & Door DATA INPUT'!O83,IF(B77=1,('Window & Door DATA INPUT'!N83*'Window & Door DATA INPUT'!M83)/1000000,\"\"))","v":""},{"$f":"IF('Window & Door DATA INPUT'!J83=\"\",\"\",VLOOKUP('Window & Door DATA INPUT'!J83,Parameters!$K$4:$L$16,2,FALSE))","v":""},{"$f":"IF($H77=\"yes\",IF($K77=\"Y\",'Window & Door DATA INPUT'!Q83/1000,IF($K77=\"N\",'Window & Door DATA INPUT'!P83/1000)),\"\")","v":""},{"$f":"IF($H77=\"yes\",IF($K77=\"Y\",'Window & Door DATA INPUT'!P83/1000,IF($K77=\"N\",'Window & Door DATA INPUT'!Q83/1000)),\"\")","v":""},"",{"$f":"IF(AND(B77=1,C77=0,H77=\"yes\"),\"A\",IF(AND(C77=1,H77=\"yes\",'Window & Door DATA INPUT'!R83=\"no\"),\"B\",IF(AND(C77=1,H77=\"yes\",'Window & Door DATA INPUT'!R83=\"yes\",'Window & Door DATA INPUT'!S83=\"yes\"),\"C\",IF(AND(C77=1,H77=\"yes\",'Window & Door DATA INPUT'!R83=\"yes\",'Window & Door DATA INPUT'!S83=\"no\"),\"D\",\"\"))))","v":""},{"$f":"IF(AND(C77=1,H77=\"yes\",OR(I77=Parameters!$K$12,I77=Parameters!$K$13,I77=Parameters!$K$14)),\"E\",IF(AND(C77=1,H77=\"yes\",NOT(OR(I77=Parameters!$K$12,I77=Parameters!$K$13,I77=Parameters!$K$14))),\"F\",\"\"))","v":""},{"$f":"IF(AND(B77=1,H77=\"yes\"),VLOOKUP(I77,Parameters!$K$4:$M$16,3,FALSE),\"\")","v":""},{"$f":"IF(AND(OR(O77=\"A\",O77=\"B\",O77=\"d\"),Q77=\"input\"),'Window & Door DATA INPUT'!AA83,IF(AND(O77=\"C\",Q77=\"input\"),'Window & Door DATA INPUT'!W83,Calculations!Q77))","v":""},{"$f":"IF('Window & Door DATA INPUT'!X83=\"Yes\",'Window & Door DATA INPUT'!Y83/1000,IF(B77=1,\"N/A\",\"\"))","v":""},{"$f":"IF(Q77=\"calc\",IF(O77=\"c\",'Window & Door DATA INPUT'!U83/1000,(Parameters!$S$4-'Window & Door DATA INPUT'!Z83+Parameters!$Q$4)/1000),\"\")","v":""},"","","",{"$f":"IF(OR($H77=\"no\",$B77=0),\"\",IF($I77=Parameters!$K$15,$L77/($M77/2),$L77/$M77))","v":""},{"$f":"IF(OR($H77=\"no\",$B77=0),\"\",IF($X77<0.5,Parameters!$X$4,IF($X77<1,Parameters!$Y$4,IF($X77<2,Parameters!$Z$4,Parameters!$AA$4))))","v":""},{"$f":"IF(OR($H77=\"no\",$B77=0),\"\",IF($X77<0.5,Parameters!$X$5,IF($X77<1,Parameters!$Y$5,IF($X77<2,Parameters!$Z$5,Parameters!$AA$5))))","v":""},{"$f":"IF(OR($H77=\"no\",$B77=0),\"\",IF($I77=Parameters!$K$15,(2*($M77/2)*SIN(RADIANS(Calculations!$W77/2))),(2*$M77*SIN(RADIANS($W77/2)))))","v":""},"",{"$f":"IF(OR($H77=\"no\",$B77=0),\"\",IF($I77=Parameters!$K$15,$AB77*$N77/2,$AB77*$N77))","v":""},{"$f":"IF(OR($H77=\"no\",$B77=0),\"\",IF($I77=Parameters!$K$15,$AC77*2/Parameters!$AB$4,$AC77/Parameters!$AB$4))","v":""},{"$f":"IF(AND(O77=\"B\",Q77=\"calc\"),V77,IF(AND(O77=\"C\",Q77=\"calc\"),'Window & Door DATA INPUT'!T83/1000,\"\"))","v":""},{"$f":"IF(AND(O77=\"B\",Q77=\"input\"),'Window & Door DATA INPUT'!AA83,IF(AND(O77=\"C\",Q77=\"input\",P77=\"F\"),'Window & Door DATA INPUT'!V83,IF(AND(O77=\"C\",P77=\"E\"),0,IF(AND(O77=\"D\"),0,IF(AND(B77=1,C77=0),\"\",(Calculations!Q77))))))","v":""},"",{"$f":"IF(OR($H77=\"no\",$C77=0),\"\",IF($I77=Parameters!$K$15,$L77/($M77/2),$L77/$M77))","v":""},{"$f":"IF(OR($H77=\"no\",$C77=0),\"\",IF($AH77<0.5,Parameters!$X$4,IF($AH77<1,Parameters!$Y$4,IF($AH77<2,Parameters!$Z$4,Parameters!$AA$4))))","v":""},{"$f":"IF(OR($H77=\"no\",$C77=0),\"\",IF($AH77<0.5,Parameters!$X$5,IF($AH77<1,Parameters!$Y$5,IF($AH77<2,Parameters!$Z$5,Parameters!$AA$5))))","v":""},{"$f":"IF(OR($H77=\"no\",$C77=0),\"\",IF($I77=Parameters!$K$15,(2*($M77/2)*SIN(RADIANS(Calculations!$AG77/2))),(2*$M77*SIN(RADIANS($AG77/2)))))","v":""},"",{"$f":"IF(OR($H77=\"no\",$C77=0),\"\",IF($I77=Parameters!$K$15,$AL77*$N77/2,$AL77*$N77))","v":""},{"$f":"IF(OR($H77=\"no\",$C77=0),\"\",IF($I77=Parameters!$K$15,$AM77*2/Parameters!$AB$4,$AM77/Parameters!$AB$4))","v":""},{"$nulls":20},{"$f":"'Window & Door DATA INPUT'!H83","v":0},""]
[null,{"$f":"IF('Window & Door DATA INPUT'!B84>1,1,0)","v":0},{"$f":"IF(AND(B78=1,OR(D78=Parameters!$D$17, D78=Parameters!$D$18,D78=Parameters!$D$19,D78=Parameters!$D$20,D78=Parameters!$D$21,D78=Parameters!$D$22, D78=Parameters!$D$23, D78=Parameters!$D$24)),1,0)","v":0},{"$f":"IF('Window & Door DATA INPUT'!B84=\"\",\"\",'Window & Door DATA INPUT'!B84)","v":""},{"$f":"IF('Window & Door DATA INPUT'!D84=\"\",\"\",'Window & Door DATA INPUT'!D84)","v":""},{"$f":"IF(B78=1,'Window & Door DATA INPUT'!H84&RESULTS!$H$5,\"\")","v":""},{"$f":"IF(B78=1,VLOOKUP(F78,Parameters!$H$4:$I$20,2,FALSE),\"\")","v":""},{"$f":"IF(OR('Window & Door DATA INPUT'!J84=Parameters!$K$4,'Window & Door DATA INPUT'!J84=Parameters!$K$11),\"No\",IF('Window & Door DATA INPUT'!K84=\"\",\"\",'Window & Door DATA INPUT'!K84))","v":""},{"$f":"IF('Window & Door DATA INPUT'!J84=\"\",\"\",'Window & Door DATA INPUT'!J84)","v":""},{"$f":"IF('Window & Door DATA INPUT'!L84=Parameters!$O$5,'Window & Door DATA INPUT'!O84,IF(B78=1,('Window & Door DATA INPUT'!N84*'Window & Door DATA INPUT'!M84)/1000000,\"\"))","v":""},{"$f":"IF('Window & Door DATA INPUT'!J84=\"\",\"\",VLOOKUP('Window & Door DATA INPUT'!J84,Parameters!$K$4:$L$16,2,FALSE))","v":""},{"$f":"IF($H78=\"yes\",IF($K78=\"Y\",'Window & Door DATA INPUT'!Q84/1000,IF($K78=\"N\",'Window & Door DATA INPUT'!P84/1000)),\"\")","v":""},{"$f":"IF($H78=\"yes\",IF($K78=\"Y\",'Window & Door DATA INPUT'!P84/1000,IF($K78=\"N\",'Window & Door DATA INPUT'!Q84/1000)),\"\")","v":""},"",{"$f":"IF(AND(B78=1,C78=0,H78=\"yes\"),\"A\",IF(AND(C78=1,H78=\"yes\",'Window & Door DATA INPUT'!R84=\"no\"),\"B\",IF(AND(C78=1,H78=\"yes\",'Window & Door DATA INPUT'!R84=\"yes\",'Window & Door DATA INPUT'!S84=\"yes\"),\"C\",IF(AND(C78=1,H78=\"yes\",'Window & Door DATA INPUT'!R84=\"yes\",'Window & Door DATA INPUT'!S84=\"no\"),\"D\",\"\"))))","v":""},{"$f":"IF(AND(C78=1,H78=\"yes\",OR(I78=Parameters!$K$12,I78=Parameters!$K$13,I78=Parameters!$K$14)),\"E\",IF(AND(C78=1,H78=\"yes\",NOT(OR(I78=Parameters!$K$12,I78=Parameters!$K$13,I78=Parameters!$K$14))),\"F\",\"\"))","v":""},{"$f":"IF(AND(B78=1,H78=\"yes\"),VLOOKUP(I78,Parameters!$K$4:$M$16,3,FALSE),\"\")","v":""},{"$f":"IF(AND(OR(O78=\"A\",O78=\"B\",O78=\"d\"),Q78=\"input\"),'Window & Door DATA INPUT'!AA84,IF(AND(O78=\"C\",Q78=\"input\"),'Window & Door DATA INPUT'!W84,Calculations!Q78))","v":""},{"$f":"IF('Window & Door DATA INPUT'!X84=\"Yes\",'Window & Door DATA INPUT'!Y84/1000,IF(B78=1,\"N/A\",\"\"))","v":""},{"$f":"IF(Q78=\"calc\",IF(O78=\"c\",'Window & Door DATA INPUT'!U84/1000,(Parameters!$S$4-'Window & Door DATA INPUT'!Z84+Parameters!$Q$4)/1000),\"\")","v":""},"","","",{"$f":"IF(OR($H78=\"no\",$B78=0),\"\",IF($I78=Parameters!$K$15,$L78/($M78/2),$L78/$M78))","v":""},{"$f":"IF(OR($H78=\"no\",$B78=0),\"\",IF($X78<0.5,Parameters!$X$4,IF($X78<1,Parameters!$Y$4,IF($X78<2,Parameters!$Z$4,Parameters!$AA$4))))","v":""},{"$f":"IF(OR($H78=\"no\",$B78=0),\"\",IF($X78<0.5,Parameters!$X$5,IF($X78<1,Parameters!$Y$5,IF($X78<2,Parameters!$Z$5,Parameters!$AA$5))))","v":""},{"$f":"IF(OR($H78=\"no\",$B78=0),\"\",IF($I78=Parameters!$K$15,(2*($M78/2)*SIN(RADIANS(Calculations!$W78/2))),(2*$M78*SIN(RADIANS($W78/2)))))","v":""},"",{"$f":"IF(OR($H78=\"no\",$B78=0),\"\",IF($I78=Parameters!$K$15,$AB78*$N78/2,$AB78*$N78))","v":""},{"$f":"IF(OR($H78=\"no\",$B78=0),\"\",IF($I78=Parameters!$K$15,$AC78*2/Parameters!$AB$4,$AC78/Parameters!$AB$4))","v":""},{"$f":"IF(AND(O78=\"B\",Q78=\"calc\"),V78,IF(AND(O78=\"C\",Q78=\"calc\"),'Window & Door DATA INPUT'!T84/1000,\"\"))","v":""},{"$f":"IF(AND(O78=\"B\",Q78=\"input\"),'Window & Door DATA INPUT'!AA84,IF(AND(O78=\"C\",Q78=\"input\",P78=\"F\"),'Window & Door DATA INPUT'!V84,IF(AND(O78=\"C\",P78=\"E\"),0,IF(AND(O78=\"D\"),0,IF(AND(B78=1,C78=0),\"\",(Calculations!Q78))))))","v":""},"",{"$f":"IF(OR($H78=\"no\",$C78=0),\"\",IF($I78=Parameters!$K$15,$L78/($M78/2),$L78/$M78))","v":""},{"$f":"IF(OR($H78=\"no\",$C78=0),\"\",IF($AH78<0.5,Parameters!$X$4,IF($AH78<1,Parameters!$Y$4,IF($AH78<2,Parameters!$Z$4,Parameters!$AA$4))))","v":""},{"$f":"IF(OR($H78=\"no\",$C78=0),\"\",IF($AH78<0.5,Parameters!$X$5,IF($AH78<1,Parameters!$Y$5,IF($AH78<2,Parameters!$Z$5,Parameters!$AA$5))))","v":""},{"$f":"IF(OR($H78=\"no\",$C78=0),\"\",IF($I78=Parameters!$K$15,(2*($M78/2)*SIN(RADIANS(Calculations!$AG78/2))),(2*$M78*SIN(RADIANS($AG78/2)))))","v":""},"",{"$f":"IF(OR($H78=\"no\",$C78=0),\"\",IF($I78=Parameters!$K$15,$AL78*$N78/2,$AL78*$N78))","v":""},{"$f":"IF(OR($H78=\"no\",$C78=0),\"\",IF($I78=Parameters!$K$15,$AM78*2/Parameters!$AB$4,$AM78/Parameters!$AB$4))","v":""},{"$nulls":20},{"$f":"'Window & Door DATA INPUT'!H84","v":0},""]
[null,{"$f":"IF('Window & Door DATA INPUT'!B85>1,1,0)","v":0},{"$f":"IF(AND(B79=1,OR(D79=Parameters!$D$17, D79=Parameters!$D$18,D79=Parameters!$D$19,D79=Parameters!$D$20,D79=Parameters!$D$21,D79=Parameters!$D$22, D79=Parameters!$D$23, D79=Parameters!$D$24)),1,0)","v":0},{"$f":"IF('Window & Door DATA INPUT'!B85=\"\",\"\",'Window & Door DATA INPUT'!B85)","v":""},{"$f":"IF('Window & Door DATA INPUT'!D85=\"\",\"\",'Window & Door DATA INPUT'!D85)","v":""},{"$f":"IF(B79=1,'Window & Door DATA INPUT'!H85&RESULTS!$H$5,\"\")","v":""},{"$f":"IF(B79=1,VLOOKUP(F79,Parameters!$H$4:$I$20,2,FALSE),\"\")","v":""},{"$f":"IF(OR('Window & Door DATA INPUT'!J85=Parameters!$K$4,'Window & Door DATA INPUT'!J85=Parameters!$K$11),\"No\",IF('Window & Door DATA INPUT'!K85=\"\",\"\",'Window & Door DATA INPUT'!K85))","v":""},{"$f":"IF('Window & Door DATA INPUT'!J85=\"\",\"\",'Window & Door DATA INPUT'!J85)","v":""},{"$f":"IF('Window & Door DATA INPUT'!L85=Parameters!$O$5,'Window & Door DATA INPUT'!O85,IF(B79=1,('Window & Door DATA INPUT'!N85*'Window & Door DATA INPUT'!M85)/1000000,\"\"))","v":""},{"$f":"IF('Window & Door DATA INPUT'!J85=\"\",\"\",VLOOKUP('Window & Door DATA INPUT'!J85,Parameters!$K$4:$L$16,2,FALSE))","v":""},{"$f":"IF($H79=\"yes\",IF($K79=\"Y\",'Window & Door DATA INPUT'!Q85/1000,IF($K79=\"N\",'Window & Door DATA INPUT'!P85/1000)),\"\")","v":""},{"$f":"IF($H79=\"yes\",IF($K79=\"Y\",'Window & Door DATA INPUT'!P85/1000,IF($K79=\"N\",'Window & Door DATA INPUT'!Q85/1000)),\"\")","v":""},"",{"$f":"IF(AND(B79=1,C79=0,H79=\"yes\"),\"A\",IF(AND(C79=1,H79=\"yes\",'Window & Door DATA INPUT'!R85=\"no\"),\"B\",IF(AND(C79=1,H79=\"yes\",'Window & Door DATA INPUT'!R85=\"yes\",'Window & Door DATA INPUT'!S85=\"yes\"),\"C\",IF(AND(C79=1,H79=\"yes\",'Window & Door DATA INPUT'!R85=\"yes\",'Window & Door DATA INPUT'!S85=\"no\"),\"D\",\"\"))))","v":""},{"$f":"IF(AND(C79=1,H79=\"yes\",OR(I79=Parameters!$K$12,I79=Parameters!$K$13,I79=Parameters!$K$14)),\"E\",IF(AND(C79=1,H79=\"yes\",NOT(OR(I79=Parameters!$K$12,I79=Parameters!$K$13,I79=Parameters!$K$14))),\"F\",\"\"))","v":""},{"$f":"IF(AND(B79=1,H79=\"yes\"),VLOOKUP(I79,Parameters!$K$4:$M$16,3,FALSE),\"\")","v":""},{"$f":"IF(AND(OR(O79=\"A\",O79=\"B\",O79=\"d\"),Q79=\"input\"),'Window & Door DATA INPUT'!AA85,IF(AND(O79=\"C\",Q79=\"input\"),'Window & Door DATA INPUT'!W85,Calculations!Q79))","v":""},{"$f":"IF('Window & Door DATA INPUT'!X85=\"Yes\",'Window & Door DATA INPUT'!Y85/1000,IF(B79=1,\"N/A\",\"\"))","v":""},{"$f":"IF(Q79=\"calc\",IF(O79=\"c\",'Window & Door DATA INPUT'!U85/1000,(Parameters!$S$4-'Window & Door DATA INPUT'!Z85+Parameters!$Q$4)/1000),\"\")","v":""},"","","",{"$f":"IF(OR($H79=\"no\",$B79=0),\"\",IF($I79=Parameters!$K$15,$L79/($M79/2),$L79/$M79))","v":""},{"$f":"IF(OR($H79=\"no\",$B79=0),\"\",IF($X79<0.5,Parameters!$X$4,IF($X79<1,Parameters!$Y$4,IF($X79<2,Parameters!$Z$4,Parameters!$AA$4))))","v":""},{"$f":"IF(OR($H79=\"no\",$B79=0),\"\",IF($X79<0.5,Parameters!$X$5,IF($X79<1,Parameters!$Y$5,IF($X79<2,Parameters!$Z$5,Parameters!$AA$5))))","v":""},{"$f":"IF(OR($H79=\"no\",$B79=0),\"\",IF($I79=Parameters!$K$15,(2*($M79/2)*SIN(RADIANS(Calculations!$W79/2))),(2*$M79*SIN(RADIANS($W79/2)))))","v":""},"",{"$f":"IF(OR($H79=\"no\",$B79=0),\"\",IF($I79=Parameters!$K$15,$AB79*$N79/2,$AB79*$N79))","v":""},{"$f":"IF(OR($H79=\"no\",$B79=0),\"\",IF($I79=Parameters!$K$15,$AC79*2/Parameters!$AB$4,$AC79/Parameters!$AB$4))","v":""},{"$f":"IF(AND(O79=\"B\",Q79=\"calc\"),V79,IF(AND(O79=\"C\",Q79=\"calc\"),'Window & Door DATA INPUT'!T85/1000,\"\"))","v":""},{"$f":"IF(AND(O79=\"B\",Q79=\"input\"),'Window & Door DATA INPUT'!AA85,IF(AND(O79=\"C\",Q79=\"input\",P79=\"F\"),'Window & Door DATA INPUT'!V85,IF(AND(O79=\"C\",P79=\"E\"),0,IF(AND(O79=\"D\"),0,IF(AND(B79=1,C79=0),\"\",(Calculations!Q79))))))","v":""},"",{"$f":"IF(OR($H79=\"no\",$C79=0),\"\",IF($I79=Parameters!$K$15,$L79/($M79/2),$L79/$M79))","v":""},{"$f":"IF(OR($H79=\"no\",$C79=0),\"\",IF($AH79<0.5,Parameters!$X$4,IF($AH79<1,Parameters!$Y$4,IF($AH79<2,Parameters!$Z$4,Parameters!$AA$4))))","v":""},{"$f":"IF(OR($H79=\"no\",$C79=0),\"\",IF($AH79<0.5,Parameters!$X$5,IF($AH79<1,Parameters!$Y$5,IF($AH79<2,Parameters!$Z$5,Parameters!$AA$5))))","v":""},{"$f":"IF(OR($H79=\"no\",$C79=0),\"\",IF($I79=Parameters!$K$15,(2*($M79/2)*SIN(RADIANS(Calculations!$AG79/2))),(2*$M79*SIN(RADIANS($AG79/2)))))","v":""},"",{"$f":"IF(OR($H79=\"no\",$C79=0),\"\",IF($I79=Parameters!$K$15,$AL79*$N79/2,$AL79*$N79))","v":""},{"$f":"IF(OR($H79=\"no\",$C79=0),\"\",IF($I79=Parameters!$K$15,$AM79*2/Parameters!$AB$4,$AM79/Parameters!$AB$4))","v":""},{"$nulls":20},{"$f":"'Window & Door DATA INPUT'!H85","v":0},""]
[null,{"$f":"IF('Window & Door DATA INPUT'!B86>1,1,0)","v":0},{"$f":"IF(AND(B80=1,OR(D80=Parameters!$D$17, D80=Parameters!$D$18,D80=Parameters!$D$19,D80=Parameters!$D$20,D80=Parameters!$D$21,D80=Parameters!$D$22, D80=Parameters!$D$23, D80=Parameters!$D$24)),1,0)","v":0},{"$f":"IF('Window & Door DATA INPUT'!B86=\"\",\"\",'Window & Door DATA INPUT'!B86)","v":""},{"$f":"IF('Window & Door DATA INPUT'!D86=\"\",\"\",'Window & Door DATA INPUT'!D86)","v":""},{"$f":"IF(B80=1,'Window & Door DATA INPUT'!H86&RESULTS!$H$5,\"\")","v":""},{"$f":"IF(B80=1,VLOOKUP(F80,Parameters!$H$4:$I$20,2,FALSE),\"\")","v":""},{"$f":"IF(OR('Window & Door DATA INPUT'!J86=Parameters!$K$4,'Window & Door DATA INPUT'!J86=Parameters!$K$11),\"No\",IF('Window & Door DATA INPUT'!K86=\"\",\"\",'Window & Door DATA INPUT'!K86))","v":""},{"$f":"IF('Window & Door DATA INPUT'!J86=\"\",\"\",'Window & Door DATA INPUT'!J86)","v":""},{"$f":"IF('Window & Door DATA INPUT'!L86=Parameters!$O$5,'Window & Door DATA INPUT'!O86,IF(B80=1,('Window & Door DATA INPUT'!N86*'Window & Door DATA INPUT'!M86)/1000000,\"\"))","v":""},{"$f":"IF('Window & Door DATA INPUT'!J86=\"\",\"\",VLOOKUP('Window & Door DATA INPUT'!J86,Parameters!$K$4:$L$16,2,FALSE))","v":""},{"$f":"IF($H80=\"yes\",IF($K80=\"Y\",'Window & Door DATA INPUT'!Q86/1000,IF($K80=\"N\",'Window & Door DATA INPUT'!P86/1000)),\"\")","v":""},{"$f":"IF($H80=\"yes\",IF($K80=\"Y\",'Window & Door DATA INPUT'!P86/1000,IF($K80=\"N\",'Window & Door DATA INPUT'!Q86/1000)),\"\")","v":""},"",{"$f":"IF(AND(B80=1,C80=0,H80=\"yes\"),\"A\",IF(AND(C80=1,H80=\"yes\",'Window & Door DATA INPUT'!R86=\"no\"),\"B\",IF(AND(C80=1,H80=\"yes\",'Window & Door DATA INPUT'!R86=\"yes\",'Window & Door DATA INPUT'!S86=\"yes\"),\"C\",IF(AND(C80=1,H80=\"yes\",'Window & Door DATA INPUT'!R86=\"yes\",'Window & Door DATA INPUT'!S86=\"no\"),\"D\",\"\"))))","v":""},{"$f":"IF(AND(C80=1,H80=\"yes\",OR(I80=Parameters!$K$12,I80=Parameters!$K$13,I80=Parameters!$K$14)),\"E\",IF(AND(C80=1,H80=\"yes\",NOT(OR(I80=Parameters!$K$12,I80=Parameters!$K$13,I80=Parameters!$K$14))),\"F\",\"\"))","v":""},{"$f":"IF(AND(B80=1,H80=\"yes\"),VLOOKUP(I80,Parameters!$K$4:$M$16,3,FALSE),\"\")","v":""},{"$f":"IF(AND(OR(O80=\"A\",O80=\"B\",O80=\"d\"),Q80=\"input\"),'Window & Door DATA INPUT'!AA86,IF(AND(O80=\"C\",Q80=\"input\"),'Window & Door DATA INPUT'!W86,Calculations!Q80))","v":""},{"$f":"IF('Window & Door DATA INPUT'!X86=\"Yes\",'Window & Door DATA INPUT'!Y86/1000,IF(B80=1,\"N/A\",\"\"))","v":""},{"$f":"IF(Q80=\"calc\",IF(O80=\"c\",'Window & Door DATA INPUT'!U86/1000,(Parameters!$S$4-'Window & Door DATA INPUT'!Z86+Parameters!$Q$4)/1000),\"\")","v":""},"","","",{"$f":"IF(OR($H80=\"no\",$B80=0),\"\",IF($I80=Parameters!$K$15,$L80/($M80/2),$L80/$M80))","v":""},{"$f":"IF(OR($H80=\"no\",$B80=0),\"\",IF($X80<0.5,Parameters!$X$4,IF($X80<1,Parameters!$Y$4,IF($X80<2,Parameters!$Z$4,Parameters!$AA$4))))","v":""},{"$f":"IF(OR($H80=\"no\",$B80=0),\"\",IF($X80<0.5,Parameters!$X$5,IF($X80<1,Parameters!$Y$5,IF($X80<2,Parameters!$Z$5,Parameters!$AA$5))))","v":""},{"$f":"IF(OR($H80=\"no\",$B80=0),\"\",IF($I80=Parameters!$K$15,(2*($M80/2)*SIN(RADIANS(Calculations!$W80/2))),(2*$M80*SIN(RADIANS($W80/2)))))","v":""},"",{"$f":"IF(OR($H80=\"no\",$B80=0),\"\",IF($I80=Parameters!$K$15,$AB80*$N80/2,$AB80*$N80))","v":""},{"$f":"IF(OR($H80=\"no\",$B80=0),\"\",IF($I80=Parameters!$K$15,$AC80*2/Parameters!$AB$4,$AC80/Parameters!$AB$4))","v":""},{"$f":"IF(AND(O80=\"B\",Q80=\"calc\"),V80,IF(AND(O80=\"C\",Q80=\"calc\"),'Window & Door DATA INPUT'!T86/1000,\"\"))","v":""},{"$f":"IF(AND(O80=\"B\",Q80=\"input\"),'Window & Door DATA INPUT'!AA86,IF(AND(O80=\"C\",Q80=\"input\",P80=\"F\"),'Window & Door DATA INPUT'!V86,IF(AND(O80=\"C\",P80=\"E\"),0,IF(AND(O80=\"D\"),0,IF(AND(B80=1,C80=0),\"\",(Calculations!Q80))))))","v":""},"",{"$f":"IF(OR($H80=\"no\",$C80=0),\"\",IF($I80=Parameters!$K$15,$L80/($M80/2),$L80/$M80))","v":""},{"$f":"IF(OR($H80=\"no\",$C80=0),\"\",IF($AH80<0.5,Parameters!$X$4,IF($AH80<1,Parameters!$Y$4,IF($AH80<2,Parameters!$Z$4,Parameters!$AA$4))))","v":""},{"$f":"IF(OR($H80=\"no\",$C80=0),\"\",IF($AH80<0.5,Parameters!$X$5,IF($AH80<1,Parameters!$Y$5,IF($AH80<2,Parameters!$Z$5,Parameters!$AA$5))))","v":""},{"$f":"IF(OR($H80=\"no\",$C80=0),\"\",IF($I80=Parameters!$K$15,(2*($M80/2)*SIN(RADIANS(Calculations!$AG80/2))),(2*$M80*SIN(RADIANS($AG80/2)))))","v":""},"",{"$f":"IF(OR($H80=\"no\",$C80=0),\"\",IF($I80=Parameters!$K$15,$AL80*$N80/2,$AL80*$N80))","v":""},{"$f":"IF(OR($H80=\"no\",$C80=0),\"\",IF($I80=Parameters!$K$15,$AM80*2/Parameters!$AB$4,$AM80/Parameters!$AB$4))","v":""},{"$nulls":20},{"$f":"'Window & Door DATA INPUT'!H86","v":0},""]
[null,{"$f":"IF('Window & Door DATA INPUT'!B87>1,1,0)","v":0},{"$f":"IF(AND(B81=1,OR(D81=Parameters!$D$17, D81=Parameters!$D$18,D81=Parameters!$D$19,D81=Parameters!$D$20,D81=Parameters!$D$21,D81=Parameters!$D$22, D81=Parameters!$D$23, D81=Parameters!$D$24)),1,0)","v":0},{"$f":"IF('Window & Door DATA INPUT'!B87=\"\",\"\",'Window & Door DATA INPUT'!B87)","v":""},{"$f":"IF('Window & Door DATA INPUT'!D87=\"\",\"\",'Window & Door DATA INPUT'!D87)","v":""},{"$f":"IF(B81=1,'Window & Door DATA INPUT'!H87&RESULTS!$H$5,\"\")","v":""},{"$f":"IF(B81=1,VLOOKUP(F81,Parameters!$H$4:$I$20,2,FALSE),\"\")","v":""},{"$f":"IF(OR('Window & Door DATA INPUT'!J87=Parameters!$K$4,'Window & Door DATA INPUT'!J87=Parameters!$K$11),\"No\",IF('Window & Door DATA INPUT'!K87=\"\",\"\",'Window & Door DATA INPUT'!K87))","v":""},{"$f":"IF('Window & Door DATA INPUT'!J87=\"\",\"\",'Window & Door DATA INPUT'!J87)","v":""},{"$f":"IF('Window & Door DATA INPUT'!L87=Parameters!$O$5,'Window & Door DATA INPUT'!O87,IF(B81=1,('Window & Door DATA INPUT'!N87*'Window & Door DATA INPUT'!M87)/1000000,\"\"))","v":""},{"$f":"IF('Window & Door DATA INPUT'!J87=\"\",\"\",VLOOKUP('Window & Door DATA INPUT'!J87,Parameters!$K$4:$L$16,2,FALSE))","v":""},{"$f":"IF($H81=\"yes\",IF($K81=\"Y\",'Window & Door DATA INPUT'!Q87/1000,IF($K81=\"N\",'Window & Door DATA INPUT'!P87/1000)),\"\")","v":""},{"$f":"IF($H81=\"yes\",IF($K81=\"Y\",'Window & Door DATA INPUT'!P87/1000,IF($K81=\"N\",'Window & Door DATA INPUT'!Q87/1000)),\"\")","v":""},{"$f":"IF(L81=\"\",\"\",L81*M81)","v":""},{"$f":"IF(AND(B81=1,C81=0,H81=\"yes\"),\"A\",IF(AND(C81=1,H81=\"yes\",'Window & Door DATA INPUT'!R87=\"no\"),\"B\",IF(AND(C81=1,H81=\"yes\",'Window & Door DATA INPUT'!R87=\"yes\",'Window & Door DATA INPUT'!S87=\"yes\"),\"C\",IF(AND(C81=1,H81=\"yes\",'Window & Door DATA INPUT'!R87=\"yes\",'Window & Door DATA INPUT'!S87=\"no\"),\"D\",\"\"))))","v":""},{"$f":"IF(AND(C81=1,H81=\"yes\",OR(I81=Parameters!$K$12,I81=Parameters!$K$13,I81=Parameters!$K$14)),\"E\",IF(AND(C81=1,H81=\"yes\",NOT(OR(I81=Parameters!$K$12,I81=Parameters!$K$13,I81=Parameters!$K$14))),\"F\",\"\"))","v":""},{"$f":"IF(AND(B81=1,H81=\"yes\"),VLOOKUP(I81,Parameters!$K$4:$M$16,3,FALSE),\"\")","v":""},{"$f":"IF(AND(OR(O81=\"A\",O81=\"B\",O81=\"d\"),Q81=\"input\"),'Window & Door DATA INPUT'!AA87,IF(AND(O81=\"C\",Q81=\"input\"),'Window & Door DATA INPUT'!W87,Calculations!Q81))","v":""},{"$f":"IF('Window & Door DATA INPUT'!X87=\"Yes\",'Window & Door DATA INPUT'!Y87/1000,IF(B81=1,\"N/A\",\"\"))","v":""},{"$f":"IF(Q81=\"calc\",IF(O81=\"c\",'Window & Door DATA INPUT'!U87/1000,(Parameters!$S$4-'Window & Door DATA INPUT'!Z87+Parameters!$Q$4)/1000),\"\")","v":""},{"$f":"IF(Q81=\"calc\",IF(T81>M81,M81,T81),\"\")","v":""},{"$f":"IF(AND(S81>0,S81<U81),S81,U81)","v":""},{"$f":"IF(R81=\"calc\",DEGREES(ASIN(V81/M81)),R81)","v":""},{"$f":"IF(OR($H81=\"no\",$B81=0),\"\",IF($I81=Parameters!$K$15,$L81/($M81/2),$L81/$M81))","v":""},{"$f":"IF(OR($H81=\"no\",$B81=0),\"\",IF($X81<0.5,Parameters!$X$4,IF($X81<1,Parameters!$Y$4,IF($X81<2,Parameters!$Z$4,Parameters!$AA$4))))","v":""},{"$f":"IF(OR($H81=\"no\",$B81=0),\"\",IF($X81<0.5,Parameters!$X$5,IF($X81<1,Parameters!$Y$5,IF($X81<2,Parameters!$Z$5,Parameters!$AA$5))))","v":""},{"$f":"IF(OR($H81=\"no\",$B81=0),\"\",IF($I81=Parameters!$K$15,(2*($M81/2)*SIN(RADIANS(Calculations!$W81/2))),(2*$M81*SIN(RADIANS($W81/2)))))","v":""},"",{"$f":"IF(OR($H81=\"no\",$B81=0),\"\",IF($I81=Parameters!$K$15,$AB81*$N81/2,$AB81*$N81))","v":""},{"$f":"IF(OR($H81=\"no\",$B81=0),\"\",IF($I81=Parameters!$K$15,$AC81*2/Parameters!$AB$4,$AC81/Parameters!$AB$4))","v":""},{"$f":"IF(AND(O81=\"B\",Q81=\"calc\"),V81,IF(AND(O81=\"C\",Q81=\"calc\"),'Window & Door DATA INPUT'!T87/1000,\"\"))","v":""},{"$f":"IF(AND(O81=\"B\",Q81=\"input\"),'Window & Door DATA INPUT'!AA87,IF(AND(O81=\"C\",Q81=\"input\",P81=\"F\"),'Window & Door DATA INPUT'!V87,IF(AND(O81=\"C\",P81=\"E\"),0,IF(AND(O81=\"D\"),0,IF(AND(B81=1,C81=0),\"\",(Calculations!Q81))))))","v":""},{"$f":"IF(AF81=\"calc\",DEGREES(ASIN(AE81/M81)),AF81)","v":""},{"$f":"IF(OR($H81=\"no\",$C81=0),\"\",IF($I81=Parameters!$K$15,$L81/($M81/2),$L81/$M81))","v":""},{"$f":"IF(OR($H81=\"no\",$C81=0),\"\",IF($AH81<0.5,Parameters!$X$4,IF($AH81<1,Parameters!$Y$4,IF($AH81<2,Parameters!$Z$4,Parameters!$AA$4))))","v":""},{"$f":"IF(OR($H81=\"no\",$C81=0),\"\",IF($AH81<0.5,Parameters!$X$5,IF($AH81<1,Parameters!$Y$5,IF($AH81<2,Parameters!$Z$5,Parameters!$AA$5))))","v":""},{"$f":"IF(OR($H81=\"no\",$C81=0),\"\",IF($I81=Parameters!$K$15,(2*($M81/2)*SIN(RADIANS(Calculations!$AG81/2))),(2*$M81*SIN(RADIANS($AG81/2)))))","v":""},"",{"$f":"IF(OR($H81=\"no\",$C81=0),\"\",IF($I81=Parameters!$K$15,$AL81*$N81/2,$AL81*$N81))","v":""},{"$f":"IF(OR($H81=\"no\",$C81=0),\"\",IF($I81=Parameters!$K$15,$AM81*2/Parameters!$AB$4,$AM81/Parameters!$AB$4))","v":""},{"$nulls":20},{"$f":"'Window & Door DATA INPUT'!H87","v":0},{"$f":"J81","v":""}]
[null,{"$f":"IF('Window & Door DATA INPUT'!B88>1,1,0)","v":0},{"$f":"IF(AND(B82=1,OR(D82=Parameters!$D$17, D82=Parameters!$D$18,D82=Parameters!$D$19,D82=Parameters!$D$20,D82=Parameters!$D$21,D82=Parameters!$D$22, D82=Parameters!$D$23, D82=Parameters!$D$24)),1,0)","v":0},{"$f":"IF('Window & Door DATA INPUT'!B88=\"\",\"\",'Window & Door DATA INPUT'!B88)","v":""},{"$f":"IF('Window & Door DATA INPUT'!D88=\"\",\"\",'Window & Door DATA INPUT'!D88)","v":""},{"$f":"IF(B82=1,'Window & Door DATA INPUT'!H88&RESULTS!$H$5,\"\")","v":""},{"$f":"IF(B82=1,VLOOKUP(F82,Parameters!$H$4:$I$20,2,FALSE),\"\")","v":""},{"$f":"IF(OR('Window & Door DATA INPUT'!J88=Parameters!$K$4,'Window & Door DATA INPUT'!J88=Parameters!$K$11),\"No\",IF('Window & Door DATA INPUT'!K88=\"\",\"\",'Window & Door DATA INPUT'!K88))","v":""},{"$f":"IF('Window & Door DATA INPUT'!J88=\"\",\"\",'Window & Door DATA INPUT'!J88)","v":""},{"$f":"IF('Window & Door DATA INPUT'!L88=Parameters!$O$5,'Window & Door DATA INPUT'!O88,IF(B82=1,('Window & Door DATA INPUT'!N88*'Window & Door DATA INPUT'!M88)/1000000,\"\"))","v":""},{"$f":"IF('Window & Door DATA INPUT'!J88=\"\",\"\",VLOOKUP('Window & Door DATA INPUT'!J88,Parameters!$K$4:$L$16,2,FALSE))","v":""},{"$f":"IF($H82=\"yes\",IF($K82=\"Y\",'Window & Door DATA INPUT'!Q88/1000,IF($K82=\"N\",'Window & Door DATA INPUT'!P88/1000)),\"\")","v":""},{"$f":"IF($H82=\"yes\",IF($K82=\"Y\",'Window & Door DATA INPUT'!P88/1000,IF($K82=\"N\",'Window & Door DATA INPUT'!Q88/1000)),\"\")","v":""},"",{"$f":"IF(AND(B82=1,C82=0,H82=\"yes\"),\"A\",IF(AND(C82=1,H82=\"yes\",'Window & Door DATA INPUT'!R88=\"no\"),\"B\",IF(AND(C82=1,H82=\"yes\",'Window & Door DATA INPUT'!R88=\"yes\",'Window & Door DATA INPUT'!S88=\"yes\"),\"C\",IF(AND(C82=1,H82=\"yes\",'Window & Door DATA INPUT'!R88=\"yes\",'Window & Door DATA INPUT'!S88=\"no\"),\"D\",\"\"))))","v":""},{"$f":"IF(AND(C82=1,H82=\"yes\",OR(I82=Parameters!$K$12,I82=Parameters!$K$13,I82=Parameters!$K$14)),\"E\",IF(AND(C82=1,H82=\"yes\",NOT(OR(I82=Parameters!$K$12,I82=Parameters!$K$13,I82=Parameters!$K$14))),\"F\",\"\"))","v":""},{"$f":"IF(AND(B82=1,H82=\"yes\"),VLOOKUP(I82,Parameters!$K$4:$M$16,3,FALSE),\"\")","v":""},{"$f":"IF(AND(OR(O82=\"A\",O82=\"B\",O82=\"d\"),Q82=\"input\"),'Window & Door DATA INPUT'!AA88,IF(AND(O82=\"C\",Q82=\"input\"),'Window & Door DATA INPUT'!W88,Calculations!Q82))","v":""},{"$f":"IF('Window & Door DATA INPUT'!X88=\"Yes\",'Window & Door DATA INPUT'!Y88/1000,IF(B82=1,\"N/A\",\"\"))","v":""},{"$f":"IF(Q82=\"calc\",IF(O82=\"c\",'Window & Door DATA INPUT'!U88/1000,(Parameters!$S$4-'Window & Door DATA INPUT'!Z88+Parameters!$Q$4)/1000),\"\")","v":""},"","","",{"$f":"IF(OR($H82=\"no\",$B82=0),\"\",IF($I82=Parameters!$K$15,$L82/($M82/2),$L82/$M82))","v":""},{"$f":"IF(OR($H82=\"no\",$B82=0),\"\",IF($X82<0.5,Parameters!$X$4,IF($X82<1,Parameters!$Y$4,IF($X82<2,Parameters!$Z$4,Parameters!$AA$4))))","v":""},{"$f":"IF(OR($H82=\"no\",$B82=0),\"\",IF($X82<0.5,Parameters!$X$5,IF($X82<1,Parameters!$Y$5,IF($X82<2,Parameters!$Z$5,Parameters!$AA$5))))","v":""},{"$f":"IF(OR($H82=\"no\",$B82=0),\"\",IF($I82=Parameters!$K$15,(2*($M82/2)*SIN(RADIANS(Calculations!$W82/2))),(2*$M82*SIN(RADIANS($W82/2)))))","v":""},"",{"$f":"IF(OR($H82=\"no\",$B82=0),\"\",IF($I82=Parameters!$K$15,$AB82*$N82/2,$AB82*$N82))","v":""},{"$f":"IF(OR($H82=\"no\",$B82=0),\"\",IF($I82=Parameters!$K$15,$AC82*2/Parameters!$AB$4,$AC82/Parameters!$AB$4))","v":""},{"$f":"IF(AND(O82=\"B\",Q82=\"calc\"),V82,IF(AND(O82=\"C\",Q82=\"calc\"),'Window & Door DATA INPUT'!T88/1000,\"\"))","v":""},{"$f":"IF(AND(O82=\"B\",Q82=\"input\"),'Window & Door DATA INPUT'!AA88,IF(AND(O82=\"C\",Q82=\"input\",P82=\"F\"),'Window & Door DATA INPUT'!V88,IF(AND(O82=\"C\",P82=\"E\"),0,IF(AND(O82=\"D\"),0,IF(AND(B82=1,C82=0),\"\",(Calculations!Q82))))))","v":""},"",{"$f":"IF(OR($H82=\"no\",$C82=0),\"\",IF($I82=Parameters!$K$15,$L82/($M82/2),$L82/$M82))","v":""},{"$f":"IF(OR($H82=\"no\",$C82=0),\"\",IF($AH82<0.5,Parameters!$X$4,IF($AH82<1,Parameters!$Y$4,IF($AH82<2,Parameters!$Z$4,Parameters!$AA$4))))","v":""},{"$f":"IF(OR($H82=\"no\",$C82=0),\"\",IF($AH82<0.5,Parameters!$X$5,IF($AH82<1,Parameters!$Y$5,IF($AH82<2,Parameters!$Z$5,Parameters!$AA$5))))","v":""},{"$f":"IF(OR($H82=\"no\",$C82=0),\"\",IF($I82=Parameters!$K$15,(2*($M82/2)*SIN(RADIANS(Calculations!$AG82/2))),(2*$M82*SIN(RADIANS($AG82/2)))))","v":""},"",{"$f":"IF(OR($H82=\"no\",$C82=0),\"\",IF($I82=Parameters!$K$15,$AL82*$N82/2,$AL82*$N82))","v":""},{"$f":"IF(OR($H82=\"no\",$C82=0),\"\",IF($I82=Parameters!$K$15,$AM82*2/Parameters!$AB$4,$AM82/Parameters!$AB$4))","v":""},{"$nulls":20},{"$f":"'Window & Door DATA INPUT'!H88","v":0},""]
[null,{"$f":"IF('Window & Door DATA INPUT'!B89>1,1,0)","v":0},{"$f":"IF(AND(B83=1,OR(D83=Parameters!$D$17, D83=Parameters!$D$18,D83=Parameters!$D$19,D83=Parameters!$D$20,D83=Parameters!$D$21,D83=Parameters!$D$22, D83=Parameters!$D$23, D83=Parameters!$D$24)),1,0)","v":0},{"$f":"IF('Window & Door DATA INPUT'!B89=\"\",\"\",'Window & Door DATA INPUT'!B89)","v":""},{"$f":"IF('Window & Door DATA INPUT'!D89=\"\",\"\",'Window & Door DATA INPUT'!D89)","v":""},{"$f":"IF(B83=1,'Window & Door DATA INPUT'!H89&RESULTS!$H$5,\"\")","v":""},{"$f":"IF(B83=1,VLOOKUP(F83,Parameters!$H$4:$I$20,2,FALSE),\"\")","v":""},{"$f":"IF(OR('Window & Door DATA INPUT'!J89=Parameters!$K$4,'Window & Door DATA INPUT'!J89=Parameters!$K$11),\"No\",IF('Window & Door DATA INPUT'!K89=\"\",\"\",'Window & Door DATA INPUT'!K89))","v":""},{"$f":"IF('Window & Door DATA INPUT'!J89=\"\",\"\",'Window & Door DATA INPUT'!J89)","v":""},{"$f":"IF('Window & Door DATA INPUT'!L89=Parameters!$O$5,'Window & Door DATA INPUT'!O89,IF(B83=1,('Window & Door DATA INPUT'!N89*'Window & Door DATA INPUT'!M89)/1000000,\"\"))","v":""},{"$f":"IF('Window & Door DATA INPUT'!J89=\"\",\"\",VLOOKUP('Window & Door DATA INPUT'!J89,Parameters!$K$4:$L$16,2,FALSE))","v":""},{"$f":"IF($H83=\"yes\",IF($K83=\"Y\",'Window & Door DATA INPUT'!Q89/1000,IF($K83=\"N\",'Window & Door DATA INPUT'!P89/1000)),\"\")","v":""},{"$f":"IF($H83=\"yes\",IF($K83=\"Y\",'Window & Door DATA INPUT'!P89/1000,IF($K83=\"N\",'Window & Door DATA INPUT'!Q89/1000)),\"\")","v":""},"",{"$f":"IF(AND(B83=1,C83=0,H83=\"yes\"),\"A\",IF(AND(C83=1,H83=\"yes\",'Window & Door DATA INPUT'!R89=\"no\"),\"B\",IF(AND(C83=1,H83=\"yes\",'Window & Door DATA INPUT'!R89=\"yes\",'Window & Door DATA INPUT'!S89=\"yes\"),\"C\",IF(AND(C83=1,H83=\"yes\",'Window & Door DATA INPUT'!R89=\"yes\",'Window & Door DATA INPUT'!S89=\"no\"),\"D\",\"\"))))","v":""},{"$f":"IF(AND(C83=1,H83=\"yes\",OR(I83=Parameters!$K$12,I83=Parameters!$K$13,I83=Parameters!$K$14)),\"E\",IF(AND(C83=1,H83=\"yes\",NOT(OR(I83=Parameters!$K$12,I83=Parameters!$K$13,I83=Parameters!$K$14))),\"F\",\"\"))","v":""},{"$f":"IF(AND(B83=1,H83=\"yes\"),VLOOKUP(I83,Parameters!$K$4:$M$16,3,FALSE),\"\")","v":""},{"$f":"IF(AND(OR(O83=\"A\",O83=\"B\",O83=\"d\"),Q83=\"input\"),'Window & Door DATA INPUT'!AA89,IF(AND(O83=\"C\",Q83=\"input\"),'Window & Door DATA INPUT'!W89,Calculations!Q83))","v":""},{"$f":"IF('Window & Door DATA INPUT'!X89=\"Yes\",'Window & Door DATA INPUT'!Y89/1000,IF(B83=1,\"N/A\",\"\"))","v":""},{"$f":"IF(Q83=\"calc\",IF(O83=\"c\",'Window & Door DATA INPUT'!U89/1000,(Parameters!$S$4-'Window & Door DATA INPUT'!Z89+Parameters!$Q$4)/1000),\"\")","v":""},"","","",{"$f":"IF(OR($H83=\"no\",$B83=0),\"\",IF($I83=Parameters!$K$15,$L83/($M83/2),$L83/$M83))","v":""},{"$f":"IF(OR($H83=\"no\",$B83=0),\"\",IF($X83<0.5,Parameters!$X$4,IF($X83<1,Parameters!$Y$4,IF($X83<2,Parameters!$Z$4,Parameters!$AA$4))))","v":""},{"$f":"IF(OR($H83=\"no\",$B83=0),\"\",IF($X83<0.5,Parameters!$X$5,IF($X83<1,Parameters!$Y$5,IF($X83<2,Parameters!$Z$5,Parameters!$AA$5))))","v":""},{"$f":"IF(OR($H83=\"no\",$B83=0),\"\",IF($I83=Parameters!$K$15,(2*($M83/2)*SIN(RADIANS(Calculations!$W83/2))),(2*$M83*SIN(RADIANS($W83/2)))))","v":""},"",{"$f":"IF(OR($H83=\"no\",$B83=0),\"\",IF($I83=Parameters!$K$15,$AB83*$N83/2,$AB83*$N83))","v":""},{"$f":"IF(OR($H83=\"no\",$B83=0),\"\",IF($I83=Parameters!$K$15,$AC83*2/Parameters!$AB$4,$AC83/Parameters!$AB$4))","v":""},{"$f":"IF(AND(O83=\"B\",Q83=\"calc\"),V83,IF(AND(O83=\"C\",Q83=\"calc\"),'Window & Door DATA INPUT'!T89/1000,\"\"))","v":""},{"$f":"IF(AND(O83=\"B\",Q83=\"input\"),'Window & Door DATA INPUT'!AA89,IF(AND(O83=\"C\",Q83=\"input\",P83=\"F\"),'Window & Door DATA INPUT'!V89,IF(AND(O83=\"C\",P83=\"E\"),0,IF(AND(O83=\"D\"),0,IF(AND(B83=1,C83=0),\"\",(Calculations!Q83))))))","v":""},"",{"$f":"IF(OR($H83=\"no\",$C83=0),\"\",IF($I83=Parameters!$K$15,$L83/($M83/2),$L83/$M83))","v":""},{"$f":"IF(OR($H83=\"no\",$C83=0),\"\",IF($AH83<0.5,Parameters!$X$4,IF($AH83<1,Parameters!$Y$4,IF($AH83<2,Parameters!$Z$4,Parameters!$AA$4))))","v":""},{"$f":"IF(OR($H83=\"no\",$C83=0),\"\",IF($AH83<0.5,Parameters!$X$5,IF($AH83<1,Parameters!$Y$5,IF($AH83<2,Parameters!$Z$5,Parameters!$AA$5))))","v":""},{"$f":"IF(OR($H83=\"no\",$C83=0),\"\",IF($I83=Parameters!$K$15,(2*($M83/2)*SIN(RADIANS(Calculations!$AG83/2))),(2*$M83*SIN(RADIANS($AG83/2)))))","v":""},"",{"$f":"IF(OR($H83=\"no\",$C83=0),\"\",IF($I83=Parameters!$K$15,$AL83*$N83/2,$AL83*$N83))","v":""},{"$f":"IF(OR($H83=\"no\",$C83=0),\"\",IF($I83=Parameters!$K$15,$AM83*2/Parameters!$AB$4,$AM83/Parameters!$AB$4))","v":""},{"$nulls":20},{"$f":"'Window & Door DATA INPUT'!H89","v":0},""]
[null,{"$f":"IF('Window & Door DATA INPUT'!B90>1,1,0)","v":0},{"$f":"IF(AND(B84=1,OR(D84=Parameters!$D$17, D84=Parameters!$D$18,D84=Parameters!$D$19,D84=Parameters!$D$20,D84=Parameters!$D$21,D84=Parameters!$D$22, D84=Parameters!$D$23, D84=Parameters!$D$24)),1,0)","v":0},{"$f":"IF('Window & Door DATA INPUT'!B90=\"\",\"\",'Window & Door DATA INPUT'!B90)","v":""},{"$f":"IF('Window & Door DATA INPUT'!D90=\"\",\"\",'Window & Door DATA INPUT'!D90)","v":""},{"$f":"IF(B84=1,'Window & Door DATA INPUT'!H90&RESULTS!$H$5,\"\")","v":""},{"$f":"IF(B84=1,VLOOKUP(F84,Parameters!$H$4:$I$20,2,FALSE),\"\")","v":""},{"$f":"IF(OR('Window & Door DATA INPUT'!J90=Parameters!$K$4,'Window & Door DATA INPUT'!J90=Parameters!$K$11),\"No\",IF('Window & Door DATA INPUT'!K90=\"\",\"\",'Window & Door DATA INPUT'!K90))","v":""},{"$f":"IF('Window & Door DATA INPUT'!J90=\"\",\"\",'Window & Door DATA INPUT'!J90)","v":""},{"$f":"IF('Window & Door DATA INPUT'!L90=Parameters!$O$5,'Window & Door DATA INPUT'!O90,IF(B84=1,('Window & Door DATA INPUT'!N90*'Window & Door DATA INPUT'!M90)/1000000,\"\"))","v":""},{"$f":"IF('Window & Door DATA INPUT'!J90=\"\",\"\",VLOOKUP('Window & Door DATA INPUT'!J90,Parameters!$K$4:$L$16,2,FALSE))","v":""},{"$f":"IF($H84=\"yes\",IF($K84=\"Y\",'Window & Door DATA INPUT'!Q90/1000,IF($K84=\"N\",'Window & Door DATA INPUT'!P90/1000)),\"\")","v":""},{"$f":"IF($H84=\"yes\",IF($K84=\"Y\",'Window & Door DATA INPUT'!P90/1000,IF($K84=\"N\",'Window & Door DATA INPUT'!Q90/1000)),\"\")","v":""},"",{"$f":"IF(AND(B84=1,C84=0,H84=\"yes\"),\"A\",IF(AND(C84=1,H84=\"yes\",'Window & Door DATA INPUT'!R90=\"no\"),\"B\",IF(AND(C84=1,H84=\"yes\",'Window & Door DATA INPUT'!R90=\"yes\",'Window & Door DATA INPUT'!S90=\"yes\"),\"C\",IF(AND(C84=1,H84=\"yes\",'Window & Door DATA INPUT'!R90=\"yes\",'Window & Door DATA INPUT'!S90=\"no\"),\"D\",\"\"))))","v":""},{"$f":"IF(AND(C84=1,H84=\"yes\",OR(I84=Parameters!$K$12,I84=Parameters!$K$13,I84=Parameters!$K$14)),\"E\",IF(AND(C84=1,H84=\"yes\",NOT(OR(I84=Parameters!$K$12,I84=Parameters!$K$13,I84=Parameters!$K$14))),\"F\",\"\"))","v":""},{"$f":"IF(AND(B84=1,H84=\"yes\"),VLOOKUP(I84,Parameters!$K$4:$M$16,3,FALSE),\"\")","v":""},{"$f":"IF(AND(OR(O84=\"A\",O84=\"B\",O84=\"d\"),Q84=\"input\"),'Window & Door DATA INPUT'!AA90,IF(AND(O84=\"C\",Q84=\"input\"),'Window & Door DATA INPUT'!W90,Calculations!Q84))","v":""},{"$f":"IF('Window & Door DATA INPUT'!X90=\"Yes\",'Window & Door DATA INPUT'!Y90/1000,IF(B84=1,\"N/A\",\"\"))","v":""},{"$f":"IF(Q84=\"calc\",IF(O84=\"c\",'Window & Door DATA INPUT'!U90/1000,(Parameters!$S$4-'Window & Door DATA INPUT'!Z90+Parameters!$Q$4)/1000),\"\")","v":""},"","","",{"$f":"IF(OR($H84=\"no\",$B84=0),\"\",IF($I84=Parameters!$K$15,$L84/($M84/2),$L84/$M84))","v":""},{"$f":"IF(OR($H84=\"no\",$B84=0),\"\",IF($X84<0.5,Parameters!$X$4,IF($X84<1,Parameters!$Y$4,IF($X84<2,Parameters!$Z$4,Parameters!$AA$4))))","v":""},{"$f":"IF(OR($H84=\"no\",$B84=0),\"\",IF($X84<0.5,Parameters!$X$5,IF($X84<1,Parameters!$Y$5,IF($X84<2,Parameters!$Z$5,Parameters!$AA$5))))","v":""},{"$f":"IF(OR($H84=\"no\",$B84=0),\"\",IF($I84=Parameters!$K$15,(2*($M84/2)*SIN(RADIANS(Calculations!$W84/2))),(2*$M84*SIN(RADIANS($W84/2)))))","v":""},"",{"$f":"IF(OR($H84=\"no\",$B84=0),\"\",IF($I84=Parameters!$K$15,$AB84*$N84/2,$AB84*$N84))","v":""},{"$f":"IF(OR($H84=\"no\",$B84=0),\"\",IF($I84=Parameters!$K$15,$AC84*2/Parameters!$AB$4,$AC84/Parameters!$AB$4))","v":""},{"$f":"IF(AND(O84=\"B\",Q84=\"calc\"),V84,IF(AND(O84=\"C\",Q84=\"calc\"),'Window & Door DATA INPUT'!T90/1000,\"\"))","v":""},{"$f":"IF(AND(O84=\"B\",Q84=\"input\"),'Window & Door DATA INPUT'!AA90,IF(AND(O84=\"C\",Q84=\"input\",P84=\"F\"),'Window & Door DATA INPUT'!V90,IF(AND(O84=\"C\",P84=\"E\"),0,IF(AND(O84=\"D\"),0,IF(AND(B84=1,C84=0),\"\",(Calculations!Q84))))))","v":""},"",{"$f":"IF(OR($H84=\"no\",$C84=0),\"\",IF($I84=Parameters!$K$15,$L84/($M84/2),$L84/$M84))","v":""},{"$f":"IF(OR($H84=\"no\",$C84=0),\"\",IF($AH84<0.5,Parameters!$X$4,IF($AH84<1,Parameters!$Y$4,IF($AH84<2,Parameters!$Z$4,Parameters!$AA$4))))","v":""},{"$f":"IF(OR($H84=\"no\",$C84=0),\"\",IF($AH84<0.5,Parameters!$X$5,IF($AH84<1,Parameters!$Y$5,IF($AH84<2,Parameters!$Z$5,Parameters!$AA$5))))","v":""},{"$f":"IF(OR($H84=\"no\",$C84=0),\"\",IF($I84=Parameters!$K$15,(2*($M84/2)*SIN(RADIANS(Calculations!$AG84/2))),(2*$M84*SIN(RADIANS($AG84/2)))))","v":""},"",{"$f":"IF(OR($H84=\"no\",$C84=0),\"\",IF($I84=Parameters!$K$15,$AL84*$N84/2,$AL84*$N84))","v":""},{"$f":"IF(OR($H84=\"no\",$C84=0),\"\",IF($I84=Parameters!$K$15,$AM84*2/Parameters!$AB$4,$AM84/Parameters!$AB$4))","v":""},{"$nulls":20},{"$f":"'Window & Door DATA INPUT'!H90","v":0},""]
[null,{"$f":"IF('Window & Door DATA INPUT'!B91>1,1,0)","v":0},{"$f":"IF(AND(B85=1,OR(D85=Parameters!$D$17, D85=Parameters!$D$18,D85=Parameters!$D$19,D85=Parameters!$D$20,D85=Parameters!$D$21,D85=Parameters!$D$22, D85=Parameters!$D$23, D85=Parameters!$D$24)),1,0)","v":0},{"$f":"IF('Window & Door DATA INPUT'!B91=\"\",\"\",'Window & Door DATA INPUT'!B91)","v":""},{"$f":"IF('Window & Door DATA INPUT'!D91=\"\",\"\",'Window & Door DATA INPUT'!D91)","v":""},{"$f":"IF(B85=1,'Window & Door DATA INPUT'!H91&RESULTS!$H$5,\"\")","v":""},{"$f":"IF(B85=1,VLOOKUP(F85,Parameters!$H$4:$I$20,2,FALSE),\"\")","v":""},{"$f":"IF(OR('Window & Door DATA INPUT'!J91=Parameters!$K$4,'Window & Door DATA INPUT'!J91=Parameters!$K$11),\"No\",IF('Window & Door DATA INPUT'!K91=\"\",\"\",'Window & Door DATA INPUT'!K91))","v":""},{"$f":"IF('Window & Door DATA INPUT'!J91=\"\",\"\",'Window & Door DATA INPUT'!J91)","v":""},{"$f":"IF('Window & Door DATA INPUT'!L91=Parameters!$O$5,'Window & Door DATA INPUT'!O91,IF(B85=1,('Window & Door DATA INPUT'!N91*'Window & Door DATA INPUT'!M91)/1000000,\"\"))","v":""},{"$f":"IF('Window & Door DATA INPUT'!J91=\"\",\"\",VLOOKUP('Window & Door DATA INPUT'!J91,Parameters!$K$4:$L$16,2,FALSE))","v":""},{"$f":"IF($H85=\"yes\",IF($K85=\"Y\",'Window & Door DATA INPUT'!Q91/1000,IF($K85=\"N\",'Window & Door DATA INPUT'!P91/1000)),\"\")","v":""},{"$f":"IF($H85=\"yes\",IF($K85=\"Y\",'Window & Door DATA INPUT'!P91/1000,IF($K85=\"N\",'Window & Door DATA INPUT'!Q91/1000)),\"\")","v":""},"",{"$f":"IF(AND(B85=1,C85=0,H85=\"yes\"),\"A\",IF(AND(C85=1,H85=\"yes\",'Window & Door DATA INPUT'!R91=\"no\"),\"B\",IF(AND(C85=1,H85=\"yes\",'Window & Door DATA INPUT'!R91=\"yes\",'Window & Door DATA INPUT'!S91=\"yes\"),\"C\",IF(AND(C85=1,H85=\"yes\",'Window & Door DATA INPUT'!R91=\"yes\",'Window & Door DATA INPUT'!S91=\"no\"),\"D\",\"\"))))","v":""},{"$f":"IF(AND(C85=1,H85=\"yes\",OR(I85=Parameters!$K$12,I85=Parameters!$K$13,I85=Parameters!$K$14)),\"E\",IF(AND(C85=1,H85=\"yes\",NOT(OR(I85=Parameters!$K$12,I85=Parameters!$K$13,I85=Parameters!$K$14))),\"F\",\"\"))","v":""},{"$f":"IF(AND(B85=1,H85=\"yes\"),VLOOKUP(I85,Parameters!$K$4:$M$16,3,FALSE),\"\")","v":""},{"$f":"IF(AND(OR(O85=\"A\",O85=\"B\",O85=\"d\"),Q85=\"input\"),'Window & Door DATA INPUT'!AA91,IF(AND(O85=\"C\",Q85=\"input\"),'Window & Door DATA INPUT'!W91,Calculations!Q85))","v":""},{"$f":"IF('Window & Door DATA INPUT'!X91=\"Yes\",'Window & Door DATA INPUT'!Y91/1000,IF(B85=1,\"N/A\",\"\"))","v":""},{"$f":"IF(Q85=\"calc\",IF(O85=\"c\",'Window & Door DATA INPUT'!U91/1000,(Parameters!$S$4-'Window & Door DATA INPUT'!Z91+Parameters!$Q$4)/1000),\"\")","v":""},"","","",{"$f":"IF(OR($H85=\"no\",$B85=0),\"\",IF($I85=Parameters!$K$15,$L85/($M85/2),$L85/$M85))","v":""},{"$f":"IF(OR($H85=\"no\",$B85=0),\"\",IF($X85<0.5,Parameters!$X$4,IF($X85<1,Parameters!$Y$4,IF($X85<2,Parameters!$Z$4,Parameters!$AA$4))))","v":""},{"$f":"IF(OR($H85=\"no\",$B85=0),\"\",IF($X85<0.5,Parameters!$X$5,IF($X85<1,Parameters!$Y$5,IF($X85<2,Parameters!$Z$5,Parameters!$AA$5))))","v":""},{"$f":"IF(OR($H85=\"no\",$B85=0),\"\",IF($I85=Parameters!$K$15,(2*($M85/2)*SIN(RADIANS(Calculations!$W85/2))),(2*$M85*SIN(RADIANS($W85/2)))))","v":""},"",{"$f":"IF(OR($H85=\"no\",$B85=0),\"\",IF($I85=Parameters!$K$15,$AB85*$N85/2,$AB85*$N85))","v":""},{"$f":"IF(OR($H85=\"no\",$B85=0),\"\",IF($I85=Parameters!$K$15,$AC85*2/Parameters!$AB$4,$AC85/Parameters!$AB$4))","v":""},{"$f":"IF(AND(O85=\"B\",Q85=\"calc\"),V85,IF(AND(O85=\"C\",Q85=\"calc\"),'Window & Door DATA INPUT'!T91/1000,\"\"))","v":""},{"$f":"IF(AND(O85=\"B\",Q85=\"input\"),'Window & Door DATA INPUT'!AA91,IF(AND(O85=\"C\",Q85=\"input\",P85=\"F\"),'Window & Door DATA INPUT'!V91,IF(AND(O85=\"C\",P85=\"E\"),0,IF(AND(O85=\"D\"),0,IF(AND(B85=1,C85=0),\"\",(Calculations!Q85))))))","v":""},"",{"$f":"IF(OR($H85=\"no\",$C85=0),\"\",IF($I85=Parameters!$K$15,$L85/($M85/2),$L85/$M85))","v":""},{"$f":"IF(OR($H85=\"no\",$C85=0),\"\",IF($AH85<0.5,Parameters!$X$4,IF($AH85<1,Parameters!$Y$4,IF($AH85<2,Parameters!$Z$4,Parameters!$AA$4))))","v":""},{"$f":"IF(OR($H85=\"no\",$C85=0),\"\",IF($AH85<0.5,Parameters!$X$5,IF($AH85<1,Parameters!$Y$5,IF($AH85<2,Parameters!$Z$5,Parameters!$AA$5))))","v":""},{"$f":"IF(OR($H85=\"no\",$C85=0),\"\",IF($I85=Parameters!$K$15,(2*($M85/2)*SIN(RADIANS(Calculations!$AG85/2))),(2*$M85*SIN(RADIANS($AG85/2)))))","v":""},"",{"$f":"IF(OR($H85=\"no\",$C85=0),\"\",IF($I85=Parameters!$K$15,$AL85*$N85/2,$AL85*$N85))","v":""},{"$f":"IF(OR($H85=\"no\",$C85=0),\"\",IF($I85=Parameters!$K$15,$AM85*2/Parameters!$AB$4,$AM85/Parameters!$AB$4))","v":""},{"$nulls":20},{"$f":"'Window & Door DATA INPUT'!H91","v":0},""]
[null,{"$f":"IF('Window & Door DATA INPUT'!B92>1,1,0)","v":0},{"$f":"IF(AND(B86=1,OR(D86=Parameters!$D$17, D86=Parameters!$D$18,D86=Parameters!$D$19,D86=Parameters!$D$20,D86=Parameters!$D$21,D86=Parameters!$D$22, D86=Parameters!$D$23, D86=Parameters!$D$24)),1,0)","v":0},{"$f":"IF('Window & Door DATA INPUT'!B92=\"\",\"\",'Window & Door DATA INPUT'!B92)","v":""},{"$f":"IF('Window & Door DATA INPUT'!D92=\"\",\"\",'Window & Door DATA INPUT'!D92)","v":""},{"$f":"IF(B86=1,'Window & Door DATA INPUT'!H92&RESULTS!$H$5,\"\")","v":""},{"$f":"IF(B86=1,VLOOKUP(F86,Parameters!$H$4:$I$20,2,FALSE),\"\")","v":""},{"$f":"IF(OR('Window & Door DATA INPUT'!J92=Parameters!$K$4,'Window & Door DATA INPUT'!J92=Parameters!$K$11),\"No\",IF('Window & Door DATA INPUT'!K92=\"\",\"\",'Window & Door DATA INPUT'!K92))","v":""},{"$f":"IF('Window & Door DATA INPUT'!J92=\"\",\"\",'Window & Door DATA INPUT'!J92)","v":""},{"$f":"IF('Window & Door DATA INPUT'!L92=Parameters!$O$5,'Window & Door DATA INPUT'!O92,IF(B86=1,('Window & Door DATA INPUT'!N92*'Window & Door DATA INPUT'!M92)/1000000,\"\"))","v":""},{"$f":"IF('Window & Door DATA INPUT'!J92=\"\",\"\",VLOOKUP('Window & Door DATA INPUT'!J92,Parameters!$K$4:$L$16,2,FALSE))","v":""},{"$f":"IF($H86=\"yes\",IF($K86=\"Y\",'Window & Door DATA INPUT'!Q92/1000,IF($K86=\"N\",'Window & Door DATA INPUT'!P92/1000)),\"\")","v":""},{"$f":"IF($H86=\"yes\",IF($K86=\"Y\",'Window & Door DATA INPUT'!P92/1000,IF($K86=\"N\",'Window & Door DATA INPUT'!Q92/1000)),\"\")","v":""},"",{"$f":"IF(AND(B86=1,C86=0,H86=\"yes\"),\"A\",IF(AND(C86=1,H86=\"yes\",'Window & Door DATA INPUT'!R92=\"no\"),\"B\",IF(AND(C86=1,H86=\"yes\",'Window & Door DATA INPUT'!R92=\"yes\",'Window & Door DATA INPUT'!S92=\"yes\"),\"C\",IF(AND(C86=1,H86=\"yes\",'Window & Door DATA INPUT'!R92=\"yes\",'Window & Door DATA INPUT'!S92=\"no\"),\"D\",\"\"))))","v":""},{"$f":"IF(AND(C86=1,H86=\"yes\",OR(I86=Parameters!$K$12,I86=Parameters!$K$13,I86=Parameters!$K$14)),\"E\",IF(AND(C86=1,H86=\"yes\",NOT(OR(I86=Parameters!$K$12,I86=Parameters!$K$13,I86=Parameters!$K$14))),\"F\",\"\"))","v":""},{"$f":"IF(AND(B86=1,H86=\"yes\"),VLOOKUP(I86,Parameters!$K$4:$M$16,3,FALSE),\"\")","v":""},{"$f":"IF(AND(OR(O86=\"A\",O86=\"B\",O86=\"d\"),Q86=\"input\"),'Window & Door DATA INPUT'!AA92,IF(AND(O86=\"C\",Q86=\"input\"),'Window & Door DATA INPUT'!W92,Calculations!Q86))","v":""},{"$f":"IF('Window & Door DATA INPUT'!X92=\"Yes\",'Window & Door DATA INPUT'!Y92/1000,IF(B86=1,\"N/A\",\"\"))","v":""},{"$f":"IF(Q86=\"calc\",IF(O86=\"c\",'Window & Door DATA INPUT'!U92/1000,(Parameters!$S$4-'Window & Door DATA INPUT'!Z92+Parameters!$Q$4)/1000),\"\")","v":""},"","","",{"$f":"IF(OR($H86=\"no\",$B86=0),\"\",IF($I86=Parameters!$K$15,$L86/($M86/2),$L86/$M86))","v":""},{"$f":"IF(OR($H86=\"no\",$B86=0),\"\",IF($X86<0.5,Parameters!$X$4,IF($X86<1,Parameters!$Y$4,IF($X86<2,Parameters!$Z$4,Parameters!$AA$4))))","v":""},{"$f":"IF(OR($H86=\"no\",$B86=0),\"\",IF($X86<0.5,Parameters!$X$5,IF($X86<1,Parameters!$Y$5,IF($X86<2,Parameters!$Z$5,Parameters!$AA$5))))","v":""},{"$f":"IF(OR($H86=\"no\",$B86=0),\"\",IF($I86=Parameters!$K$15,(2*($M86/2)*SIN(RADIANS(Calculations!$W86/2))),(2*$M86*SIN(RADIANS($W86/2)))))","v":""},"",{"$f":"IF(OR($H86=\"no\",$B86=0),\"\",IF($I86=Parameters!$K$15,$AB86*$N86/2,$AB86*$N86))","v":""},{"$f":"IF(OR($H86=\"no\",$B86=0),\"\",IF($I86=Parameters!$K$15,$AC86*2/Parameters!$AB$4,$AC86/Parameters!$AB$4))","v":""},{"$f":"IF(AND(O86=\"B\",Q86=\"calc\"),V86,IF(AND(O86=\"C\",Q86=\"calc\"),'Window & Door DATA INPUT'!T92/1000,\"\"))","v":""},{"$f":"IF(AND(O86=\"B\",Q86=\"input\"),'Window & Door DATA INPUT'!AA92,IF(AND(O86=\"C\",Q86=\"input\",P86=\"F\"),'Window & Door DATA INPUT'!V92,IF(AND(O86=\"C\",P86=\"E\"),0,IF(AND(O86=\"D\"),0,IF(AND(B86=1,C86=0),\"\",(Calculations!Q86))))))","v":""},"",{"$f":"IF(OR($H86=\"no\",$C86=0),\"\",IF($I86=Parameters!$K$15,$L86/($M86/2),$L86/$M86))","v":""},{"$f":"IF(OR($H86=\"no\",$C86=0),\"\",IF($AH86<0.5,Parameters!$X$4,IF($AH86<1,Parameters!$Y$4,IF($AH86<2,Parameters!$Z$4,Parameters!$AA$4))))","v":""},{"$f":"IF(OR($H86=\"no\",$C86=0),\"\",IF($AH86<0.5,Parameters!$X$5,IF($AH86<1,Parameters!$Y$5,IF($AH86<2,Parameters!$Z$5,Parameters!$AA$5))))","v":""},{"$f":"IF(OR($H86=\"no\",$C86=0),\"\",IF($I86=Parameters!$K$15,(2*($M86/2)*SIN(RADIANS(Calculations!$AG86/2))),(2*$M86*SIN(RADIANS($AG86/2)))))","v":""},"",{"$f":"IF(OR($H86=\"no\",$C86=0),\"\",IF($I86=Parameters!$K$15,$AL86*$N86/2,$AL86*$N86))","v":""},{"$f":"IF(OR($H86=\"no\",$C86=0),\"\",IF($I86=Parameters!$K$15,$AM86*2/Parameters!$AB$4,$AM86/Parameters!$AB$4))","v":""},{"$nulls":20},{"$f":"'Window & Door DATA INPUT'!H92","v":0},""]
[null,{"$f":"IF('Window & Door DATA INPUT'!B93>1,1,0)","v":0},{"$f":"IF(AND(B87=1,OR(D87=Parameters!$D$17, D87=Parameters!$D$18,D87=Parameters!$D$19,D87=Parameters!$D$20,D87=Parameters!$D$21,D87=Parameters!$D$22, D87=Parameters!$D$23, D87=Parameters!$D$24)),1,0)","v":0},{"$f":"IF('Window & Door DATA INPUT'!B93=\"\",\"\",'Window & Door DATA INPUT'!B93)","v":""},{"$f":"IF('Window & Door DATA INPUT'!D93=\"\",\"\",'Window & Door DATA INPUT'!D93)","v":""},{"$f":"IF(B87=1,'Window & Door DATA INPUT'!H93&RESULTS!$H$5,\"\")","v":""},{"$f":"IF(B87=1,VLOOKUP(F87,Parameters!$H$4:$I$20,2,FALSE),\"\")","v":""},{"$f":"IF(OR('Window & Door DATA INPUT'!J93=Parameters!$K$4,'Window & Door DATA INPUT'!J93=Parameters!$K$11),\"No\",IF('Window & Door DATA INPUT'!K93=\"\",\"\",'Window & Door DATA INPUT'!K93))","v":""},{"$f":"IF('Window & Door DATA INPUT'!J93=\"\",\"\",'Window & Door DATA INPUT'!J93)","v":""},{"$f":"IF('Window & Door DATA INPUT'!L93=Parameters!$O$5,'Window & Door DATA INPUT'!O93,IF(B87=1,('Window & Door DATA INPUT'!N93*'Window & Door DATA INPUT'!M93)/1000000,\"\"))","v":""},{"$f":"IF('Window & Door DATA INPUT'!J93=\"\",\"\",VLOOKUP('Window & Door DATA INPUT'!J93,Parameters!$K$4:$L$16,2,FALSE))","v":""},{"$f":"IF($H87=\"yes\",IF($K87=\"Y\",'Window & Door DATA INPUT'!Q93/1000,IF($K87=\"N\",'Window & Door DATA INPUT'!P93/1000)),\"\")","v":""},{"$f":"IF($H87=\"yes\",IF($K87=\"Y\",'Window & Door DATA INPUT'!P93/1000,IF($K87=\"N\",'Window & Door DATA INPUT'!Q93/1000)),\"\")","v":""},"",{"$f":"IF(AND(B87=1,C87=0,H87=\"yes\"),\"A\",IF(AND(C87=1,H87=\"yes\",'Window & Door DATA INPUT'!R93=\"no\"),\"B\",IF(AND(C87=1,H87=\"yes\",'Window & Door DATA INPUT'!R93=\"yes\",'Window & Door DATA INPUT'!S93=\"yes\"),\"C\",IF(AND(C87=1,H87=\"yes\",'Window & Door DATA INPUT'!R93=\"yes\",'Window & Door DATA INPUT'!S93=\"no\"),\"D\",\"\"))))","v":""},{"$f":"IF(AND(C87=1,H87=\"yes\",OR(I87=Parameters!$K$12,I87=Parameters!$K$13,I87=Parameters!$K$14)),\"E\",IF(AND(C87=1,H87=\"yes\",NOT(OR(I87=Parameters!$K$12,I87=Parameters!$K$13,I87=Parameters!$K$14))),\"F\",\"\"))","v":""},{"$f":"IF(AND(B87=1,H87=\"yes\"),VLOOKUP(I87,Parameters!$K$4:$M$16,3,FALSE),\"\")","v":""},{"$f":"IF(AND(OR(O87=\"A\",O87=\"B\",O87=\"d\"),Q87=\"input\"),'Window & Door DATA INPUT'!AA93,IF(AND(O87=\"C\",Q87=\"input\"),'Window & Door DATA INPUT'!W93,Calculations!Q87))","v":""},{"$f":"IF('Window & Door DATA INPUT'!X93=\"Yes\",'Window & Door DATA INPUT'!Y93/1000,IF(B87=1,\"N/A\",\"\"))","v":""},{"$f":"IF(Q87=\"calc\",IF(O87=\"c\",'Window & Door DATA INPUT'!U93/1000,(Parameters!$S$4-'Window & Door DATA INPUT'!Z93+Parameters!$Q$4)/1000),\"\")","v":""},"","","",{"$f":"IF(OR($H87=\"no\",$B87=0),\"\",IF($I87=Parameters!$K$15,$L87/($M87/2),$L87/$M87))","v":""},{"$f":"IF(OR($H87=\"no\",$B87=0),\"\",IF($X87<0.5,Parameters!$X$4,IF($X87<1,Parameters!$Y$4,IF($X87<2,Parameters!$Z$4,Parameters!$AA$4))))","v":""},{"$f":"IF(OR($H87=\"no\",$B87=0),\"\",IF($X87<0.5,Parameters!$X$5,IF($X87<1,Parameters!$Y$5,IF($X87<2,Parameters!$Z$5,Parameters!$AA$5))))","v":""},{"$f":"IF(OR($H87=\"no\",$B87=0),\"\",IF($I87=Parameters!$K$15,(2*($M87/2)*SIN(RADIANS(Calculations!$W87/2))),(2*$M87*SIN(RADIANS($W87/2)))))","v":""},"",{"$f":"IF(OR($H87=\"no\",$B87=0),\"\",IF($I87=Parameters!$K$15,$AB87*$N87/2,$AB87*$N87))","v":""},{"$f":"IF(OR($H87=\"no\",$B87=0),\"\",IF($I87=Parameters!$K$15,$AC87*2/Parameters!$AB$4,$AC87/Parameters!$AB$4))","v":""},{"$f":"IF(AND(O87=\"B\",Q87=\"calc\"),V87,IF(AND(O87=\"C\",Q87=\"calc\"),'Window & Door DATA INPUT'!T93/1000,\"\"))","v":""},{"$f":"IF(AND(O87=\"B\",Q87=\"input\"),'Window & Door DATA INPUT'!AA93,IF(AND(O87=\"C\",Q87=\"input\",P87=\"F\"),'Window & Door DATA INPUT'!V93,IF(AND(O87=\"C\",P87=\"E\"),0,IF(AND(O87=\"D\"),0,IF(AND(B87=1,C87=0),\"\",(Calculations!Q87))))))","v":""},"",{"$f":"IF(OR($H87=\"no\",$C87=0),\"\",IF($I87=Parameters!$K$15,$L87/($M87/2),$L87/$M87))","v":""},{"$f":"IF(OR($H87=\"no\",$C87=0),\"\",IF($AH87<0.5,Parameters!$X$4,IF($AH87<1,Parameters!$Y$4,IF($AH87<2,Parameters!$Z$4,Parameters!$AA$4))))","v":""},{"$f":"IF(OR($H87=\"no\",$C87=0),\"\",IF($AH87<0.5,Parameters!$X$5,IF($AH87<1,Parameters!$Y$5,IF($AH87<2,Parameters!$Z$5,Parameters!$AA$5))))","v":""},{"$f":"IF(OR($H87=\"no\",$C87=0),\"\",IF($I87=Parameters!$K$15,(2*($M87/2)*SIN(RADIANS(Calculations!$AG87/2))),(2*$M87*SIN(RADIANS($AG87/2)))))","v":""},"",{"$f":"IF(OR($H87=\"no\",$C87=0),\"\",IF($I87=Parameters!$K$15,$AL87*$N87/2,$AL87*$N87))","v":""},{"$f":"IF(OR($H87=\"no\",$C87=0),\"\",IF($I87=Parameters!$K$15,$AM87*2/Parameters!$AB$4,$AM87/Parameters!$AB$4))","v":""},{"$nulls":20},{"$f":"'Window & Door DATA INPUT'!H93","v":0},""]
[null,{"$f":"IF('Window & Door DATA INPUT'!B94>1,1,0)","v":0},{"$f":"IF(AND(B88=1,OR(D88=Parameters!$D$17, D88=Parameters!$D$18,D88=Parameters!$D$19,D88=Parameters!$D$20,D88=Parameters!$D$21,D88=Parameters!$D$22, D88=Parameters!$D$23, D88=Parameters!$D$24)),1,0)","v":0},{"$f":"IF('Window & Door DATA INPUT'!B94=\"\",\"\",'Window & Door DATA INPUT'!B94)","v":""},{"$f":"IF('Window & Door DATA INPUT'!D94=\"\",\"\",'Window & Door DATA INPUT'!D94)","v":""},{"$f":"IF(B88=1,'Window & Door DATA INPUT'!H94&RESULTS!$H$5,\"\")","v":""},{"$f":"IF(B88=1,VLOOKUP(F88,Parameters!$H$4:$I$20,2,FALSE),\"\")","v":""},{"$f":"IF(OR('Window & Door DATA INPUT'!J94=Parameters!$K$4,'Window & Door DATA INPUT'!J94=Parameters!$K$11),\"No\",IF('Window & Door DATA INPUT'!K94=\"\",\"\",'Window & Door DATA INPUT'!K94))","v":""},{"$f":"IF('Window & Door DATA INPUT'!J94=\"\",\"\",'Window & Door DATA INPUT'!J94)","v":""},{"$f":"IF('Window & Door DATA INPUT'!L94=Parameters!$O$5,'Window & Door DATA INPUT'!O94,IF(B88=1,('Window & Door DATA INPUT'!N94*'Window & Door DATA INPUT'!M94)/1000000,\"\"))","v":""},{"$f":"IF('Window & Door DATA INPUT'!J94=\"\",\"\",VLOOKUP('Window & Door DATA INPUT'!J94,Parameters!$K$4:$L$16,2,FALSE))","v":""},{"$f":"IF($H88=\"yes\",IF($K88=\"Y\",'Window & Door DATA INPUT'!Q94/1000,IF($K88=\"N\",'Window & Door DATA INPUT'!P94/1000)),\"\")","v":""},{"$f":"IF($H88=\"yes\",IF($K88=\"Y\",'Window & Door DATA INPUT'!P94/1000,IF($K88=\"N\",'Window & Door DATA INPUT'!Q94/1000)),\"\")","v":""},"",{"$f":"IF(AND(B88=1,C88=0,H88=\"yes\"),\"A\",IF(AND(C88=1,H88=\"yes\",'Window & Door DATA INPUT'!R94=\"no\"),\"B\",IF(AND(C88=1,H88=\"yes\",'Window & Door DATA INPUT'!R94=\"yes\",'Window & Door DATA INPUT'!S94=\"yes\"),\"C\",IF(AND(C88=1,H88=\"yes\",'Window & Door DATA INPUT'!R94=\"yes\",'Window & Door DATA INPUT'!S94=\"no\"),\"D\",\"\"))))","v":""},{"$f":"IF(AND(C88=1,H88=\"yes\",OR(I88=Parameters!$K$12,I88=Parameters!$K$13,I88=Parameters!$K$14)),\"E\",IF(AND(C88=1,H88=\"yes\",NOT(OR(I88=Parameters!$K$12,I88=Parameters!$K$13,I88=Parameters!$K$14))),\"F\",\"\"))","v":""},{"$f":"IF(AND(B88=1,H88=\"yes\"),VLOOKUP(I88,Parameters!$K$4:$M$16,3,FALSE),\"\")","v":""},{"$f":"IF(AND(OR(O88=\"A\",O88=\"B\",O88=\"d\"),Q88=\"input\"),'Window & Door DATA INPUT'!AA94,IF(AND(O88=\"C\",Q88=\"input\"),'Window & Door DATA INPUT'!W94,Calculations!Q88))","v":""},{"$f":"IF('Window & Door DATA INPUT'!X94=\"Yes\",'Window & Door DATA INPUT'!Y94/1000,IF(B88=1,\"N/A\",\"\"))","v":""},{"$f":"IF(Q88=\"calc\",IF(O88=\"c\",'Window & Door DATA INPUT'!U94/1000,(Parameters!$S$4-'Window & Door DATA INPUT'!Z94+Parameters!$Q$4)/1000),\"\")","v":""},"","","",{"$f":"IF(OR($H88=\"no\",$B88=0),\"\",IF($I88=Parameters!$K$15,$L88/($M88/2),$L88/$M88))","v":""},{"$f":"IF(OR($H88=\"no\",$B88=0),\"\",IF($X88<0.5,Parameters!$X$4,IF($X88<1,Parameters!$Y$4,IF($X88<2,Parameters!$Z$4,Parameters!$AA$4))))","v":""},{"$f":"IF(OR($H88=\"no\",$B88=0),\"\",IF($X88<0.5,Parameters!$X$5,IF($X88<1,Parameters!$Y$5,IF($X88<2,Parameters!$Z$5,Parameters!$AA$5))))","v":""},{"$f":"IF(OR($H88=\"no\",$B88=0),\"\",IF($I88=Parameters!$K$15,(2*($M88/2)*SIN(RADIANS(Calculations!$W88/2))),(2*$M88*SIN(RADIANS($W88/2)))))","v":""},"",{"$f":"IF(OR($H88=\"no\",$B88=0),\"\",IF($I88=Parameters!$K$15,$AB88*$N88/2,$AB88*$N88))","v":""},{"$f":"IF(OR($H88=\"no\",$B88=0),\"\",IF($I88=Parameters!$K$15,$AC88*2/Parameters!$AB$4,$AC88/Parameters!$AB$4))","v":""},{"$f":"IF(AND(O88=\"B\",Q88=\"calc\"),V88,IF(AND(O88=\"C\",Q88=\"calc\"),'Window & Door DATA INPUT'!T94/1000,\"\"))","v":""},{"$f":"IF(AND(O88=\"B\",Q88=\"input\"),'Window & Door DATA INPUT'!AA94,IF(AND(O88=\"C\",Q88=\"input\",P88=\"F\"),'Window & Door DATA INPUT'!V94,IF(AND(O88=\"C\",P88=\"E\"),0,IF(AND(O88=\"D\"),0,IF(AND(B88=1,C88=0),\"\",(Calculations!Q88))))))","v":""},"",{"$f":"IF(OR($H88=\"no\",$C88=0),\"\",IF($I88=Parameters!$K$15,$L88/($M88/2),$L88/$M88))","v":""},{"$f":"IF(OR($H88=\"no\",$C88=0),\"\",IF($AH88<0.5,Parameters!$X$4,IF($AH88<1,Parameters!$Y$4,IF($AH88<2,Parameters!$Z$4,Parameters!$AA$4))))","v":""},{"$f":"IF(OR($H88=\"no\",$C88=0),\"\",IF($AH88<0.5,Parameters!$X$5,IF($AH88<1,Parameters!$Y$5,IF($AH88<2,Parameters!$Z$5,Parameters!$AA$5))))","v":""},{"$f":"IF(OR($H88=\"no\",$C88=0),\"\",IF($I88=Parameters!$K$15,(2*($M88/2)*SIN(RADIANS(Calculations!$AG88/2))),(2*$M88*SIN(RADIANS($AG88/2)))))","v":""},"",{"$f":"IF(OR($H88=\"no\",$C88=0),\"\",IF($I88=Parameters!$K$15,$AL88*$N88/2,$AL88*$N88))","v":""},{"$f":"IF(OR($H88=\"no\",$C88=0),\"\",IF($I88=Parameters!$K$15,$AM88*2/Parameters!$AB$4,$AM88/Parameters!$AB$4))","v":""},{"$nulls":20},{"$f":"'Window & Door DATA INPUT'!H94","v":0},""]
[null,{"$f":"IF('Window & Door DATA INPUT'!B95>1,1,0)","v":0},{"$f":"IF(AND(B89=1,OR(D89=Parameters!$D$17, D89=Parameters!$D$18,D89=Parameters!$D$19,D89=Parameters!$D$20,D89=Parameters!$D$21,D89=Parameters!$D$22, D89=Parameters!$D$23, D89=Parameters!$D$24)),1,0)","v":0},{"$f":"IF('Window & Door DATA INPUT'!B95=\"\",\"\",'Window & Door DATA INPUT'!B95)","v":""},{"$f":"IF('Window & Door DATA INPUT'!D95=\"\",\"\",'Window & Door DATA INPUT'!D95)","v":""},{"$f":"IF(B89=1,'Window & Door DATA INPUT'!H95&RESULTS!$H$5,\"\")","v":""},{"$f":"IF(B89=1,VLOOKUP(F89,Parameters!$H$4:$I$20,2,FALSE),\"\")","v":""},{"$f":"IF(OR('Window & Door DATA INPUT'!J95=Parameters!$K$4,'Window & Door DATA INPUT'!J95=Parameters!$K$11),\"No\",IF('Window & Door DATA INPUT'!K95=\"\",\"\",'Window & Door DATA INPUT'!K95))","v":""},{"$f":"IF('Window & Door DATA INPUT'!J95=\"\",\"\",'Window & Door DATA INPUT'!J95)","v":""},{"$f":"IF('Window & Door DATA INPUT'!L95=Parameters!$O$5,'Window & Door DATA INPUT'!O95,IF(B89=1,('Window & Door DATA INPUT'!N95*'Window & Door DATA INPUT'!M95)/1000000,\"\"))","v":""},{"$f":"IF('Window & Door DATA INPUT'!J95=\"\",\"\",VLOOKUP('Window & Door DATA INPUT'!J95,Parameters!$K$4:$L$16,2,FALSE))","v":""},{"$f":"IF($H89=\"yes\",IF($K89=\"Y\",'Window & Door DATA INPUT'!Q95/1000,IF($K89=\"N\",'Window & Door DATA INPUT'!P95/1000)),\"\")","v":""},{"$f":"IF($H89=\"yes\",IF($K89=\"Y\",'Window & Door DATA INPUT'!P95/1000,IF($K89=\"N\",'Window & Door DATA INPUT'!Q95/1000)),\"\")","v":""},"",{"$f":"IF(AND(B89=1,C89=0,H89=\"yes\"),\"A\",IF(AND(C89=1,H89=\"yes\",'Window & Door DATA INPUT'!R95=\"no\"),\"B\",IF(AND(C89=1,H89=\"yes\",'Window & Door DATA INPUT'!R95=\"yes\",'Window & Door DATA INPUT'!S95=\"yes\"),\"C\",IF(AND(C89=1,H89=\"yes\",'Window & Door DATA INPUT'!R95=\"yes\",'Window & Door DATA INPUT'!S95=\"no\"),\"D\",\"\"))))","v":""},{"$f":"IF(AND(C89=1,H89=\"yes\",OR(I89=Parameters!$K$12,I89=Parameters!$K$13,I89=Parameters!$K$14)),\"E\",IF(AND(C89=1,H89=\"yes\",NOT(OR(I89=Parameters!$K$12,I89=Parameters!$K$13,I89=Parameters!$K$14))),\"F\",\"\"))","v":""},{"$f":"IF(AND(B89=1,H89=\"yes\"),VLOOKUP(I89,Parameters!$K$4:$M$16,3,FALSE),\"\")","v":""},{"$f":"IF(AND(OR(O89=\"A\",O89=\"B\",O89=\"d\"),Q89=\"input\"),'Window & Door DATA INPUT'!AA95,IF(AND(O89=\"C\",Q89=\"input\"),'Window & Door DATA INPUT'!W95,Calculations!Q89))","v":""},{"$f":"IF('Window & Door DATA INPUT'!X95=\"Yes\",'Window & Door DATA INPUT'!Y95/1000,IF(B89=1,\"N/A\",\"\"))","v":""},{"$f":"IF(Q89=\"calc\",IF(O89=\"c\",'Window & Door DATA INPUT'!U95/1000,(Parameters!$S$4-'Window & Door DATA INPUT'!Z95+Parameters!$Q$4)/1000),\"\")","v":""},"","","",{"$f":"IF(OR($H89=\"no\",$B89=0),\"\",IF($I89=Parameters!$K$15,$L89/($M89/2),$L89/$M89))","v":""},{"$f":"IF(OR($H89=\"no\",$B89=0),\"\",IF($X89<0.5,Parameters!$X$4,IF($X89<1,Parameters!$Y$4,IF($X89<2,Parameters!$Z$4,Parameters!$AA$4))))","v":""},{"$f":"IF(OR($H89=\"no\",$B89=0),\"\",IF($X89<0.5,Parameters!$X$5,IF($X89<1,Parameters!$Y$5,IF($X89<2,Parameters!$Z$5,Parameters!$AA$5))))","v":""},{"$f":"IF(OR($H89=\"no\",$B89=0),\"\",IF($I89=Parameters!$K$15,(2*($M89/2)*SIN(RADIANS(Calculations!$W89/2))),(2*$M89*SIN(RADIANS($W89/2)))))","v":""},"",{"$f":"IF(OR($H89=\"no\",$B89=0),\"\",IF($I89=Parameters!$K$15,$AB89*$N89/2,$AB89*$N89))","v":""},{"$f":"IF(OR($H89=\"no\",$B89=0),\"\",IF($I89=Parameters!$K$15,$AC89*2/Parameters!$AB$4,$AC89/Parameters!$AB$4))","v":""},{"$f":"IF(AND(O89=\"B\",Q89=\"calc\"),V89,IF(AND(O89=\"C\",Q89=\"calc\"),'Window & Door DATA INPUT'!T95/1000,\"\"))","v":""},{"$f":"IF(AND(O89=\"B\",Q89=\"input\"),'Window & Door DATA INPUT'!AA95,IF(AND(O89=\"C\",Q89=\"input\",P89=\"F\"),'Window & Door DATA INPUT'!V95,IF(AND(O89=\"C\",P89=\"E\"),0,IF(AND(O89=\"D\"),0,IF(AND(B89=1,C89=0),\"\",(Calculations!Q89))))))","v":""},"",{"$f":"IF(OR($H89=\"no\",$C89=0),\"\",IF($I89=Parameters!$K$15,$L89/($M89/2),$L89/$M89))","v":""},{"$f":"IF(OR($H89=\"no\",$C89=0),\"\",IF($AH89<0.5,Parameters!$X$4,IF($AH89<1,Parameters!$Y$4,IF($AH89<2,Parameters!$Z$4,Parameters!$AA$4))))","v":""},{"$f":"IF(OR($H89=\"no\",$C89=0),\"\",IF($AH89<0.5,Parameters!$X$5,IF($AH89<1,Parameters!$Y$5,IF($AH89<2,Parameters!$Z$5,Parameters!$AA$5))))","v":""},{"$f":"IF(OR($H89=\"no\",$C89=0),\"\",IF($I89=Parameters!$K$15,(2*($M89/2)*SIN(RADIANS(Calculations!$AG89/2))),(2*$M89*SIN(RADIANS($AG89/2)))))","v":""},"",{"$f":"IF(OR($H89=\"no\",$C89=0),\"\",IF($I89=Parameters!$K$15,$AL89*$N89/2,$AL89*$N89))","v":""},{"$f":"IF(OR($H89=\"no\",$C89=0),\"\",IF($I89=Parameters!$K$15,$AM89*2/Parameters!$AB$4,$AM89/Parameters!$AB$4))","v":""},{"$nulls":20},{"$f":"'Window & Door DATA INPUT'!H95","v":0},""]
[null,{"$f":"IF('Window & Door DATA INPUT'!B96>1,1,0)","v":0},{"$f":"IF(AND(B90=1,OR(D90=Parameters!$D$17, D90=Parameters!$D$18,D90=Parameters!$D$19,D90=Parameters!$D$20,D90=Parameters!$D$21,D90=Parameters!$D$22, D90=Parameters!$D$23, D90=Parameters!$D$24)),1,0)","v":0},{"$f":"IF('Window & Door DATA INPUT'!B96=\"\",\"\",'Window & Door DATA INPUT'!B96)","v":""},{"$f":"IF('Window & Door DATA INPUT'!D96=\"\",\"\",'Window & Door DATA INPUT'!D96)","v":""},{"$f":"IF(B90=1,'Window & Door DATA INPUT'!H96&RESULTS!$H$5,\"\")","v":""},{"$f":"IF(B90=1,VLOOKUP(F90,Parameters!$H$4:$I$20,2,FALSE),\"\")","v":""},{"$f":"IF(OR('Window & Door DATA INPUT'!J96=Parameters!$K$4,'Window & Door DATA INPUT'!J96=Parameters!$K$11),\"No\",IF('Window & Door DATA INPUT'!K96=\"\",\"\",'Window & Door DATA INPUT'!K96))","v":""},{"$f":"IF('Window & Door DATA INPUT'!J96=\"\",\"\",'Window & Door DATA INPUT'!J96)","v":""},{"$f":"IF('Window & Door DATA INPUT'!L96=Parameters!$O$5,'Window & Door DATA INPUT'!O96,IF(B90=1,('Window & Door DATA INPUT'!N96*'Window & Door DATA INPUT'!M96)/1000000,\"\"))","v":""},{"$f":"IF('Window & Door DATA INPUT'!J96=\"\",\"\",VLOOKUP('Window & Door DATA INPUT'!J96,Parameters!$K$4:$L$16,2,FALSE))","v":""},{"$f":"IF($H90=\"yes\",IF($K90=\"Y\",'Window & Door DATA INPUT'!Q96/1000,IF($K90=\"N\",'Window & Door DATA INPUT'!P96/1000)),\"\")","v":""},{"$f":"IF($H90=\"yes\",IF($K90=\"Y\",'Window & Door DATA INPUT'!P96/1000,IF($K90=\"N\",'Window & Door DATA INPUT'!Q96/1000)),\"\")","v":""},"",{"$f":"IF(AND(B90=1,C90=0,H90=\"yes\"),\"A\",IF(AND(C90=1,H90=\"yes\",'Window & Door DATA INPUT'!R96=\"no\"),\"B\",IF(AND(C90=1,H90=\"yes\",'Window & Door DATA INPUT'!R96=\"yes\",'Window & Door DATA INPUT'!S96=\"yes\"),\"C\",IF(AND(C90=1,H90=\"yes\",'Window & Door DATA INPUT'!R96=\"yes\",'Window & Door DATA INPUT'!S96=\"no\"),\"D\",\"\"))))","v":""},{"$f":"IF(AND(C90=1,H90=\"yes\",OR(I90=Parameters!$K$12,I90=Parameters!$K$13,I90=Parameters!$K$14)),\"E\",IF(AND(C90=1,H90=\"yes\",NOT(OR(I90=Parameters!$K$12,I90=Parameters!$K$13,I90=Parameters!$K$14))),\"F\",\"\"))","v":""},{"$f":"IF(AND(B90=1,H90=\"yes\"),VLOOKUP(I90,Parameters!$K$4:$M$16,3,FALSE),\"\")","v":""},{"$f":"IF(AND(OR(O90=\"A\",O90=\"B\",O90=\"d\"),Q90=\"input\"),'Window & Door DATA INPUT'!AA96,IF(AND(O90=\"C\",Q90=\"input\"),'Window & Door DATA INPUT'!W96,Calculations!Q90))","v":""},{"$f":"IF('Window & Door DATA INPUT'!X96=\"Yes\",'Window & Door DATA INPUT'!Y96/1000,IF(B90=1,\"N/A\",\"\"))","v":""},{"$f":"IF(Q90=\"calc\",IF(O90=\"c\",'Window & Door DATA INPUT'!U96/1000,(Parameters!$S$4-'Window & Door DATA INPUT'!Z96+Parameters!$Q$4)/1000),\"\")","v":""},"","","",{"$f":"IF(OR($H90=\"no\",$B90=0),\"\",IF($I90=Parameters!$K$15,$L90/($M90/2),$L90/$M90))","v":""},{"$f":"IF(OR($H90=\"no\",$B90=0),\"\",IF($X90<0.5,Parameters!$X$4,IF($X90<1,Parameters!$Y$4,IF($X90<2,Parameters!$Z$4,Parameters!$AA$4))))","v":""},{"$f":"IF(OR($H90=\"no\",$B90=0),\"\",IF($X90<0.5,Parameters!$X$5,IF($X90<1,Parameters!$Y$5,IF($X90<2,Parameters!$Z$5,Parameters!$AA$5))))","v":""},{"$f":"IF(OR($H90=\"no\",$B90=0),\"\",IF($I90=Parameters!$K$15,(2*($M90/2)*SIN(RADIANS(Calculations!$W90/2))),(2*$M90*SIN(RADIANS($W90/2)))))","v":""},"",{"$f":"IF(OR($H90=\"no\",$B90=0),\"\",IF($I90=Parameters!$K$15,$AB90*$N90/2,$AB90*$N90))","v":""},{"$f":"IF(OR($H90=\"no\",$B90=0),\"\",IF($I90=Parameters!$K$15,$AC90*2/Parameters!$AB$4,$AC90/Parameters!$AB$4))","v":""},{"$f":"IF(AND(O90=\"B\",Q90=\"calc\"),V90,IF(AND(O90=\"C\",Q90=\"calc\"),'Window & Door DATA INPUT'!T96/1000,\"\"))","v":""},{"$f":"IF(AND(O90=\"B\",Q90=\"input\"),'Window & Door DATA INPUT'!AA96,IF(AND(O90=\"C\",Q90=\"input\",P90=\"F\"),'Window & Door DATA INPUT'!V96,IF(AND(O90=\"C\",P90=\"E\"),0,IF(AND(O90=\"D\"),0,IF(AND(B90=1,C90=0),\"\",(Calculations!Q90))))))","v":""},"",{"$f":"IF(OR($H90=\"no\",$C90=0),\"\",IF($I90=Parameters!$K$15,$L90/($M90/2),$L90/$M90))","v":""},{"$f":"IF(OR($H90=\"no\",$C90=0),\"\",IF($AH90<0.5,Parameters!$X$4,IF($AH90<1,Parameters!$Y$4,IF($AH90<2,Parameters!$Z$4,Parameters!$AA$4))))","v":""},{"$f":"IF(OR($H90=\"no\",$C90=0),\"\",IF($AH90<0.5,Parameters!$X$5,IF($AH90<1,Parameters!$Y$5,IF($AH90<2,Parameters!$Z$5,Parameters!$AA$5))))","v":""},{"$f":"IF(OR($H90=\"no\",$C90=0),\"\",IF($I90=Parameters!$K$15,(2*($M90/2)*SIN(RADIANS(Calculations!$AG90/2))),(2*$M90*SIN(RADIANS($AG90/2)))))","v":""},"",{"$f":"IF(OR($H90=\"no\",$C90=0),\"\",IF($I90=Parameters!$K$15,$AL90*$N90/2,$AL90*$N90))","v":""},{"$f":"IF(OR($H90=\"no\",$C90=0),\"\",IF($I90=Parameters!$K$15,$AM90*2/Parameters!$AB$4,$AM90/Parameters!$AB$4))","v":""},{"$nulls":20},{"$f":"'Window & Door DATA INPUT'!H96","v":0},""]
[null,{"$f":"IF('Window & Door DATA INPUT'!B97>1,1,0)","v":0},{"$f":"IF(AND(B91=1,OR(D91=Parameters!$D$17, D91=Parameters!$D$18,D91=Parameters!$D$19,D91=Parameters!$D$20,D91=Parameters!$D$21,D91=Parameters!$D$22, D91=Parameters!$D$23, D91=Parameters!$D$24)),1,0)","v":0},{"$f":"IF('Window & Door DATA INPUT'!B97=\"\",\"\",'Window & Door DATA INPUT'!B97)","v":""},{"$f":"IF('Window & Door DATA INPUT'!D97=\"\",\"\",'Window & Door DATA INPUT'!D97)","v":""},{"$f":"IF(B91=1,'Window & Door DATA INPUT'!H97&RESULTS!$H$5,\"\")","v":""},{"$f":"IF(B91=1,VLOOKUP(F91,Parameters!$H$4:$I$20,2,FALSE),\"\")","v":""},{"$f":"IF(OR('Window & Door DATA INPUT'!J97=Parameters!$K$4,'Window & Door DATA INPUT'!J97=Parameters!$K$11),\"No\",IF('Window & Door DATA INPUT'!K97=\"\",\"\",'Window & Door DATA INPUT'!K97))","v":""},{"$f":"IF('Window & Door DATA INPUT'!J97=\"\",\"\",'Window & Door DATA INPUT'!J97)","v":""},{"$f":"IF('Window & Door DATA INPUT'!L97=Parameters!$O$5,'Window & Door DATA INPUT'!O97,IF(B91=1,('Window & Door DATA INPUT'!N97*'Window & Door DATA INPUT'!M97)/1000000,\"\"))","v":""},{"$f":"IF('Window & Door DATA INPUT'!J97=\"\",\"\",VLOOKUP('Window & Door DATA INPUT'!J97,Parameters!$K$4:$L$16,2,FALSE))","v":""},{"$f":"IF($H91=\"yes\",IF($K91=\"Y\",'Window & Door DATA INPUT'!Q97/1000,IF($K91=\"N\",'Window & Door DATA INPUT'!P97/1000)),\"\")","v":""},{"$f":"IF($H91=\"yes\",IF($K91=\"Y\",'Window & Door DATA INPUT'!P97/1000,IF($K91=\"N\",'Window & Door DATA INPUT'!Q97/1000)),\"\")","v":""},"",{"$f":"IF(AND(B91=1,C91=0,H91=\"yes\"),\"A\",IF(AND(C91=1,H91=\"yes\",'Window & Door DATA INPUT'!R97=\"no\"),\"B\",IF(AND(C91=1,H91=\"yes\",'Window & Door DATA INPUT'!R97=\"yes\",'Window & Door DATA INPUT'!S97=\"yes\"),\"C\",IF(AND(C91=1,H91=\"yes\",'Window & Door DATA INPUT'!R97=\"yes\",'Window & Door DATA INPUT'!S97=\"no\"),\"D\",\"\"))))","v":""},{"$f":"IF(AND(C91=1,H91=\"yes\",OR(I91=Parameters!$K$12,I91=Parameters!$K$13,I91=Parameters!$K$14)),\"E\",IF(AND(C91=1,H91=\"yes\",NOT(OR(I91=Parameters!$K$12,I91=Parameters!$K$13,I91=Parameters!$K$14))),\"F\",\"\"))","v":""},{"$f":"IF(AND(B91=1,H91=\"yes\"),VLOOKUP(I91,Parameters!$K$4:$M$16,3,FALSE),\"\")","v":""},{"$f":"IF(AND(OR(O91=\"A\",O91=\"B\",O91=\"d\"),Q91=\"input\"),'Window & Door DATA INPUT'!AA97,IF(AND(O91=\"C\",Q91=\"input\"),'Window & Door DATA INPUT'!W97,Calculations!Q91))","v":""},{"$f":"IF('Window & Door DATA INPUT'!X97=\"Yes\",'Window & Door DATA INPUT'!Y97/1000,IF(B91=1,\"N/A\",\"\"))","v":""},{"$f":"IF(Q91=\"calc\",IF(O91=\"c\",'Window & Door DATA INPUT'!U97/1000,(Parameters!$S$4-'Window & Door DATA INPUT'!Z97+Parameters!$Q$4)/1000),\"\")","v":""},"","","",{"$f":"IF(OR($H91=\"no\",$B91=0),\"\",IF($I91=Parameters!$K$15,$L91/($M91/2),$L91/$M91))","v":""},{"$f":"IF(OR($H91=\"no\",$B91=0),\"\",IF($X91<0.5,Parameters!$X$4,IF($X91<1,Parameters!$Y$4,IF($X91<2,Parameters!$Z$4,Parameters!$AA$4))))","v":""},{"$f":"IF(OR($H91=\"no\",$B91=0),\"\",IF($X91<0.5,Parameters!$X$5,IF($X91<1,Parameters!$Y$5,IF($X91<2,Parameters!$Z$5,Parameters!$AA$5))))","v":""},{"$f":"IF(OR($H91=\"no\",$B91=0),\"\",IF($I91=Parameters!$K$15,(2*($M91/2)*SIN(RADIANS(Calculations!$W91/2))),(2*$M91*SIN(RADIANS($W91/2)))))","v":""},"",{"$f":"IF(OR($H91=\"no\",$B91=0),\"\",IF($I91=Parameters!$K$15,$AB91*$N91/2,$AB91*$N91))","v":""},{"$f":"IF(OR($H91=\"no\",$B91=0),\"\",IF($I91=Parameters!$K$15,$AC91*2/Parameters!$AB$4,$AC91/Parameters!$AB$4))","v":""},{"$f":"IF(AND(O91=\"B\",Q91=\"calc\"),V91,IF(AND(O91=\"C\",Q91=\"calc\"),'Window & Door DATA INPUT'!T97/1000,\"\"))","v":""},{"$f":"IF(AND(O91=\"B\",Q91=\"input\"),'Window & Door DATA INPUT'!AA97,IF(AND(O91=\"C\",Q91=\"input\",P91=\"F\"),'Window & Door DATA INPUT'!V97,IF(AND(O91=\"C\",P91=\"E\"),0,IF(AND(O91=\"D\"),0,IF(AND(B91=1,C91=0),\"\",(Calculations!Q91))))))","v":""},"",{"$f":"IF(OR($H91=\"no\",$C91=0),\"\",IF($I91=Parameters!$K$15,$L91/($M91/2),$L91/$M91))","v":""},{"$f":"IF(OR($H91=\"no\",$C91=0),\"\",IF($AH91<0.5,Parameters!$X$4,IF($AH91<1,Parameters!$Y$4,IF($AH91<2,Parameters!$Z$4,Parameters!$AA$4))))","v":""},{"$f":"IF(OR($H91=\"no\",$C91=0),\"\",IF($AH91<0.5,Parameters!$X$5,IF($AH91<1,Parameters!$Y$5,IF($AH91<2,Parameters!$Z$5,Parameters!$AA$5))))","v":""},{"$f":"IF(OR($H91=\"no\",$C91=0),\"\",IF($I91=Parameters!$K$15,(2*($M91/2)*SIN(RADIANS(Calculations!$AG91/2))),(2*$M91*SIN(RADIANS($AG91/2)))))","v":""},"",{"$f":"IF(OR($H91=\"no\",$C91=0),\"\",IF($I91=Parameters!$K$15,$AL91*$N91/2,$AL91*$N91))","v":""},{"$f":"IF(OR($H91=\"no\",$C91=0),\"\",IF($I91=Parameters!$K$15,$AM91*2/Parameters!$AB$4,$AM91/Parameters!$AB$4))","v":""},{"$nulls":20},{"$f":"'Window & Door DATA INPUT'!H97","v":0},""]
[null,{"$f":"IF('Window & Door DATA INPUT'!B98>1,1,0)","v":0},{"$f":"IF(AND(B92=1,OR(D92=Parameters!$D$17, D92=Parameters!$D$18,D92=Parameters!$D$19,D92=Parameters!$D$20,D92=Parameters!$D$21,D92=Parameters!$D$22, D92=Parameters!$D$23, D92=Parameters!$D$24)),1,0)","v":0},{"$f":"IF('Window & Door DATA INPUT'!B98=\"\",\"\",'Window & Door DATA INPUT'!B98)","v":""},{"$f":"IF('Window & Door DATA INPUT'!D98=\"\",\"\",'Window & Door DATA INPUT'!D98)","v":""},{"$f":"IF(B92=1,'Window & Door DATA INPUT'!H98&RESULTS!$H$5,\"\")","v":""},{"$f":"IF(B92=1,VLOOKUP(F92,Parameters!$H$4:$I$20,2,FALSE),\"\")","v":""},{"$f":"IF(OR('Window & Door DATA INPUT'!J98=Parameters!$K$4,'Window & Door DATA INPUT'!J98=Parameters!$K$11),\"No\",IF('Window & Door DATA INPUT'!K98=\"\",\"\",'Window & Door DATA INPUT'!K98))","v":""},{"$f":"IF('Window & Door DATA INPUT'!J98=\"\",\"\",'Window & Door DATA INPUT'!J98)","v":""},{"$f":"IF('Window & Door DATA INPUT'!L98=Parameters!$O$5,'Window & Door DATA INPUT'!O98,IF(B92=1,('Window & Door DATA INPUT'!N98*'Window & Door DATA INPUT'!M98)/1000000,\"\"))","v":""},{"$f":"IF('Window & Door DATA INPUT'!J98=\"\",\"\",VLOOKUP('Window & Door DATA INPUT'!J98,Parameters!$K$4:$L$16,2,FALSE))","v":""},{"$f":"IF($H92=\"yes\",IF($K92=\"Y\",'Window & Door DATA INPUT'!Q98/1000,IF($K92=\"N\",'Window & Door DATA INPUT'!P98/1000)),\"\")","v":""},{"$f":"IF($H92=\"yes\",IF($K92=\"Y\",'Window & Door DATA INPUT'!P98/1000,IF($K92=\"N\",'Window & Door DATA INPUT'!Q98/1000)),\"\")","v":""},"",{"$f":"IF(AND(B92=1,C92=0,H92=\"yes\"),\"A\",IF(AND(C92=1,H92=\"yes\",'Window & Door DATA INPUT'!R98=\"no\"),\"B\",IF(AND(C92=1,H92=\"yes\",'Window & Door DATA INPUT'!R98=\"yes\",'Window & Door DATA INPUT'!S98=\"yes\"),\"C\",IF(AND(C92=1,H92=\"yes\",'Window & Door DATA INPUT'!R98=\"yes\",'Window & Door DATA INPUT'!S98=\"no\"),\"D\",\"\"))))","v":""},{"$f":"IF(AND(C92=1,H92=\"yes\",OR(I92=Parameters!$K$12,I92=Parameters!$K$13,I92=Parameters!$K$14)),\"E\",IF(AND(C92=1,H92=\"yes\",NOT(OR(I92=Parameters!$K$12,I92=Parameters!$K$13,I92=Parameters!$K$14))),\"F\",\"\"))","v":""},{"$f":"IF(AND(B92=1,H92=\"yes\"),VLOOKUP(I92,Parameters!$K$4:$M$16,3,FALSE),\"\")","v":""},{"$f":"IF(AND(OR(O92=\"A\",O92=\"B\",O92=\"d\"),Q92=\"input\"),'Window & Door DATA INPUT'!AA98,IF(AND(O92=\"C\",Q92=\"input\"),'Window & Door DATA INPUT'!W98,Calculations!Q92))","v":""},{"$f":"IF('Window & Door DATA INPUT'!X98=\"Yes\",'Window & Door DATA INPUT'!Y98/1000,IF(B92=1,\"N/A\",\"\"))","v":""},{"$f":"IF(Q92=\"calc\",IF(O92=\"c\",'Window & Door DATA INPUT'!U98/1000,(Parameters!$S$4-'Window & Door DATA INPUT'!Z98+Parameters!$Q$4)/1000),\"\")","v":""},"","","",{"$f":"IF(OR($H92=\"no\",$B92=0),\"\",IF($I92=Parameters!$K$15,$L92/($M92/2),$L92/$M92))","v":""},{"$f":"IF(OR($H92=\"no\",$B92=0),\"\",IF($X92<0.5,Parameters!$X$4,IF($X92<1,Parameters!$Y$4,IF($X92<2,Parameters!$Z$4,Parameters!$AA$4))))","v":""},{"$f":"IF(OR($H92=\"no\",$B92=0),\"\",IF($X92<0.5,Parameters!$X$5,IF($X92<1,Parameters!$Y$5,IF($X92<2,Parameters!$Z$5,Parameters!$AA$5))))","v":""},{"$f":"IF(OR($H92=\"no\",$B92=0),\"\",IF($I92=Parameters!$K$15,(2*($M92/2)*SIN(RADIANS(Calculations!$W92/2))),(2*$M92*SIN(RADIANS($W92/2)))))","v":""},"",{"$f":"IF(OR($H92=\"no\",$B92=0),\"\",IF($I92=Parameters!$K$15,$AB92*$N92/2,$AB92*$N92))","v":""},{"$f":"IF(OR($H92=\"no\",$B92=0),\"\",IF($I92=Parameters!$K$15,$AC92*2/Parameters!$AB$4,$AC92/Parameters!$AB$4))","v":""},{"$f":"IF(AND(O92=\"B\",Q92=\"calc\"),V92,IF(AND(O92=\"C\",Q92=\"calc\"),'Window & Door DATA INPUT'!T98/1000,\"\"))","v":""},{"$f":"IF(AND(O92=\"B\",Q92=\"input\"),'Window & Door DATA INPUT'!AA98,IF(AND(O92=\"C\",Q92=\"input\",P92=\"F\"),'Window & Door DATA INPUT'!V98,IF(AND(O92=\"C\",P92=\"E\"),0,IF(AND(O92=\"D\"),0,IF(AND(B92=1,C92=0),\"\",(Calculations!Q92))))))","v":""},"",{"$f":"IF(OR($H92=\"no\",$C92=0),\"\",IF($I92=Parameters!$K$15,$L92/($M92/2),$L92/$M92))","v":""},{"$f":"IF(OR($H92=\"no\",$C92=0),\"\",IF($AH92<0.5,Parameters!$X$4,IF($AH92<1,Parameters!$Y$4,IF($AH92<2,Parameters!$Z$4,Parameters!$AA$4))))","v":""},{"$f":"IF(OR($H92=\"no\",$C92=0),\"\",IF($AH92<0.5,Parameters!$X$5,IF($AH92<1,Parameters!$Y$5,IF($AH92<2,Parameters!$Z$5,Parameters!$AA$5))))","v":""},{"$f":"IF(OR($H92=\"no\",$C92=0),\"\",IF($I92=Parameters!$K$15,(2*($M92/2)*SIN(RADIANS(Calculations!$AG92/2))),(2*$M92*SIN(RADIANS($AG92/2)))))","v":""},"",{"$f":"IF(OR($H92=\"no\",$C92=0),\"\",IF($I92=Parameters!$K$15,$AL92*$N92/2,$AL92*$N92))","v":""},{"$f":"IF(OR($H92=\"no\",$C92=0),\"\",IF($I92=Parameters!$K$15,$AM92*2/Parameters!$AB$4,$AM92/Parameters!$AB$4))","v":""},{"$nulls":20},{"$f":"'Window & Door DATA INPUT'!H98","v":0},""]
[null,{"$f":"IF('Window & Door DATA INPUT'!B99>1,1,0)","v":0},{"$f":"IF(AND(B93=1,OR(D93=Parameters!$D$17, D93=Parameters!$D$18,D93=Parameters!$D$19,D93=Parameters!$D$20,D93=Parameters!$D$21,D93=Parameters!$D$22, D93=Parameters!$D$23, D93=Parameters!$D$24)),1,0)","v":0},{"$f":"IF('Window & Door DATA INPUT'!B99=\"\",\"\",'Window & Door DATA INPUT'!B99)","v":""},{"$f":"IF('Window & Door DATA INPUT'!D99=\"\",\"\",'Window & Door DATA INPUT'!D99)","v":""},{"$f":"IF(B93=1,'Window & Door DATA INPUT'!H99&RESULTS!$H$5,\"\")","v":""},{"$f":"IF(B93=1,VLOOKUP(F93,Parameters!$H$4:$I$20,2,FALSE),\"\")","v":""},{"$f":"IF(OR('Window & Door DATA INPUT'!J99=Parameters!$K$4,'Window & Door DATA INPUT'!J99=Parameters!$K$11),\"No\",IF('Window & Door DATA INPUT'!K99=\"\",\"\",'Window & Door DATA INPUT'!K99))","v":""},{"$f":"IF('Window & Door DATA INPUT'!J99=\"\",\"\",'Window & Door DATA INPUT'!J99)","v":""},{"$f":"IF('Window & Door DATA INPUT'!L99=Parameters!$O$5,'Window & Door DATA INPUT'!O99,IF(B93=1,('Window & Door DATA INPUT'!N99*'Window & Door DATA INPUT'!M99)/1000000,\"\"))","v":""},{"$f":"IF('Window & Door DATA INPUT'!J99=\"\",\"\",VLOOKUP('Window & Door DATA INPUT'!J99,Parameters!$K$4:$L$16,2,FALSE))","v":""},{"$f":"IF($H93=\"yes\",IF($K93=\"Y\",'Window & Door DATA INPUT'!Q99/1000,IF($K93=\"N\",'Window & Door DATA INPUT'!P99/1000)),\"\")","v":""},{"$f":"IF($H93=\"yes\",IF($K93=\"Y\",'Window & Door DATA INPUT'!P99/1000,IF($K93=\"N\",'Window & Door DATA INPUT'!Q99/1000)),\"\")","v":""},"",{"$f":"IF(AND(B93=1,C93=0,H93=\"yes\"),\"A\",IF(AND(C93=1,H93=\"yes\",'Window & Door DATA INPUT'!R99=\"no\"),\"B\",IF(AND(C93=1,H93=\"yes\",'Window & Door DATA INPUT'!R99=\"yes\",'Window & Door DATA INPUT'!S99=\"yes\"),\"C\",IF(AND(C93=1,H93=\"yes\",'Window & Door DATA INPUT'!R99=\"yes\",'Window & Door DATA INPUT'!S99=\"no\"),\"D\",\"\"))))","v":""},{"$f":"IF(AND(C93=1,H93=\"yes\",OR(I93=Parameters!$K$12,I93=Parameters!$K$13,I93=Parameters!$K$14)),\"E\",IF(AND(C93=1,H93=\"yes\",NOT(OR(I93=Parameters!$K$12,I93=Parameters!$K$13,I93=Parameters!$K$14))),\"F\",\"\"))","v":""},{"$f":"IF(AND(B93=1,H93=\"yes\"),VLOOKUP(I93,Parameters!$K$4:$M$16,3,FALSE),\"\")","v":""},{"$f":"IF(AND(OR(O93=\"A\",O93=\"B\",O93=\"d\"),Q93=\"input\"),'Window & Door DATA INPUT'!AA99,IF(AND(O93=\"C\",Q93=\"input\"),'Window & Door DATA INPUT'!W99,Calculations!Q93))","v":""},{"$f":"IF('Window & Door DATA INPUT'!X99=\"Yes\",'Window & Door DATA INPUT'!Y99/1000,IF(B93=1,\"N/A\",\"\"))","v":""},{"$f":"IF(Q93=\"calc\",IF(O93=\"c\",'Window & Door DATA INPUT'!U99/1000,(Parameters!$S$4-'Window & Door DATA INPUT'!Z99+Parameters!$Q$4)/1000),\"\")","v":""},"","","",{"$f":"IF(OR($H93=\"no\",$B93=0),\"\",IF($I93=Parameters!$K$15,$L93/($M93/2),$L93/$M93))","v":""},{"$f":"IF(OR($H93=\"no\",$B93=0),\"\",IF($X93<0.5,Parameters!$X$4,IF($X93<1,Parameters!$Y$4,IF($X93<2,Parameters!$Z$4,Parameters!$AA$4))))","v":""},{"$f":"IF(OR($H93=\"no\",$B93=0),\"\",IF($X93<0.5,Parameters!$X$5,IF($X93<1,Parameters!$Y$5,IF($X93<2,Parameters!$Z$5,Parameters!$AA$5))))","v":""},{"$f":"IF(OR($H93=\"no\",$B93=0),\"\",IF($I93=Parameters!$K$15,(2*($M93/2)*SIN(RADIANS(Calculations!$W93/2))),(2*$M93*SIN(RADIANS($W93/2)))))","v":""},"",{"$f":"IF(OR($H93=\"no\",$B93=0),\"\",IF($I93=Parameters!$K$15,$AB93*$N93/2,$AB93*$N93))","v":""},{"$f":"IF(OR($H93=\"no\",$B93=0),\"\",IF($I93=Parameters!$K$15,$AC93*2/Parameters!$AB$4,$AC93/Parameters!$AB$4))","v":""},{"$f":"IF(AND(O93=\"B\",Q93=\"calc\"),V93,IF(AND(O93=\"C\",Q93=\"calc\"),'Window & Door DATA INPUT'!T99/1000,\"\"))","v":""},{"$f":"IF(AND(O93=\"B\",Q93=\"input\"),'Window & Door DATA INPUT'!AA99,IF(AND(O93=\"C\",Q93=\"input\",P93=\"F\"),'Window & Door DATA INPUT'!V99,IF(AND(O93=\"C\",P93=\"E\"),0,IF(AND(O93=\"D\"),0,IF(AND(B93=1,C93=0),\"\",(Calculations!Q93))))))","v":""},"",{"$f":"IF(OR($H93=\"no\",$C93=0),\"\",IF($I93=Parameters!$K$15,$L93/($M93/2),$L93/$M93))","v":""},{"$f":"IF(OR($H93=\"no\",$C93=0),\"\",IF($AH93<0.5,Parameters!$X$4,IF($AH93<1,Parameters!$Y$4,IF($AH93<2,Parameters!$Z$4,Parameters!$AA$4))))","v":""},{"$f":"IF(OR($H93=\"no\",$C93=0),\"\",IF($AH93<0.5,Parameters!$X$5,IF($AH93<1,Parameters!$Y$5,IF($AH93<2,Parameters!$Z$5,Parameters!$AA$5))))","v":""},{"$f":"IF(OR($H93=\"no\",$C93=0),\"\",IF($I93=Parameters!$K$15,(2*($M93/2)*SIN(RADIANS(Calculations!$AG93/2))),(2*$M93*SIN(RADIANS($AG93/2)))))","v":""},"",{"$f":"IF(OR($H93=\"no\",$C93=0),\"\",IF($I93=Parameters!$K$15,$AL93*$N93/2,$AL93*$N93))","v":""},{"$f":"IF(OR($H93=\"no\",$C93=0),\"\",IF($I93=Parameters!$K$15,$AM93*2/Parameters!$AB$4,$AM93/Parameters!$AB$4))","v":""},{"$nulls":20},{"$f":"'Window & Door DATA INPUT'!H99","v":0},""]
[null,{"$f":"IF('Window & Door DATA INPUT'!B100>1,1,0)","v":0},{"$f":"IF(AND(B94=1,OR(D94=Parameters!$D$17, D94=Parameters!$D$18,D94=Parameters!$D$19,D94=Parameters!$D$20,D94=Parameters!$D$21,D94=Parameters!$D$22, D94=Parameters!$D$23, D94=Parameters!$D$24)),1,0)","v":0},{"$f":"IF('Window & Door DATA INPUT'!B100=\"\",\"\",'Window & Door DATA INPUT'!B100)","v":""},{"$f":"IF('Window & Door DATA INPUT'!D100=\"\",\"\",'Window & Door DATA INPUT'!D100)","v":""},{"$f":"IF(B94=1,'Window & Door DATA INPUT'!H100&RESULTS!$H$5,\"\")","v":""},{"$f":"IF(B94=1,VLOOKUP(F94,Parameters!$H$4:$I$20,2,FALSE),\"\")","v":""},{"$f":"IF(OR('Window & Door DATA INPUT'!J100=Parameters!$K$4,'Window & Door DATA INPUT'!J100=Parameters!$K$11),\"No\",IF('Window & Door DATA INPUT'!K100=\"\",\"\",'Window & Door DATA INPUT'!K100))","v":""},{"$f":"IF('Window & Door DATA INPUT'!J100=\"\",\"\",'Window & Door DATA INPUT'!J100)","v":""},{"$f":"IF('Window & Door DATA INPUT'!L100=Parameters!$O$5,'Window & Door DATA INPUT'!O100,IF(B94=1,('Window & Door DATA INPUT'!N100*'Window & Door DATA INPUT'!M100)/1000000,\"\"))","v":""},{"$f":"IF('Window & Door DATA INPUT'!J100=\"\",\"\",VLOOKUP('Window & Door DATA INPUT'!J100,Parameters!$K$4:$L$16,2,FALSE))","v":""},{"$f":"IF($H94=\"yes\",IF($K94=\"Y\",'Window & Door DATA INPUT'!Q100/1000,IF($K94=\"N\",'Window & Door DATA INPUT'!P100/1000)),\"\")","v":""},{"$f":"IF($H94=\"yes\",IF($K94=\"Y\",'Window & Door DATA INPUT'!P100/1000,IF($K94=\"N\",'Window & Door DATA INPUT'!Q100/1000)),\"\")","v":""},"",{"$f":"IF(AND(B94=1,C94=0,H94=\"yes\"),\"A\",IF(AND(C94=1,H94=\"yes\",'Window & Door DATA INPUT'!R100=\"no\"),\"B\",IF(AND(C94=1,H94=\"yes\",'Window & Door DATA INPUT'!R100=\"yes\",'Window & Door DATA INPUT'!S100=\"yes\"),\"C\",IF(AND(C94=1,H94=\"yes\",'Window & Door DATA INPUT'!R100=\"yes\",'Window & Door DATA INPUT'!S100=\"no\"),\"D\",\"\"))))","v":""},{"$f":"IF(AND(C94=1,H94=\"yes\",OR(I94=Parameters!$K$12,I94=Parameters!$K$13,I94=Parameters!$K$14)),\"E\",IF(AND(C94=1,H94=\"yes\",NOT(OR(I94=Parameters!$K$12,I94=Parameters!$K$13,I94=Parameters!$K$14))),\"F\",\"\"))","v":""},{"$f":"IF(AND(B94=1,H94=\"yes\"),VLOOKUP(I94,Parameters!$K$4:$M$16,3,FALSE),\"\")","v":""},{"$f":"IF(AND(OR(O94=\"A\",O94=\"B\",O94=\"d\"),Q94=\"input\"),'Window & Door DATA INPUT'!AA100,IF(AND(O94=\"C\",Q94=\"input\"),'Window & Door DATA INPUT'!W100,Calculations!Q94))","v":""},{"$f":"IF('Window & Door DATA INPUT'!X100=\"Yes\",'Window & Door DATA INPUT'!Y100/1000,IF(B94=1,\"N/A\",\"\"))","v":""},{"$f":"IF(Q94=\"calc\",IF(O94=\"c\",'Window & Door DATA INPUT'!U100/1000,(Parameters!$S$4-'Window & Door DATA INPUT'!Z100+Parameters!$Q$4)/1000),\"\")","v":""},"","","",{"$f":"IF(OR($H94=\"no\",$B94=0),\"\",IF($I94=Parameters!$K$15,$L94/($M94/2),$L94/$M94))","v":""},{"$f":"IF(OR($H94=\"no\",$B94=0),\"\",IF($X94<0.5,Parameters!$X$4,IF($X94<1,Parameters!$Y$4,IF($X94<2,Parameters!$Z$4,Parameters!$AA$4))))","v":""},{"$f":"IF(OR($H94=\"no\",$B94=0),\"\",IF($X94<0.5,Parameters!$X$5,IF($X94<1,Parameters!$Y$5,IF($X94<2,Parameters!$Z$5,Parameters!$AA$5))))","v":""},{"$f":"IF(OR($H94=\"no\",$B94=0),\"\",IF($I94=Parameters!$K$15,(2*($M94/2)*SIN(RADIANS(Calculations!$W94/2))),(2*$M94*SIN(RADIANS($W94/2)))))","v":""},"",{"$f":"IF(OR($H94=\"no\",$B94=0),\"\",IF($I94=Parameters!$K$15,$AB94*$N94/2,$AB94*$N94))","v":""},{"$f":"IF(OR($H94=\"no\",$B94=0),\"\",IF($I94=Parameters!$K$15,$AC94*2/Parameters!$AB$4,$AC94/Parameters!$AB$4))","v":""},{"$f":"IF(AND(O94=\"B\",Q94=\"calc\"),V94,IF(AND(O94=\"C\",Q94=\"calc\"),'Window & Door DATA INPUT'!T100/1000,\"\"))","v":""},{"$f":"IF(AND(O94=\"B\",Q94=\"input\"),'Window & Door DATA INPUT'!AA100,IF(AND(O94=\"C\",Q94=\"input\",P94=\"F\"),'Window & Door DATA INPUT'!V100,IF(AND(O94=\"C\",P94=\"E\"),0,IF(AND(O94=\"D\"),0,IF(AND(B94=1,C94=0),\"\",(Calculations!Q94))))))","v":""},"",{"$f":"IF(OR($H94=\"no\",$C94=0),\"\",IF($I94=Parameters!$K$15,$L94/($M94/2),$L94/$M94))","v":""},{"$f":"IF(OR($H94=\"no\",$C94=0),\"\",IF($AH94<0.5,Parameters!$X$4,IF($AH94<1,Parameters!$Y$4,IF($AH94<2,Parameters!$Z$4,Parameters!$AA$4))))","v":""},{"$f":"IF(OR($H94=\"no\",$C94=0),\"\",IF($AH94<0.5,Parameters!$X$5,IF($AH94<1,Parameters!$Y$5,IF($AH94<2,Parameters!$Z$5,Parameters!$AA$5))))","v":""},{"$f":"IF(OR($H94=\"no\",$C94=0),\"\",IF($I94=Parameters!$K$15,(2*($M94/2)*SIN(RADIANS(Calculations!$AG94/2))),(2*$M94*SIN(RADIANS($AG94/2)))))","v":""},"",{"$f":"IF(OR($H94=\"no\",$C94=0),\"\",IF($I94=Parameters!$K$15,$AL94*$N94/2,$AL94*$N94))","v":""},{"$f":"IF(OR($H94=\"no\",$C94=0),\"\",IF($I94=Parameters!$K$15,$AM94*2/Parameters!$AB$4,$AM94/Parameters!$AB$4))","v":""},{"$nulls":20},{"$f":"'Window & Door DATA INPUT'!H100","v":0},""]
[null,{"$f":"IF('Window & Door DATA INPUT'!B101>1,1,0)","v":0},{"$f":"IF(AND(B95=1,OR(D95=Parameters!$D$17, D95=Parameters!$D$18,D95=Parameters!$D$19,D95=Parameters!$D$20,D95=Parameters!$D$21,D95=Parameters!$D$22, D95=Parameters!$D$23, D95=Parameters!$D$24)),1,0)","v":0},{"$f":"IF('Window & Door DATA INPUT'!B101=\"\",\"\",'Window & Door DATA INPUT'!B101)","v":""},{"$f":"IF('Window & Door DATA INPUT'!D101=\"\",\"\",'Window & Door DATA INPUT'!D101)","v":""},{"$f":"IF(B95=1,'Window & Door DATA INPUT'!H101&RESULTS!$H$5,\"\")","v":""},{"$f":"IF(B95=1,VLOOKUP(F95,Parameters!$H$4:$I$20,2,FALSE),\"\")","v":""},{"$f":"IF(OR('Window & Door DATA INPUT'!J101=Parameters!$K$4,'Window & Door DATA INPUT'!J101=Parameters!$K$11),\"No\",IF('Window & Door DATA INPUT'!K101=\"\",\"\",'Window & Door DATA INPUT'!K101))","v":""},{"$f":"IF('Window & Door DATA INPUT'!J101=\"\",\"\",'Window & Door DATA INPUT'!J101)","v":""},{"$f":"IF('Window & Door DATA INPUT'!L101=Parameters!$O$5,'Window & Door DATA INPUT'!O101,IF(B95=1,('Window & Door DATA INPUT'!N101*'Window & Door DATA INPUT'!M101)/1000000,\"\"))","v":""},{"$f":"IF('Window & Door DATA INPUT'!J101=\"\",\"\",VLOOKUP('Window & Door DATA INPUT'!J101,Parameters!$K$4:$L$16,2,FALSE))","v":""},{"$f":"IF($H95=\"yes\",IF($K95=\"Y\",'Window & Door DATA INPUT'!Q101/1000,IF($K95=\"N\",'Window & Door DATA INPUT'!P101/1000)),\"\")","v":""},{"$f":"IF($H95=\"yes\",IF($K95=\"Y\",'Window & Door DATA INPUT'!P101/1000,IF($K95=\"N\",'Window & Door DATA INPUT'!Q101/1000)),\"\")","v":""},"",{"$f":"IF(AND(B95=1,C95=0,H95=\"yes\"),\"A\",IF(AND(C95=1,H95=\"yes\",'Window & Door DATA INPUT'!R101=\"no\"),\"B\",IF(AND(C95=1,H95=\"yes\",'Window & Door DATA INPUT'!R101=\"yes\",'Window & Door DATA INPUT'!S101=\"yes\"),\"C\",IF(AND(C95=1,H95=\"yes\",'Window & Door DATA INPUT'!R101=\"yes\",'Window & Door DATA INPUT'!S101=\"no\"),\"D\",\"\"))))","v":""},{"$f":"IF(AND(C95=1,H95=\"yes\",OR(I95=Parameters!$K$12,I95=Parameters!$K$13,I95=Parameters!$K$14)),\"E\",IF(AND(C95=1,H95=\"yes\",NOT(OR(I95=Parameters!$K$12,I95=Parameters!$K$13,I95=Parameters!$K$14))),\"F\",\"\"))","v":""},{"$f":"IF(AND(B95=1,H95=\"yes\"),VLOOKUP(I95,Parameters!$K$4:$M$16,3,FALSE),\"\")","v":""},{"$f":"IF(AND(OR(O95=\"A\",O95=\"B\",O95=\"d\"),Q95=\"input\"),'Window & Door DATA INPUT'!AA101,IF(AND(O95=\"C\",Q95=\"input\"),'Window & Door DATA INPUT'!W101,Calculations!Q95))","v":""},{"$f":"IF('Window & Door DATA INPUT'!X101=\"Yes\",'Window & Door DATA INPUT'!Y101/1000,IF(B95=1,\"N/A\",\"\"))","v":""},{"$f":"IF(Q95=\"calc\",IF(O95=\"c\",'Window & Door DATA INPUT'!U101/1000,(Parameters!$S$4-'Window & Door DATA INPUT'!Z101+Parameters!$Q$4)/1000),\"\")","v":""},"","","",{"$f":"IF(OR($H95=\"no\",$B95=0),\"\",IF($I95=Parameters!$K$15,$L95/($M95/2),$L95/$M95))","v":""},{"$f":"IF(OR($H95=\"no\",$B95=0),\"\",IF($X95<0.5,Parameters!$X$4,IF($X95<1,Parameters!$Y$4,IF($X95<2,Parameters!$Z$4,Parameters!$AA$4))))","v":""},{"$f":"IF(OR($H95=\"no\",$B95=0),\"\",IF($X95<0.5,Parameters!$X$5,IF($X95<1,Parameters!$Y$5,IF($X95<2,Parameters!$Z$5,Parameters!$AA$5))))","v":""},{"$f":"IF(OR($H95=\"no\",$B95=0),\"\",IF($I95=Parameters!$K$15,(2*($M95/2)*SIN(RADIANS(Calculations!$W95/2))),(2*$M95*SIN(RADIANS($W95/2)))))","v":""},"",{"$f":"IF(OR($H95=\"no\",$B95=0),\"\",IF($I95=Parameters!$K$15,$AB95*$N95/2,$AB95*$N95))","v":""},{"$f":"IF(OR($H95=\"no\",$B95=0),\"\",IF($I95=Parameters!$K$15,$AC95*2/Parameters!$AB$4,$AC95/Parameters!$AB$4))","v":""},{"$f":"IF(AND(O95=\"B\",Q95=\"calc\"),V95,IF(AND(O95=\"C\",Q95=\"calc\"),'Window & Door DATA INPUT'!T101/1000,\"\"))","v":""},{"$f":"IF(AND(O95=\"B\",Q95=\"input\"),'Window & Door DATA INPUT'!AA101,IF(AND(O95=\"C\",Q95=\"input\",P95=\"F\"),'Window & Door DATA INPUT'!V101,IF(AND(O95=\"C\",P95=\"E\"),0,IF(AND(O95=\"D\"),0,IF(AND(B95=1,C95=0),\"\",(Calculations!Q95))))))","v":""},"",{"$f":"IF(OR($H95=\"no\",$C95=0),\"\",IF($I95=Parameters!$K$15,$L95/($M95/2),$L95/$M95))","v":""},{"$f":"IF(OR($H95=\"no\",$C95=0),\"\",IF($AH95<0.5,Parameters!$X$4,IF($AH95<1,Parameters!$Y$4,IF($AH95<2,Parameters!$Z$4,Parameters!$AA$4))))","v":""},{"$f":"IF(OR($H95=\"no\",$C95=0),\"\",IF($AH95<0.5,Parameters!$X$5,IF($AH95<1,Parameters!$Y$5,IF($AH95<2,Parameters!$Z$5,Parameters!$AA$5))))","v":""},{"$f":"IF(OR($H95=\"no\",$C95=0),\"\",IF($I95=Parameters!$K$15,(2*($M95/2)*SIN(RADIANS(Calculations!$AG95/2))),(2*$M95*SIN(RADIANS($AG95/2)))))","v":""},"",{"$f":"IF(OR($H95=\"no\",$C95=0),\"\",IF($I95=Parameters!$K$15,$AL95*$N95/2,$AL95*$N95))","v":""},{"$f":"IF(OR($H95=\"no\",$C95=0),\"\",IF($I95=Parameters!$K$15,$AM95*2/Parameters!$AB$4,$AM95/Parameters!$AB$4))","v":""},{"$nulls":20},{"$f":"'Window & Door DATA INPUT'!H101","v":0},""]
[null,{"$f":"IF('Window & Door DATA INPUT'!B102>1,1,0)","v":0},{"$f":"IF(AND(B96=1,OR(D96=Parameters!$D$17, D96=Parameters!$D$18,D96=Parameters!$D$19,D96=Parameters!$D$20,D96=Parameters!$D$21,D96=Parameters!$D$22, D96=Parameters!$D$23, D96=Parameters!$D$24)),1,0)","v":0},{"$f":"IF('Window & Door DATA INPUT'!B102=\"\",\"\",'Window & Door DATA INPUT'!B102)","v":""},{"$f":"IF('Window & Door DATA INPUT'!D102=\"\",\"\",'Window & Door DATA INPUT'!D102)","v":""},{"$f":"IF(B96=1,'Window & Door DATA INPUT'!H102&RESULTS!$H$5,\"\")","v":""},{"$f":"IF(B96=1,VLOOKUP(F96,Parameters!$H$4:$I$20,2,FALSE),\"\")","v":""},{"$f":"IF(OR('Window & Door DATA INPUT'!J102=Parameters!$K$4,'Window & Door DATA INPUT'!J102=Parameters!$K$11),\"No\",IF('Window & Door DATA INPUT'!K102=\"\",\"\",'Window & Door DATA INPUT'!K102))","v":""},{"$f":"IF('Window & Door DATA INPUT'!J102=\"\",\"\",'Window & Door DATA INPUT'!J102)","v":""},{"$f":"IF('Window & Door DATA INPUT'!L102=Parameters!$O$5,'Window & Door DATA INPUT'!O102,IF(B96=1,('Window & Door DATA INPUT'!N102*'Window & Door DATA INPUT'!M102)/1000000,\"\"))","v":""},{"$f":"IF('Window & Door DATA INPUT'!J102=\"\",\"\",VLOOKUP('Window & Door DATA INPUT'!J102,Parameters!$K$4:$L$16,2,FALSE))","v":""},{"$f":"IF($H96=\"yes\",IF($K96=\"Y\",'Window & Door DATA INPUT'!Q102/1000,IF($K96=\"N\",'Window & Door DATA INPUT'!P102/1000)),\"\")","v":""},{"$f":"IF($H96=\"yes\",IF($K96=\"Y\",'Window & Door DATA INPUT'!P102/1000,IF($K96=\"N\",'Window & Door DATA INPUT'!Q102/1000)),\"\")","v":""},"",{"$f":"IF(AND(B96=1,C96=0,H96=\"yes\"),\"A\",IF(AND(C96=1,H96=\"yes\",'Window & Door DATA INPUT'!R102=\"no\"),\"B\",IF(AND(C96=1,H96=\"yes\",'Window & Door DATA INPUT'!R102=\"yes\",'Window & Door DATA INPUT'!S102=\"yes\"),\"C\",IF(AND(C96=1,H96=\"yes\",'Window & Door DATA INPUT'!R102=\"yes\",'Window & Door DATA INPUT'!S102=\"no\"),\"D\",\"\"))))","v":""},{"$f":"IF(AND(C96=1,H96=\"yes\",OR(I96=Parameters!$K$12,I96=Parameters!$K$13,I96=Parameters!$K$14)),\"E\",IF(AND(C96=1,H96=\"yes\",NOT(OR(I96=Parameters!$K$12,I96=Parameters!$K$13,I96=Parameters!$K$14))),\"F\",\"\"))","v":""},{"$f":"IF(AND(B96=1,H96=\"yes\"),VLOOKUP(I96,Parameters!$K$4:$M$16,3,FALSE),\"\")","v":""},{"$f":"IF(AND(OR(O96=\"A\",O96=\"B\",O96=\"d\"),Q96=\"input\"),'Window & Door DATA INPUT'!AA102,IF(AND(O96=\"C\",Q96=\"input\"),'Window & Door DATA INPUT'!W102,Calculations!Q96))","v":""},{"$f":"IF('Window & Door DATA INPUT'!X102=\"Yes\",'Window & Door DATA INPUT'!Y102/1000,IF(B96=1,\"N/A\",\"\"))","v":""},{"$f":"IF(Q96=\"calc\",IF(O96=\"c\",'Window & Door DATA INPUT'!U102/1000,(Parameters!$S$4-'Window & Door DATA INPUT'!Z102+Parameters!$Q$4)/1000),\"\")","v":""},"","","",{"$f":"IF(OR($H96=\"no\",$B96=0),\"\",IF($I96=Parameters!$K$15,$L96/($M96/2),$L96/$M96))","v":""},{"$f":"IF(OR($H96=\"no\",$B96=0),\"\",IF($X96<0.5,Parameters!$X$4,IF($X96<1,Parameters!$Y$4,IF($X96<2,Parameters!$Z$4,Parameters!$AA$4))))","v":""},{"$f":"IF(OR($H96=\"no\",$B96=0),\"\",IF($X96<0.5,Parameters!$X$5,IF($X96<1,Parameters!$Y$5,IF($X96<2,Parameters!$Z$5,Parameters!$AA$5))))","v":""},{"$f":"IF(OR($H96=\"no\",$B96=0),\"\",IF($I96=Parameters!$K$15,(2*($M96/2)*SIN(RADIANS(Calculations!$W96/2))),(2*$M96*SIN(RADIANS($W96/2)))))","v":""},"",{"$f":"IF(OR($H96=\"no\",$B96=0),\"\",IF($I96=Parameters!$K$15,$AB96*$N96/2,$AB96*$N96))","v":""},{"$f":"IF(OR($H96=\"no\",$B96=0),\"\",IF($I96=Parameters!$K$15,$AC96*2/Parameters!$AB$4,$AC96/Parameters!$AB$4))","v":""},{"$f":"IF(AND(O96=\"B\",Q96=\"calc\"),V96,IF(AND(O96=\"C\",Q96=\"calc\"),'Window & Door DATA INPUT'!T102/1000,\"\"))","v":""},{"$f":"IF(AND(O96=\"B\",Q96=\"input\"),'Window & Door DATA INPUT'!AA102,IF(AND(O96=\"C\",Q96=\"input\",P96=\"F\"),'Window & Door DATA INPUT'!V102,IF(AND(O96=\"C\",P96=\"E\"),0,IF(AND(O96=\"D\"),0,IF(AND(B96=1,C96=0),\"\",(Calculations!Q96))))))","v":""},"",{"$f":"IF(OR($H96=\"no\",$C96=0),\"\",IF($I96=Parameters!$K$15,$L96/($M96/2),$L96/$M96))","v":""},{"$f":"IF(OR($H96=\"no\",$C96=0),\"\",IF($AH96<0.5,Parameters!$X$4,IF($AH96<1,Parameters!$Y$4,IF($AH96<2,Parameters!$Z$4,Parameters!$AA$4))))","v":""},{"$f":"IF(OR($H96=\"no\",$C96=0),\"\",IF($AH96<0.5,Parameters!$X$5,IF($AH96<1,Parameters!$Y$5,IF($AH96<2,Parameters!$Z$5,Parameters!$AA$5))))","v":""},{"$f":"IF(OR($H96=\"no\",$C96=0),\"\",IF($I96=Parameters!$K$15,(2*($M96/2)*SIN(RADIANS(Calculations!$AG96/2))),(2*$M96*SIN(RADIANS($AG96/2)))))","v":""},"",{"$f":"IF(OR($H96=\"no\",$C96=0),\"\",IF($I96=Parameters!$K$15,$AL96*$N96/2,$AL96*$N96))","v":""},{"$f":"IF(OR($H96=\"no\",$C96=0),\"\",IF($I96=Parameters!$K$15,$AM96*2/Parameters!$AB$4,$AM96/Parameters!$AB$4))","v":""},{"$nulls":20},{"$f":"'Window & Door DATA INPUT'!H102","v":0},""]
[null,{"$f":"IF('Window & Door DATA INPUT'!B103>1,1,0)","v":0},{"$f":"IF(AND(B97=1,OR(D97=Parameters!$D$17, D97=Parameters!$D$18,D97=Parameters!$D$19,D97=Parameters!$D$20,D97=Parameters!$D$21,D97=Parameters!$D$22, D97=Parameters!$D$23, D97=Parameters!$D$24)),1,0)","v":0},{"$f":"IF('Window & Door DATA INPUT'!B103=\"\",\"\",'Window & Door DATA INPUT'!B103)","v":""},{"$f":"IF('Window & Door DATA INPUT'!D103=\"\",\"\",'Window & Door DATA INPUT'!D103)","v":""},{"$f":"IF(B97=1,'Window & Door DATA INPUT'!H103&RESULTS!$H$5,\"\")","v":""},{"$f":"IF(B97=1,VLOOKUP(F97,Parameters!$H$4:$I$20,2,FALSE),\"\")","v":""},{"$f":"IF(OR('Window & Door DATA INPUT'!J103=Parameters!$K$4,'Window & Door DATA INPUT'!J103=Parameters!$K$11),\"No\",IF('Window & Door DATA INPUT'!K103=\"\",\"\",'Window & Door DATA INPUT'!K103))","v":""},{"$f":"IF('Window & Door DATA INPUT'!J103=\"\",\"\",'Window & Door DATA INPUT'!J103)","v":""},{"$f":"IF('Window & Door DATA INPUT'!L103=Parameters!$O$5,'Window & Door DATA INPUT'!O103,IF(B97=1,('Window & Door DATA INPUT'!N103*'Window & Door DATA INPUT'!M103)/1000000,\"\"))","v":""},{"$f":"IF('Window & Door DATA INPUT'!J103=\"\",\"\",VLOOKUP('Window & Door DATA INPUT'!J103,Parameters!$K$4:$L$16,2,FALSE))","v":""},{"$f":"IF($H97=\"yes\",IF($K97=\"Y\",'Window & Door DATA INPUT'!Q103/1000,IF($K97=\"N\",'Window & Door DATA INPUT'!P103/1000)),\"\")","v":""},{"$f":"IF($H97=\"yes\",IF($K97=\"Y\",'Window & Door DATA INPUT'!P103/1000,IF($K97=\"N\",'Window & Door DATA INPUT'!Q103/1000)),\"\")","v":""},"",{"$f":"IF(AND(B97=1,C97=0,H97=\"yes\"),\"A\",IF(AND(C97=1,H97=\"yes\",'Window & Door DATA INPUT'!R103=\"no\"),\"B\",IF(AND(C97=1,H97=\"yes\",'Window & Door DATA INPUT'!R103=\"yes\",'Window & Door DATA INPUT'!S103=\"yes\"),\"C\",IF(AND(C97=1,H97=\"yes\",'Window & Door DATA INPUT'!R103=\"yes\",'Window & Door DATA INPUT'!S103=\"no\"),\"D\",\"\"))))","v":""},{"$f":"IF(AND(C97=1,H97=\"yes\",OR(I97=Parameters!$K$12,I97=Parameters!$K$13,I97=Parameters!$K$14)),\"E\",IF(AND(C97=1,H97=\"yes\",NOT(OR(I97=Parameters!$K$12,I97=Parameters!$K$13,I97=Parameters!$K$14))),\"F\",\"\"))","v":""},{"$f":"IF(AND(B97=1,H97=\"yes\"),VLOOKUP(I97,Parameters!$K$4:$M$16,3,FALSE),\"\")","v":""},{"$f":"IF(AND(OR(O97=\"A\",O97=\"B\",O97=\"d\"),Q97=\"input\"),'Window & Door DATA INPUT'!AA103,IF(AND(O97=\"C\",Q97=\"input\"),'Window & Door DATA INPUT'!W103,Calculations!Q97))","v":""},{"$f":"IF('Window & Door DATA INPUT'!X103=\"Yes\",'Window & Door DATA INPUT'!Y103/1000,IF(B97=1,\"N/A\",\"\"))","v":""},{"$f":"IF(Q97=\"calc\",IF(O97=\"c\",'Window & Door DATA INPUT'!U103/1000,(Parameters!$S$4-'Window & Door DATA INPUT'!Z103+Parameters!$Q$4)/1000),\"\")","v":""},"","","",{"$f":"IF(OR($H97=\"no\",$B97=0),\"\",IF($I97=Parameters!$K$15,$L97/($M97/2),$L97/$M97))","v":""},{"$f":"IF(OR($H97=\"no\",$B97=0),\"\",IF($X97<0.5,Parameters!$X$4,IF($X97<1,Parameters!$Y$4,IF($X97<2,Parameters!$Z$4,Parameters!$AA$4))))","v":""},{"$f":"IF(OR($H97=\"no\",$B97=0),\"\",IF($X97<0.5,Parameters!$X$5,IF($X97<1,Parameters!$Y$5,IF($X97<2,Parameters!$Z$5,Parameters!$AA$5))))","v":""},{"$f":"IF(OR($H97=\"no\",$B97=0),\"\",IF($I97=Parameters!$K$15,(2*($M97/2)*SIN(RADIANS(Calculations!$W97/2))),(2*$M97*SIN(RADIANS($W97/2)))))","v":""},"",{"$f":"IF(OR($H97=\"no\",$B97=0),\"\",IF($I97=Parameters!$K$15,$AB97*$N97/2,$AB97*$N97))","v":""},{"$f":"IF(OR($H97=\"no\",$B97=0),\"\",IF($I97=Parameters!$K$15,$AC97*2/Parameters!$AB$4,$AC97/Parameters!$AB$4))","v":""},{"$f":"IF(AND(O97=\"B\",Q97=\"calc\"),V97,IF(AND(O97=\"C\",Q97=\"calc\"),'Window & Door DATA INPUT'!T103/1000,\"\"))","v":""},{"$f":"IF(AND(O97=\"B\",Q97=\"input\"),'Window & Door DATA INPUT'!AA103,IF(AND(O97=\"C\",Q97=\"input\",P97=\"F\"),'Window & Door DATA INPUT'!V103,IF(AND(O97=\"C\",P97=\"E\"),0,IF(AND(O97=\"D\"),0,IF(AND(B97=1,C97=0),\"\",(Calculations!Q97))))))","v":""},"",{"$f":"IF(OR($H97=\"no\",$C97=0),\"\",IF($I97=Parameters!$K$15,$L97/($M97/2),$L97/$M97))","v":""},{"$f":"IF(OR($H97=\"no\",$C97=0),\"\",IF($AH97<0.5,Parameters!$X$4,IF($AH97<1,Parameters!$Y$4,IF($AH97<2,Parameters!$Z$4,Parameters!$AA$4))))","v":""},{"$f":"IF(OR($H97=\"no\",$C97=0),\"\",IF($AH97<0.5,Parameters!$X$5,IF($AH97<1,Parameters!$Y$5,IF($AH97<2,Parameters!$Z$5,Parameters!$AA$5))))","v":""},{"$f":"IF(OR($H97=\"no\",$C97=0),\"\",IF($I97=Parameters!$K$15,(2*($M97/2)*SIN(RADIANS(Calculations!$AG97/2))),(2*$M97*SIN(RADIANS($AG97/2)))))","v":""},"",{"$f":"IF(OR($H97=\"no\",$C97=0),\"\",IF($I97=Parameters!$K$15,$AL97*$N97/2,$AL97*$N97))","v":""},{"$f":"IF(OR($H97=\"no\",$C97=0),\"\",IF($I97=Parameters!$K$15,$AM97*2/Parameters!$AB$4,$AM97/Parameters!$AB$4))","v":""},{"$nulls":20},{"$f":"'Window & Door DATA INPUT'!H103","v":0},""]
[null,{"$f":"IF('Window & Door DATA INPUT'!B104>1,1,0)","v":0},{"$f":"IF(AND(B98=1,OR(D98=Parameters!$D$17, D98=Parameters!$D$18,D98=Parameters!$D$19,D98=Parameters!$D$20,D98=Parameters!$D$21,D98=Parameters!$D$22, D98=Parameters!$D$23, D98=Parameters!$D$24)),1,0)","v":0},{"$f":"IF('Window & Door DATA INPUT'!B104=\"\",\"\",'Window & Door DATA INPUT'!B104)","v":""},{"$f":"IF('Window & Door DATA INPUT'!D104=\"\",\"\",'Window & Door DATA INPUT'!D104)","v":""},{"$f":"IF(B98=1,'Window & Door DATA INPUT'!H104&RESULTS!$H$5,\"\")","v":""},{"$f":"IF(B98=1,VLOOKUP(F98,Parameters!$H$4:$I$20,2,FALSE),\"\")","v":""},{"$f":"IF(OR('Window & Door DATA INPUT'!J104=Parameters!$K$4,'Window & Door DATA INPUT'!J104=Parameters!$K$11),\"No\",IF('Window & Door DATA INPUT'!K104=\"\",\"\",'Window & Door DATA INPUT'!K104))","v":""},{"$f":"IF('Window & Door DATA INPUT'!J104=\"\",\"\",'Window & Door DATA INPUT'!J104)","v":""},{"$f":"IF('Window & Door DATA INPUT'!L104=Parameters!$O$5,'Window & Door DATA INPUT'!O104,IF(B98=1,('Window & Door DATA INPUT'!N104*'Window & Door DATA INPUT'!M104)/1000000,\"\"))","v":""},{"$f":"IF('Window & Door DATA INPUT'!J104=\"\",\"\",VLOOKUP('Window & Door DATA INPUT'!J104,Parameters!$K$4:$L$16,2,FALSE))","v":""},{"$f":"IF($H98=\"yes\",IF($K98=\"Y\",'Window & Door DATA INPUT'!Q104/1000,IF($K98=\"N\",'Window & Door DATA INPUT'!P104/1000)),\"\")","v":""},{"$f":"IF($H98=\"yes\",IF($K98=\"Y\",'Window & Door DATA INPUT'!P104/1000,IF($K98=\"N\",'Window & Door DATA INPUT'!Q104/1000)),\"\")","v":""},"",{"$f":"IF(AND(B98=1,C98=0,H98=\"yes\"),\"A\",IF(AND(C98=1,H98=\"yes\",'Window & Door DATA INPUT'!R104=\"no\"),\"B\",IF(AND(C98=1,H98=\"yes\",'Window & Door DATA INPUT'!R104=\"yes\",'Window & Door DATA INPUT'!S104=\"yes\"),\"C\",IF(AND(C98=1,H98=\"yes\",'Window & Door DATA INPUT'!R104=\"yes\",'Window & Door DATA INPUT'!S104=\"no\"),\"D\",\"\"))))","v":""},{"$f":"IF(AND(C98=1,H98=\"yes\",OR(I98=Parameters!$K$12,I98=Parameters!$K$13,I98=Parameters!$K$14)),\"E\",IF(AND(C98=1,H98=\"yes\",NOT(OR(I98=Parameters!$K$12,I98=Parameters!$K$13,I98=Parameters!$K$14))),\"F\",\"\"))","v":""},{"$f":"IF(AND(B98=1,H98=\"yes\"),VLOOKUP(I98,Parameters!$K$4:$M$16,3,FALSE),\"\")","v":""},{"$f":"IF(AND(OR(O98=\"A\",O98=\"B\",O98=\"d\"),Q98=\"input\"),'Window & Door DATA INPUT'!AA104,IF(AND(O98=\"C\",Q98=\"input\"),'Window & Door DATA INPUT'!W104,Calculations!Q98))","v":""},{"$f":"IF('Window & Door DATA INPUT'!X104=\"Yes\",'Window & Door DATA INPUT'!Y104/1000,IF(B98=1,\"N/A\",\"\"))","v":""},{"$f":"IF(Q98=\"calc\",IF(O98=\"c\",'Window & Door DATA INPUT'!U104/1000,(Parameters!$S$4-'Window & Door DATA INPUT'!Z104+Parameters!$Q$4)/1000),\"\")","v":""},"","","",{"$f":"IF(OR($H98=\"no\",$B98=0),\"\",IF($I98=Parameters!$K$15,$L98/($M98/2),$L98/$M98))","v":""},{"$f":"IF(OR($H98=\"no\",$B98=0),\"\",IF($X98<0.5,Parameters!$X$4,IF($X98<1,Parameters!$Y$4,IF($X98<2,Parameters!$Z$4,Parameters!$AA$4))))","v":""},{"$f":"IF(OR($H98=\"no\",$B98=0),\"\",IF($X98<0.5,Parameters!$X$5,IF($X98<1,Parameters!$Y$5,IF($X98<2,Parameters!$Z$5,Parameters!$AA$5))))","v":""},{"$f":"IF(OR($H98=\"no\",$B98=0),\"\",IF($I98=Parameters!$K$15,(2*($M98/2)*SIN(RADIANS(Calculations!$W98/2))),(2*$M98*SIN(RADIANS($W98/2)))))","v":""},"",{"$f":"IF(OR($H98=\"no\",$B98=0),\"\",IF($I98=Parameters!$K$15,$AB98*$N98/2,$AB98*$N98))","v":""},{"$f":"IF(OR($H98=\"no\",$B98=0),\"\",IF($I98=Parameters!$K$15,$AC98*2/Parameters!$AB$4,$AC98/Parameters!$AB$4))","v":""},{"$f":"IF(AND(O98=\"B\",Q98=\"calc\"),V98,IF(AND(O98=\"C\",Q98=\"calc\"),'Window & Door DATA INPUT'!T104/1000,\"\"))","v":""},{"$f":"IF(AND(O98=\"B\",Q98=\"input\"),'Window & Door DATA INPUT'!AA104,IF(AND(O98=\"C\",Q98=\"input\",P98=\"F\"),'Window & Door DATA INPUT'!V104,IF(AND(O98=\"C\",P98=\"E\"),0,IF(AND(O98=\"D\"),0,IF(AND(B98=1,C98=0),\"\",(Calculations!Q98))))))","v":""},"",{"$f":"IF(OR($H98=\"no\",$C98=0),\"\",IF($I98=Parameters!$K$15,$L98/($M98/2),$L98/$M98))","v":""},{"$f":"IF(OR($H98=\"no\",$C98=0),\"\",IF($AH98<0.5,Parameters!$X$4,IF($AH98<1,Parameters!$Y$4,IF($AH98<2,Parameters!$Z$4,Parameters!$AA$4))))","v":""},{"$f":"IF(OR($H98=\"no\",$C98=0),\"\",IF($AH98<0.5,Parameters!$X$5,IF($AH98<1,Parameters!$Y$5,IF($AH98<2,Parameters!$Z$5,Parameters!$AA$5))))","v":""},{"$f":"IF(OR($H98=\"no\",$C98=0),\"\",IF($I98=Parameters!$K$15,(2*($M98/2)*SIN(RADIANS(Calculations!$AG98/2))),(2*$M98*SIN(RADIANS($AG98/2)))))","v":""},"",{"$f":"IF(OR($H98=\"no\",$C98=0),\"\",IF($I98=Parameters!$K$15,$AL98*$N98/2,$AL98*$N98))","v":""},{"$f":"IF(OR($H98=\"no\",$C98=0),\"\",IF($I98=Parameters!$K$15,$AM98*2/Parameters!$AB$4,$AM98/Parameters!$AB$4))","v":""},{"$nulls":20},{"$f":"'Window & Door DATA INPUT'!H104","v":0},""]
[null,{"$f":"IF('Window & Door DATA INPUT'!B105>1,1,0)","v":0},{"$f":"IF(AND(B99=1,OR(D99=Parameters!$D$17, D99=Parameters!$D$18,D99=Parameters!$D$19,D99=Parameters!$D$20,D99=Parameters!$D$21,D99=Parameters!$D$22, D99=Parameters!$D$23, D99=Parameters!$D$24)),1,0)","v":0},{"$f":"IF('Window & Door DATA INPUT'!B105=\"\",\"\",'Window & Door DATA INPUT'!B105)","v":""},{"$f":"IF('Window & Door DATA INPUT'!D105=\"\",\"\",'Window & Door DATA INPUT'!D105)","v":""},{"$f":"IF(B99=1,'Window & Door DATA INPUT'!H105&RESULTS!$H$5,\"\")","v":""},{"$f":"IF(B99=1,VLOOKUP(F99,Parameters!$H$4:$I$20,2,FALSE),\"\")","v":""},{"$f":"IF(OR('Window & Door DATA INPUT'!J105=Parameters!$K$4,'Window & Door DATA INPUT'!J105=Parameters!$K$11),\"No\",IF('Window & Door DATA INPUT'!K105=\"\",\"\",'Window & Door DATA INPUT'!K105))","v":""},{"$f":"IF('Window & Door DATA INPUT'!J105=\"\",\"\",'Window & Door DATA INPUT'!J105)","v":""},{"$f":"IF('Window & Door DATA INPUT'!L105=Parameters!$O$5,'Window & Door DATA INPUT'!O105,IF(B99=1,('Window & Door DATA INPUT'!N105*'Window & Door DATA INPUT'!M105)/1000000,\"\"))","v":""},{"$f":"IF('Window & Door DATA INPUT'!J105=\"\",\"\",VLOOKUP('Window & Door DATA INPUT'!J105,Parameters!$K$4:$L$16,2,FALSE))","v":""},{"$f":"IF($H99=\"yes\",IF($K99=\"Y\",'Window & Door DATA INPUT'!Q105/1000,IF($K99=\"N\",'Window & Door DATA INPUT'!P105/1000)),\"\")","v":""},{"$f":"IF($H99=\"yes\",IF($K99=\"Y\",'Window & Door DATA INPUT'!P105/1000,IF($K99=\"N\",'Window & Door DATA INPUT'!Q105/1000)),\"\")","v":""},"",{"$f":"IF(AND(B99=1,C99=0,H99=\"yes\"),\"A\",IF(AND(C99=1,H99=\"yes\",'Window & Door DATA INPUT'!R105=\"no\"),\"B\",IF(AND(C99=1,H99=\"yes\",'Window & Door DATA INPUT'!R105=\"yes\",'Window & Door DATA INPUT'!S105=\"yes\"),\"C\",IF(AND(C99=1,H99=\"yes\",'Window & Door DATA INPUT'!R105=\"yes\",'Window & Door DATA INPUT'!S105=\"no\"),\"D\",\"\"))))","v":""},{"$f":"IF(AND(C99=1,H99=\"yes\",OR(I99=Parameters!$K$12,I99=Parameters!$K$13,I99=Parameters!$K$14)),\"E\",IF(AND(C99=1,H99=\"yes\",NOT(OR(I99=Parameters!$K$12,I99=Parameters!$K$13,I99=Parameters!$K$14))),\"F\",\"\"))","v":""},{"$f":"IF(AND(B99=1,H99=\"yes\"),VLOOKUP(I99,Parameters!$K$4:$M$16,3,FALSE),\"\")","v":""},{"$f":"IF(AND(OR(O99=\"A\",O99=\"B\",O99=\"d\"),Q99=\"input\"),'Window & Door DATA INPUT'!AA105,IF(AND(O99=\"C\",Q99=\"input\"),'Window & Door DATA INPUT'!W105,Calculations!Q99))","v":""},{"$f":"IF('Window & Door DATA INPUT'!X105=\"Yes\",'Window & Door DATA INPUT'!Y105/1000,IF(B99=1,\"N/A\",\"\"))","v":""},{"$f":"IF(Q99=\"calc\",IF(O99=\"c\",'Window & Door DATA INPUT'!U105/1000,(Parameters!$S$4-'Window & Door DATA INPUT'!Z105+Parameters!$Q$4)/1000),\"\")","v":""},"","","",{"$f":"IF(OR($H99=\"no\",$B99=0),\"\",IF($I99=Parameters!$K$15,$L99/($M99/2),$L99/$M99))","v":""},{"$f":"IF(OR($H99=\"no\",$B99=0),\"\",IF($X99<0.5,Parameters!$X$4,IF($X99<1,Parameters!$Y$4,IF($X99<2,Parameters!$Z$4,Parameters!$AA$4))))","v":""},{"$f":"IF(OR($H99=\"no\",$B99=0),\"\",IF($X99<0.5,Parameters!$X$5,IF($X99<1,Parameters!$Y$5,IF($X99<2,Parameters!$Z$5,Parameters!$AA$5))))","v":""},{"$f":"IF(OR($H99=\"no\",$B99=0),\"\",IF($I99=Parameters!$K$15,(2*($M99/2)*SIN(RADIANS(Calculations!$W99/2))),(2*$M99*SIN(RADIANS($W99/2)))))","v":""},"",{"$f":"IF(OR($H99=\"no\",$B99=0),\"\",IF($I99=Parameters!$K$15,$AB99*$N99/2,$AB99*$N99))","v":""},{"$f":"IF(OR($H99=\"no\",$B99=0),\"\",IF($I99=Parameters!$K$15,$AC99*2/Parameters!$AB$4,$AC99/Parameters!$AB$4))","v":""},{"$f":"IF(AND(O99=\"B\",Q99=\"calc\"),V99,IF(AND(O99=\"C\",Q99=\"calc\"),'Window & Door DATA INPUT'!T105/1000,\"\"))","v":""},{"$f":"IF(AND(O99=\"B\",Q99=\"input\"),'Window & Door DATA INPUT'!AA105,IF(AND(O99=\"C\",Q99=\"input\",P99=\"F\"),'Window & Door DATA INPUT'!V105,IF(AND(O99=\"C\",P99=\"E\"),0,IF(AND(O99=\"D\"),0,IF(AND(B99=1,C99=0),\"\",(Calculations!Q99))))))","v":""},"",{"$f":"IF(OR($H99=\"no\",$C99=0),\"\",IF($I99=Parameters!$K$15,$L99/($M99/2),$L99/$M99))","v":""},{"$f":"IF(OR($H99=\"no\",$C99=0),\"\",IF($AH99<0.5,Parameters!$X$4,IF($AH99<1,Parameters!$Y$4,IF($AH99<2,Parameters!$Z$4,Parameters!$AA$4))))","v":""},{"$f":"IF(OR($H99=\"no\",$C99=0),\"\",IF($AH99<0.5,Parameters!$X$5,IF($AH99<1,Parameters!$Y$5,IF($AH99<2,Parameters!$Z$5,Parameters!$AA$5))))","v":""},{"$f":"IF(OR($H99=\"no\",$C99=0),\"\",IF($I99=Parameters!$K$15,(2*($M99/2)*SIN(RADIANS(Calculations!$AG99/2))),(2*$M99*SIN(RADIANS($AG99/2)))))","v":""},"",{"$f":"IF(OR($H99=\"no\",$C99=0),\"\",IF($I99=Parameters!$K$15,$AL99*$N99/2,$AL99*$N99))","v":""},{"$f":"IF(OR($H99=\"no\",$C99=0),\"\",IF($I99=Parameters!$K$15,$AM99*2/Parameters!$AB$4,$AM99/Parameters!$AB$4))","v":""},{"$nulls":20},{"$f":"'Window & Door DATA INPUT'!H105","v":0},""]
[null,{"$f":"IF('Window & Door DATA INPUT'!B106>1,1,0)","v":0},{"$f":"IF(AND(B100=1,OR(D100=Parameters!$D$17, D100=Parameters!$D$18,D100=Parameters!$D$19,D100=Parameters!$D$20,D100=Parameters!$D$21,D100=Parameters!$D$22, D100=Parameters!$D$23, D100=Parameters!$D$24)),1,0)","v":0},{"$f":"IF('Window & Door DATA INPUT'!B106=\"\",\"\",'Window & Door DATA INPUT'!B106)","v":""},{"$f":"IF('Window & Door DATA INPUT'!D106=\"\",\"\",'Window & Door DATA INPUT'!D106)","v":""},{"$f":"IF(B100=1,'Window & Door DATA INPUT'!H106&RESULTS!$H$5,\"\")","v":""},{"$f":"IF(B100=1,VLOOKUP(F100,Parameters!$H$4:$I$20,2,FALSE),\"\")","v":""},{"$f":"IF(OR('Window & Door DATA INPUT'!J106=Parameters!$K$4,'Window & Door DATA INPUT'!J106=Parameters!$K$11),\"No\",IF('Window & Door DATA INPUT'!K106=\"\",\"\",'Window & Door DATA INPUT'!K106))","v":""},{"$f":"IF('Window & Door DATA INPUT'!J106=\"\",\"\",'Window & Door DATA INPUT'!J106)","v":""},{"$f":"IF('Window & Door DATA INPUT'!L106=Parameters!$O$5,'Window & Door DATA INPUT'!O106,IF(B100=1,('Window & Door DATA INPUT'!N106*'Window & Door DATA INPUT'!M106)/1000000,\"\"))","v":""},{"$f":"IF('Window & Door DATA INPUT'!J106=\"\",\"\",VLOOKUP('Window & Door DATA INPUT'!J106,Parameters!$K$4:$L$16,2,FALSE))","v":""},{"$f":"IF($H100=\"yes\",IF($K100=\"Y\",'Window & Door DATA INPUT'!Q106/1000,IF($K100=\"N\",'Window & Door DATA INPUT'!P106/1000)),\"\")","v":""},{"$f":"IF($H100=\"yes\",IF($K100=\"Y\",'Window & Door DATA INPUT'!P106/1000,IF($K100=\"N\",'Window & Door DATA INPUT'!Q106/1000)),\"\")","v":""},"",{"$f":"IF(AND(B100=1,C100=0,H100=\"yes\"),\"A\",IF(AND(C100=1,H100=\"yes\",'Window & Door DATA INPUT'!R106=\"no\"),\"B\",IF(AND(C100=1,H100=\"yes\",'Window & Door DATA INPUT'!R106=\"yes\",'Window & Door DATA INPUT'!S106=\"yes\"),\"C\",IF(AND(C100=1,H100=\"yes\",'Window & Door DATA INPUT'!R106=\"yes\",'Window & Door DATA INPUT'!S106=\"no\"),\"D\",\"\"))))","v":""},{"$f":"IF(AND(C100=1,H100=\"yes\",OR(I100=Parameters!$K$12,I100=Parameters!$K$13,I100=Parameters!$K$14)),\"E\",IF(AND(C100=1,H100=\"yes\",NOT(OR(I100=Parameters!$K$12,I100=Parameters!$K$13,I100=Parameters!$K$14))),\"F\",\"\"))","v":""},{"$f":"IF(AND(B100=1,H100=\"yes\"),VLOOKUP(I100,Parameters!$K$4:$M$16,3,FALSE),\"\")","v":""},{"$f":"IF(AND(OR(O100=\"A\",O100=\"B\",O100=\"d\"),Q100=\"input\"),'Window & Door DATA INPUT'!AA106,IF(AND(O100=\"C\",Q100=\"input\"),'Window & Door DATA INPUT'!W106,Calculations!Q100))","v":""},{"$f":"IF('Window & Door DATA INPUT'!X106=\"Yes\",'Window & Door DATA INPUT'!Y106/1000,IF(B100=1,\"N/A\",\"\"))","v":""},{"$f":"IF(Q100=\"calc\",IF(O100=\"c\",'Window & Door DATA INPUT'!U106/1000,(Parameters!$S$4-'Window & Door DATA INPUT'!Z106+Parameters!$Q$4)/1000),\"\")","v":""},"","","",{"$f":"IF(OR($H100=\"no\",$B100=0),\"\",IF($I100=Parameters!$K$15,$L100/($M100/2),$L100/$M100))","v":""},{"$f":"IF(OR($H100=\"no\",$B100=0),\"\",IF($X100<0.5,Parameters!$X$4,IF($X100<1,Parameters!$Y$4,IF($X100<2,Parameters!$Z$4,Parameters!$AA$4))))","v":""},{"$f":"IF(OR($H100=\"no\",$B100=0),\"\",IF($X100<0.5,Parameters!$X$5,IF($X100<1,Parameters!$Y$5,IF($X100<2,Parameters!$Z$5,Parameters!$AA$5))))","v":""},{"$f":"IF(OR($H100=\"no\",$B100=0),\"\",IF($I100=Parameters!$K$15,(2*($M100/2)*SIN(RADIANS(Calculations!$W100/2))),(2*$M100*SIN(RADIANS($W100/2)))))","v":""},"",{"$f":"IF(OR($H100=\"no\",$B100=0),\"\",IF($I100=Parameters!$K$15,$AB100*$N100/2,$AB100*$N100))","v":""},{"$f":"IF(OR($H100=\"no\",$B100=0),\"\",IF($I100=Parameters!$K$15,$AC100*2/Parameters!$AB$4,$AC100/Parameters!$AB$4))","v":""},{"$f":"IF(AND(O100=\"B\",Q100=\"calc\"),V100,IF(AND(O100=\"C\",Q100=\"calc\"),'Window & Door DATA INPUT'!T106/1000,\"\"))","v":""},{"$f":"IF(AND(O100=\"B\",Q100=\"input\"),'Window & Door DATA INPUT'!AA106,IF(AND(O100=\"C\",Q100=\"input\",P100=\"F\"),'Window & Door DATA INPUT'!V106,IF(AND(O100=\"C\",P100=\"E\"),0,IF(AND(O100=\"D\"),0,IF(AND(B100=1,C100=0),\"\",(Calculations!Q100))))))","v":""},"",{"$f":"IF(OR($H100=\"no\",$C100=0),\"\",IF($I100=Parameters!$K$15,$L100/($M100/2),$L100/$M100))","v":""},{"$f":"IF(OR($H100=\"no\",$C100=0),\"\",IF($AH100<0.5,Parameters!$X$4,IF($AH100<1,Parameters!$Y$4,IF($AH100<2,Parameters!$Z$4,Parameters!$AA$4))))","v":""},{"$f":"IF(OR($H100=\"no\",$C100=0),\"\",IF($AH100<0.5,Parameters!$X$5,IF($AH100<1,Parameters!$Y$5,IF($AH100<2,Parameters!$Z$5,Parameters!$AA$5))))","v":""},{"$f":"IF(OR($H100=\"no\",$C100=0),\"\",IF($I100=Parameters!$K$15,(2*($M100/2)*SIN(RADIANS(Calculations!$AG100/2))),(2*$M100*SIN(RADIANS($AG100/2)))))","v":""},"",{"$f":"IF(OR($H100=\"no\",$C100=0),\"\",IF($I100=Parameters!$K$15,$AL100*$N100/2,$AL100*$N100))","v":""},{"$f":"IF(OR($H100=\"no\",$C100=0),\"\",IF($I100=Parameters!$K$15,$AM100*2/Parameters!$AB$4,$AM100/Parameters!$AB$4))","v":""},{"$nulls":20},{"$f":"'Window & Door DATA INPUT'!H106","v":0},""]
[null,{"$f":"IF('Window & Door DATA INPUT'!B107>1,1,0)","v":0},{"$f":"IF(AND(B101=1,OR(D101=Parameters!$D$17, D101=Parameters!$D$18,D101=Parameters!$D$19,D101=Parameters!$D$20,D101=Parameters!$D$21,D101=Parameters!$D$22, D101=Parameters!$D$23, D101=Parameters!$D$24)),1,0)","v":0},{"$f":"IF('Window & Door DATA INPUT'!B107=\"\",\"\",'Window & Door DATA INPUT'!B107)","v":""},{"$f":"IF('Window & Door DATA INPUT'!D107=\"\",\"\",'Window & Door DATA INPUT'!D107)","v":""},{"$f":"IF(B101=1,'Window & Door DATA INPUT'!H107&RESULTS!$H$5,\"\")","v":""},{"$f":"IF(B101=1,VLOOKUP(F101,Parameters!$H$4:$I$20,2,FALSE),\"\")","v":""},{"$f":"IF(OR('Window & Door DATA INPUT'!J107=Parameters!$K$4,'Window & Door DATA INPUT'!J107=Parameters!$K$11),\"No\",IF('Window & Door DATA INPUT'!K107=\"\",\"\",'Window & Door DATA INPUT'!K107))","v":""},{"$f":"IF('Window & Door DATA INPUT'!J107=\"\",\"\",'Window & Door DATA INPUT'!J107)","v":""},{"$f":"IF('Window & Door DATA INPUT'!L107=Parameters!$O$5,'Window & Door DATA INPUT'!O107,IF(B101=1,('Window & Door DATA INPUT'!N107*'Window & Door DATA INPUT'!M107)/1000000,\"\"))","v":""},{"$f":"IF('Window & Door DATA INPUT'!J107=\"\",\"\",VLOOKUP('Window & Door DATA INPUT'!J107,Parameters!$K$4:$L$16,2,FALSE))","v":""},{"$f":"IF($H101=\"yes\",IF($K101=\"Y\",'Window & Door DATA INPUT'!Q107/1000,IF($K101=\"N\",'Window & Door DATA INPUT'!P107/1000)),\"\")","v":""},{"$f":"IF($H101=\"yes\",IF($K101=\"Y\",'Window & Door DATA INPUT'!P107/1000,IF($K101=\"N\",'Window & Door DATA INPUT'!Q107/1000)),\"\")","v":""},"",{"$f":"IF(AND(B101=1,C101=0,H101=\"yes\"),\"A\",IF(AND(C101=1,H101=\"yes\",'Window & Door DATA INPUT'!R107=\"no\"),\"B\",IF(AND(C101=1,H101=\"yes\",'Window & Door DATA INPUT'!R107=\"yes\",'Window & Door DATA INPUT'!S107=\"yes\"),\"C\",IF(AND(C101=1,H101=\"yes\",'Window & Door DATA INPUT'!R107=\"yes\",'Window & Door DATA INPUT'!S107=\"no\"),\"D\",\"\"))))","v":""},{"$f":"IF(AND(C101=1,H101=\"yes\",OR(I101=Parameters!$K$12,I101=Parameters!$K$13,I101=Parameters!$K$14)),\"E\",IF(AND(C101=1,H101=\"yes\",NOT(OR(I101=Parameters!$K$12,I101=Parameters!$K$13,I101=Parameters!$K$14))),\"F\",\"\"))","v":""},{"$f":"IF(AND(B101=1,H101=\"yes\"),VLOOKUP(I101,Parameters!$K$4:$M$16,3,FALSE),\"\")","v":""},{"$f":"IF(AND(OR(O101=\"A\",O101=\"B\",O101=\"d\"),Q101=\"input\"),'Window & Door DATA INPUT'!AA107,IF(AND(O101=\"C\",Q101=\"input\"),'Window & Door DATA INPUT'!W107,Calculations!Q101))","v":""},{"$f":"IF('Window & Door DATA INPUT'!X107=\"Yes\",'Window & Door DATA INPUT'!Y107/1000,IF(B101=1,\"N/A\",\"\"))","v":""},{"$f":"IF(Q101=\"calc\",IF(O101=\"c\",'Window & Door DATA INPUT'!U107/1000,(Parameters!$S$4-'Window & Door DATA INPUT'!Z107+Parameters!$Q$4)/1000),\"\")","v":""},"","","",{"$f":"IF(OR($H101=\"no\",$B101=0),\"\",IF($I101=Parameters!$K$15,$L101/($M101/2),$L101/$M101))","v":""},{"$f":"IF(OR($H101=\"no\",$B101=0),\"\",IF($X101<0.5,Parameters!$X$4,IF($X101<1,Parameters!$Y$4,IF($X101<2,Parameters!$Z$4,Parameters!$AA$4))))","v":""},{"$f":"IF(OR($H101=\"no\",$B101=0),\"\",IF($X101<0.5,Parameters!$X$5,IF($X101<1,Parameters!$Y$5,IF($X101<2,Parameters!$Z$5,Parameters!$AA$5))))","v":""},{"$f":"IF(OR($H101=\"no\",$B101=0),\"\",IF($I101=Parameters!$K$15,(2*($M101/2)*SIN(RADIANS(Calculations!$W101/2))),(2*$M101*SIN(RADIANS($W101/2)))))","v":""},"",{"$f":"IF(OR($H101=\"no\",$B101=0),\"\",IF($I101=Parameters!$K$15,$AB101*$N101/2,$AB101*$N101))","v":""},{"$f":"IF(OR($H101=\"no\",$B101=0),\"\",IF($I101=Parameters!$K$15,$AC101*2/Parameters!$AB$4,$AC101/Parameters!$AB$4))","v":""},{"$f":"IF(AND(O101=\"B\",Q101=\"calc\"),V101,IF(AND(O101=\"C\",Q101=\"calc\"),'Window & Door DATA INPUT'!T107/1000,\"\"))","v":""},{"$f":"IF(AND(O101=\"B\",Q101=\"input\"),'Window & Door DATA INPUT'!AA107,IF(AND(O101=\"C\",Q101=\"input\",P101=\"F\"),'Window & Door DATA INPUT'!V107,IF(AND(O101=\"C\",P101=\"E\"),0,IF(AND(O101=\"D\"),0,IF(AND(B101=1,C101=0),\"\",(Calculations!Q101))))))","v":""},"",{"$f":"IF(OR($H101=\"no\",$C101=0),\"\",IF($I101=Parameters!$K$15,$L101/($M101/2),$L101/$M101))","v":""},{"$f":"IF(OR($H101=\"no\",$C101=0),\"\",IF($AH101<0.5,Parameters!$X$4,IF($AH101<1,Parameters!$Y$4,IF($AH101<2,Parameters!$Z$4,Parameters!$AA$4))))","v":""},{"$f":"IF(OR($H101=\"no\",$C101=0),\"\",IF($AH101<0.5,Parameters!$X$5,IF($AH101<1,Parameters!$Y$5,IF($AH101<2,Parameters!$Z$5,Parameters!$AA$5))))","v":""},{"$f":"IF(OR($H101=\"no\",$C101=0),\"\",IF($I101=Parameters!$K$15,(2*($M101/2)*SIN(RADIANS(Calculations!$AG101/2))),(2*$M101*SIN(RADIANS($AG101/2)))))","v":""},"",{"$f":"IF(OR($H101=\"no\",$C101=0),\"\",IF($I101=Parameters!$K$15,$AL101*$N101/2,$AL101*$N101))","v":""},{"$f":"IF(OR($H101=\"no\",$C101=0),\"\",IF($I101=Parameters!$K$15,$AM101*2/Parameters!$AB$4,$AM101/Parameters!$AB$4))","v":""},{"$nulls":20},{"$f":"'Window & Door DATA INPUT'!H107","v":0},""]
[null,{"$f":"IF('Window & Door DATA INPUT'!B108>1,1,0)","v":0},{"$f":"IF(AND(B102=1,OR(D102=Parameters!$D$17, D102=Parameters!$D$18,D102=Parameters!$D$19,D102=Parameters!$D$20,D102=Parameters!$D$21,D102=Parameters!$D$22, D102=Parameters!$D$23, D102=Parameters!$D$24)),1,0)","v":0},{"$f":"IF('Window & Door DATA INPUT'!B108=\"\",\"\",'Window & Door DATA INPUT'!B108)","v":""},{"$f":"IF('Window & Door DATA INPUT'!D108=\"\",\"\",'Window & Door DATA INPUT'!D108)","v":""},{"$f":"IF(B102=1,'Window & Door DATA INPUT'!H108&RESULTS!$H$5,\"\")","v":""},{"$f":"IF(B102=1,VLOOKUP(F102,Parameters!$H$4:$I$20,2,FALSE),\"\")","v":""},{"$f":"IF(OR('Window & Door DATA INPUT'!J108=Parameters!$K$4,'Window & Door DATA INPUT'!J108=Parameters!$K$11),\"No\",IF('Window & Door DATA INPUT'!K108=\"\",\"\",'Window & Door DATA INPUT'!K108))","v":""},{"$f":"IF('Window & Door DATA INPUT'!J108=\"\",\"\",'Window & Door DATA INPUT'!J108)","v":""},{"$f":"IF('Window & Door DATA INPUT'!L108=Parameters!$O$5,'Window & Door DATA INPUT'!O108,IF(B102=1,('Window & Door DATA INPUT'!N108*'Window & Door DATA INPUT'!M108)/1000000,\"\"))","v":""},{"$f":"IF('Window & Door DATA INPUT'!J108=\"\",\"\",VLOOKUP('Window & Door DATA INPUT'!J108,Parameters!$K$4:$L$16,2,FALSE))","v":""},{"$f":"IF($H102=\"yes\",IF($K102=\"Y\",'Window & Door DATA INPUT'!Q108/1000,IF($K102=\"N\",'Window & Door DATA INPUT'!P108/1000)),\"\")","v":""},{"$f":"IF($H102=\"yes\",IF($K102=\"Y\",'Window & Door DATA INPUT'!P108/1000,IF($K102=\"N\",'Window & Door DATA INPUT'!Q108/1000)),\"\")","v":""},"",{"$f":"IF(AND(B102=1,C102=0,H102=\"yes\"),\"A\",IF(AND(C102=1,H102=\"yes\",'Window & Door DATA INPUT'!R108=\"no\"),\"B\",IF(AND(C102=1,H102=\"yes\",'Window & Door DATA INPUT'!R108=\"yes\",'Window & Door DATA INPUT'!S108=\"yes\"),\"C\",IF(AND(C102=1,H102=\"yes\",'Window & Door DATA INPUT'!R108=\"yes\",'Window & Door DATA INPUT'!S108=\"no\"),\"D\",\"\"))))","v":""},{"$f":"IF(AND(C102=1,H102=\"yes\",OR(I102=Parameters!$K$12,I102=Parameters!$K$13,I102=Parameters!$K$14)),\"E\",IF(AND(C102=1,H102=\"yes\",NOT(OR(I102=Parameters!$K$12,I102=Parameters!$K$13,I102=Parameters!$K$14))),\"F\",\"\"))","v":""},{"$f":"IF(AND(B102=1,H102=\"yes\"),VLOOKUP(I102,Parameters!$K$4:$M$16,3,FALSE),\"\")","v":""},{"$f":"IF(AND(OR(O102=\"A\",O102=\"B\",O102=\"d\"),Q102=\"input\"),'Window & Door DATA INPUT'!AA108,IF(AND(O102=\"C\",Q102=\"input\"),'Window & Door DATA INPUT'!W108,Calculations!Q102))","v":""},{"$f":"IF('Window & Door DATA INPUT'!X108=\"Yes\",'Window & Door DATA INPUT'!Y108/1000,IF(B102=1,\"N/A\",\"\"))","v":""},{"$f":"IF(Q102=\"calc\",IF(O102=\"c\",'Window & Door DATA INPUT'!U108/1000,(Parameters!$S$4-'Window & Door DATA INPUT'!Z108+Parameters!$Q$4)/1000),\"\")","v":""},"","","",{"$f":"IF(OR($H102=\"no\",$B102=0),\"\",IF($I102=Parameters!$K$15,$L102/($M102/2),$L102/$M102))","v":""},{"$f":"IF(OR($H102=\"no\",$B102=0),\"\",IF($X102<0.5,Parameters!$X$4,IF($X102<1,Parameters!$Y$4,IF($X102<2,Parameters!$Z$4,Parameters!$AA$4))))","v":""},{"$f":"IF(OR($H102=\"no\",$B102=0),\"\",IF($X102<0.5,Parameters!$X$5,IF($X102<1,Parameters!$Y$5,IF($X102<2,Parameters!$Z$5,Parameters!$AA$5))))","v":""},{"$f":"IF(OR($H102=\"no\",$B102=0),\"\",IF($I102=Parameters!$K$15,(2*($M102/2)*SIN(RADIANS(Calculations!$W102/2))),(2*$M102*SIN(RADIANS($W102/2)))))","v":""},"",{"$f":"IF(OR($H102=\"no\",$B102=0),\"\",IF($I102=Parameters!$K$15,$AB102*$N102/2,$AB102*$N102))","v":""},{"$f":"IF(OR($H102=\"no\",$B102=0),\"\",IF($I102=Parameters!$K$15,$AC102*2/Parameters!$AB$4,$AC102/Parameters!$AB$4))","v":""},{"$f":"IF(AND(O102=\"B\",Q102=\"calc\"),V102,IF(AND(O102=\"C\",Q102=\"calc\"),'Window & Door DATA INPUT'!T108/1000,\"\"))","v":""},{"$f":"IF(AND(O102=\"B\",Q102=\"input\"),'Window & Door DATA INPUT'!AA108,IF(AND(O102=\"C\",Q102=\"input\",P102=\"F\"),'Window & Door DATA INPUT'!V108,IF(AND(O102=\"C\",P102=\"E\"),0,IF(AND(O102=\"D\"),0,IF(AND(B102=1,C102=0),\"\",(Calculations!Q102))))))","v":""},"",{"$f":"IF(OR($H102=\"no\",$C102=0),\"\",IF($I102=Parameters!$K$15,$L102/($M102/2),$L102/$M102))","v":""},{"$f":"IF(OR($H102=\"no\",$C102=0),\"\",IF($AH102<0.5,Parameters!$X$4,IF($AH102<1,Parameters!$Y$4,IF($AH102<2,Parameters!$Z$4,Parameters!$AA$4))))","v":""},{"$f":"IF(OR($H102=\"no\",$C102=0),\"\",IF($AH102<0.5,Parameters!$X$5,IF($AH102<1,Parameters!$Y$5,IF($AH102<2,Parameters!$Z$5,Parameters!$AA$5))))","v":""},{"$f":"IF(OR($H102=\"no\",$C102=0),\"\",IF($I102=Parameters!$K$15,(2*($M102/2)*SIN(RADIANS(Calculations!$AG102/2))),(2*$M102*SIN(RADIANS($AG102/2)))))","v":""},"",{"$f":"IF(OR($H102=\"no\",$C102=0),\"\",IF($I102=Parameters!$K$15,$AL102*$N102/2,$AL102*$N102))","v":""},{"$f":"IF(OR($H102=\"no\",$C102=0),\"\",IF($I102=Parameters!$K$15,$AM102*2/Parameters!$AB$4,$AM102/Parameters!$AB$4))","v":""},{"$nulls":20},{"$f":"'Window & Door DATA INPUT'!H108","v":0},""]
[null,{"$f":"IF('Window & Door DATA INPUT'!B109>1,1,0)","v":0},{"$f":"IF(AND(B103=1,OR(D103=Parameters!$D$17, D103=Parameters!$D$18,D103=Parameters!$D$19,D103=Parameters!$D$20,D103=Parameters!$D$21,D103=Parameters!$D$22, D103=Parameters!$D$23, D103=Parameters!$D$24)),1,0)","v":0},{"$f":"IF('Window & Door DATA INPUT'!B109=\"\",\"\",'Window & Door DATA INPUT'!B109)","v":""},{"$f":"IF('Window & Door DATA INPUT'!D109=\"\",\"\",'Window & Door DATA INPUT'!D109)","v":""},{"$f":"IF(B103=1,'Window & Door DATA INPUT'!H109&RESULTS!$H$5,\"\")","v":""},{"$f":"IF(B103=1,VLOOKUP(F103,Parameters!$H$4:$I$20,2,FALSE),\"\")","v":""},{"$f":"IF(OR('Window & Door DATA INPUT'!J109=Parameters!$K$4,'Window & Door DATA INPUT'!J109=Parameters!$K$11),\"No\",IF('Window & Door DATA INPUT'!K109=\"\",\"\",'Window & Door DATA INPUT'!K109))","v":""},{"$f":"IF('Window & Door DATA INPUT'!J109=\"\",\"\",'Window & Door DATA INPUT'!J109)","v":""},{"$f":"IF('Window & Door DATA INPUT'!L109=Parameters!$O$5,'Window & Door DATA INPUT'!O109,IF(B103=1,('Window & Door DATA INPUT'!N109*'Window & Door DATA INPUT'!M109)/1000000,\"\"))","v":""},{"$f":"IF('Window & Door DATA INPUT'!J109=\"\",\"\",VLOOKUP('Window & Door DATA INPUT'!J109,Parameters!$K$4:$L$16,2,FALSE))","v":""},{"$f":"IF($H103=\"yes\",IF($K103=\"Y\",'Window & Door DATA INPUT'!Q109/1000,IF($K103=\"N\",'Window & Door DATA INPUT'!P109/1000)),\"\")","v":""},{"$f":"IF($H103=\"yes\",IF($K103=\"Y\",'Window & Door DATA INPUT'!P109/1000,IF($K103=\"N\",'Window & Door DATA INPUT'!Q109/1000)),\"\")","v":""},"",{"$f":"IF(AND(B103=1,C103=0,H103=\"yes\"),\"A\",IF(AND(C103=1,H103=\"yes\",'Window & Door DATA INPUT'!R109=\"no\"),\"B\",IF(AND(C103=1,H103=\"yes\",'Window & Door DATA INPUT'!R109=\"yes\",'Window & Door DATA INPUT'!S109=\"yes\"),\"C\",IF(AND(C103=1,H103=\"yes\",'Window & Door DATA INPUT'!R109=\"yes\",'Window & Door DATA INPUT'!S109=\"no\"),\"D\",\"\"))))","v":""},{"$f":"IF(AND(C103=1,H103=\"yes\",OR(I103=Parameters!$K$12,I103=Parameters!$K$13,I103=Parameters!$K$14)),\"E\",IF(AND(C103=1,H103=\"yes\",NOT(OR(I103=Parameters!$K$12,I103=Parameters!$K$13,I103=Parameters!$K$14))),\"F\",\"\"))","v":""},{"$f":"IF(AND(B103=1,H103=\"yes\"),VLOOKUP(I103,Parameters!$K$4:$M$16,3,FALSE),\"\")","v":""},{"$f":"IF(AND(OR(O103=\"A\",O103=\"B\",O103=\"d\"),Q103=\"input\"),'Window & Door DATA INPUT'!AA109,IF(AND(O103=\"C\",Q103=\"input\"),'Window & Door DATA INPUT'!W109,Calculations!Q103))","v":""},{"$f":"IF('Window & Door DATA INPUT'!X109=\"Yes\",'Window & Door DATA INPUT'!Y109/1000,IF(B103=1,\"N/A\",\"\"))","v":""},{"$f":"IF(Q103=\"calc\",IF(O103=\"c\",'Window & Door DATA INPUT'!U109/1000,(Parameters!$S$4-'Window & Door DATA INPUT'!Z109+Parameters!$Q$4)/1000),\"\")","v":""},"","","",{"$f":"IF(OR($H103=\"no\",$B103=0),\"\",IF($I103=Parameters!$K$15,$L103/($M103/2),$L103/$M103))","v":""},{"$f":"IF(OR($H103=\"no\",$B103=0),\"\",IF($X103<0.5,Parameters!$X$4,IF($X103<1,Parameters!$Y$4,IF($X103<2,Parameters!$Z$4,Parameters!$AA$4))))","v":""},{"$f":"IF(OR($H103=\"no\",$B103=0),\"\",IF($X103<0.5,Parameters!$X$5,IF($X103<1,Parameters!$Y$5,IF($X103<2,Parameters!$Z$5,Parameters!$AA$5))))","v":""},{"$f":"IF(OR($H103=\"no\",$B103=0),\"\",IF($I103=Parameters!$K$15,(2*($M103/2)*SIN(RADIANS(Calculations!$W103/2))),(2*$M103*SIN(RADIANS($W103/2)))))","v":""},"",{"$f":"IF(OR($H103=\"no\",$B103=0),\"\",IF($I103=Parameters!$K$15,$AB103*$N103/2,$AB103*$N103))","v":""},{"$f":"IF(OR($H103=\"no\",$B103=0),\"\",IF($I103=Parameters!$K$15,$AC103*2/Parameters!$AB$4,$AC103/Parameters!$AB$4))","v":""},{"$f":"IF(AND(O103=\"B\",Q103=\"calc\"),V103,IF(AND(O103=\"C\",Q103=\"calc\"),'Window & Door DATA INPUT'!T109/1000,\"\"))","v":""},{"$f":"IF(AND(O103=\"B\",Q103=\"input\"),'Window & Door DATA INPUT'!AA109,IF(AND(O103=\"C\",Q103=\"input\",P103=\"F\"),'Window & Door DATA INPUT'!V109,IF(AND(O103=\"C\",P103=\"E\"),0,IF(AND(O103=\"D\"),0,IF(AND(B103=1,C103=0),\"\",(Calculations!Q103))))))","v":""},"",{"$f":"IF(OR($H103=\"no\",$C103=0),\"\",IF($I103=Parameters!$K$15,$L103/($M103/2),$L103/$M103))","v":""},{"$f":"IF(OR($H103=\"no\",$C103=0),\"\",IF($AH103<0.5,Parameters!$X$4,IF($AH103<1,Parameters!$Y$4,IF($AH103<2,Parameters!$Z$4,Parameters!$AA$4))))","v":""},{"$f":"IF(OR($H103=\"no\",$C103=0),\"\",IF($AH103<0.5,Parameters!$X$5,IF($AH103<1,Parameters!$Y$5,IF($AH103<2,Parameters!$Z$5,Parameters!$AA$5))))","v":""},{"$f":"IF(OR($H103=\"no\",$C103=0),\"\",IF($I103=Parameters!$K$15,(2*($M103/2)*SIN(RADIANS(Calculations!$AG103/2))),(2*$M103*SIN(RADIANS($AG103/2)))))","v":""},"",{"$f":"IF(OR($H103=\"no\",$C103=0),\"\",IF($I103=Parameters!$K$15,$AL103*$N103/2,$AL103*$N103))","v":""},{"$f":"IF(OR($H103=\"no\",$C103=0),\"\",IF($I103=Parameters!$K$15,$AM103*2/Parameters!$AB$4,$AM103/Parameters!$AB$4))","v":""},{"$nulls":20},{"$f":"'Window & Door DATA INPUT'!H109","v":0},""]
[null,{"$f":"IF('Window & Door DATA INPUT'!B110>1,1,0)","v":0},{"$f":"IF(AND(B104=1,OR(D104=Parameters!$D$17, D104=Parameters!$D$18,D104=Parameters!$D$19,D104=Parameters!$D$20,D104=Parameters!$D$21,D104=Parameters!$D$22, D104=Parameters!$D$23, D104=Parameters!$D$24)),1,0)","v":0},{"$f":"IF('Window & Door DATA INPUT'!B110=\"\",\"\",'Window & Door DATA INPUT'!B110)","v":""},{"$f":"IF('Window & Door DATA INPUT'!D110=\"\",\"\",'Window & Door DATA INPUT'!D110)","v":""},{"$f":"IF(B104=1,'Window & Door DATA INPUT'!H110&RESULTS!$H$5,\"\")","v":""},{"$f":"IF(B104=1,VLOOKUP(F104,Parameters!$H$4:$I$20,2,FALSE),\"\")","v":""},{"$f":"IF(OR('Window & Door DATA INPUT'!J110=Parameters!$K$4,'Window & Door DATA INPUT'!J110=Parameters!$K$11),\"No\",IF('Window & Door DATA INPUT'!K110=\"\",\"\",'Window & Door DATA INPUT'!K110))","v":""},{"$f":"IF('Window & Door DATA INPUT'!J110=\"\",\"\",'Window & Door DATA INPUT'!J110)","v":""},{"$f":"IF('Window & Door DATA INPUT'!L110=Parameters!$O$5,'Window & Door DATA INPUT'!O110,IF(B104=1,('Window & Door DATA INPUT'!N110*'Window & Door DATA INPUT'!M110)/1000000,\"\"))","v":""},{"$f":"IF('Window & Door DATA INPUT'!J110=\"\",\"\",VLOOKUP('Window & Door DATA INPUT'!J110,Parameters!$K$4:$L$16,2,FALSE))","v":""},{"$f":"IF($H104=\"yes\",IF($K104=\"Y\",'Window & Door DATA INPUT'!Q110/1000,IF($K104=\"N\",'Window & Door DATA INPUT'!P110/1000)),\"\")","v":""},{"$f":"IF($H104=\"yes\",IF($K104=\"Y\",'Window & Door DATA INPUT'!P110/1000,IF($K104=\"N\",'Window & Door DATA INPUT'!Q110/1000)),\"\")","v":""},"",{"$f":"IF(AND(B104=1,C104=0,H104=\"yes\"),\"A\",IF(AND(C104=1,H104=\"yes\",'Window & Door DATA INPUT'!R110=\"no\"),\"B\",IF(AND(C104=1,H104=\"yes\",'Window & Door DATA INPUT'!R110=\"yes\",'Window & Door DATA INPUT'!S110=\"yes\"),\"C\",IF(AND(C104=1,H104=\"yes\",'Window & Door DATA INPUT'!R110=\"yes\",'Window & Door DATA INPUT'!S110=\"no\"),\"D\",\"\"))))","v":""},{"$f":"IF(AND(C104=1,H104=\"yes\",OR(I104=Parameters!$K$12,I104=Parameters!$K$13,I104=Parameters!$K$14)),\"E\",IF(AND(C104=1,H104=\"yes\",NOT(OR(I104=Parameters!$K$12,I104=Parameters!$K$13,I104=Parameters!$K$14))),\"F\",\"\"))","v":""},{"$f":"IF(AND(B104=1,H104=\"yes\"),VLOOKUP(I104,Parameters!$K$4:$M$16,3,FALSE),\"\")","v":""},{"$f":"IF(AND(OR(O104=\"A\",O104=\"B\",O104=\"d\"),Q104=\"input\"),'Window & Door DATA INPUT'!AA110,IF(AND(O104=\"C\",Q104=\"input\"),'Window & Door DATA INPUT'!W110,Calculations!Q104))","v":""},{"$f":"IF('Window & Door DATA INPUT'!X110=\"Yes\",'Window & Door DATA INPUT'!Y110/1000,IF(B104=1,\"N/A\",\"\"))","v":""},{"$f":"IF(Q104=\"calc\",IF(O104=\"c\",'Window & Door DATA INPUT'!U110/1000,(Parameters!$S$4-'Window & Door DATA INPUT'!Z110+Parameters!$Q$4)/1000),\"\")","v":""},"","","",{"$f":"IF(OR($H104=\"no\",$B104=0),\"\",IF($I104=Parameters!$K$15,$L104/($M104/2),$L104/$M104))","v":""},{"$f":"IF(OR($H104=\"no\",$B104=0),\"\",IF($X104<0.5,Parameters!$X$4,IF($X104<1,Parameters!$Y$4,IF($X104<2,Parameters!$Z$4,Parameters!$AA$4))))","v":""},{"$f":"IF(OR($H104=\"no\",$B104=0),\"\",IF($X104<0.5,Parameters!$X$5,IF($X104<1,Parameters!$Y$5,IF($X104<2,Parameters!$Z$5,Parameters!$AA$5))))","v":""},{"$f":"IF(OR($H104=\"no\",$B104=0),\"\",IF($I104=Parameters!$K$15,(2*($M104/2)*SIN(RADIANS(Calculations!$W104/2))),(2*$M104*SIN(RADIANS($W104/2)))))","v":""},"",{"$f":"IF(OR($H104=\"no\",$B104=0),\"\",IF($I104=Parameters!$K$15,$AB104*$N104/2,$AB104*$N104))","v":""},{"$f":"IF(OR($H104=\"no\",$B104=0),\"\",IF($I104=Parameters!$K$15,$AC104*2/Parameters!$AB$4,$AC104/Parameters!$AB$4))","v":""},{"$f":"IF(AND(O104=\"B\",Q104=\"calc\"),V104,IF(AND(O104=\"C\",Q104=\"calc\"),'Window & Door DATA INPUT'!T110/1000,\"\"))","v":""},{"$f":"IF(AND(O104=\"B\",Q104=\"input\"),'Window & Door DATA INPUT'!AA110,IF(AND(O104=\"C\",Q104=\"input\",P104=\"F\"),'Window & Door DATA INPUT'!V110,IF(AND(O104=\"C\",P104=\"E\"),0,IF(AND(O104=\"D\"),0,IF(AND(B104=1,C104=0),\"\",(Calculations!Q104))))))","v":""},"",{"$f":"IF(OR($H104=\"no\",$C104=0),\"\",IF($I104=Parameters!$K$15,$L104/($M104/2),$L104/$M104))","v":""},{"$f":"IF(OR($H104=\"no\",$C104=0),\"\",IF($AH104<0.5,Parameters!$X$4,IF($AH104<1,Parameters!$Y$4,IF($AH104<2,Parameters!$Z$4,Parameters!$AA$4))))","v":""},{"$f":"IF(OR($H104=\"no\",$C104=0),\"\",IF($AH104<0.5,Parameters!$X$5,IF($AH104<1,Parameters!$Y$5,IF($AH104<2,Parameters!$Z$5,Parameters!$AA$5))))","v":""},{"$f":"IF(OR($H104=\"no\",$C104=0),\"\",IF($I104=Parameters!$K$15,(2*($M104/2)*SIN(RADIANS(Calculations!$AG104/2))),(2*$M104*SIN(RADIANS($AG104/2)))))","v":""},"",{"$f":"IF(OR($H104=\"no\",$C104=0),\"\",IF($I104=Parameters!$K$15,$AL104*$N104/2,$AL104*$N104))","v":""},{"$f":"IF(OR($H104=\"no\",$C104=0),\"\",IF($I104=Parameters!$K$15,$AM104*2/Parameters!$AB$4,$AM104/Parameters!$AB$4))","v":""},{"$nulls":20},{"$f":"'Window & Door DATA INPUT'!H110","v":0},""]
[null,{"$f":"IF('Window & Door DATA INPUT'!B111>1,1,0)","v":0},{"$f":"IF(AND(B105=1,OR(D105=Parameters!$D$17, D105=Parameters!$D$18,D105=Parameters!$D$19,D105=Parameters!$D$20,D105=Parameters!$D$21,D105=Parameters!$D$22, D105=Parameters!$D$23, D105=Parameters!$D$24)),1,0)","v":0},{"$f":"IF('Window & Door DATA INPUT'!B111=\"\",\"\",'Window & Door DATA INPUT'!B111)","v":""},{"$f":"IF('Window & Door DATA INPUT'!D111=\"\",\"\",'Window & Door DATA INPUT'!D111)","v":""},{"$f":"IF(B105=1,'Window & Door DATA INPUT'!H111&RESULTS!$H$5,\"\")","v":""},{"$f":"IF(B105=1,VLOOKUP(F105,Parameters!$H$4:$I$20,2,FALSE),\"\")","v":""},{"$f":"IF(OR('Window & Door DATA INPUT'!J111=Parameters!$K$4,'Window & Door DATA INPUT'!J111=Parameters!$K$11),\"No\",IF('Window & Door DATA INPUT'!K111=\"\",\"\",'Window & Door DATA INPUT'!K111))","v":""},{"$f":"IF('Window & Door DATA INPUT'!J111=\"\",\"\",'Window & Door DATA INPUT'!J111)","v":""},{"$f":"IF('Window & Door DATA INPUT'!L111=Parameters!$O$5,'Window & Door DATA INPUT'!O111,IF(B105=1,('Window & Door DATA INPUT'!N111*'Window & Door DATA INPUT'!M111)/1000000,\"\"))","v":""},{"$f":"IF('Window & Door DATA INPUT'!J111=\"\",\"\",VLOOKUP('Window & Door DATA INPUT'!J111,Parameters!$K$4:$L$16,2,FALSE))","v":""},{"$f":"IF($H105=\"yes\",IF($K105=\"Y\",'Window & Door DATA INPUT'!Q111/1000,IF($K105=\"N\",'Window & Door DATA INPUT'!P111/1000)),\"\")","v":""},{"$f":"IF($H105=\"yes\",IF($K105=\"Y\",'Window & Door DATA INPUT'!P111/1000,IF($K105=\"N\",'Window & Door DATA INPUT'!Q111/1000)),\"\")","v":""},"",{"$f":"IF(AND(B105=1,C105=0,H105=\"yes\"),\"A\",IF(AND(C105=1,H105=\"yes\",'Window & Door DATA INPUT'!R111=\"no\"),\"B\",IF(AND(C105=1,H105=\"yes\",'Window & Door DATA INPUT'!R111=\"yes\",'Window & Door DATA INPUT'!S111=\"yes\"),\"C\",IF(AND(C105=1,H105=\"yes\",'Window & Door DATA INPUT'!R111=\"yes\",'Window & Door DATA INPUT'!S111=\"no\"),\"D\",\"\"))))","v":""},{"$f":"IF(AND(C105=1,H105=\"yes\",OR(I105=Parameters!$K$12,I105=Parameters!$K$13,I105=Parameters!$K$14)),\"E\",IF(AND(C105=1,H105=\"yes\",NOT(OR(I105=Parameters!$K$12,I105=Parameters!$K$13,I105=Parameters!$K$14))),\"F\",\"\"))","v":""},{"$f":"IF(AND(B105=1,H105=\"yes\"),VLOOKUP(I105,Parameters!$K$4:$M$16,3,FALSE),\"\")","v":""},{"$f":"IF(AND(OR(O105=\"A\",O105=\"B\",O105=\"d\"),Q105=\"input\"),'Window & Door DATA INPUT'!AA111,IF(AND(O105=\"C\",Q105=\"input\"),'Window & Door DATA INPUT'!W111,Calculations!Q105))","v":""},{"$f":"IF('Window & Door DATA INPUT'!X111=\"Yes\",'Window & Door DATA INPUT'!Y111/1000,IF(B105=1,\"N/A\",\"\"))","v":""},{"$f":"IF(Q105=\"calc\",IF(O105=\"c\",'Window & Door DATA INPUT'!U111/1000,(Parameters!$S$4-'Window & Door DATA INPUT'!Z111+Parameters!$Q$4)/1000),\"\")","v":""},"","","",{"$f":"IF(OR($H105=\"no\",$B105=0),\"\",IF($I105=Parameters!$K$15,$L105/($M105/2),$L105/$M105))","v":""},{"$f":"IF(OR($H105=\"no\",$B105=0),\"\",IF($X105<0.5,Parameters!$X$4,IF($X105<1,Parameters!$Y$4,IF($X105<2,Parameters!$Z$4,Parameters!$AA$4))))","v":""},{"$f":"IF(OR($H105=\"no\",$B105=0),\"\",IF($X105<0.5,Parameters!$X$5,IF($X105<1,Parameters!$Y$5,IF($X105<2,Parameters!$Z$5,Parameters!$AA$5))))","v":""},{"$f":"IF(OR($H105=\"no\",$B105=0),\"\",IF($I105=Parameters!$K$15,(2*($M105/2)*SIN(RADIANS(Calculations!$W105/2))),(2*$M105*SIN(RADIANS($W105/2)))))","v":""},"",{"$f":"IF(OR($H105=\"no\",$B105=0),\"\",IF($I105=Parameters!$K$15,$AB105*$N105/2,$AB105*$N105))","v":""},{"$f":"IF(OR($H105=\"no\",$B105=0),\"\",IF($I105=Parameters!$K$15,$AC105*2/Parameters!$AB$4,$AC105/Parameters!$AB$4))","v":""},{"$f":"IF(AND(O105=\"B\",Q105=\"calc\"),V105,IF(AND(O105=\"C\",Q105=\"calc\"),'Window & Door DATA INPUT'!T111/1000,\"\"))","v":""},{"$f":"IF(AND(O105=\"B\",Q105=\"input\"),'Window & Door DATA INPUT'!AA111,IF(AND(O105=\"C\",Q105=\"input\",P105=\"F\"),'Window & Door DATA INPUT'!V111,IF(AND(O105=\"C\",P105=\"E\"),0,IF(AND(O105=\"D\"),0,IF(AND(B105=1,C105=0),\"\",(Calculations!Q105))))))","v":""},"",{"$f":"IF(OR($H105=\"no\",$C105=0),\"\",IF($I105=Parameters!$K$15,$L105/($M105/2),$L105/$M105))","v":""},{"$f":"IF(OR($H105=\"no\",$C105=0),\"\",IF($AH105<0.5,Parameters!$X$4,IF($AH105<1,Parameters!$Y$4,IF($AH105<2,Parameters!$Z$4,Parameters!$AA$4))))","v":""},{"$f":"IF(OR($H105=\"no\",$C105=0),\"\",IF($AH105<0.5,Parameters!$X$5,IF($AH105<1,Parameters!$Y$5,IF($AH105<2,Parameters!$Z$5,Parameters!$AA$5))))","v":""},{"$f":"IF(OR($H105=\"no\",$C105=0),\"\",IF($I105=Parameters!$K$15,(2*($M105/2)*SIN(RADIANS(Calculations!$AG105/2))),(2*$M105*SIN(RADIANS($AG105/2)))))","v":""},"",{"$f":"IF(OR($H105=\"no\",$C105=0),\"\",IF($I105=Parameters!$K$15,$AL105*$N105/2,$AL105*$N105))","v":""},{"$f":"IF(OR($H105=\"no\",$C105=0),\"\",IF($I105=Parameters!$K$15,$AM105*2/Parameters!$AB$4,$AM105/Parameters!$AB$4))","v":""},{"$nulls":20},{"$f":"'Window & Door DATA INPUT'!H111","v":0},""]
[null,{"$f":"IF('Window & Door DATA INPUT'!B112>1,1,0)","v":0},{"$f":"IF(AND(B106=1,OR(D106=Parameters!$D$17, D106=Parameters!$D$18,D106=Parameters!$D$19,D106=Parameters!$D$20,D106=Parameters!$D$21,D106=Parameters!$D$22, D106=Parameters!$D$23, D106=Parameters!$D$24)),1,0)","v":0},{"$f":"IF('Window & Door DATA INPUT'!B112=\"\",\"\",'Window & Door DATA INPUT'!B112)","v":""},{"$f":"IF('Window & Door DATA INPUT'!D112=\"\",\"\",'Window & Door DATA INPUT'!D112)","v":""},{"$f":"IF(B106=1,'Window & Door DATA INPUT'!H112&RESULTS!$H$5,\"\")","v":""},{"$f":"IF(B106=1,VLOOKUP(F106,Parameters!$H$4:$I$20,2,FALSE),\"\")","v":""},{"$f":"IF(OR('Window & Door DATA INPUT'!J112=Parameters!$K$4,'Window & Door DATA INPUT'!J112=Parameters!$K$11),\"No\",IF('Window & Door DATA INPUT'!K112=\"\",\"\",'Window & Door DATA INPUT'!K112))","v":""},{"$f":"IF('Window & Door DATA INPUT'!J112=\"\",\"\",'Window & Door DATA INPUT'!J112)","v":""},{"$f":"IF('Window & Door DATA INPUT'!L112=Parameters!$O$5,'Window & Door DATA INPUT'!O112,IF(B106=1,('Window & Door DATA INPUT'!N112*'Window & Door DATA INPUT'!M112)/1000000,\"\"))","v":""},{"$f":"IF('Window & Door DATA INPUT'!J112=\"\",\"\",VLOOKUP('Window & Door DATA INPUT'!J112,Parameters!$K$4:$L$16,2,FALSE))","v":""},{"$f":"IF($H106=\"yes\",IF($K106=\"Y\",'Window & Door DATA INPUT'!Q112/1000,IF($K106=\"N\",'Window & Door DATA INPUT'!P112/1000)),\"\")","v":""},{"$f":"IF($H106=\"yes\",IF($K106=\"Y\",'Window & Door DATA INPUT'!P112/1000,IF($K106=\"N\",'Window & Door DATA INPUT'!Q112/1000)),\"\")","v":""},"",{"$f":"IF(AND(B106=1,C106=0,H106=\"yes\"),\"A\",IF(AND(C106=1,H106=\"yes\",'Window & Door DATA INPUT'!R112=\"no\"),\"B\",IF(AND(C106=1,H106=\"yes\",'Window & Door DATA INPUT'!R112=\"yes\",'Window & Door DATA INPUT'!S112=\"yes\"),\"C\",IF(AND(C106=1,H106=\"yes\",'Window & Door DATA INPUT'!R112=\"yes\",'Window & Door DATA INPUT'!S112=\"no\"),\"D\",\"\"))))","v":""},{"$f":"IF(AND(C106=1,H106=\"yes\",OR(I106=Parameters!$K$12,I106=Parameters!$K$13,I106=Parameters!$K$14)),\"E\",IF(AND(C106=1,H106=\"yes\",NOT(OR(I106=Parameters!$K$12,I106=Parameters!$K$13,I106=Parameters!$K$14))),\"F\",\"\"))","v":""},{"$f":"IF(AND(B106=1,H106=\"yes\"),VLOOKUP(I106,Parameters!$K$4:$M$16,3,FALSE),\"\")","v":""},{"$f":"IF(AND(OR(O106=\"A\",O106=\"B\",O106=\"d\"),Q106=\"input\"),'Window & Door DATA INPUT'!AA112,IF(AND(O106=\"C\",Q106=\"input\"),'Window & Door DATA INPUT'!W112,Calculations!Q106))","v":""},{"$f":"IF('Window & Door DATA INPUT'!X112=\"Yes\",'Window & Door DATA INPUT'!Y112/1000,IF(B106=1,\"N/A\",\"\"))","v":""},{"$f":"IF(Q106=\"calc\",IF(O106=\"c\",'Window & Door DATA INPUT'!U112/1000,(Parameters!$S$4-'Window & Door DATA INPUT'!Z112+Parameters!$Q$4)/1000),\"\")","v":""},"","","",{"$f":"IF(OR($H106=\"no\",$B106=0),\"\",IF($I106=Parameters!$K$15,$L106/($M106/2),$L106/$M106))","v":""},{"$f":"IF(OR($H106=\"no\",$B106=0),\"\",IF($X106<0.5,Parameters!$X$4,IF($X106<1,Parameters!$Y$4,IF($X106<2,Parameters!$Z$4,Parameters!$AA$4))))","v":""},{"$f":"IF(OR($H106=\"no\",$B106=0),\"\",IF($X106<0.5,Parameters!$X$5,IF($X106<1,Parameters!$Y$5,IF($X106<2,Parameters!$Z$5,Parameters!$AA$5))))","v":""},{"$f":"IF(OR($H106=\"no\",$B106=0),\"\",IF($I106=Parameters!$K$15,(2*($M106/2)*SIN(RADIANS(Calculations!$W106/2))),(2*$M106*SIN(RADIANS($W106/2)))))","v":""},"",{"$f":"IF(OR($H106=\"no\",$B106=0),\"\",IF($I106=Parameters!$K$15,$AB106*$N106/2,$AB106*$N106))","v":""},{"$f":"IF(OR($H106=\"no\",$B106=0),\"\",IF($I106=Parameters!$K$15,$AC106*2/Parameters!$AB$4,$AC106/Parameters!$AB$4))","v":""},{"$f":"IF(AND(O106=\"B\",Q106=\"calc\"),V106,IF(AND(O106=\"C\",Q106=\"calc\"),'Window & Door DATA INPUT'!T112/1000,\"\"))","v":""},{"$f":"IF(AND(O106=\"B\",Q106=\"input\"),'Window & Door DATA INPUT'!AA112,IF(AND(O106=\"C\",Q106=\"input\",P106=\"F\"),'Window & Door DATA INPUT'!V112,IF(AND(O106=\"C\",P106=\"E\"),0,IF(AND(O106=\"D\"),0,IF(AND(B106=1,C106=0),\"\",(Calculations!Q106))))))","v":""},"",{"$f":"IF(OR($H106=\"no\",$C106=0),\"\",IF($I106=Parameters!$K$15,$L106/($M106/2),$L106/$M106))","v":""},{"$f":"IF(OR($H106=\"no\",$C106=0),\"\",IF($AH106<0.5,Parameters!$X$4,IF($AH106<1,Parameters!$Y$4,IF($AH106<2,Parameters!$Z$4,Parameters!$AA$4))))","v":""},{"$f":"IF(OR($H106=\"no\",$C106=0),\"\",IF($AH106<0.5,Parameters!$X$5,IF($AH106<1,Parameters!$Y$5,IF($AH106<2,Parameters!$Z$5,Parameters!$AA$5))))","v":""},{"$f":"IF(OR($H106=\"no\",$C106=0),\"\",IF($I106=Parameters!$K$15,(2*($M106/2)*SIN(RADIANS(Calculations!$AG106/2))),(2*$M106*SIN(RADIANS($AG106/2)))))","v":""},"",{"$f":"IF(OR($H106=\"no\",$C106=0),\"\",IF($I106=Parameters!$K$15,$AL106*$N106/2,$AL106*$N106))","v":""},{"$f":"IF(OR($H106=\"no\",$C106=0),\"\",IF($I106=Parameters!$K$15,$AM106*2/Parameters!$AB$4,$AM106/Parameters!$AB$4))","v":""},{"$nulls":20},{"$f":"'Window & Door DATA INPUT'!H112","v":0},""]
[null,{"$f":"IF('Window & Door DATA INPUT'!B113>1,1,0)","v":0},{"$f":"IF(AND(B107=1,OR(D107=Parameters!$D$17, D107=Parameters!$D$18,D107=Parameters!$D$19,D107=Parameters!$D$20,D107=Parameters!$D$21,D107=Parameters!$D$22, D107=Parameters!$D$23, D107=Parameters!$D$24)),1,0)","v":0},{"$f":"IF('Window & Door DATA INPUT'!B113=\"\",\"\",'Window & Door DATA INPUT'!B113)","v":""},{"$f":"IF('Window & Door DATA INPUT'!D113=\"\",\"\",'Window & Door DATA INPUT'!D113)","v":""},{"$f":"IF(B107=1,'Window & Door DATA INPUT'!H113&RESULTS!$H$5,\"\")","v":""},{"$f":"IF(B107=1,VLOOKUP(F107,Parameters!$H$4:$I$20,2,FALSE),\"\")","v":""},{"$f":"IF(OR('Window & Door DATA INPUT'!J113=Parameters!$K$4,'Window & Door DATA INPUT'!J113=Parameters!$K$11),\"No\",IF('Window & Door DATA INPUT'!K113=\"\",\"\",'Window & Door DATA INPUT'!K113))","v":""},{"$f":"IF('Window & Door DATA INPUT'!J113=\"\",\"\",'Window & Door DATA INPUT'!J113)","v":""},{"$f":"IF('Window & Door DATA INPUT'!L113=Parameters!$O$5,'Window & Door DATA INPUT'!O113,IF(B107=1,('Window & Door DATA INPUT'!N113*'Window & Door DATA INPUT'!M113)/1000000,\"\"))","v":""},{"$f":"IF('Window & Door DATA INPUT'!J113=\"\",\"\",VLOOKUP('Window & Door DATA INPUT'!J113,Parameters!$K$4:$L$16,2,FALSE))","v":""},{"$f":"IF($H107=\"yes\",IF($K107=\"Y\",'Window & Door DATA INPUT'!Q113/1000,IF($K107=\"N\",'Window & Door DATA INPUT'!P113/1000)),\"\")","v":""},{"$f":"IF($H107=\"yes\",IF($K107=\"Y\",'Window & Door DATA INPUT'!P113/1000,IF($K107=\"N\",'Window & Door DATA INPUT'!Q113/1000)),\"\")","v":""},"",{"$f":"IF(AND(B107=1,C107=0,H107=\"yes\"),\"A\",IF(AND(C107=1,H107=\"yes\",'Window & Door DATA INPUT'!R113=\"no\"),\"B\",IF(AND(C107=1,H107=\"yes\",'Window & Door DATA INPUT'!R113=\"yes\",'Window & Door DATA INPUT'!S113=\"yes\"),\"C\",IF(AND(C107=1,H107=\"yes\",'Window & Door DATA INPUT'!R113=\"yes\",'Window & Door DATA INPUT'!S113=\"no\"),\"D\",\"\"))))","v":""},{"$f":"IF(AND(C107=1,H107=\"yes\",OR(I107=Parameters!$K$12,I107=Parameters!$K$13,I107=Parameters!$K$14)),\"E\",IF(AND(C107=1,H107=\"yes\",NOT(OR(I107=Parameters!$K$12,I107=Parameters!$K$13,I107=Parameters!$K$14))),\"F\",\"\"))","v":""},{"$f":"IF(AND(B107=1,H107=\"yes\"),VLOOKUP(I107,Parameters!$K$4:$M$16,3,FALSE),\"\")","v":""},{"$f":"IF(AND(OR(O107=\"A\",O107=\"B\",O107=\"d\"),Q107=\"input\"),'Window & Door DATA INPUT'!AA113,IF(AND(O107=\"C\",Q107=\"input\"),'Window & Door DATA INPUT'!W113,Calculations!Q107))","v":""},{"$f":"IF('Window & Door DATA INPUT'!X113=\"Yes\",'Window & Door DATA INPUT'!Y113/1000,IF(B107=1,\"N/A\",\"\"))","v":""},{"$f":"IF(Q107=\"calc\",IF(O107=\"c\",'Window & Door DATA INPUT'!U113/1000,(Parameters!$S$4-'Window & Door DATA INPUT'!Z113+Parameters!$Q$4)/1000),\"\")","v":""},"","","",{"$f":"IF(OR($H107=\"no\",$B107=0),\"\",IF($I107=Parameters!$K$15,$L107/($M107/2),$L107/$M107))","v":""},{"$f":"IF(OR($H107=\"no\",$B107=0),\"\",IF($X107<0.5,Parameters!$X$4,IF($X107<1,Parameters!$Y$4,IF($X107<2,Parameters!$Z$4,Parameters!$AA$4))))","v":""},{"$f":"IF(OR($H107=\"no\",$B107=0),\"\",IF($X107<0.5,Parameters!$X$5,IF($X107<1,Parameters!$Y$5,IF($X107<2,Parameters!$Z$5,Parameters!$AA$5))))","v":""},{"$f":"IF(OR($H107=\"no\",$B107=0),\"\",IF($I107=Parameters!$K$15,(2*($M107/2)*SIN(RADIANS(Calculations!$W107/2))),(2*$M107*SIN(RADIANS($W107/2)))))","v":""},"",{"$f":"IF(OR($H107=\"no\",$B107=0),\"\",IF($I107=Parameters!$K$15,$AB107*$N107/2,$AB107*$N107))","v":""},{"$f":"IF(OR($H107=\"no\",$B107=0),\"\",IF($I107=Parameters!$K$15,$AC107*2/Parameters!$AB$4,$AC107/Parameters!$AB$4))","v":""},{"$f":"IF(AND(O107=\"B\",Q107=\"calc\"),V107,IF(AND(O107=\"C\",Q107=\"calc\"),'Window & Door DATA INPUT'!T113/1000,\"\"))","v":""},{"$f":"IF(AND(O107=\"B\",Q107=\"input\"),'Window & Door DATA INPUT'!AA113,IF(AND(O107=\"C\",Q107=\"input\",P107=\"F\"),'Window & Door DATA INPUT'!V113,IF(AND(O107=\"C\",P107=\"E\"),0,IF(AND(O107=\"D\"),0,IF(AND(B107=1,C107=0),\"\",(Calculations!Q107))))))","v":""},"",{"$f":"IF(OR($H107=\"no\",$C107=0),\"\",IF($I107=Parameters!$K$15,$L107/($M107/2),$L107/$M107))","v":""},{"$f":"IF(OR($H107=\"no\",$C107=0),\"\",IF($AH107<0.5,Parameters!$X$4,IF($AH107<1,Parameters!$Y$4,IF($AH107<2,Parameters!$Z$4,Parameters!$AA$4))))","v":""},{"$f":"IF(OR($H107=\"no\",$C107=0),\"\",IF($AH107<0.5,Parameters!$X$5,IF($AH107<1,Parameters!$Y$5,IF($AH107<2,Parameters!$Z$5,Parameters!$AA$5))))","v":""},{"$f":"IF(OR($H107=\"no\",$C107=0),\"\",IF($I107=Parameters!$K$15,(2*($M107/2)*SIN(RADIANS(Calculations!$AG107/2))),(2*$M107*SIN(RADIANS($AG107/2)))))","v":""},"",{"$f":"IF(OR($H107=\"no\",$C107=0),\"\",IF($I107=Parameters!$K$15,$AL107*$N107/2,$AL107*$N107))","v":""},{"$f":"IF(OR($H107=\"no\",$C107=0),\"\",IF($I107=Parameters!$K$15,$AM107*2/Parameters!$AB$4,$AM107/Parameters!$AB$4))","v":""},{"$nulls":20},{"$f":"'Window & Door DATA INPUT'!H113","v":0},""]
[null,{"$f":"IF('Window & Door DATA INPUT'!B114>1,1,0)","v":0},{"$f":"IF(AND(B108=1,OR(D108=Parameters!$D$17, D108=Parameters!$D$18,D108=Parameters!$D$19,D108=Parameters!$D$20,D108=Parameters!$D$21,D108=Parameters!$D$22, D108=Parameters!$D$23, D108=Parameters!$D$24)),1,0)","v":0},{"$f":"IF('Window & Door DATA INPUT'!B114=\"\",\"\",'Window & Door DATA INPUT'!B114)","v":""},{"$f":"IF('Window & Door DATA INPUT'!D114=\"\",\"\",'Window & Door DATA INPUT'!D114)","v":""},{"$f":"IF(B108=1,'Window & Door DATA INPUT'!H114&RESULTS!$H$5,\"\")","v":""},{"$f":"IF(B108=1,VLOOKUP(F108,Parameters!$H$4:$I$20,2,FALSE),\"\")","v":""},{"$f":"IF(OR('Window & Door DATA INPUT'!J114=Parameters!$K$4,'Window & Door DATA INPUT'!J114=Parameters!$K$11),\"No\",IF('Window & Door DATA INPUT'!K114=\"\",\"\",'Window & Door DATA INPUT'!K114))","v":""},{"$f":"IF('Window & Door DATA INPUT'!J114=\"\",\"\",'Window & Door DATA INPUT'!J114)","v":""},{"$f":"IF('Window & Door DATA INPUT'!L114=Parameters!$O$5,'Window & Door DATA INPUT'!O114,IF(B108=1,('Window & Door DATA INPUT'!N114*'Window & Door DATA INPUT'!M114)/1000000,\"\"))","v":""},{"$f":"IF('Window & Door DATA INPUT'!J114=\"\",\"\",VLOOKUP('Window & Door DATA INPUT'!J114,Parameters!$K$4:$L$16,2,FALSE))","v":""},{"$f":"IF($H108=\"yes\",IF($K108=\"Y\",'Window & Door DATA INPUT'!Q114/1000,IF($K108=\"N\",'Window & Door DATA INPUT'!P114/1000)),\"\")","v":""},{"$f":"IF($H108=\"yes\",IF($K108=\"Y\",'Window & Door DATA INPUT'!P114/1000,IF($K108=\"N\",'Window & Door DATA INPUT'!Q114/1000)),\"\")","v":""},"",{"$f":"IF(AND(B108=1,C108=0,H108=\"yes\"),\"A\",IF(AND(C108=1,H108=\"yes\",'Window & Door DATA INPUT'!R114=\"no\"),\"B\",IF(AND(C108=1,H108=\"yes\",'Window & Door DATA INPUT'!R114=\"yes\",'Window & Door DATA INPUT'!S114=\"yes\"),\"C\",IF(AND(C108=1,H108=\"yes\",'Window & Door DATA INPUT'!R114=\"yes\",'Window & Door DATA INPUT'!S114=\"no\"),\"D\",\"\"))))","v":""},{"$f":"IF(AND(C108=1,H108=\"yes\",OR(I108=Parameters!$K$12,I108=Parameters!$K$13,I108=Parameters!$K$14)),\"E\",IF(AND(C108=1,H108=\"yes\",NOT(OR(I108=Parameters!$K$12,I108=Parameters!$K$13,I108=Parameters!$K$14))),\"F\",\"\"))","v":""},{"$f":"IF(AND(B108=1,H108=\"yes\"),VLOOKUP(I108,Parameters!$K$4:$M$16,3,FALSE),\"\")","v":""},{"$f":"IF(AND(OR(O108=\"A\",O108=\"B\",O108=\"d\"),Q108=\"input\"),'Window & Door DATA INPUT'!AA114,IF(AND(O108=\"C\",Q108=\"input\"),'Window & Door DATA INPUT'!W114,Calculations!Q108))","v":""},{"$f":"IF('Window & Door DATA INPUT'!X114=\"Yes\",'Window & Door DATA INPUT'!Y114/1000,IF(B108=1,\"N/A\",\"\"))","v":""},{"$f":"IF(Q108=\"calc\",IF(O108=\"c\",'Window & Door DATA INPUT'!U114/1000,(Parameters!$S$4-'Window & Door DATA INPUT'!Z114+Parameters!$Q$4)/1000),\"\")","v":""},"","","",{"$f":"IF(OR($H108=\"no\",$B108=0),\"\",IF($I108=Parameters!$K$15,$L108/($M108/2),$L108/$M108))","v":""},{"$f":"IF(OR($H108=\"no\",$B108=0),\"\",IF($X108<0.5,Parameters!$X$4,IF($X108<1,Parameters!$Y$4,IF($X108<2,Parameters!$Z$4,Parameters!$AA$4))))","v":""},{"$f":"IF(OR($H108=\"no\",$B108=0),\"\",IF($X108<0.5,Parameters!$X$5,IF($X108<1,Parameters!$Y$5,IF($X108<2,Parameters!$Z$5,Parameters!$AA$5))))","v":""},{"$f":"IF(OR($H108=\"no\",$B108=0),\"\",IF($I108=Parameters!$K$15,(2*($M108/2)*SIN(RADIANS(Calculations!$W108/2))),(2*$M108*SIN(RADIANS($W108/2)))))","v":""},"",{"$f":"IF(OR($H108=\"no\",$B108=0),\"\",IF($I108=Parameters!$K$15,$AB108*$N108/2,$AB108*$N108))","v":""},{"$f":"IF(OR($H108=\"no\",$B108=0),\"\",IF($I108=Parameters!$K$15,$AC108*2/Parameters!$AB$4,$AC108/Parameters!$AB$4))","v":""},{"$f":"IF(AND(O108=\"B\",Q108=\"calc\"),V108,IF(AND(O108=\"C\",Q108=\"calc\"),'Window & Door DATA INPUT'!T114/1000,\"\"))","v":""},{"$f":"IF(AND(O108=\"B\",Q108=\"input\"),'Window & Door DATA INPUT'!AA114,IF(AND(O108=\"C\",Q108=\"input\",P108=\"F\"),'Window & Door DATA INPUT'!V114,IF(AND(O108=\"C\",P108=\"E\"),0,IF(AND(O108=\"D\"),0,IF(AND(B108=1,C108=0),\"\",(Calculations!Q108))))))","v":""},"",{"$f":"IF(OR($H108=\"no\",$C108=0),\"\",IF($I108=Parameters!$K$15,$L108/($M108/2),$L108/$M108))","v":""},{"$f":"IF(OR($H108=\"no\",$C108=0),\"\",IF($AH108<0.5,Parameters!$X$4,IF($AH108<1,Parameters!$Y$4,IF($AH108<2,Parameters!$Z$4,Parameters!$AA$4))))","v":""},{"$f":"IF(OR($H108=\"no\",$C108=0),\"\",IF($AH108<0.5,Parameters!$X$5,IF($AH108<1,Parameters!$Y$5,IF($AH108<2,Parameters!$Z$5,Parameters!$AA$5))))","v":""},{"$f":"IF(OR($H108=\"no\",$C108=0),\"\",IF($I108=Parameters!$K$15,(2*($M108/2)*SIN(RADIANS(Calculations!$AG108/2))),(2*$M108*SIN(RADIANS($AG108/2)))))","v":""},"",{"$f":"IF(OR($H108=\"no\",$C108=0),\"\",IF($I108=Parameters!$K$15,$AL108*$N108/2,$AL108*$N108))","v":""},{"$f":"IF(OR($H108=\"no\",$C108=0),\"\",IF($I108=Parameters!$K$15,$AM108*2/Parameters!$AB$4,$AM108/Parameters!$AB$4))","v":""},{"$nulls":20},{"$f":"'Window & Door DATA INPUT'!H114","v":0},""]
[null,{"$f":"IF('Window & Door DATA INPUT'!B115>1,1,0)","v":0},{"$f":"IF(AND(B109=1,OR(D109=Parameters!$D$17, D109=Parameters!$D$18,D109=Parameters!$D$19,D109=Parameters!$D$20,D109=Parameters!$D$21,D109=Parameters!$D$22, D109=Parameters!$D$23, D109=Parameters!$D$24)),1,0)","v":0},{"$f":"IF('Window & Door DATA INPUT'!B115=\"\",\"\",'Window & Door DATA INPUT'!B115)","v":""},{"$f":"IF('Window & Door DATA INPUT'!D115=\"\",\"\",'Window & Door DATA INPUT'!D115)","v":""},{"$f":"IF(B109=1,'Window & Door DATA INPUT'!H115&RESULTS!$H$5,\"\")","v":""},{"$f":"IF(B109=1,VLOOKUP(F109,Parameters!$H$4:$I$20,2,FALSE),\"\")","v":""},{"$f":"IF(OR('Window & Door DATA INPUT'!J115=Parameters!$K$4,'Window & Door DATA INPUT'!J115=Parameters!$K$11),\"No\",IF('Window & Door DATA INPUT'!K115=\"\",\"\",'Window & Door DATA INPUT'!K115))","v":""},{"$f":"IF('Window & Door DATA INPUT'!J115=\"\",\"\",'Window & Door DATA INPUT'!J115)","v":""},{"$f":"IF('Window & Door DATA INPUT'!L115=Parameters!$O$5,'Window & Door DATA INPUT'!O115,IF(B109=1,('Window & Door DATA INPUT'!N115*'Window & Door DATA INPUT'!M115)/1000000,\"\"))","v":""},{"$f":"IF('Window & Door DATA INPUT'!J115=\"\",\"\",VLOOKUP('Window & Door DATA INPUT'!J115,Parameters!$K$4:$L$16,2,FALSE))","v":""},{"$f":"IF($H109=\"yes\",IF($K109=\"Y\",'Window & Door DATA INPUT'!Q115/1000,IF($K109=\"N\",'Window & Door DATA INPUT'!P115/1000)),\"\")","v":""},{"$f":"IF($H109=\"yes\",IF($K109=\"Y\",'Window & Door DATA INPUT'!P115/1000,IF($K109=\"N\",'Window & Door DATA INPUT'!Q115/1000)),\"\")","v":""},"",{"$f":"IF(AND(B109=1,C109=0,H109=\"yes\"),\"A\",IF(AND(C109=1,H109=\"yes\",'Window & Door DATA INPUT'!R115=\"no\"),\"B\",IF(AND(C109=1,H109=\"yes\",'Window & Door DATA INPUT'!R115=\"yes\",'Window & Door DATA INPUT'!S115=\"yes\"),\"C\",IF(AND(C109=1,H109=\"yes\",'Window & Door DATA INPUT'!R115=\"yes\",'Window & Door DATA INPUT'!S115=\"no\"),\"D\",\"\"))))","v":""},{"$f":"IF(AND(C109=1,H109=\"yes\",OR(I109=Parameters!$K$12,I109=Parameters!$K$13,I109=Parameters!$K$14)),\"E\",IF(AND(C109=1,H109=\"yes\",NOT(OR(I109=Parameters!$K$12,I109=Parameters!$K$13,I109=Parameters!$K$14))),\"F\",\"\"))","v":""},{"$f":"IF(AND(B109=1,H109=\"yes\"),VLOOKUP(I109,Parameters!$K$4:$M$16,3,FALSE),\"\")","v":""},{"$f":"IF(AND(OR(O109=\"A\",O109=\"B\",O109=\"d\"),Q109=\"input\"),'Window & Door DATA INPUT'!AA115,IF(AND(O109=\"C\",Q109=\"input\"),'Window & Door DATA INPUT'!W115,Calculations!Q109))","v":""},{"$f":"IF('Window & Door DATA INPUT'!X115=\"Yes\",'Window & Door DATA INPUT'!Y115/1000,IF(B109=1,\"N/A\",\"\"))","v":""},{"$f":"IF(Q109=\"calc\",IF(O109=\"c\",'Window & Door DATA INPUT'!U115/1000,(Parameters!$S$4-'Window & Door DATA INPUT'!Z115+Parameters!$Q$4)/1000),\"\")","v":""},"","","",{"$f":"IF(OR($H109=\"no\",$B109=0),\"\",IF($I109=Parameters!$K$15,$L109/($M109/2),$L109/$M109))","v":""},{"$f":"IF(OR($H109=\"no\",$B109=0),\"\",IF($X109<0.5,Parameters!$X$4,IF($X109<1,Parameters!$Y$4,IF($X109<2,Parameters!$Z$4,Parameters!$AA$4))))","v":""},{"$f":"IF(OR($H109=\"no\",$B109=0),\"\",IF($X109<0.5,Parameters!$X$5,IF($X109<1,Parameters!$Y$5,IF($X109<2,Parameters!$Z$5,Parameters!$AA$5))))","v":""},{"$f":"IF(OR($H109=\"no\",$B109=0),\"\",IF($I109=Parameters!$K$15,(2*($M109/2)*SIN(RADIANS(Calculations!$W109/2))),(2*$M109*SIN(RADIANS($W109/2)))))","v":""},"",{"$f":"IF(OR($H109=\"no\",$B109=0),\"\",IF($I109=Parameters!$K$15,$AB109*$N109/2,$AB109*$N109))","v":""},{"$f":"IF(OR($H109=\"no\",$B109=0),\"\",IF($I109=Parameters!$K$15,$AC109*2/Parameters!$AB$4,$AC109/Parameters!$AB$4))","v":""},{"$f":"IF(AND(O109=\"B\",Q109=\"calc\"),V109,IF(AND(O109=\"C\",Q109=\"calc\"),'Window & Door DATA INPUT'!T115/1000,\"\"))","v":""},{"$f":"IF(AND(O109=\"B\",Q109=\"input\"),'Window & Door DATA INPUT'!AA115,IF(AND(O109=\"C\",Q109=\"input\",P109=\"F\"),'Window & Door DATA INPUT'!V115,IF(AND(O109=\"C\",P109=\"E\"),0,IF(AND(O109=\"D\"),0,IF(AND(B109=1,C109=0),\"\",(Calculations!Q109))))))","v":""},"",{"$f":"IF(OR($H109=\"no\",$C109=0),\"\",IF($I109=Parameters!$K$15,$L109/($M109/2),$L109/$M109))","v":""},{"$f":"IF(OR($H109=\"no\",$C109=0),\"\",IF($AH109<0.5,Parameters!$X$4,IF($AH109<1,Parameters!$Y$4,IF($AH109<2,Parameters!$Z$4,Parameters!$AA$4))))","v":""},{"$f":"IF(OR($H109=\"no\",$C109=0),\"\",IF($AH109<0.5,Parameters!$X$5,IF($AH109<1,Parameters!$Y$5,IF($AH109<2,Parameters!$Z$5,Parameters!$AA$5))))","v":""},{"$f":"IF(OR($H109=\"no\",$C109=0),\"\",IF($I109=Parameters!$K$15,(2*($M109/2)*SIN(RADIANS(Calculations!$AG109/2))),(2*$M109*SIN(RADIANS($AG109/2)))))","v":""},"",{"$f":"IF(OR($H109=\"no\",$C109=0),\"\",IF($I109=Parameters!$K$15,$AL109*$N109/2,$AL109*$N109))","v":""},{"$f":"IF(OR($H109=\"no\",$C109=0),\"\",IF($I109=Parameters!$K$15,$AM109*2/Parameters!$AB$4,$AM109/Parameters!$AB$4))","v":""},{"$nulls":20},{"$f":"'Window & Door DATA INPUT'!H115","v":0},""]
[null,{"$f":"IF('Window & Door DATA INPUT'!B116>1,1,0)","v":0},{"$f":"IF(AND(B110=1,OR(D110=Parameters!$D$17, D110=Parameters!$D$18,D110=Parameters!$D$19,D110=Parameters!$D$20,D110=Parameters!$D$21,D110=Parameters!$D$22, D110=Parameters!$D$23, D110=Parameters!$D$24)),1,0)","v":0},{"$f":"IF('Window & Door DATA INPUT'!B116=\"\",\"\",'Window & Door DATA INPUT'!B116)","v":""},{"$f":"IF('Window & Door DATA INPUT'!D116=\"\",\"\",'Window & Door DATA INPUT'!D116)","v":""},{"$f":"IF(B110=1,'Window & Door DATA INPUT'!H116&RESULTS!$H$5,\"\")","v":""},{"$f":"IF(B110=1,VLOOKUP(F110,Parameters!$H$4:$I$20,2,FALSE),\"\")","v":""},{"$f":"IF(OR('Window & Door DATA INPUT'!J116=Parameters!$K$4,'Window & Door DATA INPUT'!J116=Parameters!$K$11),\"No\",IF('Window & Door DATA INPUT'!K116=\"\",\"\",'Window & Door DATA INPUT'!K116))","v":""},{"$f":"IF('Window & Door DATA INPUT'!J116=\"\",\"\",'Window & Door DATA INPUT'!J116)","v":""},{"$f":"IF('Window & Door DATA INPUT'!L116=Parameters!$O$5,'Window & Door DATA INPUT'!O116,IF(B110=1,('Window & Door DATA INPUT'!N116*'Window & Door DATA INPUT'!M116)/1000000,\"\"))","v":""},{"$f":"IF('Window & Door DATA INPUT'!J116=\"\",\"\",VLOOKUP('Window & Door DATA INPUT'!J116,Parameters!$K$4:$L$16,2,FALSE))","v":""},{"$f":"IF($H110=\"yes\",IF($K110=\"Y\",'Window & Door DATA INPUT'!Q116/1000,IF($K110=\"N\",'Window & Door DATA INPUT'!P116/1000)),\"\")","v":""},{"$f":"IF($H110=\"yes\",IF($K110=\"Y\",'Window & Door DATA INPUT'!P116/1000,IF($K110=\"N\",'Window & Door DATA INPUT'!Q116/1000)),\"\")","v":""},"",{"$f":"IF(AND(B110=1,C110=0,H110=\"yes\"),\"A\",IF(AND(C110=1,H110=\"yes\",'Window & Door DATA INPUT'!R116=\"no\"),\"B\",IF(AND(C110=1,H110=\"yes\",'Window & Door DATA INPUT'!R116=\"yes\",'Window & Door DATA INPUT'!S116=\"yes\"),\"C\",IF(AND(C110=1,H110=\"yes\",'Window & Door DATA INPUT'!R116=\"yes\",'Window & Door DATA INPUT'!S116=\"no\"),\"D\",\"\"))))","v":""},{"$f":"IF(AND(C110=1,H110=\"yes\",OR(I110=Parameters!$K$12,I110=Parameters!$K$13,I110=Parameters!$K$14)),\"E\",IF(AND(C110=1,H110=\"yes\",NOT(OR(I110=Parameters!$K$12,I110=Parameters!$K$13,I110=Parameters!$K$14))),\"F\",\"\"))","v":""},{"$f":"IF(AND(B110=1,H110=\"yes\"),VLOOKUP(I110,Parameters!$K$4:$M$16,3,FALSE),\"\")","v":""},{"$f":"IF(AND(OR(O110=\"A\",O110=\"B\",O110=\"d\"),Q110=\"input\"),'Window & Door DATA INPUT'!AA116,IF(AND(O110=\"C\",Q110=\"input\"),'Window & Door DATA INPUT'!W116,Calculations!Q110))","v":""},{"$f":"IF('Window & Door DATA INPUT'!X116=\"Yes\",'Window & Door DATA INPUT'!Y116/1000,IF(B110=1,\"N/A\",\"\"))","v":""},{"$f":"IF(Q110=\"calc\",IF(O110=\"c\",'Window & Door DATA INPUT'!U116/1000,(Parameters!$S$4-'Window & Door DATA INPUT'!Z116+Parameters!$Q$4)/1000),\"\")","v":""},"","","",{"$f":"IF(OR($H110=\"no\",$B110=0),\"\",IF($I110=Parameters!$K$15,$L110/($M110/2),$L110/$M110))","v":""},{"$f":"IF(OR($H110=\"no\",$B110=0),\"\",IF($X110<0.5,Parameters!$X$4,IF($X110<1,Parameters!$Y$4,IF($X110<2,Parameters!$Z$4,Parameters!$AA$4))))","v":""},{"$f":"IF(OR($H110=\"no\",$B110=0),\"\",IF($X110<0.5,Parameters!$X$5,IF($X110<1,Parameters!$Y$5,IF($X110<2,Parameters!$Z$5,Parameters!$AA$5))))","v":""},{"$f":"IF(OR($H110=\"no\",$B110=0),\"\",IF($I110=Parameters!$K$15,(2*($M110/2)*SIN(RADIANS(Calculations!$W110/2))),(2*$M110*SIN(RADIANS($W110/2)))))","v":""},"",{"$f":"IF(OR($H110=\"no\",$B110=0),\"\",IF($I110=Parameters!$K$15,$AB110*$N110/2,$AB110*$N110))","v":""},{"$f":"IF(OR($H110=\"no\",$B110=0),\"\",IF($I110=Parameters!$K$15,$AC110*2/Parameters!$AB$4,$AC110/Parameters!$AB$4))","v":""},{"$f":"IF(AND(O110=\"B\",Q110=\"calc\"),V110,IF(AND(O110=\"C\",Q110=\"calc\"),'Window & Door DATA INPUT'!T116/1000,\"\"))","v":""},{"$f":"IF(AND(O110=\"B\",Q110=\"input\"),'Window & Door DATA INPUT'!AA116,IF(AND(O110=\"C\",Q110=\"input\",P110=\"F\"),'Window & Door DATA INPUT'!V116,IF(AND(O110=\"C\",P110=\"E\"),0,IF(AND(O110=\"D\"),0,IF(AND(B110=1,C110=0),\"\",(Calculations!Q110))))))","v":""},"",{"$f":"IF(OR($H110=\"no\",$C110=0),\"\",IF($I110=Parameters!$K$15,$L110/($M110/2),$L110/$M110))","v":""},{"$f":"IF(OR($H110=\"no\",$C110=0),\"\",IF($AH110<0.5,Parameters!$X$4,IF($AH110<1,Parameters!$Y$4,IF($AH110<2,Parameters!$Z$4,Parameters!$AA$4))))","v":""},{"$f":"IF(OR($H110=\"no\",$C110=0),\"\",IF($AH110<0.5,Parameters!$X$5,IF($AH110<1,Parameters!$Y$5,IF($AH110<2,Parameters!$Z$5,Parameters!$AA$5))))","v":""},{"$f":"IF(OR($H110=\"no\",$C110=0),\"\",IF($I110=Parameters!$K$15,(2*($M110/2)*SIN(RADIANS(Calculations!$AG110/2))),(2*$M110*SIN(RADIANS($AG110/2)))))","v":""},"",{"$f":"IF(OR($H110=\"no\",$C110=0),\"\",IF($I110=Parameters!$K$15,$AL110*$N110/2,$AL110*$N110))","v":""},{"$f":"IF(OR($H110=\"no\",$C110=0),\"\",IF($I110=Parameters!$K$15,$AM110*2/Parameters!$AB$4,$AM110/Parameters!$AB$4))","v":""},{"$nulls":20},{"$f":"'Window & Door DATA INPUT'!H116","v":0},""]
[null,{"$f":"IF('Window & Door DATA INPUT'!B117>1,1,0)","v":0},{"$f":"IF(AND(B111=1,OR(D111=Parameters!$D$17, D111=Parameters!$D$18,D111=Parameters!$D$19,D111=Parameters!$D$20,D111=Parameters!$D$21,D111=Parameters!$D$22, D111=Parameters!$D$23, D111=Parameters!$D$24)),1,0)","v":0},{"$f":"IF('Window & Door DATA INPUT'!B117=\"\",\"\",'Window & Door DATA INPUT'!B117)","v":""},{"$f":"IF('Window & Door DATA INPUT'!D117=\"\",\"\",'Window & Door DATA INPUT'!D117)","v":""},{"$f":"IF(B111=1,'Window & Door DATA INPUT'!H117&RESULTS!$H$5,\"\")","v":""},{"$f":"IF(B111=1,VLOOKUP(F111,Parameters!$H$4:$I$20,2,FALSE),\"\")","v":""},{"$f":"IF(OR('Window & Door DATA INPUT'!J117=Parameters!$K$4,'Window & Door DATA INPUT'!J117=Parameters!$K$11),\"No\",IF('Window & Door DATA INPUT'!K117=\"\",\"\",'Window & Door DATA INPUT'!K117))","v":""},{"$f":"IF('Window & Door DATA INPUT'!J117=\"\",\"\",'Window & Door DATA INPUT'!J117)","v":""},{"$f":"IF('Window & Door DATA INPUT'!L117=Parameters!$O$5,'Window & Door DATA INPUT'!O117,IF(B111=1,('Window & Door DATA INPUT'!N117*'Window & Door DATA INPUT'!M117)/1000000,\"\"))","v":""},{"$f":"IF('Window & Door DATA INPUT'!J117=\"\",\"\",VLOOKUP('Window & Door DATA INPUT'!J117,Parameters!$K$4:$L$16,2,FALSE))","v":""},{"$f":"IF($H111=\"yes\",IF($K111=\"Y\",'Window & Door DATA INPUT'!Q117/1000,IF($K111=\"N\",'Window & Door DATA INPUT'!P117/1000)),\"\")","v":""},{"$f":"IF($H111=\"yes\",IF($K111=\"Y\",'Window & Door DATA INPUT'!P117/1000,IF($K111=\"N\",'Window & Door DATA INPUT'!Q117/1000)),\"\")","v":""},"",{"$f":"IF(AND(B111=1,C111=0,H111=\"yes\"),\"A\",IF(AND(C111=1,H111=\"yes\",'Window & Door DATA INPUT'!R117=\"no\"),\"B\",IF(AND(C111=1,H111=\"yes\",'Window & Door DATA INPUT'!R117=\"yes\",'Window & Door DATA INPUT'!S117=\"yes\"),\"C\",IF(AND(C111=1,H111=\"yes\",'Window & Door DATA INPUT'!R117=\"yes\",'Window & Door DATA INPUT'!S117=\"no\"),\"D\",\"\"))))","v":""},{"$f":"IF(AND(C111=1,H111=\"yes\",OR(I111=Parameters!$K$12,I111=Parameters!$K$13,I111=Parameters!$K$14)),\"E\",IF(AND(C111=1,H111=\"yes\",NOT(OR(I111=Parameters!$K$12,I111=Parameters!$K$13,I111=Parameters!$K$14))),\"F\",\"\"))","v":""},{"$f":"IF(AND(B111=1,H111=\"yes\"),VLOOKUP(I111,Parameters!$K$4:$M$16,3,FALSE),\"\")","v":""},{"$f":"IF(AND(OR(O111=\"A\",O111=\"B\",O111=\"d\"),Q111=\"input\"),'Window & Door DATA INPUT'!AA117,IF(AND(O111=\"C\",Q111=\"input\"),'Window & Door DATA INPUT'!W117,Calculations!Q111))","v":""},{"$f":"IF('Window & Door DATA INPUT'!X117=\"Yes\",'Window & Door DATA INPUT'!Y117/1000,IF(B111=1,\"N/A\",\"\"))","v":""},{"$f":"IF(Q111=\"calc\",IF(O111=\"c\",'Window & Door DATA INPUT'!U117/1000,(Parameters!$S$4-'Window & Door DATA INPUT'!Z117+Parameters!$Q$4)/1000),\"\")","v":""},"","","",{"$f":"IF(OR($H111=\"no\",$B111=0),\"\",IF($I111=Parameters!$K$15,$L111/($M111/2),$L111/$M111))","v":""},{"$f":"IF(OR($H111=\"no\",$B111=0),\"\",IF($X111<0.5,Parameters!$X$4,IF($X111<1,Parameters!$Y$4,IF($X111<2,Parameters!$Z$4,Parameters!$AA$4))))","v":""},{"$f":"IF(OR($H111=\"no\",$B111=0),\"\",IF($X111<0.5,Parameters!$X$5,IF($X111<1,Parameters!$Y$5,IF($X111<2,Parameters!$Z$5,Parameters!$AA$5))))","v":""},{"$f":"IF(OR($H111=\"no\",$B111=0),\"\",IF($I111=Parameters!$K$15,(2*($M111/2)*SIN(RADIANS(Calculations!$W111/2))),(2*$M111*SIN(RADIANS($W111/2)))))","v":""},"",{"$f":"IF(OR($H111=\"no\",$B111=0),\"\",IF($I111=Parameters!$K$15,$AB111*$N111/2,$AB111*$N111))","v":""},{"$f":"IF(OR($H111=\"no\",$B111=0),\"\",IF($I111=Parameters!$K$15,$AC111*2/Parameters!$AB$4,$AC111/Parameters!$AB$4))","v":""},{"$f":"IF(AND(O111=\"B\",Q111=\"calc\"),V111,IF(AND(O111=\"C\",Q111=\"calc\"),'Window & Door DATA INPUT'!T117/1000,\"\"))","v":""},{"$f":"IF(AND(O111=\"B\",Q111=\"input\"),'Window & Door DATA INPUT'!AA117,IF(AND(O111=\"C\",Q111=\"input\",P111=\"F\"),'Window & Door DATA INPUT'!V117,IF(AND(O111=\"C\",P111=\"E\"),0,IF(AND(O111=\"D\"),0,IF(AND(B111=1,C111=0),\"\",(Calculations!Q111))))))","v":""},"",{"$f":"IF(OR($H111=\"no\",$C111=0),\"\",IF($I111=Parameters!$K$15,$L111/($M111/2),$L111/$M111))","v":""},{"$f":"IF(OR($H111=\"no\",$C111=0),\"\",IF($AH111<0.5,Parameters!$X$4,IF($AH111<1,Parameters!$Y$4,IF($AH111<2,Parameters!$Z$4,Parameters!$AA$4))))","v":""},{"$f":"IF(OR($H111=\"no\",$C111=0),\"\",IF($AH111<0.5,Parameters!$X$5,IF($AH111<1,Parameters!$Y$5,IF($AH111<2,Parameters!$Z$5,Parameters!$AA$5))))","v":""},{"$f":"IF(OR($H111=\"no\",$C111=0),\"\",IF($I111=Parameters!$K$15,(2*($M111/2)*SIN(RADIANS(Calculations!$AG111/2))),(2*$M111*SIN(RADIANS($AG111/2)))))","v":""},"",{"$f":"IF(OR($H111=\"no\",$C111=0),\"\",IF($I111=Parameters!$K$15,$AL111*$N111/2,$AL111*$N111))","v":""},{"$f":"IF(OR($H111=\"no\",$C111=0),\"\",IF($I111=Parameters!$K$15,$AM111*2/Parameters!$AB$4,$AM111/Parameters!$AB$4))","v":""},{"$nulls":20},{"$f":"'Window & Door DATA INPUT'!H117","v":0},""]
[null,{"$f":"IF('Window & Door DATA INPUT'!B118>1,1,0)","v":0},{"$f":"IF(AND(B112=1,OR(D112=Parameters!$D$17, D112=Parameters!$D$18,D112=Parameters!$D$19,D112=Parameters!$D$20,D112=Parameters!$D$21,D112=Parameters!$D$22, D112=Parameters!$D$23, D112=Parameters!$D$24)),1,0)","v":0},{"$f":"IF('Window & Door DATA INPUT'!B118=\"\",\"\",'Window & Door DATA INPUT'!B118)","v":""},{"$f":"IF('Window & Door DATA INPUT'!D118=\"\",\"\",'Window & Door DATA INPUT'!D118)","v":""},{"$f":"IF(B112=1,'Window & Door DATA INPUT'!H118&RESULTS!$H$5,\"\")","v":""},{"$f":"IF(B112=1,VLOOKUP(F112,Parameters!$H$4:$I$20,2,FALSE),\"\")","v":""},{"$f":"IF(OR('Window & Door DATA INPUT'!J118=Parameters!$K$4,'Window & Door DATA INPUT'!J118=Parameters!$K$11),\"No\",IF('Window & Door DATA INPUT'!K118=\"\",\"\",'Window & Door DATA INPUT'!K118))","v":""},{"$f":"IF('Window & Door DATA INPUT'!J118=\"\",\"\",'Window & Door DATA INPUT'!J118)","v":""},{"$f":"IF('Window & Door DATA INPUT'!L118=Parameters!$O$5,'Window & Door DATA INPUT'!O118,IF(B112=1,('Window & Door DATA INPUT'!N118*'Window & Door DATA INPUT'!M118)/1000000,\"\"))","v":""},{"$f":"IF('Window & Door DATA INPUT'!J118=\"\",\"\",VLOOKUP('Window & Door DATA INPUT'!J118,Parameters!$K$4:$L$16,2,FALSE))","v":""},{"$f":"IF($H112=\"yes\",IF($K112=\"Y\",'Window & Door DATA INPUT'!Q118/1000,IF($K112=\"N\",'Window & Door DATA INPUT'!P118/1000)),\"\")","v":""},{"$f":"IF($H112=\"yes\",IF($K112=\"Y\",'Window & Door DATA INPUT'!P118/1000,IF($K112=\"N\",'Window & Door DATA INPUT'!Q118/1000)),\"\")","v":""},"",{"$f":"IF(AND(B112=1,C112=0,H112=\"yes\"),\"A\",IF(AND(C112=1,H112=\"yes\",'Window & Door DATA INPUT'!R118=\"no\"),\"B\",IF(AND(C112=1,H112=\"yes\",'Window & Door DATA INPUT'!R118=\"yes\",'Window & Door DATA INPUT'!S118=\"yes\"),\"C\",IF(AND(C112=1,H112=\"yes\",'Window & Door DATA INPUT'!R118=\"yes\",'Window & Door DATA INPUT'!S118=\"no\"),\"D\",\"\"))))","v":""},{"$f":"IF(AND(C112=1,H112=\"yes\",OR(I112=Parameters!$K$12,I112=Parameters!$K$13,I112=Parameters!$K$14)),\"E\",IF(AND(C112=1,H112=\"yes\",NOT(OR(I112=Parameters!$K$12,I112=Parameters!$K$13,I112=Parameters!$K$14))),\"F\",\"\"))","v":""},{"$f":"IF(AND(B112=1,H112=\"yes\"),VLOOKUP(I112,Parameters!$K$4:$M$16,3,FALSE),\"\")","v":""},{"$f":"IF(AND(OR(O112=\"A\",O112=\"B\",O112=\"d\"),Q112=\"input\"),'Window & Door DATA INPUT'!AA118,IF(AND(O112=\"C\",Q112=\"input\"),'Window & Door DATA INPUT'!W118,Calculations!Q112))","v":""},{"$f":"IF('Window & Door DATA INPUT'!X118=\"Yes\",'Window & Door DATA INPUT'!Y118/1000,IF(B112=1,\"N/A\",\"\"))","v":""},{"$f":"IF(Q112=\"calc\",IF(O112=\"c\",'Window & Door DATA INPUT'!U118/1000,(Parameters!$S$4-'Window & Door DATA INPUT'!Z118+Parameters!$Q$4)/1000),\"\")","v":""},"","","",{"$f":"IF(OR($H112=\"no\",$B112=0),\"\",IF($I112=Parameters!$K$15,$L112/($M112/2),$L112/$M112))","v":""},{"$f":"IF(OR($H112=\"no\",$B112=0),\"\",IF($X112<0.5,Parameters!$X$4,IF($X112<1,Parameters!$Y$4,IF($X112<2,Parameters!$Z$4,Parameters!$AA$4))))","v":""},{"$f":"IF(OR($H112=\"no\",$B112=0),\"\",IF($X112<0.5,Parameters!$X$5,IF($X112<1,Parameters!$Y$5,IF($X112<2,Parameters!$Z$5,Parameters!$AA$5))))","v":""},{"$f":"IF(OR($H112=\"no\",$B112=0),\"\",IF($I112=Parameters!$K$15,(2*($M112/2)*SIN(RADIANS(Calculations!$W112/2))),(2*$M112*SIN(RADIANS($W112/2)))))","v":""},"",{"$f":"IF(OR($H112=\"no\",$B112=0),\"\",IF($I112=Parameters!$K$15,$AB112*$N112/2,$AB112*$N112))","v":""},{"$f":"IF(OR($H112=\"no\",$B112=0),\"\",IF($I112=Parameters!$K$15,$AC112*2/Parameters!$AB$4,$AC112/Parameters!$AB$4))","v":""},{"$f":"IF(AND(O112=\"B\",Q112=\"calc\"),V112,IF(AND(O112=\"C\",Q112=\"calc\"),'Window & Door DATA INPUT'!T118/1000,\"\"))","v":""},{"$f":"IF(AND(O112=\"B\",Q112=\"input\"),'Window & Door DATA INPUT'!AA118,IF(AND(O112=\"C\",Q112=\"input\",P112=\"F\"),'Window & Door DATA INPUT'!V118,IF(AND(O112=\"C\",P112=\"E\"),0,IF(AND(O112=\"D\"),0,IF(AND(B112=1,C112=0),\"\",(Calculations!Q112))))))","v":""},"",{"$f":"IF(OR($H112=\"no\",$C112=0),\"\",IF($I112=Parameters!$K$15,$L112/($M112/2),$L112/$M112))","v":""},{"$f":"IF(OR($H112=\"no\",$C112=0),\"\",IF($AH112<0.5,Parameters!$X$4,IF($AH112<1,Parameters!$Y$4,IF($AH112<2,Parameters!$Z$4,Parameters!$AA$4))))","v":""},{"$f":"IF(OR($H112=\"no\",$C112=0),\"\",IF($AH112<0.5,Parameters!$X$5,IF($AH112<1,Parameters!$Y$5,IF($AH112<2,Parameters!$Z$5,Parameters!$AA$5))))","v":""},{"$f":"IF(OR($H112=\"no\",$C112=0),\"\",IF($I112=Parameters!$K$15,(2*($M112/2)*SIN(RADIANS(Calculations!$AG112/2))),(2*$M112*SIN(RADIANS($AG112/2)))))","v":""},"",{"$f":"IF(OR($H112=\"no\",$C112=0),\"\",IF($I112=Parameters!$K$15,$AL112*$N112/2,$AL112*$N112))","v":""},{"$f":"IF(OR($H112=\"no\",$C112=0),\"\",IF($I112=Parameters!$K$15,$AM112*2/Parameters!$AB$4,$AM112/Parameters!$AB$4))","v":""},{"$nulls":20},{"$f":"'Window & Door DATA INPUT'!H118","v":0},""]
[null,{"$f":"IF('Window & Door DATA INPUT'!B119>1,1,0)","v":0},{"$f":"IF(AND(B113=1,OR(D113=Parameters!$D$17, D113=Parameters!$D$18,D113=Parameters!$D$19,D113=Parameters!$D$20,D113=Parameters!$D$21,D113=Parameters!$D$22, D113=Parameters!$D$23, D113=Parameters!$D$24)),1,0)","v":0},{"$f":"IF('Window & Door DATA INPUT'!B119=\"\",\"\",'Window & Door DATA INPUT'!B119)","v":""},{"$f":"IF('Window & Door DATA INPUT'!D119=\"\",\"\",'Window & Door DATA INPUT'!D119)","v":""},{"$f":"IF(B113=1,'Window & Door DATA INPUT'!H119&RESULTS!$H$5,\"\")","v":""},{"$f":"IF(B113=1,VLOOKUP(F113,Parameters!$H$4:$I$20,2,FALSE),\"\")","v":""},{"$f":"IF(OR('Window & Door DATA INPUT'!J119=Parameters!$K$4,'Window & Door DATA INPUT'!J119=Parameters!$K$11),\"No\",IF('Window & Door DATA INPUT'!K119=\"\",\"\",'Window & Door DATA INPUT'!K119))","v":""},{"$f":"IF('Window & Door DATA INPUT'!J119=\"\",\"\",'Window & Door DATA INPUT'!J119)","v":""},{"$f":"IF('Window & Door DATA INPUT'!L119=Parameters!$O$5,'Window & Door DATA INPUT'!O119,IF(B113=1,('Window & Door DATA INPUT'!N119*'Window & Door DATA INPUT'!M119)/1000000,\"\"))","v":""},{"$f":"IF('Window & Door DATA INPUT'!J119=\"\",\"\",VLOOKUP('Window & Door DATA INPUT'!J119,Parameters!$K$4:$L$16,2,FALSE))","v":""},{"$f":"IF($H113=\"yes\",IF($K113=\"Y\",'Window & Door DATA INPUT'!Q119/1000,IF($K113=\"N\",'Window & Door DATA INPUT'!P119/1000)),\"\")","v":""},{"$f":"IF($H113=\"yes\",IF($K113=\"Y\",'Window & Door DATA INPUT'!P119/1000,IF($K113=\"N\",'Window & Door DATA INPUT'!Q119/1000)),\"\")","v":""},"",{"$f":"IF(AND(B113=1,C113=0,H113=\"yes\"),\"A\",IF(AND(C113=1,H113=\"yes\",'Window & Door DATA INPUT'!R119=\"no\"),\"B\",IF(AND(C113=1,H113=\"yes\",'Window & Door DATA INPUT'!R119=\"yes\",'Window & Door DATA INPUT'!S119=\"yes\"),\"C\",IF(AND(C113=1,H113=\"yes\",'Window & Door DATA INPUT'!R119=\"yes\",'Window & Door DATA INPUT'!S119=\"no\"),\"D\",\"\"))))","v":""},{"$f":"IF(AND(C113=1,H113=\"yes\",OR(I113=Parameters!$K$12,I113=Parameters!$K$13,I113=Parameters!$K$14)),\"E\",IF(AND(C113=1,H113=\"yes\",NOT(OR(I113=Parameters!$K$12,I113=Parameters!$K$13,I113=Parameters!$K$14))),\"F\",\"\"))","v":""},{"$f":"IF(AND(B113=1,H113=\"yes\"),VLOOKUP(I113,Parameters!$K$4:$M$16,3,FALSE),\"\")","v":""},{"$f":"IF(AND(OR(O113=\"A\",O113=\"B\",O113=\"d\"),Q113=\"input\"),'Window & Door DATA INPUT'!AA119,IF(AND(O113=\"C\",Q113=\"input\"),'Window & Door DATA INPUT'!W119,Calculations!Q113))","v":""},{"$f":"IF('Window & Door DATA INPUT'!X119=\"Yes\",'Window & Door DATA INPUT'!Y119/1000,IF(B113=1,\"N/A\",\"\"))","v":""},{"$f":"IF(Q113=\"calc\",IF(O113=\"c\",'Window & Door DATA INPUT'!U119/1000,(Parameters!$S$4-'Window & Door DATA INPUT'!Z119+Parameters!$Q$4)/1000),\"\")","v":""},"","","",{"$f":"IF(OR($H113=\"no\",$B113=0),\"\",IF($I113=Parameters!$K$15,$L113/($M113/2),$L113/$M113))","v":""},{"$f":"IF(OR($H113=\"no\",$B113=0),\"\",IF($X113<0.5,Parameters!$X$4,IF($X113<1,Parameters!$Y$4,IF($X113<2,Parameters!$Z$4,Parameters!$AA$4))))","v":""},{"$f":"IF(OR($H113=\"no\",$B113=0),\"\",IF($X113<0.5,Parameters!$X$5,IF($X113<1,Parameters!$Y$5,IF($X113<2,Parameters!$Z$5,Parameters!$AA$5))))","v":""},{"$f":"IF(OR($H113=\"no\",$B113=0),\"\",IF($I113=Parameters!$K$15,(2*($M113/2)*SIN(RADIANS(Calculations!$W113/2))),(2*$M113*SIN(RADIANS($W113/2)))))","v":""},"",{"$f":"IF(OR($H113=\"no\",$B113=0),\"\",IF($I113=Parameters!$K$15,$AB113*$N113/2,$AB113*$N113))","v":""},{"$f":"IF(OR($H113=\"no\",$B113=0),\"\",IF($I113=Parameters!$K$15,$AC113*2/Parameters!$AB$4,$AC113/Parameters!$AB$4))","v":""},{"$f":"IF(AND(O113=\"B\",Q113=\"calc\"),V113,IF(AND(O113=\"C\",Q113=\"calc\"),'Window & Door DATA INPUT'!T119/1000,\"\"))","v":""},{"$f":"IF(AND(O113=\"B\",Q113=\"input\"),'Window & Door DATA INPUT'!AA119,IF(AND(O113=\"C\",Q113=\"input\",P113=\"F\"),'Window & Door DATA INPUT'!V119,IF(AND(O113=\"C\",P113=\"E\"),0,IF(AND(O113=\"D\"),0,IF(AND(B113=1,C113=0),\"\",(Calculations!Q113))))))","v":""},"",{"$f":"IF(OR($H113=\"no\",$C113=0),\"\",IF($I113=Parameters!$K$15,$L113/($M113/2),$L113/$M113))","v":""},{"$f":"IF(OR($H113=\"no\",$C113=0),\"\",IF($AH113<0.5,Parameters!$X$4,IF($AH113<1,Parameters!$Y$4,IF($AH113<2,Parameters!$Z$4,Parameters!$AA$4))))","v":""},{"$f":"IF(OR($H113=\"no\",$C113=0),\"\",IF($AH113<0.5,Parameters!$X$5,IF($AH113<1,Parameters!$Y$5,IF($AH113<2,Parameters!$Z$5,Parameters!$AA$5))))","v":""},{"$f":"IF(OR($H113=\"no\",$C113=0),\"\",IF($I113=Parameters!$K$15,(2*($M113/2)*SIN(RADIANS(Calculations!$AG113/2))),(2*$M113*SIN(RADIANS($AG113/2)))))","v":""},"",{"$f":"IF(OR($H113=\"no\",$C113=0),\"\",IF($I113=Parameters!$K$15,$AL113*$N113/2,$AL113*$N113))","v":""},{"$f":"IF(OR($H113=\"no\",$C113=0),\"\",IF($I113=Parameters!$K$15,$AM113*2/Parameters!$AB$4,$AM113/Parameters!$AB$4))","v":""},{"$nulls":20},{"$f":"'Window & Door DATA INPUT'!H119","v":0},""]
[null,{"$f":"IF('Window & Door DATA INPUT'!B120>1,1,0)","v":0},{"$f":"IF(AND(B114=1,OR(D114=Parameters!$D$17, D114=Parameters!$D$18,D114=Parameters!$D$19,D114=Parameters!$D$20,D114=Parameters!$D$21,D114=Parameters!$D$22, D114=Parameters!$D$23, D114=Parameters!$D$24)),1,0)","v":0},{"$f":"IF('Window & Door DATA INPUT'!B120=\"\",\"\",'Window & Door DATA INPUT'!B120)","v":""},{"$f":"IF('Window & Door DATA INPUT'!D120=\"\",\"\",'Window & Door DATA INPUT'!D120)","v":""},{"$f":"IF(B114=1,'Window & Door DATA INPUT'!H120&RESULTS!$H$5,\"\")","v":""},{"$f":"IF(B114=1,VLOOKUP(F114,Parameters!$H$4:$I$20,2,FALSE),\"\")","v":""},{"$f":"IF(OR('Window & Door DATA INPUT'!J120=Parameters!$K$4,'Window & Door DATA INPUT'!J120=Parameters!$K$11),\"No\",IF('Window & Door DATA INPUT'!K120=\"\",\"\",'Window & Door DATA INPUT'!K120))","v":""},{"$f":"IF('Window & Door DATA INPUT'!J120=\"\",\"\",'Window & Door DATA INPUT'!J120)","v":""},{"$f":"IF('Window & Door DATA INPUT'!L120=Parameters!$O$5,'Window & Door DATA INPUT'!O120,IF(B114=1,('Window & Door DATA INPUT'!N120*'Window & Door DATA INPUT'!M120)/1000000,\"\"))","v":""},{"$f":"IF('Window & Door DATA INPUT'!J120=\"\",\"\",VLOOKUP('Window & Door DATA INPUT'!J120,Parameters!$K$4:$L$16,2,FALSE))","v":""},{"$f":"IF($H114=\"yes\",IF($K114=\"Y\",'Window & Door DATA INPUT'!Q120/1000,IF($K114=\"N\",'Window & Door DATA INPUT'!P120/1000)),\"\")","v":""},{"$f":"IF($H114=\"yes\",IF($K114=\"Y\",'Window & Door DATA INPUT'!P120/1000,IF($K114=\"N\",'Window & Door DATA INPUT'!Q120/1000)),\"\")","v":""},"",{"$f":"IF(AND(B114=1,C114=0,H114=\"yes\"),\"A\",IF(AND(C114=1,H114=\"yes\",'Window & Door DATA INPUT'!R120=\"no\"),\"B\",IF(AND(C114=1,H114=\"yes\",'Window & Door DATA INPUT'!R120=\"yes\",'Window & Door DATA INPUT'!S120=\"yes\"),\"C\",IF(AND(C114=1,H114=\"yes\",'Window & Door DATA INPUT'!R120=\"yes\",'Window & Door DATA INPUT'!S120=\"no\"),\"D\",\"\"))))","v":""},{"$f":"IF(AND(C114=1,H114=\"yes\",OR(I114=Parameters!$K$12,I114=Parameters!$K$13,I114=Parameters!$K$14)),\"E\",IF(AND(C114=1,H114=\"yes\",NOT(OR(I114=Parameters!$K$12,I114=Parameters!$K$13,I114=Parameters!$K$14))),\"F\",\"\"))","v":""},{"$f":"IF(AND(B114=1,H114=\"yes\"),VLOOKUP(I114,Parameters!$K$4:$M$16,3,FALSE),\"\")","v":""},{"$f":"IF(AND(OR(O114=\"A\",O114=\"B\",O114=\"d\"),Q114=\"input\"),'Window & Door DATA INPUT'!AA120,IF(AND(O114=\"C\",Q114=\"input\"),'Window & Door DATA INPUT'!W120,Calculations!Q114))","v":""},{"$f":"IF('Window & Door DATA INPUT'!X120=\"Yes\",'Window & Door DATA INPUT'!Y120/1000,IF(B114=1,\"N/A\",\"\"))","v":""},{"$f":"IF(Q114=\"calc\",IF(O114=\"c\",'Window & Door DATA INPUT'!U120/1000,(Parameters!$S$4-'Window & Door DATA INPUT'!Z120+Parameters!$Q$4)/1000),\"\")","v":""},"","","",{"$f":"IF(OR($H114=\"no\",$B114=0),\"\",IF($I114=Parameters!$K$15,$L114/($M114/2),$L114/$M114))","v":""},{"$f":"IF(OR($H114=\"no\",$B114=0),\"\",IF($X114<0.5,Parameters!$X$4,IF($X114<1,Parameters!$Y$4,IF($X114<2,Parameters!$Z$4,Parameters!$AA$4))))","v":""},{"$f":"IF(OR($H114=\"no\",$B114=0),\"\",IF($X114<0.5,Parameters!$X$5,IF($X114<1,Parameters!$Y$5,IF($X114<2,Parameters!$Z$5,Parameters!$AA$5))))","v":""},{"$f":"IF(OR($H114=\"no\",$B114=0),\"\",IF($I114=Parameters!$K$15,(2*($M114/2)*SIN(RADIANS(Calculations!$W114/2))),(2*$M114*SIN(RADIANS($W114/2)))))","v":""},"",{"$f":"IF(OR($H114=\"no\",$B114=0),\"\",IF($I114=Parameters!$K$15,$AB114*$N114/2,$AB114*$N114))","v":""},{"$f":"IF(OR($H114=\"no\",$B114=0),\"\",IF($I114=Parameters!$K$15,$AC114*2/Parameters!$AB$4,$AC114/Parameters!$AB$4))","v":""},{"$f":"IF(AND(O114=\"B\",Q114=\"calc\"),V114,IF(AND(O114=\"C\",Q114=\"calc\"),'Window & Door DATA INPUT'!T120/1000,\"\"))","v":""},{"$f":"IF(AND(O114=\"B\",Q114=\"input\"),'Window & Door DATA INPUT'!AA120,IF(AND(O114=\"C\",Q114=\"input\",P114=\"F\"),'Window & Door DATA INPUT'!V120,IF(AND(O114=\"C\",P114=\"E\"),0,IF(AND(O114=\"D\"),0,IF(AND(B114=1,C114=0),\"\",(Calculations!Q114))))))","v":""},"",{"$f":"IF(OR($H114=\"no\",$C114=0),\"\",IF($I114=Parameters!$K$15,$L114/($M114/2),$L114/$M114))","v":""},{"$f":"IF(OR($H114=\"no\",$C114=0),\"\",IF($AH114<0.5,Parameters!$X$4,IF($AH114<1,Parameters!$Y$4,IF($AH114<2,Parameters!$Z$4,Parameters!$AA$4))))","v":""},{"$f":"IF(OR($H114=\"no\",$C114=0),\"\",IF($AH114<0.5,Parameters!$X$5,IF($AH114<1,Parameters!$Y$5,IF($AH114<2,Parameters!$Z$5,Parameters!$AA$5))))","v":""},{"$f":"IF(OR($H114=\"no\",$C114=0),\"\",IF($I114=Parameters!$K$15,(2*($M114/2)*SIN(RADIANS(Calculations!$AG114/2))),(2*$M114*SIN(RADIANS($AG114/2)))))","v":""},"",{"$f":"IF(OR($H114=\"no\",$C114=0),\"\",IF($I114=Parameters!$K$15,$AL114*$N114/2,$AL114*$N114))","v":""},{"$f":"IF(OR($H114=\"no\",$C114=0),\"\",IF($I114=Parameters!$K$15,$AM114*2/Parameters!$AB$4,$AM114/Parameters!$AB$4))","v":""},{"$nulls":20},{"$f":"'Window & Door DATA INPUT'!H120","v":0},""]
[null,{"$f":"IF('Window & Door DATA INPUT'!B121>1,1,0)","v":0},{"$f":"IF(AND(B115=1,OR(D115=Parameters!$D$17, D115=Parameters!$D$18,D115=Parameters!$D$19,D115=Parameters!$D$20,D115=Parameters!$D$21,D115=Parameters!$D$22, D115=Parameters!$D$23, D115=Parameters!$D$24)),1,0)","v":0},{"$f":"IF('Window & Door DATA INPUT'!B121=\"\",\"\",'Window & Door DATA INPUT'!B121)","v":""},{"$f":"IF('Window & Door DATA INPUT'!D121=\"\",\"\",'Window & Door DATA INPUT'!D121)","v":""},{"$f":"IF(B115=1,'Window & Door DATA INPUT'!H121&RESULTS!$H$5,\"\")","v":""},{"$f":"IF(B115=1,VLOOKUP(F115,Parameters!$H$4:$I$20,2,FALSE),\"\")","v":""},{"$f":"IF(OR('Window & Door DATA INPUT'!J121=Parameters!$K$4,'Window & Door DATA INPUT'!J121=Parameters!$K$11),\"No\",IF('Window & Door DATA INPUT'!K121=\"\",\"\",'Window & Door DATA INPUT'!K121))","v":""},{"$f":"IF('Window & Door DATA INPUT'!J121=\"\",\"\",'Window & Door DATA INPUT'!J121)","v":""},{"$f":"IF('Window & Door DATA INPUT'!L121=Parameters!$O$5,'Window & Door DATA INPUT'!O121,IF(B115=1,('Window & Door DATA INPUT'!N121*'Window & Door DATA INPUT'!M121)/1000000,\"\"))","v":""},{"$f":"IF('Window & Door DATA INPUT'!J121=\"\",\"\",VLOOKUP('Window & Door DATA INPUT'!J121,Parameters!$K$4:$L$16,2,FALSE))","v":""},{"$f":"IF($H115=\"yes\",IF($K115=\"Y\",'Window & Door DATA INPUT'!Q121/1000,IF($K115=\"N\",'Window & Door DATA INPUT'!P121/1000)),\"\")","v":""},{"$f":"IF($H115=\"yes\",IF($K115=\"Y\",'Window & Door DATA INPUT'!P121/1000,IF($K115=\"N\",'Window & Door DATA INPUT'!Q121/1000)),\"\")","v":""},"",{"$f":"IF(AND(B115=1,C115=0,H115=\"yes\"),\"A\",IF(AND(C115=1,H115=\"yes\",'Window & Door DATA INPUT'!R121=\"no\"),\"B\",IF(AND(C115=1,H115=\"yes\",'Window & Door DATA INPUT'!R121=\"yes\",'Window & Door DATA INPUT'!S121=\"yes\"),\"C\",IF(AND(C115=1,H115=\"yes\",'Window & Door DATA INPUT'!R121=\"yes\",'Window & Door DATA INPUT'!S121=\"no\"),\"D\",\"\"))))","v":""},{"$f":"IF(AND(C115=1,H115=\"yes\",OR(I115=Parameters!$K$12,I115=Parameters!$K$13,I115=Parameters!$K$14)),\"E\",IF(AND(C115=1,H115=\"yes\",NOT(OR(I115=Parameters!$K$12,I115=Parameters!$K$13,I115=Parameters!$K$14))),\"F\",\"\"))","v":""},{"$f":"IF(AND(B115=1,H115=\"yes\"),VLOOKUP(I115,Parameters!$K$4:$M$16,3,FALSE),\"\")","v":""},{"$f":"IF(AND(OR(O115=\"A\",O115=\"B\",O115=\"d\"),Q115=\"input\"),'Window & Door DATA INPUT'!AA121,IF(AND(O115=\"C\",Q115=\"input\"),'Window & Door DATA INPUT'!W121,Calculations!Q115))","v":""},{"$f":"IF('Window & Door DATA INPUT'!X121=\"Yes\",'Window & Door DATA INPUT'!Y121/1000,IF(B115=1,\"N/A\",\"\"))","v":""},{"$f":"IF(Q115=\"calc\",IF(O115=\"c\",'Window & Door DATA INPUT'!U121/1000,(Parameters!$S$4-'Window & Door DATA INPUT'!Z121+Parameters!$Q$4)/1000),\"\")","v":""},"","","",{"$f":"IF(OR($H115=\"no\",$B115=0),\"\",IF($I115=Parameters!$K$15,$L115/($M115/2),$L115/$M115))","v":""},{"$f":"IF(OR($H115=\"no\",$B115=0),\"\",IF($X115<0.5,Parameters!$X$4,IF($X115<1,Parameters!$Y$4,IF($X115<2,Parameters!$Z$4,Parameters!$AA$4))))","v":""},{"$f":"IF(OR($H115=\"no\",$B115=0),\"\",IF($X115<0.5,Parameters!$X$5,IF($X115<1,Parameters!$Y$5,IF($X115<2,Parameters!$Z$5,Parameters!$AA$5))))","v":""},{"$f":"IF(OR($H115=\"no\",$B115=0),\"\",IF($I115=Parameters!$K$15,(2*($M115/2)*SIN(RADIANS(Calculations!$W115/2))),(2*$M115*SIN(RADIANS($W115/2)))))","v":""},"",{"$f":"IF(OR($H115=\"no\",$B115=0),\"\",IF($I115=Parameters!$K$15,$AB115*$N115/2,$AB115*$N115))","v":""},{"$f":"IF(OR($H115=\"no\",$B115=0),\"\",IF($I115=Parameters!$K$15,$AC115*2/Parameters!$AB$4,$AC115/Parameters!$AB$4))","v":""},{"$f":"IF(AND(O115=\"B\",Q115=\"calc\"),V115,IF(AND(O115=\"C\",Q115=\"calc\"),'Window & Door DATA INPUT'!T121/1000,\"\"))","v":""},{"$f":"IF(AND(O115=\"B\",Q115=\"input\"),'Window & Door DATA INPUT'!AA121,IF(AND(O115=\"C\",Q115=\"input\",P115=\"F\"),'Window & Door DATA INPUT'!V121,IF(AND(O115=\"C\",P115=\"E\"),0,IF(AND(O115=\"D\"),0,IF(AND(B115=1,C115=0),\"\",(Calculations!Q115))))))","v":""},"",{"$f":"IF(OR($H115=\"no\",$C115=0),\"\",IF($I115=Parameters!$K$15,$L115/($M115/2),$L115/$M115))","v":""},{"$f":"IF(OR($H115=\"no\",$C115=0),\"\",IF($AH115<0.5,Parameters!$X$4,IF($AH115<1,Parameters!$Y$4,IF($AH115<2,Parameters!$Z$4,Parameters!$AA$4))))","v":""},{"$f":"IF(OR($H115=\"no\",$C115=0),\"\",IF($AH115<0.5,Parameters!$X$5,IF($AH115<1,Parameters!$Y$5,IF($AH115<2,Parameters!$Z$5,Parameters!$AA$5))))","v":""},{"$f":"IF(OR($H115=\"no\",$C115=0),\"\",IF($I115=Parameters!$K$15,(2*($M115/2)*SIN(RADIANS(Calculations!$AG115/2))),(2*$M115*SIN(RADIANS($AG115/2)))))","v":""},"",{"$f":"IF(OR($H115=\"no\",$C115=0),\"\",IF($I115=Parameters!$K$15,$AL115*$N115/2,$AL115*$N115))","v":""},{"$f":"IF(OR($H115=\"no\",$C115=0),\"\",IF($I115=Parameters!$K$15,$AM115*2/Parameters!$AB$4,$AM115/Parameters!$AB$4))","v":""},{"$nulls":20},{"$f":"'Window & Door DATA INPUT'!H121","v":0},""]
[null,{"$f":"IF('Window & Door DATA INPUT'!B122>1,1,0)","v":0},{"$f":"IF(AND(B116=1,OR(D116=Parameters!$D$17, D116=Parameters!$D$18,D116=Parameters!$D$19,D116=Parameters!$D$20,D116=Parameters!$D$21,D116=Parameters!$D$22, D116=Parameters!$D$23, D116=Parameters!$D$24)),1,0)","v":0},{"$f":"IF('Window & Door DATA INPUT'!B122=\"\",\"\",'Window & Door DATA INPUT'!B122)","v":""},{"$f":"IF('Window & Door DATA INPUT'!D122=\"\",\"\",'Window & Door DATA INPUT'!D122)","v":""},{"$f":"IF(B116=1,'Window & Door DATA INPUT'!H122&RESULTS!$H$5,\"\")","v":""},{"$f":"IF(B116=1,VLOOKUP(F116,Parameters!$H$4:$I$20,2,FALSE),\"\")","v":""},{"$f":"IF(OR('Window & Door DATA INPUT'!J122=Parameters!$K$4,'Window & Door DATA INPUT'!J122=Parameters!$K$11),\"No\",IF('Window & Door DATA INPUT'!K122=\"\",\"\",'Window & Door DATA INPUT'!K122))","v":""},{"$f":"IF('Window & Door DATA INPUT'!J122=\"\",\"\",'Window & Door DATA INPUT'!J122)","v":""},{"$f":"IF('Window & Door DATA INPUT'!L122=Parameters!$O$5,'Window & Door DATA INPUT'!O122,IF(B116=1,('Window & Door DATA INPUT'!N122*'Window & Door DATA INPUT'!M122)/1000000,\"\"))","v":""},{"$f":"IF('Window & Door DATA INPUT'!J122=\"\",\"\",VLOOKUP('Window & Door DATA INPUT'!J122,Parameters!$K$4:$L$16,2,FALSE))","v":""},{"$f":"IF($H116=\"yes\",IF($K116=\"Y\",'Window & Door DATA INPUT'!Q122/1000,IF($K116=\"N\",'Window & Door DATA INPUT'!P122/1000)),\"\")","v":""},{"$f":"IF($H116=\"yes\",IF($K116=\"Y\",'Window & Door DATA INPUT'!P122/1000,IF($K116=\"N\",'Window & Door DATA INPUT'!Q122/1000)),\"\")","v":""},"",{"$f":"IF(AND(B116=1,C116=0,H116=\"yes\"),\"A\",IF(AND(C116=1,H116=\"yes\",'Window & Door DATA INPUT'!R122=\"no\"),\"B\",IF(AND(C116=1,H116=\"yes\",'Window & Door DATA INPUT'!R122=\"yes\",'Window & Door DATA INPUT'!S122=\"yes\"),\"C\",IF(AND(C116=1,H116=\"yes\",'Window & Door DATA INPUT'!R122=\"yes\",'Window & Door DATA INPUT'!S122=\"no\"),\"D\",\"\"))))","v":""},{"$f":"IF(AND(C116=1,H116=\"yes\",OR(I116=Parameters!$K$12,I116=Parameters!$K$13,I116=Parameters!$K$14)),\"E\",IF(AND(C116=1,H116=\"yes\",NOT(OR(I116=Parameters!$K$12,I116=Parameters!$K$13,I116=Parameters!$K$14))),\"F\",\"\"))","v":""},{"$f":"IF(AND(B116=1,H116=\"yes\"),VLOOKUP(I116,Parameters!$K$4:$M$16,3,FALSE),\"\")","v":""},{"$f":"IF(AND(OR(O116=\"A\",O116=\"B\",O116=\"d\"),Q116=\"input\"),'Window & Door DATA INPUT'!AA122,IF(AND(O116=\"C\",Q116=\"input\"),'Window & Door DATA INPUT'!W122,Calculations!Q116))","v":""},{"$f":"IF('Window & Door DATA INPUT'!X122=\"Yes\",'Window & Door DATA INPUT'!Y122/1000,IF(B116=1,\"N/A\",\"\"))","v":""},{"$f":"IF(Q116=\"calc\",IF(O116=\"c\",'Window & Door DATA INPUT'!U122/1000,(Parameters!$S$4-'Window & Door DATA INPUT'!Z122+Parameters!$Q$4)/1000),\"\")","v":""},"","","",{"$f":"IF(OR($H116=\"no\",$B116=0),\"\",IF($I116=Parameters!$K$15,$L116/($M116/2),$L116/$M116))","v":""},{"$f":"IF(OR($H116=\"no\",$B116=0),\"\",IF($X116<0.5,Parameters!$X$4,IF($X116<1,Parameters!$Y$4,IF($X116<2,Parameters!$Z$4,Parameters!$AA$4))))","v":""},{"$f":"IF(OR($H116=\"no\",$B116=0),\"\",IF($X116<0.5,Parameters!$X$5,IF($X116<1,Parameters!$Y$5,IF($X116<2,Parameters!$Z$5,Parameters!$AA$5))))","v":""},{"$f":"IF(OR($H116=\"no\",$B116=0),\"\",IF($I116=Parameters!$K$15,(2*($M116/2)*SIN(RADIANS(Calculations!$W116/2))),(2*$M116*SIN(RADIANS($W116/2)))))","v":""},"",{"$f":"IF(OR($H116=\"no\",$B116=0),\"\",IF($I116=Parameters!$K$15,$AB116*$N116/2,$AB116*$N116))","v":""},{"$f":"IF(OR($H116=\"no\",$B116=0),\"\",IF($I116=Parameters!$K$15,$AC116*2/Parameters!$AB$4,$AC116/Parameters!$AB$4))","v":""},{"$f":"IF(AND(O116=\"B\",Q116=\"calc\"),V116,IF(AND(O116=\"C\",Q116=\"calc\"),'Window & Door DATA INPUT'!T122/1000,\"\"))","v":""},{"$f":"IF(AND(O116=\"B\",Q116=\"input\"),'Window & Door DATA INPUT'!AA122,IF(AND(O116=\"C\",Q116=\"input\",P116=\"F\"),'Window & Door DATA INPUT'!V122,IF(AND(O116=\"C\",P116=\"E\"),0,IF(AND(O116=\"D\"),0,IF(AND(B116=1,C116=0),\"\",(Calculations!Q116))))))","v":""},"",{"$f":"IF(OR($H116=\"no\",$C116=0),\"\",IF($I116=Parameters!$K$15,$L116/($M116/2),$L116/$M116))","v":""},{"$f":"IF(OR($H116=\"no\",$C116=0),\"\",IF($AH116<0.5,Parameters!$X$4,IF($AH116<1,Parameters!$Y$4,IF($AH116<2,Parameters!$Z$4,Parameters!$AA$4))))","v":""},{"$f":"IF(OR($H116=\"no\",$C116=0),\"\",IF($AH116<0.5,Parameters!$X$5,IF($AH116<1,Parameters!$Y$5,IF($AH116<2,Parameters!$Z$5,Parameters!$AA$5))))","v":""},{"$f":"IF(OR($H116=\"no\",$C116=0),\"\",IF($I116=Parameters!$K$15,(2*($M116/2)*SIN(RADIANS(Calculations!$AG116/2))),(2*$M116*SIN(RADIANS($AG116/2)))))","v":""},"",{"$f":"IF(OR($H116=\"no\",$C116=0),\"\",IF($I116=Parameters!$K$15,$AL116*$N116/2,$AL116*$N116))","v":""},{"$f":"IF(OR($H116=\"no\",$C116=0),\"\",IF($I116=Parameters!$K$15,$AM116*2/Parameters!$AB$4,$AM116/Parameters!$AB$4))","v":""},{"$nulls":20},{"$f":"'Window & Door DATA INPUT'!H122","v":0},""]
[null,{"$f":"IF('Window & Door DATA INPUT'!B123>1,1,0)","v":0},{"$f":"IF(AND(B117=1,OR(D117=Parameters!$D$17, D117=Parameters!$D$18,D117=Parameters!$D$19,D117=Parameters!$D$20,D117=Parameters!$D$21,D117=Parameters!$D$22, D117=Parameters!$D$23, D117=Parameters!$D$24)),1,0)","v":0},{"$f":"IF('Window & Door DATA INPUT'!B123=\"\",\"\",'Window & Door DATA INPUT'!B123)","v":""},{"$f":"IF('Window & Door DATA INPUT'!D123=\"\",\"\",'Window & Door DATA INPUT'!D123)","v":""},{"$f":"IF(B117=1,'Window & Door DATA INPUT'!H123&RESULTS!$H$5,\"\")","v":""},{"$f":"IF(B117=1,VLOOKUP(F117,Parameters!$H$4:$I$20,2,FALSE),\"\")","v":""},{"$f":"IF(OR('Window & Door DATA INPUT'!J123=Parameters!$K$4,'Window & Door DATA INPUT'!J123=Parameters!$K$11),\"No\",IF('Window & Door DATA INPUT'!K123=\"\",\"\",'Window & Door DATA INPUT'!K123))","v":""},{"$f":"IF('Window & Door DATA INPUT'!J123=\"\",\"\",'Window & Door DATA INPUT'!J123)","v":""},{"$f":"IF('Window & Door DATA INPUT'!L123=Parameters!$O$5,'Window & Door DATA INPUT'!O123,IF(B117=1,('Window & Door DATA INPUT'!N123*'Window & Door DATA INPUT'!M123)/1000000,\"\"))","v":""},{"$f":"IF('Window & Door DATA INPUT'!J123=\"\",\"\",VLOOKUP('Window & Door DATA INPUT'!J123,Parameters!$K$4:$L$16,2,FALSE))","v":""},{"$f":"IF($H117=\"yes\",IF($K117=\"Y\",'Window & Door DATA INPUT'!Q123/1000,IF($K117=\"N\",'Window & Door DATA INPUT'!P123/1000)),\"\")","v":""},{"$f":"IF($H117=\"yes\",IF($K117=\"Y\",'Window & Door DATA INPUT'!P123/1000,IF($K117=\"N\",'Window & Door DATA INPUT'!Q123/1000)),\"\")","v":""},"",{"$f":"IF(AND(B117=1,C117=0,H117=\"yes\"),\"A\",IF(AND(C117=1,H117=\"yes\",'Window & Door DATA INPUT'!R123=\"no\"),\"B\",IF(AND(C117=1,H117=\"yes\",'Window & Door DATA INPUT'!R123=\"yes\",'Window & Door DATA INPUT'!S123=\"yes\"),\"C\",IF(AND(C117=1,H117=\"yes\",'Window & Door DATA INPUT'!R123=\"yes\",'Window & Door DATA INPUT'!S123=\"no\"),\"D\",\"\"))))","v":""},{"$f":"IF(AND(C117=1,H117=\"yes\",OR(I117=Parameters!$K$12,I117=Parameters!$K$13,I117=Parameters!$K$14)),\"E\",IF(AND(C117=1,H117=\"yes\",NOT(OR(I117=Parameters!$K$12,I117=Parameters!$K$13,I117=Parameters!$K$14))),\"F\",\"\"))","v":""},{"$f":"IF(AND(B117=1,H117=\"yes\"),VLOOKUP(I117,Parameters!$K$4:$M$16,3,FALSE),\"\")","v":""},{"$f":"IF(AND(OR(O117=\"A\",O117=\"B\",O117=\"d\"),Q117=\"input\"),'Window & Door DATA INPUT'!AA123,IF(AND(O117=\"C\",Q117=\"input\"),'Window & Door DATA INPUT'!W123,Calculations!Q117))","v":""},{"$f":"IF('Window & Door DATA INPUT'!X123=\"Yes\",'Window & Door DATA INPUT'!Y123/1000,IF(B117=1,\"N/A\",\"\"))","v":""},{"$f":"IF(Q117=\"calc\",IF(O117=\"c\",'Window & Door DATA INPUT'!U123/1000,(Parameters!$S$4-'Window & Door DATA INPUT'!Z123+Parameters!$Q$4)/1000),\"\")","v":""},"","","",{"$f":"IF(OR($H117=\"no\",$B117=0),\"\",IF($I117=Parameters!$K$15,$L117/($M117/2),$L117/$M117))","v":""},{"$f":"IF(OR($H117=\"no\",$B117=0),\"\",IF($X117<0.5,Parameters!$X$4,IF($X117<1,Parameters!$Y$4,IF($X117<2,Parameters!$Z$4,Parameters!$AA$4))))","v":""},{"$f":"IF(OR($H117=\"no\",$B117=0),\"\",IF($X117<0.5,Parameters!$X$5,IF($X117<1,Parameters!$Y$5,IF($X117<2,Parameters!$Z$5,Parameters!$AA$5))))","v":""},{"$f":"IF(OR($H117=\"no\",$B117=0),\"\",IF($I117=Parameters!$K$15,(2*($M117/2)*SIN(RADIANS(Calculations!$W117/2))),(2*$M117*SIN(RADIANS($W117/2)))))","v":""},"",{"$f":"IF(OR($H117=\"no\",$B117=0),\"\",IF($I117=Parameters!$K$15,$AB117*$N117/2,$AB117*$N117))","v":""},{"$f":"IF(OR($H117=\"no\",$B117=0),\"\",IF($I117=Parameters!$K$15,$AC117*2/Parameters!$AB$4,$AC117/Parameters!$AB$4))","v":""},{"$f":"IF(AND(O117=\"B\",Q117=\"calc\"),V117,IF(AND(O117=\"C\",Q117=\"calc\"),'Window & Door DATA INPUT'!T123/1000,\"\"))","v":""},{"$f":"IF(AND(O117=\"B\",Q117=\"input\"),'Window & Door DATA INPUT'!AA123,IF(AND(O117=\"C\",Q117=\"input\",P117=\"F\"),'Window & Door DATA INPUT'!V123,IF(AND(O117=\"C\",P117=\"E\"),0,IF(AND(O117=\"D\"),0,IF(AND(B117=1,C117=0),\"\",(Calculations!Q117))))))","v":""},"",{"$f":"IF(OR($H117=\"no\",$C117=0),\"\",IF($I117=Parameters!$K$15,$L117/($M117/2),$L117/$M117))","v":""},{"$f":"IF(OR($H117=\"no\",$C117=0),\"\",IF($AH117<0.5,Parameters!$X$4,IF($AH117<1,Parameters!$Y$4,IF($AH117<2,Parameters!$Z$4,Parameters!$AA$4))))","v":""},{"$f":"IF(OR($H117=\"no\",$C117=0),\"\",IF($AH117<0.5,Parameters!$X$5,IF($AH117<1,Parameters!$Y$5,IF($AH117<2,Parameters!$Z$5,Parameters!$AA$5))))","v":""},{"$f":"IF(OR($H117=\"no\",$C117=0),\"\",IF($I117=Parameters!$K$15,(2*($M117/2)*SIN(RADIANS(Calculations!$AG117/2))),(2*$M117*SIN(RADIANS($AG117/2)))))","v":""},"",{"$f":"IF(OR($H117=\"no\",$C117=0),\"\",IF($I117=Parameters!$K$15,$AL117*$N117/2,$AL117*$N117))","v":""},{"$f":"IF(OR($H117=\"no\",$C117=0),\"\",IF($I117=Parameters!$K$15,$AM117*2/Parameters!$AB$4,$AM117/Parameters!$AB$4))","v":""},{"$nulls":20},{"$f":"'Window & Door DATA INPUT'!H123","v":0},""]
[null,{"$f":"IF('Window & Door DATA INPUT'!B124>1,1,0)","v":0},{"$f":"IF(AND(B118=1,OR(D118=Parameters!$D$17, D118=Parameters!$D$18,D118=Parameters!$D$19,D118=Parameters!$D$20,D118=Parameters!$D$21,D118=Parameters!$D$22, D118=Parameters!$D$23, D118=Parameters!$D$24)),1,0)","v":0},{"$f":"IF('Window & Door DATA INPUT'!B124=\"\",\"\",'Window & Door DATA INPUT'!B124)","v":""},{"$f":"IF('Window & Door DATA INPUT'!D124=\"\",\"\",'Window & Door DATA INPUT'!D124)","v":""},{"$f":"IF(B118=1,'Window & Door DATA INPUT'!H124&RESULTS!$H$5,\"\")","v":""},{"$f":"IF(B118=1,VLOOKUP(F118,Parameters!$H$4:$I$20,2,FALSE),\"\")","v":""},{"$f":"IF(OR('Window & Door DATA INPUT'!J124=Parameters!$K$4,'Window & Door DATA INPUT'!J124=Parameters!$K$11),\"No\",IF('Window & Door DATA INPUT'!K124=\"\",\"\",'Window & Door DATA INPUT'!K124))","v":""},{"$f":"IF('Window & Door DATA INPUT'!J124=\"\",\"\",'Window & Door DATA INPUT'!J124)","v":""},{"$f":"IF('Window & Door DATA INPUT'!L124=Parameters!$O$5,'Window & Door DATA INPUT'!O124,IF(B118=1,('Window & Door DATA INPUT'!N124*'Window & Door DATA INPUT'!M124)/1000000,\"\"))","v":""},{"$f":"IF('Window & Door DATA INPUT'!J124=\"\",\"\",VLOOKUP('Window & Door DATA INPUT'!J124,Parameters!$K$4:$L$16,2,FALSE))","v":""},{"$f":"IF($H118=\"yes\",IF($K118=\"Y\",'Window & Door DATA INPUT'!Q124/1000,IF($K118=\"N\",'Window & Door DATA INPUT'!P124/1000)),\"\")","v":""},{"$f":"IF($H118=\"yes\",IF($K118=\"Y\",'Window & Door DATA INPUT'!P124/1000,IF($K118=\"N\",'Window & Door DATA INPUT'!Q124/1000)),\"\")","v":""},"",{"$f":"IF(AND(B118=1,C118=0,H118=\"yes\"),\"A\",IF(AND(C118=1,H118=\"yes\",'Window & Door DATA INPUT'!R124=\"no\"),\"B\",IF(AND(C118=1,H118=\"yes\",'Window & Door DATA INPUT'!R124=\"yes\",'Window & Door DATA INPUT'!S124=\"yes\"),\"C\",IF(AND(C118=1,H118=\"yes\",'Window & Door DATA INPUT'!R124=\"yes\",'Window & Door DATA INPUT'!S124=\"no\"),\"D\",\"\"))))","v":""},{"$f":"IF(AND(C118=1,H118=\"yes\",OR(I118=Parameters!$K$12,I118=Parameters!$K$13,I118=Parameters!$K$14)),\"E\",IF(AND(C118=1,H118=\"yes\",NOT(OR(I118=Parameters!$K$12,I118=Parameters!$K$13,I118=Parameters!$K$14))),\"F\",\"\"))","v":""},{"$f":"IF(AND(B118=1,H118=\"yes\"),VLOOKUP(I118,Parameters!$K$4:$M$16,3,FALSE),\"\")","v":""},{"$f":"IF(AND(OR(O118=\"A\",O118=\"B\",O118=\"d\"),Q118=\"input\"),'Window & Door DATA INPUT'!AA124,IF(AND(O118=\"C\",Q118=\"input\"),'Window & Door DATA INPUT'!W124,Calculations!Q118))","v":""},{"$f":"IF('Window & Door DATA INPUT'!X124=\"Yes\",'Window & Door DATA INPUT'!Y124/1000,IF(B118=1,\"N/A\",\"\"))","v":""},{"$f":"IF(Q118=\"calc\",IF(O118=\"c\",'Window & Door DATA INPUT'!U124/1000,(Parameters!$S$4-'Window & Door DATA INPUT'!Z124+Parameters!$Q$4)/1000),\"\")","v":""},"","","",{"$f":"IF(OR($H118=\"no\",$B118=0),\"\",IF($I118=Parameters!$K$15,$L118/($M118/2),$L118/$M118))","v":""},{"$f":"IF(OR($H118=\"no\",$B118=0),\"\",IF($X118<0.5,Parameters!$X$4,IF($X118<1,Parameters!$Y$4,IF($X118<2,Parameters!$Z$4,Parameters!$AA$4))))","v":""},{"$f":"IF(OR($H118=\"no\",$B118=0),\"\",IF($X118<0.5,Parameters!$X$5,IF($X118<1,Parameters!$Y$5,IF($X118<2,Parameters!$Z$5,Parameters!$AA$5))))","v":""},{"$f":"IF(OR($H118=\"no\",$B118=0),\"\",IF($I118=Parameters!$K$15,(2*($M118/2)*SIN(RADIANS(Calculations!$W118/2))),(2*$M118*SIN(RADIANS($W118/2)))))","v":""},"",{"$f":"IF(OR($H118=\"no\",$B118=0),\"\",IF($I118=Parameters!$K$15,$AB118*$N118/2,$AB118*$N118))","v":""},{"$f":"IF(OR($H118=\"no\",$B118=0),\"\",IF($I118=Parameters!$K$15,$AC118*2/Parameters!$AB$4,$AC118/Parameters!$AB$4))","v":""},{"$f":"IF(AND(O118=\"B\",Q118=\"calc\"),V118,IF(AND(O118=\"C\",Q118=\"calc\"),'Window & Door DATA INPUT'!T124/1000,\"\"))","v":""},{"$f":"IF(AND(O118=\"B\",Q118=\"input\"),'Window & Door DATA INPUT'!AA124,IF(AND(O118=\"C\",Q118=\"input\",P118=\"F\"),'Window & Door DATA INPUT'!V124,IF(AND(O118=\"C\",P118=\"E\"),0,IF(AND(O118=\"D\"),0,IF(AND(B118=1,C118=0),\"\",(Calculations!Q118))))))","v":""},"",{"$f":"IF(OR($H118=\"no\",$C118=0),\"\",IF($I118=Parameters!$K$15,$L118/($M118/2),$L118/$M118))","v":""},{"$f":"IF(OR($H118=\"no\",$C118=0),\"\",IF($AH118<0.5,Parameters!$X$4,IF($AH118<1,Parameters!$Y$4,IF($AH118<2,Parameters!$Z$4,Parameters!$AA$4))))","v":""},{"$f":"IF(OR($H118=\"no\",$C118=0),\"\",IF($AH118<0.5,Parameters!$X$5,IF($AH118<1,Parameters!$Y$5,IF($AH118<2,Parameters!$Z$5,Parameters!$AA$5))))","v":""},{"$f":"IF(OR($H118=\"no\",$C118=0),\"\",IF($I118=Parameters!$K$15,(2*($M118/2)*SIN(RADIANS(Calculations!$AG118/2))),(2*$M118*SIN(RADIANS($AG118/2)))))","v":""},"",{"$f":"IF(OR($H118=\"no\",$C118=0),\"\",IF($I118=Parameters!$K$15,$AL118*$N118/2,$AL118*$N118))","v":""},{"$f":"IF(OR($H118=\"no\",$C118=0),\"\",IF($I118=Parameters!$K$15,$AM118*2/Parameters!$AB$4,$AM118/Parameters!$AB$4))","v":""},{"$nulls":20},{"$f":"'Window & Door DATA INPUT'!H124","v":0},""]
[null,{"$f":"IF('Window & Door DATA INPUT'!B125>1,1,0)","v":0},{"$f":"IF(AND(B119=1,OR(D119=Parameters!$D$17, D119=Parameters!$D$18,D119=Parameters!$D$19,D119=Parameters!$D$20,D119=Parameters!$D$21,D119=Parameters!$D$22, D119=Parameters!$D$23, D119=Parameters!$D$24)),1,0)","v":0},{"$f":"IF('Window & Door DATA INPUT'!B125=\"\",\"\",'Window & Door DATA INPUT'!B125)","v":""},{"$f":"IF('Window & Door DATA INPUT'!D125=\"\",\"\",'Window & Door DATA INPUT'!D125)","v":""},{"$f":"IF(B119=1,'Window & Door DATA INPUT'!H125&RESULTS!$H$5,\"\")","v":""},{"$f":"IF(B119=1,VLOOKUP(F119,Parameters!$H$4:$I$20,2,FALSE),\"\")","v":""},{"$f":"IF(OR('Window & Door DATA INPUT'!J125=Parameters!$K$4,'Window & Door DATA INPUT'!J125=Parameters!$K$11),\"No\",IF('Window & Door DATA INPUT'!K125=\"\",\"\",'Window & Door DATA INPUT'!K125))","v":""},{"$f":"IF('Window & Door DATA INPUT'!J125=\"\",\"\",'Window & Door DATA INPUT'!J125)","v":""},{"$f":"IF('Window & Door DATA INPUT'!L125=Parameters!$O$5,'Window & Door DATA INPUT'!O125,IF(B119=1,('Window & Door DATA INPUT'!N125*'Window & Door DATA INPUT'!M125)/1000000,\"\"))","v":""},{"$f":"IF('Window & Door DATA INPUT'!J125=\"\",\"\",VLOOKUP('Window & Door DATA INPUT'!J125,Parameters!$K$4:$L$16,2,FALSE))","v":""},{"$f":"IF($H119=\"yes\",IF($K119=\"Y\",'Window & Door DATA INPUT'!Q125/1000,IF($K119=\"N\",'Window & Door DATA INPUT'!P125/1000)),\"\")","v":""},{"$f":"IF($H119=\"yes\",IF($K119=\"Y\",'Window & Door DATA INPUT'!P125/1000,IF($K119=\"N\",'Window & Door DATA INPUT'!Q125/1000)),\"\")","v":""},"",{"$f":"IF(AND(B119=1,C119=0,H119=\"yes\"),\"A\",IF(AND(C119=1,H119=\"yes\",'Window & Door DATA INPUT'!R125=\"no\"),\"B\",IF(AND(C119=1,H119=\"yes\",'Window & Door DATA INPUT'!R125=\"yes\",'Window & Door DATA INPUT'!S125=\"yes\"),\"C\",IF(AND(C119=1,H119=\"yes\",'Window & Door DATA INPUT'!R125=\"yes\",'Window & Door DATA INPUT'!S125=\"no\"),\"D\",\"\"))))","v":""},{"$f":"IF(AND(C119=1,H119=\"yes\",OR(I119=Parameters!$K$12,I119=Parameters!$K$13,I119=Parameters!$K$14)),\"E\",IF(AND(C119=1,H119=\"yes\",NOT(OR(I119=Parameters!$K$12,I119=Parameters!$K$13,I119=Parameters!$K$14))),\"F\",\"\"))","v":""},{"$f":"IF(AND(B119=1,H119=\"yes\"),VLOOKUP(I119,Parameters!$K$4:$M$16,3,FALSE),\"\")","v":""},{"$f":"IF(AND(OR(O119=\"A\",O119=\"B\",O119=\"d\"),Q119=\"input\"),'Window & Door DATA INPUT'!AA125,IF(AND(O119=\"C\",Q119=\"input\"),'Window & Door DATA INPUT'!W125,Calculations!Q119))","v":""},{"$f":"IF('Window & Door DATA INPUT'!X125=\"Yes\",'Window & Door DATA INPUT'!Y125/1000,IF(B119=1,\"N/A\",\"\"))","v":""},{"$f":"IF(Q119=\"calc\",IF(O119=\"c\",'Window & Door DATA INPUT'!U125/1000,(Parameters!$S$4-'Window & Door DATA INPUT'!Z125+Parameters!$Q$4)/1000),\"\")","v":""},"","","",{"$f":"IF(OR($H119=\"no\",$B119=0),\"\",IF($I119=Parameters!$K$15,$L119/($M119/2),$L119/$M119))","v":""},{"$f":"IF(OR($H119=\"no\",$B119=0),\"\",IF($X119<0.5,Parameters!$X$4,IF($X119<1,Parameters!$Y$4,IF($X119<2,Parameters!$Z$4,Parameters!$AA$4))))","v":""},{"$f":"IF(OR($H119=\"no\",$B119=0),\"\",IF($X119<0.5,Parameters!$X$5,IF($X119<1,Parameters!$Y$5,IF($X119<2,Parameters!$Z$5,Parameters!$AA$5))))","v":""},{"$f":"IF(OR($H119=\"no\",$B119=0),\"\",IF($I119=Parameters!$K$15,(2*($M119/2)*SIN(RADIANS(Calculations!$W119/2))),(2*$M119*SIN(RADIANS($W119/2)))))","v":""},"",{"$f":"IF(OR($H119=\"no\",$B119=0),\"\",IF($I119=Parameters!$K$15,$AB119*$N119/2,$AB119*$N119))","v":""},{"$f":"IF(OR($H119=\"no\",$B119=0),\"\",IF($I119=Parameters!$K$15,$AC119*2/Parameters!$AB$4,$AC119/Parameters!$AB$4))","v":""},{"$f":"IF(AND(O119=\"B\",Q119=\"calc\"),V119,IF(AND(O119=\"C\",Q119=\"calc\"),'Window & Door DATA INPUT'!T125/1000,\"\"))","v":""},{"$f":"IF(AND(O119=\"B\",Q119=\"input\"),'Window & Door DATA INPUT'!AA125,IF(AND(O119=\"C\",Q119=\"input\",P119=\"F\"),'Window & Door DATA INPUT'!V125,IF(AND(O119=\"C\",P119=\"E\"),0,IF(AND(O119=\"D\"),0,IF(AND(B119=1,C119=0),\"\",(Calculations!Q119))))))","v":""},"",{"$f":"IF(OR($H119=\"no\",$C119=0),\"\",IF($I119=Parameters!$K$15,$L119/($M119/2),$L119/$M119))","v":""},{"$f":"IF(OR($H119=\"no\",$C119=0),\"\",IF($AH119<0.5,Parameters!$X$4,IF($AH119<1,Parameters!$Y$4,IF($AH119<2,Parameters!$Z$4,Parameters!$AA$4))))","v":""},{"$f":"IF(OR($H119=\"no\",$C119=0),\"\",IF($AH119<0.5,Parameters!$X$5,IF($AH119<1,Parameters!$Y$5,IF($AH119<2,Parameters!$Z$5,Parameters!$AA$5))))","v":""},{"$f":"IF(OR($H119=\"no\",$C119=0),\"\",IF($I119=Parameters!$K$15,(2*($M119/2)*SIN(RADIANS(Calculations!$AG119/2))),(2*$M119*SIN(RADIANS($AG119/2)))))","v":""},"",{"$f":"IF(OR($H119=\"no\",$C119=0),\"\",IF($I119=Parameters!$K$15,$AL119*$N119/2,$AL119*$N119))","v":""},{"$f":"IF(OR($H119=\"no\",$C119=0),\"\",IF($I119=Parameters!$K$15,$AM119*2/Parameters!$AB$4,$AM119/Parameters!$AB$4))","v":""},{"$nulls":20},{"$f":"'Window & Door DATA INPUT'!H125","v":0},""]
[null,{"$f":"IF('Window & Door DATA INPUT'!B126>1,1,0)","v":0},{"$f":"IF(AND(B120=1,OR(D120=Parameters!$D$17, D120=Parameters!$D$18,D120=Parameters!$D$19,D120=Parameters!$D$20,D120=Parameters!$D$21,D120=Parameters!$D$22, D120=Parameters!$D$23, D120=Parameters!$D$24)),1,0)","v":0},{"$f":"IF('Window & Door DATA INPUT'!B126=\"\",\"\",'Window & Door DATA INPUT'!B126)","v":""},{"$f":"IF('Window & Door DATA INPUT'!D126=\"\",\"\",'Window & Door DATA INPUT'!D126)","v":""},{"$f":"IF(B120=1,'Window & Door DATA INPUT'!H126&RESULTS!$H$5,\"\")","v":""},{"$f":"IF(B120=1,VLOOKUP(F120,Parameters!$H$4:$I$20,2,FALSE),\"\")","v":""},{"$f":"IF(OR('Window & Door DATA INPUT'!J126=Parameters!$K$4,'Window & Door DATA INPUT'!J126=Parameters!$K$11),\"No\",IF('Window & Door DATA INPUT'!K126=\"\",\"\",'Window & Door DATA INPUT'!K126))","v":""},{"$f":"IF('Window & Door DATA INPUT'!J126=\"\",\"\",'Window & Door DATA INPUT'!J126)","v":""},{"$f":"IF('Window & Door DATA INPUT'!L126=Parameters!$O$5,'Window & Door DATA INPUT'!O126,IF(B120=1,('Window & Door DATA INPUT'!N126*'Window & Door DATA INPUT'!M126)/1000000,\"\"))","v":""},{"$f":"IF('Window & Door DATA INPUT'!J126=\"\",\"\",VLOOKUP('Window & Door DATA INPUT'!J126,Parameters!$K$4:$L$16,2,FALSE))","v":""},{"$f":"IF($H120=\"yes\",IF($K120=\"Y\",'Window & Door DATA INPUT'!Q126/1000,IF($K120=\"N\",'Window & Door DATA INPUT'!P126/1000)),\"\")","v":""},{"$f":"IF($H120=\"yes\",IF($K120=\"Y\",'Window & Door DATA INPUT'!P126/1000,IF($K120=\"N\",'Window & Door DATA INPUT'!Q126/1000)),\"\")","v":""},"",{"$f":"IF(AND(B120=1,C120=0,H120=\"yes\"),\"A\",IF(AND(C120=1,H120=\"yes\",'Window & Door DATA INPUT'!R126=\"no\"),\"B\",IF(AND(C120=1,H120=\"yes\",'Window & Door DATA INPUT'!R126=\"yes\",'Window & Door DATA INPUT'!S126=\"yes\"),\"C\",IF(AND(C120=1,H120=\"yes\",'Window & Door DATA INPUT'!R126=\"yes\",'Window & Door DATA INPUT'!S126=\"no\"),\"D\",\"\"))))","v":""},{"$f":"IF(AND(C120=1,H120=\"yes\",OR(I120=Parameters!$K$12,I120=Parameters!$K$13,I120=Parameters!$K$14)),\"E\",IF(AND(C120=1,H120=\"yes\",NOT(OR(I120=Parameters!$K$12,I120=Parameters!$K$13,I120=Parameters!$K$14))),\"F\",\"\"))","v":""},{"$f":"IF(AND(B120=1,H120=\"yes\"),VLOOKUP(I120,Parameters!$K$4:$M$16,3,FALSE),\"\")","v":""},{"$f":"IF(AND(OR(O120=\"A\",O120=\"B\",O120=\"d\"),Q120=\"input\"),'Window & Door DATA INPUT'!AA126,IF(AND(O120=\"C\",Q120=\"input\"),'Window & Door DATA INPUT'!W126,Calculations!Q120))","v":""},{"$f":"IF('Window & Door DATA INPUT'!X126=\"Yes\",'Window & Door DATA INPUT'!Y126/1000,IF(B120=1,\"N/A\",\"\"))","v":""},{"$f":"IF(Q120=\"calc\",IF(O120=\"c\",'Window & Door DATA INPUT'!U126/1000,(Parameters!$S$4-'Window & Door DATA INPUT'!Z126+Parameters!$Q$4)/1000),\"\")","v":""},"","","",{"$f":"IF(OR($H120=\"no\",$B120=0),\"\",IF($I120=Parameters!$K$15,$L120/($M120/2),$L120/$M120))","v":""},{"$f":"IF(OR($H120=\"no\",$B120=0),\"\",IF($X120<0.5,Parameters!$X$4,IF($X120<1,Parameters!$Y$4,IF($X120<2,Parameters!$Z$4,Parameters!$AA$4))))","v":""},{"$f":"IF(OR($H120=\"no\",$B120=0),\"\",IF($X120<0.5,Parameters!$X$5,IF($X120<1,Parameters!$Y$5,IF($X120<2,Parameters!$Z$5,Parameters!$AA$5))))","v":""},{"$f":"IF(OR($H120=\"no\",$B120=0),\"\",IF($I120=Parameters!$K$15,(2*($M120/2)*SIN(RADIANS(Calculations!$W120/2))),(2*$M120*SIN(RADIANS($W120/2)))))","v":""},"",{"$f":"IF(OR($H120=\"no\",$B120=0),\"\",IF($I120=Parameters!$K$15,$AB120*$N120/2,$AB120*$N120))","v":""},{"$f":"IF(OR($H120=\"no\",$B120=0),\"\",IF($I120=Parameters!$K$15,$AC120*2/Parameters!$AB$4,$AC120/Parameters!$AB$4))","v":""},{"$f":"IF(AND(O120=\"B\",Q120=\"calc\"),V120,IF(AND(O120=\"C\",Q120=\"calc\"),'Window & Door DATA INPUT'!T126/1000,\"\"))","v":""},{"$f":"IF(AND(O120=\"B\",Q120=\"input\"),'Window & Door DATA INPUT'!AA126,IF(AND(O120=\"C\",Q120=\"input\",P120=\"F\"),'Window & Door DATA INPUT'!V126,IF(AND(O120=\"C\",P120=\"E\"),0,IF(AND(O120=\"D\"),0,IF(AND(B120=1,C120=0),\"\",(Calculations!Q120))))))","v":""},"",{"$f":"IF(OR($H120=\"no\",$C120=0),\"\",IF($I120=Parameters!$K$15,$L120/($M120/2),$L120/$M120))","v":""},{"$f":"IF(OR($H120=\"no\",$C120=0),\"\",IF($AH120<0.5,Parameters!$X$4,IF($AH120<1,Parameters!$Y$4,IF($AH120<2,Parameters!$Z$4,Parameters!$AA$4))))","v":""},{"$f":"IF(OR($H120=\"no\",$C120=0),\"\",IF($AH120<0.5,Parameters!$X$5,IF($AH120<1,Parameters!$Y$5,IF($AH120<2,Parameters!$Z$5,Parameters!$AA$5))))","v":""},{"$f":"IF(OR($H120=\"no\",$C120=0),\"\",IF($I120=Parameters!$K$15,(2*($M120/2)*SIN(RADIANS(Calculations!$AG120/2))),(2*$M120*SIN(RADIANS($AG120/2)))))","v":""},"",{"$f":"IF(OR($H120=\"no\",$C120=0),\"\",IF($I120=Parameters!$K$15,$AL120*$N120/2,$AL120*$N120))","v":""},{"$f":"IF(OR($H120=\"no\",$C120=0),\"\",IF($I120=Parameters!$K$15,$AM120*2/Parameters!$AB$4,$AM120/Parameters!$AB$4))","v":""},{"$nulls":20},{"$f":"'Window & Door DATA INPUT'!H126","v":0},""]
[null,{"$f":"IF('Window & Door DATA INPUT'!B127>1,1,0)","v":0},{"$f":"IF(AND(B121=1,OR(D121=Parameters!$D$17, D121=Parameters!$D$18,D121=Parameters!$D$19,D121=Parameters!$D$20,D121=Parameters!$D$21,D121=Parameters!$D$22, D121=Parameters!$D$23, D121=Parameters!$D$24)),1,0)","v":0},{"$f":"IF('Window & Door DATA INPUT'!B127=\"\",\"\",'Window & Door DATA INPUT'!B127)","v":""},{"$f":"IF('Window & Door DATA INPUT'!D127=\"\",\"\",'Window & Door DATA INPUT'!D127)","v":""},{"$f":"IF(B121=1,'Window & Door DATA INPUT'!H127&RESULTS!$H$5,\"\")","v":""},{"$f":"IF(B121=1,VLOOKUP(F121,Parameters!$H$4:$I$20,2,FALSE),\"\")","v":""},{"$f":"IF(OR('Window & Door DATA INPUT'!J127=Parameters!$K$4,'Window & Door DATA INPUT'!J127=Parameters!$K$11),\"No\",IF('Window & Door DATA INPUT'!K127=\"\",\"\",'Window & Door DATA INPUT'!K127))","v":""},{"$f":"IF('Window & Door DATA INPUT'!J127=\"\",\"\",'Window & Door DATA INPUT'!J127)","v":""},{"$f":"IF('Window & Door DATA INPUT'!L127=Parameters!$O$5,'Window & Door DATA INPUT'!O127,IF(B121=1,('Window & Door DATA INPUT'!N127*'Window & Door DATA INPUT'!M127)/1000000,\"\"))","v":""},{"$f":"IF('Window & Door DATA INPUT'!J127=\"\",\"\",VLOOKUP('Window & Door DATA INPUT'!J127,Parameters!$K$4:$L$16,2,FALSE))","v":""},{"$f":"IF($H121=\"yes\",IF($K121=\"Y\",'Window & Door DATA INPUT'!Q127/1000,IF($K121=\"N\",'Window & Door DATA INPUT'!P127/1000)),\"\")","v":""},{"$f":"IF($H121=\"yes\",IF($K121=\"Y\",'Window & Door DATA INPUT'!P127/1000,IF($K121=\"N\",'Window & Door DATA INPUT'!Q127/1000)),\"\")","v":""},"",{"$f":"IF(AND(B121=1,C121=0,H121=\"yes\"),\"A\",IF(AND(C121=1,H121=\"yes\",'Window & Door DATA INPUT'!R127=\"no\"),\"B\",IF(AND(C121=1,H121=\"yes\",'Window & Door DATA INPUT'!R127=\"yes\",'Window & Door DATA INPUT'!S127=\"yes\"),\"C\",IF(AND(C121=1,H121=\"yes\",'Window & Door DATA INPUT'!R127=\"yes\",'Window & Door DATA INPUT'!S127=\"no\"),\"D\",\"\"))))","v":""},{"$f":"IF(AND(C121=1,H121=\"yes\",OR(I121=Parameters!$K$12,I121=Parameters!$K$13,I121=Parameters!$K$14)),\"E\",IF(AND(C121=1,H121=\"yes\",NOT(OR(I121=Parameters!$K$12,I121=Parameters!$K$13,I121=Parameters!$K$14))),\"F\",\"\"))","v":""},{"$f":"IF(AND(B121=1,H121=\"yes\"),VLOOKUP(I121,Parameters!$K$4:$M$16,3,FALSE),\"\")","v":""},{"$f":"IF(AND(OR(O121=\"A\",O121=\"B\",O121=\"d\"),Q121=\"input\"),'Window & Door DATA INPUT'!AA127,IF(AND(O121=\"C\",Q121=\"input\"),'Window & Door DATA INPUT'!W127,Calculations!Q121))","v":""},{"$f":"IF('Window & Door DATA INPUT'!X127=\"Yes\",'Window & Door DATA INPUT'!Y127/1000,IF(B121=1,\"N/A\",\"\"))","v":""},{"$f":"IF(Q121=\"calc\",IF(O121=\"c\",'Window & Door DATA INPUT'!U127/1000,(Parameters!$S$4-'Window & Door DATA INPUT'!Z127+Parameters!$Q$4)/1000),\"\")","v":""},"","","",{"$f":"IF(OR($H121=\"no\",$B121=0),\"\",IF($I121=Parameters!$K$15,$L121/($M121/2),$L121/$M121))","v":""},{"$f":"IF(OR($H121=\"no\",$B121=0),\"\",IF($X121<0.5,Parameters!$X$4,IF($X121<1,Parameters!$Y$4,IF($X121<2,Parameters!$Z$4,Parameters!$AA$4))))","v":""},{"$f":"IF(OR($H121=\"no\",$B121=0),\"\",IF($X121<0.5,Parameters!$X$5,IF($X121<1,Parameters!$Y$5,IF($X121<2,Parameters!$Z$5,Parameters!$AA$5))))","v":""},{"$f":"IF(OR($H121=\"no\",$B121=0),\"\",IF($I121=Parameters!$K$15,(2*($M121/2)*SIN(RADIANS(Calculations!$W121/2))),(2*$M121*SIN(RADIANS($W121/2)))))","v":""},"",{"$f":"IF(OR($H121=\"no\",$B121=0),\"\",IF($I121=Parameters!$K$15,$AB121*$N121/2,$AB121*$N121))","v":""},{"$f":"IF(OR($H121=\"no\",$B121=0),\"\",IF($I121=Parameters!$K$15,$AC121*2/Parameters!$AB$4,$AC121/Parameters!$AB$4))","v":""},{"$f":"IF(AND(O121=\"B\",Q121=\"calc\"),V121,IF(AND(O121=\"C\",Q121=\"calc\"),'Window & Door DATA INPUT'!T127/1000,\"\"))","v":""},{"$f":"IF(AND(O121=\"B\",Q121=\"input\"),'Window & Door DATA INPUT'!AA127,IF(AND(O121=\"C\",Q121=\"input\",P121=\"F\"),'Window & Door DATA INPUT'!V127,IF(AND(O121=\"C\",P121=\"E\"),0,IF(AND(O121=\"D\"),0,IF(AND(B121=1,C121=0),\"\",(Calculations!Q121))))))","v":""},"",{"$f":"IF(OR($H121=\"no\",$C121=0),\"\",IF($I121=Parameters!$K$15,$L121/($M121/2),$L121/$M121))","v":""},{"$f":"IF(OR($H121=\"no\",$C121=0),\"\",IF($AH121<0.5,Parameters!$X$4,IF($AH121<1,Parameters!$Y$4,IF($AH121<2,Parameters!$Z$4,Parameters!$AA$4))))","v":""},{"$f":"IF(OR($H121=\"no\",$C121=0),\"\",IF($AH121<0.5,Parameters!$X$5,IF($AH121<1,Parameters!$Y$5,IF($AH121<2,Parameters!$Z$5,Parameters!$AA$5))))","v":""},{"$f":"IF(OR($H121=\"no\",$C121=0),\"\",IF($I121=Parameters!$K$15,(2*($M121/2)*SIN(RADIANS(Calculations!$AG121/2))),(2*$M121*SIN(RADIANS($AG121/2)))))","v":""},"",{"$f":"IF(OR($H121=\"no\",$C121=0),\"\",IF($I121=Parameters!$K$15,$AL121*$N121/2,$AL121*$N121))","v":""},{"$f":"IF(OR($H121=\"no\",$C121=0),\"\",IF($I121=Parameters!$K$15,$AM121*2/Parameters!$AB$4,$AM121/Parameters!$AB$4))","v":""},{"$nulls":20},{"$f":"'Window & Door DATA INPUT'!H127","v":0},""]
[null,{"$f":"IF('Window & Door DATA INPUT'!B128>1,1,0)","v":0},{"$f":"IF(AND(B122=1,OR(D122=Parameters!$D$17, D122=Parameters!$D$18,D122=Parameters!$D$19,D122=Parameters!$D$20,D122=Parameters!$D$21,D122=Parameters!$D$22, D122=Parameters!$D$23, D122=Parameters!$D$24)),1,0)","v":0},{"$f":"IF('Window & Door DATA INPUT'!B128=\"\",\"\",'Window & Door DATA INPUT'!B128)","v":""},{"$f":"IF('Window & Door DATA INPUT'!D128=\"\",\"\",'Window & Door DATA INPUT'!D128)","v":""},{"$f":"IF(B122=1,'Window & Door DATA INPUT'!H128&RESULTS!$H$5,\"\")","v":""},{"$f":"IF(B122=1,VLOOKUP(F122,Parameters!$H$4:$I$20,2,FALSE),\"\")","v":""},{"$f":"IF(OR('Window & Door DATA INPUT'!J128=Parameters!$K$4,'Window & Door DATA INPUT'!J128=Parameters!$K$11),\"No\",IF('Window & Door DATA INPUT'!K128=\"\",\"\",'Window & Door DATA INPUT'!K128))","v":""},{"$f":"IF('Window & Door DATA INPUT'!J128=\"\",\"\",'Window & Door DATA INPUT'!J128)","v":""},{"$f":"IF('Window & Door DATA INPUT'!L128=Parameters!$O$5,'Window & Door DATA INPUT'!O128,IF(B122=1,('Window & Door DATA INPUT'!N128*'Window & Door DATA INPUT'!M128)/1000000,\"\"))","v":""},{"$f":"IF('Window & Door DATA INPUT'!J128=\"\",\"\",VLOOKUP('Window & Door DATA INPUT'!J128,Parameters!$K$4:$L$16,2,FALSE))","v":""},{"$f":"IF($H122=\"yes\",IF($K122=\"Y\",'Window & Door DATA INPUT'!Q128/1000,IF($K122=\"N\",'Window & Door DATA INPUT'!P128/1000)),\"\")","v":""},{"$f":"IF($H122=\"yes\",IF($K122=\"Y\",'Window & Door DATA INPUT'!P128/1000,IF($K122=\"N\",'Window & Door DATA INPUT'!Q128/1000)),\"\")","v":""},"",{"$f":"IF(AND(B122=1,C122=0,H122=\"yes\"),\"A\",IF(AND(C122=1,H122=\"yes\",'Window & Door DATA INPUT'!R128=\"no\"),\"B\",IF(AND(C122=1,H122=\"yes\",'Window & Door DATA INPUT'!R128=\"yes\",'Window & Door DATA INPUT'!S128=\"yes\"),\"C\",IF(AND(C122=1,H122=\"yes\",'Window & Door DATA INPUT'!R128=\"yes\",'Window & Door DATA INPUT'!S128=\"no\"),\"D\",\"\"))))","v":""},{"$f":"IF(AND(C122=1,H122=\"yes\",OR(I122=Parameters!$K$12,I122=Parameters!$K$13,I122=Parameters!$K$14)),\"E\",IF(AND(C122=1,H122=\"yes\",NOT(OR(I122=Parameters!$K$12,I122=Parameters!$K$13,I122=Parameters!$K$14))),\"F\",\"\"))","v":""},{"$f":"IF(AND(B122=1,H122=\"yes\"),VLOOKUP(I122,Parameters!$K$4:$M$16,3,FALSE),\"\")","v":""},{"$f":"IF(AND(OR(O122=\"A\",O122=\"B\",O122=\"d\"),Q122=\"input\"),'Window & Door DATA INPUT'!AA128,IF(AND(O122=\"C\",Q122=\"input\"),'Window & Door DATA INPUT'!W128,Calculations!Q122))","v":""},{"$f":"IF('Window & Door DATA INPUT'!X128=\"Yes\",'Window & Door DATA INPUT'!Y128/1000,IF(B122=1,\"N/A\",\"\"))","v":""},{"$f":"IF(Q122=\"calc\",IF(O122=\"c\",'Window & Door DATA INPUT'!U128/1000,(Parameters!$S$4-'Window & Door DATA INPUT'!Z128+Parameters!$Q$4)/1000),\"\")","v":""},"","","",{"$f":"IF(OR($H122=\"no\",$B122=0),\"\",IF($I122=Parameters!$K$15,$L122/($M122/2),$L122/$M122))","v":""},{"$f":"IF(OR($H122=\"no\",$B122=0),\"\",IF($X122<0.5,Parameters!$X$4,IF($X122<1,Parameters!$Y$4,IF($X122<2,Parameters!$Z$4,Parameters!$AA$4))))","v":""},{"$f":"IF(OR($H122=\"no\",$B122=0),\"\",IF($X122<0.5,Parameters!$X$5,IF($X122<1,Parameters!$Y$5,IF($X122<2,Parameters!$Z$5,Parameters!$AA$5))))","v":""},{"$f":"IF(OR($H122=\"no\",$B122=0),\"\",IF($I122=Parameters!$K$15,(2*($M122/2)*SIN(RADIANS(Calculations!$W122/2))),(2*$M122*SIN(RADIANS($W122/2)))))","v":""},"",{"$f":"IF(OR($H122=\"no\",$B122=0),\"\",IF($I122=Parameters!$K$15,$AB122*$N122/2,$AB122*$N122))","v":""},{"$f":"IF(OR($H122=\"no\",$B122=0),\"\",IF($I122=Parameters!$K$15,$AC122*2/Parameters!$AB$4,$AC122/Parameters!$AB$4))","v":""},{"$f":"IF(AND(O122=\"B\",Q122=\"calc\"),V122,IF(AND(O122=\"C\",Q122=\"calc\"),'Window & Door DATA INPUT'!T128/1000,\"\"))","v":""},{"$f":"IF(AND(O122=\"B\",Q122=\"input\"),'Window & Door DATA INPUT'!AA128,IF(AND(O122=\"C\",Q122=\"input\",P122=\"F\"),'Window & Door DATA INPUT'!V128,IF(AND(O122=\"C\",P122=\"E\"),0,IF(AND(O122=\"D\"),0,IF(AND(B122=1,C122=0),\"\",(Calculations!Q122))))))","v":""},"",{"$f":"IF(OR($H122=\"no\",$C122=0),\"\",IF($I122=Parameters!$K$15,$L122/($M122/2),$L122/$M122))","v":""},{"$f":"IF(OR($H122=\"no\",$C122=0),\"\",IF($AH122<0.5,Parameters!$X$4,IF($AH122<1,Parameters!$Y$4,IF($AH122<2,Parameters!$Z$4,Parameters!$AA$4))))","v":""},{"$f":"IF(OR($H122=\"no\",$C122=0),\"\",IF($AH122<0.5,Parameters!$X$5,IF($AH122<1,Parameters!$Y$5,IF($AH122<2,Parameters!$Z$5,Parameters!$AA$5))))","v":""},{"$f":"IF(OR($H122=\"no\",$C122=0),\"\",IF($I122=Parameters!$K$15,(2*($M122/2)*SIN(RADIANS(Calculations!$AG122/2))),(2*$M122*SIN(RADIANS($AG122/2)))))","v":""},"",{"$f":"IF(OR($H122=\"no\",$C122=0),\"\",IF($I122=Parameters!$K$15,$AL122*$N122/2,$AL122*$N122))","v":""},{"$f":"IF(OR($H122=\"no\",$C122=0),\"\",IF($I122=Parameters!$K$15,$AM122*2/Parameters!$AB$4,$AM122/Parameters!$AB$4))","v":""},{"$nulls":20},{"$f":"'Window & Door DATA INPUT'!H128","v":0},""]
[null,{"$f":"IF('Window & Door DATA INPUT'!B129>1,1,0)","v":0},{"$f":"IF(AND(B123=1,OR(D123=Parameters!$D$17, D123=Parameters!$D$18,D123=Parameters!$D$19,D123=Parameters!$D$20,D123=Parameters!$D$21,D123=Parameters!$D$22, D123=Parameters!$D$23, D123=Parameters!$D$24)),1,0)","v":0},{"$f":"IF('Window & Door DATA INPUT'!B129=\"\",\"\",'Window & Door DATA INPUT'!B129)","v":""},{"$f":"IF('Window & Door DATA INPUT'!D129=\"\",\"\",'Window & Door DATA INPUT'!D129)","v":""},{"$f":"IF(B123=1,'Window & Door DATA INPUT'!H129&RESULTS!$H$5,\"\")","v":""},{"$f":"IF(B123=1,VLOOKUP(F123,Parameters!$H$4:$I$20,2,FALSE),\"\")","v":""},{"$f":"IF(OR('Window & Door DATA INPUT'!J129=Parameters!$K$4,'Window & Door DATA INPUT'!J129=Parameters!$K$11),\"No\",IF('Window & Door DATA INPUT'!K129=\"\",\"\",'Window & Door DATA INPUT'!K129))","v":""},{"$f":"IF('Window & Door DATA INPUT'!J129=\"\",\"\",'Window & Door DATA INPUT'!J129)","v":""},{"$f":"IF('Window & Door DATA INPUT'!L129=Parameters!$O$5,'Window & Door DATA INPUT'!O129,IF(B123=1,('Window & Door DATA INPUT'!N129*'Window & Door DATA INPUT'!M129)/1000000,\"\"))","v":""},{"$f":"IF('Window & Door DATA INPUT'!J129=\"\",\"\",VLOOKUP('Window & Door DATA INPUT'!J129,Parameters!$K$4:$L$16,2,FALSE))","v":""},{"$f":"IF($H123=\"yes\",IF($K123=\"Y\",'Window & Door DATA INPUT'!Q129/1000,IF($K123=\"N\",'Window & Door DATA INPUT'!P129/1000)),\"\")","v":""},{"$f":"IF($H123=\"yes\",IF($K123=\"Y\",'Window & Door DATA INPUT'!P129/1000,IF($K123=\"N\",'Window & Door DATA INPUT'!Q129/1000)),\"\")","v":""},"",{"$f":"IF(AND(B123=1,C123=0,H123=\"yes\"),\"A\",IF(AND(C123=1,H123=\"yes\",'Window & Door DATA INPUT'!R129=\"no\"),\"B\",IF(AND(C123=1,H123=\"yes\",'Window & Door DATA INPUT'!R129=\"yes\",'Window & Door DATA INPUT'!S129=\"yes\"),\"C\",IF(AND(C123=1,H123=\"yes\",'Window & Door DATA INPUT'!R129=\"yes\",'Window & Door DATA INPUT'!S129=\"no\"),\"D\",\"\"))))","v":""},{"$f":"IF(AND(C123=1,H123=\"yes\",OR(I123=Parameters!$K$12,I123=Parameters!$K$13,I123=Parameters!$K$14)),\"E\",IF(AND(C123=1,H123=\"yes\",NOT(OR(I123=Parameters!$K$12,I123=Parameters!$K$13,I123=Parameters!$K$14))),\"F\",\"\"))","v":""},{"$f":"IF(AND(B123=1,H123=\"yes\"),VLOOKUP(I123,Parameters!$K$4:$M$16,3,FALSE),\"\")","v":""},{"$f":"IF(AND(OR(O123=\"A\",O123=\"B\",O123=\"d\"),Q123=\"input\"),'Window & Door DATA INPUT'!AA129,IF(AND(O123=\"C\",Q123=\"input\"),'Window & Door DATA INPUT'!W129,Calculations!Q123))","v":""},{"$f":"IF('Window & Door DATA INPUT'!X129=\"Yes\",'Window & Door DATA INPUT'!Y129/1000,IF(B123=1,\"N/A\",\"\"))","v":""},{"$f":"IF(Q123=\"calc\",IF(O123=\"c\",'Window & Door DATA INPUT'!U129/1000,(Parameters!$S$4-'Window & Door DATA INPUT'!Z129+Parameters!$Q$4)/1000),\"\")","v":""},"","","",{"$f":"IF(OR($H123=\"no\",$B123=0),\"\",IF($I123=Parameters!$K$15,$L123/($M123/2),$L123/$M123))","v":""},{"$f":"IF(OR($H123=\"no\",$B123=0),\"\",IF($X123<0.5,Parameters!$X$4,IF($X123<1,Parameters!$Y$4,IF($X123<2,Parameters!$Z$4,Parameters!$AA$4))))","v":""},{"$f":"IF(OR($H123=\"no\",$B123=0),\"\",IF($X123<0.5,Parameters!$X$5,IF($X123<1,Parameters!$Y$5,IF($X123<2,Parameters!$Z$5,Parameters!$AA$5))))","v":""},{"$f":"IF(OR($H123=\"no\",$B123=0),\"\",IF($I123=Parameters!$K$15,(2*($M123/2)*SIN(RADIANS(Calculations!$W123/2))),(2*$M123*SIN(RADIANS($W123/2)))))","v":""},"",{"$f":"IF(OR($H123=\"no\",$B123=0),\"\",IF($I123=Parameters!$K$15,$AB123*$N123/2,$AB123*$N123))","v":""},{"$f":"IF(OR($H123=\"no\",$B123=0),\"\",IF($I123=Parameters!$K$15,$AC123*2/Parameters!$AB$4,$AC123/Parameters!$AB$4))","v":""},{"$f":"IF(AND(O123=\"B\",Q123=\"calc\"),V123,IF(AND(O123=\"C\",Q123=\"calc\"),'Window & Door DATA INPUT'!T129/1000,\"\"))","v":""},{"$f":"IF(AND(O123=\"B\",Q123=\"input\"),'Window & Door DATA INPUT'!AA129,IF(AND(O123=\"C\",Q123=\"input\",P123=\"F\"),'Window & Door DATA INPUT'!V129,IF(AND(O123=\"C\",P123=\"E\"),0,IF(AND(O123=\"D\"),0,IF(AND(B123=1,C123=0),\"\",(Calculations!Q123))))))","v":""},"",{"$f":"IF(OR($H123=\"no\",$C123=0),\"\",IF($I123=Parameters!$K$15,$L123/($M123/2),$L123/$M123))","v":""},{"$f":"IF(OR($H123=\"no\",$C123=0),\"\",IF($AH123<0.5,Parameters!$X$4,IF($AH123<1,Parameters!$Y$4,IF($AH123<2,Parameters!$Z$4,Parameters!$AA$4))))","v":""},{"$f":"IF(OR($H123=\"no\",$C123=0),\"\",IF($AH123<0.5,Parameters!$X$5,IF($AH123<1,Parameters!$Y$5,IF($AH123<2,Parameters!$Z$5,Parameters!$AA$5))))","v":""},{"$f":"IF(OR($H123=\"no\",$C123=0),\"\",IF($I123=Parameters!$K$15,(2*($M123/2)*SIN(RADIANS(Calculations!$AG123/2))),(2*$M123*SIN(RADIANS($AG123/2)))))","v":""},"",{"$f":"IF(OR($H123=\"no\",$C123=0),\"\",IF($I123=Parameters!$K$15,$AL123*$N123/2,$AL123*$N123))","v":""},{"$f":"IF(OR($H123=\"no\",$C123=0),\"\",IF($I123=Parameters!$K$15,$AM123*2/Parameters!$AB$4,$AM123/Parameters!$AB$4))","v":""},{"$nulls":20},{"$f":"'Window & Door DATA INPUT'!H129","v":0},""]
[null,{"$f":"IF('Window & Door DATA INPUT'!B130>1,1,0)","v":0},{"$f":"IF(AND(B124=1,OR(D124=Parameters!$D$17, D124=Parameters!$D$18,D124=Parameters!$D$19,D124=Parameters!$D$20,D124=Parameters!$D$21,D124=Parameters!$D$22, D124=Parameters!$D$23, D124=Parameters!$D$24)),1,0)","v":0},{"$f":"IF('Window & Door DATA INPUT'!B130=\"\",\"\",'Window & Door DATA INPUT'!B130)","v":""},{"$f":"IF('Window & Door DATA INPUT'!D130=\"\",\"\",'Window & Door DATA INPUT'!D130)","v":""},{"$f":"IF(B124=1,'Window & Door DATA INPUT'!H130&RESULTS!$H$5,\"\")","v":""},{"$f":"IF(B124=1,VLOOKUP(F124,Parameters!$H$4:$I$20,2,FALSE),\"\")","v":""},{"$f":"IF(OR('Window & Door DATA INPUT'!J130=Parameters!$K$4,'Window & Door DATA INPUT'!J130=Parameters!$K$11),\"No\",IF('Window & Door DATA INPUT'!K130=\"\",\"\",'Window & Door DATA INPUT'!K130))","v":""},{"$f":"IF('Window & Door DATA INPUT'!J130=\"\",\"\",'Window & Door DATA INPUT'!J130)","v":""},{"$f":"IF('Window & Door DATA INPUT'!L130=Parameters!$O$5,'Window & Door DATA INPUT'!O130,IF(B124=1,('Window & Door DATA INPUT'!N130*'Window & Door DATA INPUT'!M130)/1000000,\"\"))","v":""},{"$f":"IF('Window & Door DATA INPUT'!J130=\"\",\"\",VLOOKUP('Window & Door DATA INPUT'!J130,Parameters!$K$4:$L$16,2,FALSE))","v":""},{"$f":"IF($H124=\"yes\",IF($K124=\"Y\",'Window & Door DATA INPUT'!Q130/1000,IF($K124=\"N\",'Window & Door DATA INPUT'!P130/1000)),\"\")","v":""},{"$f":"IF($H124=\"yes\",IF($K124=\"Y\",'Window & Door DATA INPUT'!P130/1000,IF($K124=\"N\",'Window & Door DATA INPUT'!Q130/1000)),\"\")","v":""},"",{"$f":"IF(AND(B124=1,C124=0,H124=\"yes\"),\"A\",IF(AND(C124=1,H124=\"yes\",'Window & Door DATA INPUT'!R130=\"no\"),\"B\",IF(AND(C124=1,H124=\"yes\",'Window & Door DATA INPUT'!R130=\"yes\",'Window & Door DATA INPUT'!S130=\"yes\"),\"C\",IF(AND(C124=1,H124=\"yes\",'Window & Door DATA INPUT'!R130=\"yes\",'Window & Door DATA INPUT'!S130=\"no\"),\"D\",\"\"))))","v":""},{"$f":"IF(AND(C124=1,H124=\"yes\",OR(I124=Parameters!$K$12,I124=Parameters!$K$13,I124=Parameters!$K$14)),\"E\",IF(AND(C124=1,H124=\"yes\",NOT(OR(I124=Parameters!$K$12,I124=Parameters!$K$13,I124=Parameters!$K$14))),\"F\",\"\"))","v":""},{"$f":"IF(AND(B124=1,H124=\"yes\"),VLOOKUP(I124,Parameters!$K$4:$M$16,3,FALSE),\"\")","v":""},{"$f":"IF(AND(OR(O124=\"A\",O124=\"B\",O124=\"d\"),Q124=\"input\"),'Window & Door DATA INPUT'!AA130,IF(AND(O124=\"C\",Q124=\"input\"),'Window & Door DATA INPUT'!W130,Calculations!Q124))","v":""},{"$f":"IF('Window & Door DATA INPUT'!X130=\"Yes\",'Window & Door DATA INPUT'!Y130/1000,IF(B124=1,\"N/A\",\"\"))","v":""},{"$f":"IF(Q124=\"calc\",IF(O124=\"c\",'Window & Door DATA INPUT'!U130/1000,(Parameters!$S$4-'Window & Door DATA INPUT'!Z130+Parameters!$Q$4)/1000),\"\")","v":""},"","","",{"$f":"IF(OR($H124=\"no\",$B124=0),\"\",IF($I124=Parameters!$K$15,$L124/($M124/2),$L124/$M124))","v":""},{"$f":"IF(OR($H124=\"no\",$B124=0),\"\",IF($X124<0.5,Parameters!$X$4,IF($X124<1,Parameters!$Y$4,IF($X124<2,Parameters!$Z$4,Parameters!$AA$4))))","v":""},{"$f":"IF(OR($H124=\"no\",$B124=0),\"\",IF($X124<0.5,Parameters!$X$5,IF($X124<1,Parameters!$Y$5,IF($X124<2,Parameters!$Z$5,Parameters!$AA$5))))","v":""},{"$f":"IF(OR($H124=\"no\",$B124=0),\"\",IF($I124=Parameters!$K$15,(2*($M124/2)*SIN(RADIANS(Calculations!$W124/2))),(2*$M124*SIN(RADIANS($W124/2)))))","v":""},"",{"$f":"IF(OR($H124=\"no\",$B124=0),\"\",IF($I124=Parameters!$K$15,$AB124*$N124/2,$AB124*$N124))","v":""},{"$f":"IF(OR($H124=\"no\",$B124=0),\"\",IF($I124=Parameters!$K$15,$AC124*2/Parameters!$AB$4,$AC124/Parameters!$AB$4))","v":""},{"$f":"IF(AND(O124=\"B\",Q124=\"calc\"),V124,IF(AND(O124=\"C\",Q124=\"calc\"),'Window & Door DATA INPUT'!T130/1000,\"\"))","v":""},{"$f":"IF(AND(O124=\"B\",Q124=\"input\"),'Window & Door DATA INPUT'!AA130,IF(AND(O124=\"C\",Q124=\"input\",P124=\"F\"),'Window & Door DATA INPUT'!V130,IF(AND(O124=\"C\",P124=\"E\"),0,IF(AND(O124=\"D\"),0,IF(AND(B124=1,C124=0),\"\",(Calculations!Q124))))))","v":""},"",{"$f":"IF(OR($H124=\"no\",$C124=0),\"\",IF($I124=Parameters!$K$15,$L124/($M124/2),$L124/$M124))","v":""},{"$f":"IF(OR($H124=\"no\",$C124=0),\"\",IF($AH124<0.5,Parameters!$X$4,IF($AH124<1,Parameters!$Y$4,IF($AH124<2,Parameters!$Z$4,Parameters!$AA$4))))","v":""},{"$f":"IF(OR($H124=\"no\",$C124=0),\"\",IF($AH124<0.5,Parameters!$X$5,IF($AH124<1,Parameters!$Y$5,IF($AH124<2,Parameters!$Z$5,Parameters!$AA$5))))","v":""},{"$f":"IF(OR($H124=\"no\",$C124=0),\"\",IF($I124=Parameters!$K$15,(2*($M124/2)*SIN(RADIANS(Calculations!$AG124/2))),(2*$M124*SIN(RADIANS($AG124/2)))))","v":""},"",{"$f":"IF(OR($H124=\"no\",$C124=0),\"\",IF($I124=Parameters!$K$15,$AL124*$N124/2,$AL124*$N124))","v":""},{"$f":"IF(OR($H124=\"no\",$C124=0),\"\",IF($I124=Parameters!$K$15,$AM124*2/Parameters!$AB$4,$AM124/Parameters!$AB$4))","v":""},{"$nulls":20},{"$f":"'Window & Door DATA INPUT'!H130","v":0},""]
[null,{"$f":"IF('Window & Door DATA INPUT'!B131>1,1,0)","v":0},{"$f":"IF(AND(B125=1,OR(D125=Parameters!$D$17, D125=Parameters!$D$18,D125=Parameters!$D$19,D125=Parameters!$D$20,D125=Parameters!$D$21,D125=Parameters!$D$22, D125=Parameters!$D$23, D125=Parameters!$D$24)),1,0)","v":0},{"$f":"IF('Window & Door DATA INPUT'!B131=\"\",\"\",'Window & Door DATA INPUT'!B131)","v":""},{"$f":"IF('Window & Door DATA INPUT'!D131=\"\",\"\",'Window & Door DATA INPUT'!D131)","v":""},{"$f":"IF(B125=1,'Window & Door DATA INPUT'!H131&RESULTS!$H$5,\"\")","v":""},{"$f":"IF(B125=1,VLOOKUP(F125,Parameters!$H$4:$I$20,2,FALSE),\"\")","v":""},{"$f":"IF(OR('Window & Door DATA INPUT'!J131=Parameters!$K$4,'Window & Door DATA INPUT'!J131=Parameters!$K$11),\"No\",IF('Window & Door DATA INPUT'!K131=\"\",\"\",'Window & Door DATA INPUT'!K131))","v":""},{"$f":"IF('Window & Door DATA INPUT'!J131=\"\",\"\",'Window & Door DATA INPUT'!J131)","v":""},{"$f":"IF('Window & Door DATA INPUT'!L131=Parameters!$O$5,'Window & Door DATA INPUT'!O131,IF(B125=1,('Window & Door DATA INPUT'!N131*'Window & Door DATA INPUT'!M131)/1000000,\"\"))","v":""},{"$f":"IF('Window & Door DATA INPUT'!J131=\"\",\"\",VLOOKUP('Window & Door DATA INPUT'!J131,Parameters!$K$4:$L$16,2,FALSE))","v":""},{"$f":"IF($H125=\"yes\",IF($K125=\"Y\",'Window & Door DATA INPUT'!Q131/1000,IF($K125=\"N\",'Window & Door DATA INPUT'!P131/1000)),\"\")","v":""},{"$f":"IF($H125=\"yes\",IF($K125=\"Y\",'Window & Door DATA INPUT'!P131/1000,IF($K125=\"N\",'Window & Door DATA INPUT'!Q131/1000)),\"\")","v":""},"",{"$f":"IF(AND(B125=1,C125=0,H125=\"yes\"),\"A\",IF(AND(C125=1,H125=\"yes\",'Window & Door DATA INPUT'!R131=\"no\"),\"B\",IF(AND(C125=1,H125=\"yes\",'Window & Door DATA INPUT'!R131=\"yes\",'Window & Door DATA INPUT'!S131=\"yes\"),\"C\",IF(AND(C125=1,H125=\"yes\",'Window & Door DATA INPUT'!R131=\"yes\",'Window & Door DATA INPUT'!S131=\"no\"),\"D\",\"\"))))","v":""},{"$f":"IF(AND(C125=1,H125=\"yes\",OR(I125=Parameters!$K$12,I125=Parameters!$K$13,I125=Parameters!$K$14)),\"E\",IF(AND(C125=1,H125=\"yes\",NOT(OR(I125=Parameters!$K$12,I125=Parameters!$K$13,I125=Parameters!$K$14))),\"F\",\"\"))","v":""},{"$f":"IF(AND(B125=1,H125=\"yes\"),VLOOKUP(I125,Parameters!$K$4:$M$16,3,FALSE),\"\")","v":""},{"$f":"IF(AND(OR(O125=\"A\",O125=\"B\",O125=\"d\"),Q125=\"input\"),'Window & Door DATA INPUT'!AA131,IF(AND(O125=\"C\",Q125=\"input\"),'Window & Door DATA INPUT'!W131,Calculations!Q125))","v":""},{"$f":"IF('Window & Door DATA INPUT'!X131=\"Yes\",'Window & Door DATA INPUT'!Y131/1000,IF(B125=1,\"N/A\",\"\"))","v":""},{"$f":"IF(Q125=\"calc\",IF(O125=\"c\",'Window & Door DATA INPUT'!U131/1000,(Parameters!$S$4-'Window & Door DATA INPUT'!Z131+Parameters!$Q$4)/1000),\"\")","v":""},"","","",{"$f":"IF(OR($H125=\"no\",$B125=0),\"\",IF($I125=Parameters!$K$15,$L125/($M125/2),$L125/$M125))","v":""},{"$f":"IF(OR($H125=\"no\",$B125=0),\"\",IF($X125<0.5,Parameters!$X$4,IF($X125<1,Parameters!$Y$4,IF($X125<2,Parameters!$Z$4,Parameters!$AA$4))))","v":""},{"$f":"IF(OR($H125=\"no\",$B125=0),\"\",IF($X125<0.5,Parameters!$X$5,IF($X125<1,Parameters!$Y$5,IF($X125<2,Parameters!$Z$5,Parameters!$AA$5))))","v":""},{"$f":"IF(OR($H125=\"no\",$B125=0),\"\",IF($I125=Parameters!$K$15,(2*($M125/2)*SIN(RADIANS(Calculations!$W125/2))),(2*$M125*SIN(RADIANS($W125/2)))))","v":""},"",{"$f":"IF(OR($H125=\"no\",$B125=0),\"\",IF($I125=Parameters!$K$15,$AB125*$N125/2,$AB125*$N125))","v":""},{"$f":"IF(OR($H125=\"no\",$B125=0),\"\",IF($I125=Parameters!$K$15,$AC125*2/Parameters!$AB$4,$AC125/Parameters!$AB$4))","v":""},{"$f":"IF(AND(O125=\"B\",Q125=\"calc\"),V125,IF(AND(O125=\"C\",Q125=\"calc\"),'Window & Door DATA INPUT'!T131/1000,\"\"))","v":""},{"$f":"IF(AND(O125=\"B\",Q125=\"input\"),'Window & Door DATA INPUT'!AA131,IF(AND(O125=\"C\",Q125=\"input\",P125=\"F\"),'Window & Door DATA INPUT'!V131,IF(AND(O125=\"C\",P125=\"E\"),0,IF(AND(O125=\"D\"),0,IF(AND(B125=1,C125=0),\"\",(Calculations!Q125))))))","v":""},"",{"$f":"IF(OR($H125=\"no\",$C125=0),\"\",IF($I125=Parameters!$K$15,$L125/($M125/2),$L125/$M125))","v":""},{"$f":"IF(OR($H125=\"no\",$C125=0),\"\",IF($AH125<0.5,Parameters!$X$4,IF($AH125<1,Parameters!$Y$4,IF($AH125<2,Parameters!$Z$4,Parameters!$AA$4))))","v":""},{"$f":"IF(OR($H125=\"no\",$C125=0),\"\",IF($AH125<0.5,Parameters!$X$5,IF($AH125<1,Parameters!$Y$5,IF($AH125<2,Parameters!$Z$5,Parameters!$AA$5))))","v":""},{"$f":"IF(OR($H125=\"no\",$C125=0),\"\",IF($I125=Parameters!$K$15,(2*($M125/2)*SIN(RADIANS(Calculations!$AG125/2))),(2*$M125*SIN(RADIANS($AG125/2)))))","v":""},"",{"$f":"IF(OR($H125=\"no\",$C125=0),\"\",IF($I125=Parameters!$K$15,$AL125*$N125/2,$AL125*$N125))","v":""},{"$f":"IF(OR($H125=\"no\",$C125=0),\"\",IF($I125=Parameters!$K$15,$AM125*2/Parameters!$AB$4,$AM125/Parameters!$AB$4))","v":""},{"$nulls":20},{"$f":"'Window & Door DATA INPUT'!H131","v":0},""]
[null,{"$f":"IF('Window & Door DATA INPUT'!B132>1,1,0)","v":0},{"$f":"IF(AND(B126=1,OR(D126=Parameters!$D$17, D126=Parameters!$D$18,D126=Parameters!$D$19,D126=Parameters!$D$20,D126=Parameters!$D$21,D126=Parameters!$D$22, D126=Parameters!$D$23, D126=Parameters!$D$24)),1,0)","v":0},{"$f":"IF('Window & Door DATA INPUT'!B132=\"\",\"\",'Window & Door DATA INPUT'!B132)","v":""},{"$f":"IF('Window & Door DATA INPUT'!D132=\"\",\"\",'Window & Door DATA INPUT'!D132)","v":""},{"$f":"IF(B126=1,'Window & Door DATA INPUT'!H132&RESULTS!$H$5,\"\")","v":""},{"$f":"IF(B126=1,VLOOKUP(F126,Parameters!$H$4:$I$20,2,FALSE),\"\")","v":""},{"$f":"IF(OR('Window & Door DATA INPUT'!J132=Parameters!$K$4,'Window & Door DATA INPUT'!J132=Parameters!$K$11),\"No\",IF('Window & Door DATA INPUT'!K132=\"\",\"\",'Window & Door DATA INPUT'!K132))","v":""},{"$f":"IF('Window & Door DATA INPUT'!J132=\"\",\"\",'Window & Door DATA INPUT'!J132)","v":""},{"$f":"IF('Window & Door DATA INPUT'!L132=Parameters!$O$5,'Window & Door DATA INPUT'!O132,IF(B126=1,('Window & Door DATA INPUT'!N132*'Window & Door DATA INPUT'!M132)/1000000,\"\"))","v":""},{"$f":"IF('Window & Door DATA INPUT'!J132=\"\",\"\",VLOOKUP('Window & Door DATA INPUT'!J132,Parameters!$K$4:$L$16,2,FALSE))","v":""},{"$f":"IF($H126=\"yes\",IF($K126=\"Y\",'Window & Door DATA INPUT'!Q132/1000,IF($K126=\"N\",'Window & Door DATA INPUT'!P132/1000)),\"\")","v":""},{"$f":"IF($H126=\"yes\",IF($K126=\"Y\",'Window & Door DATA INPUT'!P132/1000,IF($K126=\"N\",'Window & Door DATA INPUT'!Q132/1000)),\"\")","v":""},"",{"$f":"IF(AND(B126=1,C126=0,H126=\"yes\"),\"A\",IF(AND(C126=1,H126=\"yes\",'Window & Door DATA INPUT'!R132=\"no\"),\"B\",IF(AND(C126=1,H126=\"yes\",'Window & Door DATA INPUT'!R132=\"yes\",'Window & Door DATA INPUT'!S132=\"yes\"),\"C\",IF(AND(C126=1,H126=\"yes\",'Window & Door DATA INPUT'!R132=\"yes\",'Window & Door DATA INPUT'!S132=\"no\"),\"D\",\"\"))))","v":""},{"$f":"IF(AND(C126=1,H126=\"yes\",OR(I126=Parameters!$K$12,I126=Parameters!$K$13,I126=Parameters!$K$14)),\"E\",IF(AND(C126=1,H126=\"yes\",NOT(OR(I126=Parameters!$K$12,I126=Parameters!$K$13,I126=Parameters!$K$14))),\"F\",\"\"))","v":""},{"$f":"IF(AND(B126=1,H126=\"yes\"),VLOOKUP(I126,Parameters!$K$4:$M$16,3,FALSE),\"\")","v":""},{"$f":"IF(AND(OR(O126=\"A\",O126=\"B\",O126=\"d\"),Q126=\"input\"),'Window & Door DATA INPUT'!AA132,IF(AND(O126=\"C\",Q126=\"input\"),'Window & Door DATA INPUT'!W132,Calculations!Q126))","v":""},{"$f":"IF('Window & Door DATA INPUT'!X132=\"Yes\",'Window & Door DATA INPUT'!Y132/1000,IF(B126=1,\"N/A\",\"\"))","v":""},{"$f":"IF(Q126=\"calc\",IF(O126=\"c\",'Window & Door DATA INPUT'!U132/1000,(Parameters!$S$4-'Window & Door DATA INPUT'!Z132+Parameters!$Q$4)/1000),\"\")","v":""},"","","",{"$f":"IF(OR($H126=\"no\",$B126=0),\"\",IF($I126=Parameters!$K$15,$L126/($M126/2),$L126/$M126))","v":""},{"$f":"IF(OR($H126=\"no\",$B126=0),\"\",IF($X126<0.5,Parameters!$X$4,IF($X126<1,Parameters!$Y$4,IF($X126<2,Parameters!$Z$4,Parameters!$AA$4))))","v":""},{"$f":"IF(OR($H126=\"no\",$B126=0),\"\",IF($X126<0.5,Parameters!$X$5,IF($X126<1,Parameters!$Y$5,IF($X126<2,Parameters!$Z$5,Parameters!$AA$5))))","v":""},{"$f":"IF(OR($H126=\"no\",$B126=0),\"\",IF($I126=Parameters!$K$15,(2*($M126/2)*SIN(RADIANS(Calculations!$W126/2))),(2*$M126*SIN(RADIANS($W126/2)))))","v":""},"",{"$f":"IF(OR($H126=\"no\",$B126=0),\"\",IF($I126=Parameters!$K$15,$AB126*$N126/2,$AB126*$N126))","v":""},{"$f":"IF(OR($H126=\"no\",$B126=0),\"\",IF($I126=Parameters!$K$15,$AC126*2/Parameters!$AB$4,$AC126/Parameters!$AB$4))","v":""},{"$f":"IF(AND(O126=\"B\",Q126=\"calc\"),V126,IF(AND(O126=\"C\",Q126=\"calc\"),'Window & Door DATA INPUT'!T132/1000,\"\"))","v":""},{"$f":"IF(AND(O126=\"B\",Q126=\"input\"),'Window & Door DATA INPUT'!AA132,IF(AND(O126=\"C\",Q126=\"input\",P126=\"F\"),'Window & Door DATA INPUT'!V132,IF(AND(O126=\"C\",P126=\"E\"),0,IF(AND(O126=\"D\"),0,IF(AND(B126=1,C126=0),\"\",(Calculations!Q126))))))","v":""},"",{"$f":"IF(OR($H126=\"no\",$C126=0),\"\",IF($I126=Parameters!$K$15,$L126/($M126/2),$L126/$M126))","v":""},{"$f":"IF(OR($H126=\"no\",$C126=0),\"\",IF($AH126<0.5,Parameters!$X$4,IF($AH126<1,Parameters!$Y$4,IF($AH126<2,Parameters!$Z$4,Parameters!$AA$4))))","v":""},{"$f":"IF(OR($H126=\"no\",$C126=0),\"\",IF($AH126<0.5,Parameters!$X$5,IF($AH126<1,Parameters!$Y$5,IF($AH126<2,Parameters!$Z$5,Parameters!$AA$5))))","v":""},{"$f":"IF(OR($H126=\"no\",$C126=0),\"\",IF($I126=Parameters!$K$15,(2*($M126/2)*SIN(RADIANS(Calculations!$AG126/2))),(2*$M126*SIN(RADIANS($AG126/2)))))","v":""},"",{"$f":"IF(OR($H126=\"no\",$C126=0),\"\",IF($I126=Parameters!$K$15,$AL126*$N126/2,$AL126*$N126))","v":""},{"$f":"IF(OR($H126=\"no\",$C126=0),\"\",IF($I126=Parameters!$K$15,$AM126*2/Parameters!$AB$4,$AM126/Parameters!$AB$4))","v":""},{"$nulls":20},{"$f":"'Window & Door DATA INPUT'!H132","v":0},""]
[null,{"$f":"IF('Window & Door DATA INPUT'!B133>1,1,0)","v":0},{"$f":"IF(AND(B127=1,OR(D127=Parameters!$D$17, D127=Parameters!$D$18,D127=Parameters!$D$19,D127=Parameters!$D$20,D127=Parameters!$D$21,D127=Parameters!$D$22, D127=Parameters!$D$23, D127=Parameters!$D$24)),1,0)","v":0},{"$f":"IF('Window & Door DATA INPUT'!B133=\"\",\"\",'Window & Door DATA INPUT'!B133)","v":""},{"$f":"IF('Window & Door DATA INPUT'!D133=\"\",\"\",'Window & Door DATA INPUT'!D133)","v":""},{"$f":"IF(B127=1,'Window & Door DATA INPUT'!H133&RESULTS!$H$5,\"\")","v":""},{"$f":"IF(B127=1,VLOOKUP(F127,Parameters!$H$4:$I$20,2,FALSE),\"\")","v":""},{"$f":"IF(OR('Window & Door DATA INPUT'!J133=Parameters!$K$4,'Window & Door DATA INPUT'!J133=Parameters!$K$11),\"No\",IF('Window & Door DATA INPUT'!K133=\"\",\"\",'Window & Door DATA INPUT'!K133))","v":""},{"$f":"IF('Window & Door DATA INPUT'!J133=\"\",\"\",'Window & Door DATA INPUT'!J133)","v":""},{"$f":"IF('Window & Door DATA INPUT'!L133=Parameters!$O$5,'Window & Door DATA INPUT'!O133,IF(B127=1,('Window & Door DATA INPUT'!N133*'Window & Door DATA INPUT'!M133)/1000000,\"\"))","v":""},{"$f":"IF('Window & Door DATA INPUT'!J133=\"\",\"\",VLOOKUP('Window & Door DATA INPUT'!J133,Parameters!$K$4:$L$16,2,FALSE))","v":""},{"$f":"IF($H127=\"yes\",IF($K127=\"Y\",'Window & Door DATA INPUT'!Q133/1000,IF($K127=\"N\",'Window & Door DATA INPUT'!P133/1000)),\"\")","v":""},{"$f":"IF($H127=\"yes\",IF($K127=\"Y\",'Window & Door DATA INPUT'!P133/1000,IF($K127=\"N\",'Window & Door DATA INPUT'!Q133/1000)),\"\")","v":""},"",{"$f":"IF(AND(B127=1,C127=0,H127=\"yes\"),\"A\",IF(AND(C127=1,H127=\"yes\",'Window & Door DATA INPUT'!R133=\"no\"),\"B\",IF(AND(C127=1,H127=\"yes\",'Window & Door DATA INPUT'!R133=\"yes\",'Window & Door DATA INPUT'!S133=\"yes\"),\"C\",IF(AND(C127=1,H127=\"yes\",'Window & Door DATA INPUT'!R133=\"yes\",'Window & Door DATA INPUT'!S133=\"no\"),\"D\",\"\"))))","v":""},{"$f":"IF(AND(C127=1,H127=\"yes\",OR(I127=Parameters!$K$12,I127=Parameters!$K$13,I127=Parameters!$K$14)),\"E\",IF(AND(C127=1,H127=\"yes\",NOT(OR(I127=Parameters!$K$12,I127=Parameters!$K$13,I127=Parameters!$K$14))),\"F\",\"\"))","v":""},{"$f":"IF(AND(B127=1,H127=\"yes\"),VLOOKUP(I127,Parameters!$K$4:$M$16,3,FALSE),\"\")","v":""},{"$f":"IF(AND(OR(O127=\"A\",O127=\"B\",O127=\"d\"),Q127=\"input\"),'Window & Door DATA INPUT'!AA133,IF(AND(O127=\"C\",Q127=\"input\"),'Window & Door DATA INPUT'!W133,Calculations!Q127))","v":""},{"$f":"IF('Window & Door DATA INPUT'!X133=\"Yes\",'Window & Door DATA INPUT'!Y133/1000,IF(B127=1,\"N/A\",\"\"))","v":""},{"$f":"IF(Q127=\"calc\",IF(O127=\"c\",'Window & Door DATA INPUT'!U133/1000,(Parameters!$S$4-'Window & Door DATA INPUT'!Z133+Parameters!$Q$4)/1000),\"\")","v":""},"","","",{"$f":"IF(OR($H127=\"no\",$B127=0),\"\",IF($I127=Parameters!$K$15,$L127/($M127/2),$L127/$M127))","v":""},{"$f":"IF(OR($H127=\"no\",$B127=0),\"\",IF($X127<0.5,Parameters!$X$4,IF($X127<1,Parameters!$Y$4,IF($X127<2,Parameters!$Z$4,Parameters!$AA$4))))","v":""},{"$f":"IF(OR($H127=\"no\",$B127=0),\"\",IF($X127<0.5,Parameters!$X$5,IF($X127<1,Parameters!$Y$5,IF($X127<2,Parameters!$Z$5,Parameters!$AA$5))))","v":""},{"$f":"IF(OR($H127=\"no\",$B127=0),\"\",IF($I127=Parameters!$K$15,(2*($M127/2)*SIN(RADIANS(Calculations!$W127/2))),(2*$M127*SIN(RADIANS($W127/2)))))","v":""},"",{"$f":"IF(OR($H127=\"no\",$B127=0),\"\",IF($I127=Parameters!$K$15,$AB127*$N127/2,$AB127*$N127))","v":""},{"$f":"IF(OR($H127=\"no\",$B127=0),\"\",IF($I127=Parameters!$K$15,$AC127*2/Parameters!$AB$4,$AC127/Parameters!$AB$4))","v":""},{"$f":"IF(AND(O127=\"B\",Q127=\"calc\"),V127,IF(AND(O127=\"C\",Q127=\"calc\"),'Window & Door DATA INPUT'!T133/1000,\"\"))","v":""},{"$f":"IF(AND(O127=\"B\",Q127=\"input\"),'Window & Door DATA INPUT'!AA133,IF(AND(O127=\"C\",Q127=\"input\",P127=\"F\"),'Window & Door DATA INPUT'!V133,IF(AND(O127=\"C\",P127=\"E\"),0,IF(AND(O127=\"D\"),0,IF(AND(B127=1,C127=0),\"\",(Calculations!Q127))))))","v":""},"",{"$f":"IF(OR($H127=\"no\",$C127=0),\"\",IF($I127=Parameters!$K$15,$L127/($M127/2),$L127/$M127))","v":""},{"$f":"IF(OR($H127=\"no\",$C127=0),\"\",IF($AH127<0.5,Parameters!$X$4,IF($AH127<1,Parameters!$Y$4,IF($AH127<2,Parameters!$Z$4,Parameters!$AA$4))))","v":""},{"$f":"IF(OR($H127=\"no\",$C127=0),\"\",IF($AH127<0.5,Parameters!$X$5,IF($AH127<1,Parameters!$Y$5,IF($AH127<2,Parameters!$Z$5,Parameters!$AA$5))))","v":""},{"$f":"IF(OR($H127=\"no\",$C127=0),\"\",IF($I127=Parameters!$K$15,(2*($M127/2)*SIN(RADIANS(Calculations!$AG127/2))),(2*$M127*SIN(RADIANS($AG127/2)))))","v":""},"",{"$f":"IF(OR($H127=\"no\",$C127=0),\"\",IF($I127=Parameters!$K$15,$AL127*$N127/2,$AL127*$N127))","v":""},{"$f":"IF(OR($H127=\"no\",$C127=0),\"\",IF($I127=Parameters!$K$15,$AM127*2/Parameters!$AB$4,$AM127/Parameters!$AB$4))","v":""},{"$nulls":20},{"$f":"'Window & Door DATA INPUT'!H133","v":0},""]
[null,{"$f":"IF('Window & Door DATA INPUT'!B134>1,1,0)","v":0},{"$f":"IF(AND(B128=1,OR(D128=Parameters!$D$17, D128=Parameters!$D$18,D128=Parameters!$D$19,D128=Parameters!$D$20,D128=Parameters!$D$21,D128=Parameters!$D$22, D128=Parameters!$D$23, D128=Parameters!$D$24)),1,0)","v":0},{"$f":"IF('Window & Door DATA INPUT'!B134=\"\",\"\",'Window & Door DATA INPUT'!B134)","v":""},{"$f":"IF('Window & Door DATA INPUT'!D134=\"\",\"\",'Window & Door DATA INPUT'!D134)","v":""},{"$f":"IF(B128=1,'Window & Door DATA INPUT'!H134&RESULTS!$H$5,\"\")","v":""},{"$f":"IF(B128=1,VLOOKUP(F128,Parameters!$H$4:$I$20,2,FALSE),\"\")","v":""},{"$f":"IF(OR('Window & Door DATA INPUT'!J134=Parameters!$K$4,'Window & Door DATA INPUT'!J134=Parameters!$K$11),\"No\",IF('Window & Door DATA INPUT'!K134=\"\",\"\",'Window & Door DATA INPUT'!K134))","v":""},{"$f":"IF('Window & Door DATA INPUT'!J134=\"\",\"\",'Window & Door DATA INPUT'!J134)","v":""},{"$f":"IF('Window & Door DATA INPUT'!L134=Parameters!$O$5,'Window & Door DATA INPUT'!O134,IF(B128=1,('Window & Door DATA INPUT'!N134*'Window & Door DATA INPUT'!M134)/1000000,\"\"))","v":""},{"$f":"IF('Window & Door DATA INPUT'!J134=\"\",\"\",VLOOKUP('Window & Door DATA INPUT'!J134,Parameters!$K$4:$L$16,2,FALSE))","v":""},{"$f":"IF($H128=\"yes\",IF($K128=\"Y\",'Window & Door DATA INPUT'!Q134/1000,IF($K128=\"N\",'Window & Door DATA INPUT'!P134/1000)),\"\")","v":""},{"$f":"IF($H128=\"yes\",IF($K128=\"Y\",'Window & Door DATA INPUT'!P134/1000,IF($K128=\"N\",'Window & Door DATA INPUT'!Q134/1000)),\"\")","v":""},"",{"$f":"IF(AND(B128=1,C128=0,H128=\"yes\"),\"A\",IF(AND(C128=1,H128=\"yes\",'Window & Door DATA INPUT'!R134=\"no\"),\"B\",IF(AND(C128=1,H128=\"yes\",'Window & Door DATA INPUT'!R134=\"yes\",'Window & Door DATA INPUT'!S134=\"yes\"),\"C\",IF(AND(C128=1,H128=\"yes\",'Window & Door DATA INPUT'!R134=\"yes\",'Window & Door DATA INPUT'!S134=\"no\"),\"D\",\"\"))))","v":""},{"$f":"IF(AND(C128=1,H128=\"yes\",OR(I128=Parameters!$K$12,I128=Parameters!$K$13,I128=Parameters!$K$14)),\"E\",IF(AND(C128=1,H128=\"yes\",NOT(OR(I128=Parameters!$K$12,I128=Parameters!$K$13,I128=Parameters!$K$14))),\"F\",\"\"))","v":""},{"$f":"IF(AND(B128=1,H128=\"yes\"),VLOOKUP(I128,Parameters!$K$4:$M$16,3,FALSE),\"\")","v":""},{"$f":"IF(AND(OR(O128=\"A\",O128=\"B\",O128=\"d\"),Q128=\"input\"),'Window & Door DATA INPUT'!AA134,IF(AND(O128=\"C\",Q128=\"input\"),'Window & Door DATA INPUT'!W134,Calculations!Q128))","v":""},{"$f":"IF('Window & Door DATA INPUT'!X134=\"Yes\",'Window & Door DATA INPUT'!Y134/1000,IF(B128=1,\"N/A\",\"\"))","v":""},{"$f":"IF(Q128=\"calc\",IF(O128=\"c\",'Window & Door DATA INPUT'!U134/1000,(Parameters!$S$4-'Window & Door DATA INPUT'!Z134+Parameters!$Q$4)/1000),\"\")","v":""},"","","",{"$f":"IF(OR($H128=\"no\",$B128=0),\"\",IF($I128=Parameters!$K$15,$L128/($M128/2),$L128/$M128))","v":""},{"$f":"IF(OR($H128=\"no\",$B128=0),\"\",IF($X128<0.5,Parameters!$X$4,IF($X128<1,Parameters!$Y$4,IF($X128<2,Parameters!$Z$4,Parameters!$AA$4))))","v":""},{"$f":"IF(OR($H128=\"no\",$B128=0),\"\",IF($X128<0.5,Parameters!$X$5,IF($X128<1,Parameters!$Y$5,IF($X128<2,Parameters!$Z$5,Parameters!$AA$5))))","v":""},{"$f":"IF(OR($H128=\"no\",$B128=0),\"\",IF($I128=Parameters!$K$15,(2*($M128/2)*SIN(RADIANS(Calculations!$W128/2))),(2*$M128*SIN(RADIANS($W128/2)))))","v":""},"",{"$f":"IF(OR($H128=\"no\",$B128=0),\"\",IF($I128=Parameters!$K$15,$AB128*$N128/2,$AB128*$N128))","v":""},{"$f":"IF(OR($H128=\"no\",$B128=0),\"\",IF($I128=Parameters!$K$15,$AC128*2/Parameters!$AB$4,$AC128/Parameters!$AB$4))","v":""},{"$f":"IF(AND(O128=\"B\",Q128=\"calc\"),V128,IF(AND(O128=\"C\",Q128=\"calc\"),'Window & Door DATA INPUT'!T134/1000,\"\"))","v":""},{"$f":"IF(AND(O128=\"B\",Q128=\"input\"),'Window & Door DATA INPUT'!AA134,IF(AND(O128=\"C\",Q128=\"input\",P128=\"F\"),'Window & Door DATA INPUT'!V134,IF(AND(O128=\"C\",P128=\"E\"),0,IF(AND(O128=\"D\"),0,IF(AND(B128=1,C128=0),\"\",(Calculations!Q128))))))","v":""},"",{"$f":"IF(OR($H128=\"no\",$C128=0),\"\",IF($I128=Parameters!$K$15,$L128/($M128/2),$L128/$M128))","v":""},{"$f":"IF(OR($H128=\"no\",$C128=0),\"\",IF($AH128<0.5,Parameters!$X$4,IF($AH128<1,Parameters!$Y$4,IF($AH128<2,Parameters!$Z$4,Parameters!$AA$4))))","v":""},{"$f":"IF(OR($H128=\"no\",$C128=0),\"\",IF($AH128<0.5,Parameters!$X$5,IF($AH128<1,Parameters!$Y$5,IF($AH128<2,Parameters!$Z$5,Parameters!$AA$5))))","v":""},{"$f":"IF(OR($H128=\"no\",$C128=0),\"\",IF($I128=Parameters!$K$15,(2*($M128/2)*SIN(RADIANS(Calculations!$AG128/2))),(2*$M128*SIN(RADIANS($AG128/2)))))","v":""},"",{"$f":"IF(OR($H128=\"no\",$C128=0),\"\",IF($I128=Parameters!$K$15,$AL128*$N128/2,$AL128*$N128))","v":""},{"$f":"IF(OR($H128=\"no\",$C128=0),\"\",IF($I128=Parameters!$K$15,$AM128*2/Parameters!$AB$4,$AM128/Parameters!$AB$4))","v":""},{"$nulls":20},{"$f":"'Window & Door DATA INPUT'!H134","v":0},""]
[null,{"$f":"IF('Window & Door DATA INPUT'!B135>1,1,0)","v":0},{"$f":"IF(AND(B129=1,OR(D129=Parameters!$D$17, D129=Parameters!$D$18,D129=Parameters!$D$19,D129=Parameters!$D$20,D129=Parameters!$D$21,D129=Parameters!$D$22, D129=Parameters!$D$23, D129=Parameters!$D$24)),1,0)","v":0},{"$f":"IF('Window & Door DATA INPUT'!B135=\"\",\"\",'Window & Door DATA INPUT'!B135)","v":""},{"$f":"IF('Window & Door DATA INPUT'!D135=\"\",\"\",'Window & Door DATA INPUT'!D135)","v":""},{"$f":"IF(B129=1,'Window & Door DATA INPUT'!H135&RESULTS!$H$5,\"\")","v":""},{"$f":"IF(B129=1,VLOOKUP(F129,Parameters!$H$4:$I$20,2,FALSE),\"\")","v":""},{"$f":"IF(OR('Window & Door DATA INPUT'!J135=Parameters!$K$4,'Window & Door DATA INPUT'!J135=Parameters!$K$11),\"No\",IF('Window & Door DATA INPUT'!K135=\"\",\"\",'Window & Door DATA INPUT'!K135))","v":""},{"$f":"IF('Window & Door DATA INPUT'!J135=\"\",\"\",'Window & Door DATA INPUT'!J135)","v":""},{"$f":"IF('Window & Door DATA INPUT'!L135=Parameters!$O$5,'Window & Door DATA INPUT'!O135,IF(B129=1,('Window & Door DATA INPUT'!N135*'Window & Door DATA INPUT'!M135)/1000000,\"\"))","v":""},{"$f":"IF('Window & Door DATA INPUT'!J135=\"\",\"\",VLOOKUP('Window & Door DATA INPUT'!J135,Parameters!$K$4:$L$16,2,FALSE))","v":""},{"$f":"IF($H129=\"yes\",IF($K129=\"Y\",'Window & Door DATA INPUT'!Q135/1000,IF($K129=\"N\",'Window & Door DATA INPUT'!P135/1000)),\"\")","v":""},{"$f":"IF($H129=\"yes\",IF($K129=\"Y\",'Window & Door DATA INPUT'!P135/1000,IF($K129=\"N\",'Window & Door DATA INPUT'!Q135/1000)),\"\")","v":""},"",{"$f":"IF(AND(B129=1,C129=0,H129=\"yes\"),\"A\",IF(AND(C129=1,H129=\"yes\",'Window & Door DATA INPUT'!R135=\"no\"),\"B\",IF(AND(C129=1,H129=\"yes\",'Window & Door DATA INPUT'!R135=\"yes\",'Window & Door DATA INPUT'!S135=\"yes\"),\"C\",IF(AND(C129=1,H129=\"yes\",'Window & Door DATA INPUT'!R135=\"yes\",'Window & Door DATA INPUT'!S135=\"no\"),\"D\",\"\"))))","v":""},{"$f":"IF(AND(C129=1,H129=\"yes\",OR(I129=Parameters!$K$12,I129=Parameters!$K$13,I129=Parameters!$K$14)),\"E\",IF(AND(C129=1,H129=\"yes\",NOT(OR(I129=Parameters!$K$12,I129=Parameters!$K$13,I129=Parameters!$K$14))),\"F\",\"\"))","v":""},{"$f":"IF(AND(B129=1,H129=\"yes\"),VLOOKUP(I129,Parameters!$K$4:$M$16,3,FALSE),\"\")","v":""},{"$f":"IF(AND(OR(O129=\"A\",O129=\"B\",O129=\"d\"),Q129=\"input\"),'Window & Door DATA INPUT'!AA135,IF(AND(O129=\"C\",Q129=\"input\"),'Window & Door DATA INPUT'!W135,Calculations!Q129))","v":""},{"$f":"IF('Window & Door DATA INPUT'!X135=\"Yes\",'Window & Door DATA INPUT'!Y135/1000,IF(B129=1,\"N/A\",\"\"))","v":""},{"$f":"IF(Q129=\"calc\",IF(O129=\"c\",'Window & Door DATA INPUT'!U135/1000,(Parameters!$S$4-'Window & Door DATA INPUT'!Z135+Parameters!$Q$4)/1000),\"\")","v":""},"","","",{"$f":"IF(OR($H129=\"no\",$B129=0),\"\",IF($I129=Parameters!$K$15,$L129/($M129/2),$L129/$M129))","v":""},{"$f":"IF(OR($H129=\"no\",$B129=0),\"\",IF($X129<0.5,Parameters!$X$4,IF($X129<1,Parameters!$Y$4,IF($X129<2,Parameters!$Z$4,Parameters!$AA$4))))","v":""},{"$f":"IF(OR($H129=\"no\",$B129=0),\"\",IF($X129<0.5,Parameters!$X$5,IF($X129<1,Parameters!$Y$5,IF($X129<2,Parameters!$Z$5,Parameters!$AA$5))))","v":""},{"$f":"IF(OR($H129=\"no\",$B129=0),\"\",IF($I129=Parameters!$K$15,(2*($M129/2)*SIN(RADIANS(Calculations!$W129/2))),(2*$M129*SIN(RADIANS($W129/2)))))","v":""},"",{"$f":"IF(OR($H129=\"no\",$B129=0),\"\",IF($I129=Parameters!$K$15,$AB129*$N129/2,$AB129*$N129))","v":""},{"$f":"IF(OR($H129=\"no\",$B129=0),\"\",IF($I129=Parameters!$K$15,$AC129*2/Parameters!$AB$4,$AC129/Parameters!$AB$4))","v":""},{"$f":"IF(AND(O129=\"B\",Q129=\"calc\"),V129,IF(AND(O129=\"C\",Q129=\"calc\"),'Window & Door DATA INPUT'!T135/1000,\"\"))","v":""},{"$f":"IF(AND(O129=\"B\",Q129=\"input\"),'Window & Door DATA INPUT'!AA135,IF(AND(O129=\"C\",Q129=\"input\",P129=\"F\"),'Window & Door DATA INPUT'!V135,IF(AND(O129=\"C\",P129=\"E\"),0,IF(AND(O129=\"D\"),0,IF(AND(B129=1,C129=0),\"\",(Calculations!Q129))))))","v":""},"",{"$f":"IF(OR($H129=\"no\",$C129=0),\"\",IF($I129=Parameters!$K$15,$L129/($M129/2),$L129/$M129))","v":""},{"$f":"IF(OR($H129=\"no\",$C129=0),\"\",IF($AH129<0.5,Parameters!$X$4,IF($AH129<1,Parameters!$Y$4,IF($AH129<2,Parameters!$Z$4,Parameters!$AA$4))))","v":""},{"$f":"IF(OR($H129=\"no\",$C129=0),\"\",IF($AH129<0.5,Parameters!$X$5,IF($AH129<1,Parameters!$Y$5,IF($AH129<2,Parameters!$Z$5,Parameters!$AA$5))))","v":""},{"$f":"IF(OR($H129=\"no\",$C129=0),\"\",IF($I129=Parameters!$K$15,(2*($M129/2)*SIN(RADIANS(Calculations!$AG129/2))),(2*$M129*SIN(RADIANS($AG129/2)))))","v":""},"",{"$f":"IF(OR($H129=\"no\",$C129=0),\"\",IF($I129=Parameters!$K$15,$AL129*$N129/2,$AL129*$N129))","v":""},{"$f":"IF(OR($H129=\"no\",$C129=0),\"\",IF($I129=Parameters!$K$15,$AM129*2/Parameters!$AB$4,$AM129/Parameters!$AB$4))","v":""},{"$nulls":20},{"$f":"'Window & Door DATA INPUT'!H135","v":0},""]
[null,{"$f":"IF('Window & Door DATA INPUT'!B136>1,1,0)","v":0},{"$f":"IF(AND(B130=1,OR(D130=Parameters!$D$17, D130=Parameters!$D$18,D130=Parameters!$D$19,D130=Parameters!$D$20,D130=Parameters!$D$21,D130=Parameters!$D$22, D130=Parameters!$D$23, D130=Parameters!$D$24)),1,0)","v":0},{"$f":"IF('Window & Door DATA INPUT'!B136=\"\",\"\",'Window & Door DATA INPUT'!B136)","v":""},{"$f":"IF('Window & Door DATA INPUT'!D136=\"\",\"\",'Window & Door DATA INPUT'!D136)","v":""},{"$f":"IF(B130=1,'Window & Door DATA INPUT'!H136&RESULTS!$H$5,\"\")","v":""},{"$f":"IF(B130=1,VLOOKUP(F130,Parameters!$H$4:$I$20,2,FALSE),\"\")","v":""},{"$f":"IF(OR('Window & Door DATA INPUT'!J136=Parameters!$K$4,'Window & Door DATA INPUT'!J136=Parameters!$K$11),\"No\",IF('Window & Door DATA INPUT'!K136=\"\",\"\",'Window & Door DATA INPUT'!K136))","v":""},{"$f":"IF('Window & Door DATA INPUT'!J136=\"\",\"\",'Window & Door DATA INPUT'!J136)","v":""},{"$f":"IF('Window & Door DATA INPUT'!L136=Parameters!$O$5,'Window & Door DATA INPUT'!O136,IF(B130=1,('Window & Door DATA INPUT'!N136*'Window & Door DATA INPUT'!M136)/1000000,\"\"))","v":""},{"$f":"IF('Window & Door DATA INPUT'!J136=\"\",\"\",VLOOKUP('Window & Door DATA INPUT'!J136,Parameters!$K$4:$L$16,2,FALSE))","v":""},{"$f":"IF($H130=\"yes\",IF($K130=\"Y\",'Window & Door DATA INPUT'!Q136/1000,IF($K130=\"N\",'Window & Door DATA INPUT'!P136/1000)),\"\")","v":""},{"$f":"IF($H130=\"yes\",IF($K130=\"Y\",'Window & Door DATA INPUT'!P136/1000,IF($K130=\"N\",'Window & Door DATA INPUT'!Q136/1000)),\"\")","v":""},"",{"$f":"IF(AND(B130=1,C130=0,H130=\"yes\"),\"A\",IF(AND(C130=1,H130=\"yes\",'Window & Door DATA INPUT'!R136=\"no\"),\"B\",IF(AND(C130=1,H130=\"yes\",'Window & Door DATA INPUT'!R136=\"yes\",'Window & Door DATA INPUT'!S136=\"yes\"),\"C\",IF(AND(C130=1,H130=\"yes\",'Window & Door DATA INPUT'!R136=\"yes\",'Window & Door DATA INPUT'!S136=\"no\"),\"D\",\"\"))))","v":""},{"$f":"IF(AND(C130=1,H130=\"yes\",OR(I130=Parameters!$K$12,I130=Parameters!$K$13,I130=Parameters!$K$14)),\"E\",IF(AND(C130=1,H130=\"yes\",NOT(OR(I130=Parameters!$K$12,I130=Parameters!$K$13,I130=Parameters!$K$14))),\"F\",\"\"))","v":""},{"$f":"IF(AND(B130=1,H130=\"yes\"),VLOOKUP(I130,Parameters!$K$4:$M$16,3,FALSE),\"\")","v":""},{"$f":"IF(AND(OR(O130=\"A\",O130=\"B\",O130=\"d\"),Q130=\"input\"),'Window & Door DATA INPUT'!AA136,IF(AND(O130=\"C\",Q130=\"input\"),'Window & Door DATA INPUT'!W136,Calculations!Q130))","v":""},{"$f":"IF('Window & Door DATA INPUT'!X136=\"Yes\",'Window & Door DATA INPUT'!Y136/1000,IF(B130=1,\"N/A\",\"\"))","v":""},{"$f":"IF(Q130=\"calc\",IF(O130=\"c\",'Window & Door DATA INPUT'!U136/1000,(Parameters!$S$4-'Window & Door DATA INPUT'!Z136+Parameters!$Q$4)/1000),\"\")","v":""},"","","",{"$f":"IF(OR($H130=\"no\",$B130=0),\"\",IF($I130=Parameters!$K$15,$L130/($M130/2),$L130/$M130))","v":""},{"$f":"IF(OR($H130=\"no\",$B130=0),\"\",IF($X130<0.5,Parameters!$X$4,IF($X130<1,Parameters!$Y$4,IF($X130<2,Parameters!$Z$4,Parameters!$AA$4))))","v":""},{"$f":"IF(OR($H130=\"no\",$B130=0),\"\",IF($X130<0.5,Parameters!$X$5,IF($X130<1,Parameters!$Y$5,IF($X130<2,Parameters!$Z$5,Parameters!$AA$5))))","v":""},{"$f":"IF(OR($H130=\"no\",$B130=0),\"\",IF($I130=Parameters!$K$15,(2*($M130/2)*SIN(RADIANS(Calculations!$W130/2))),(2*$M130*SIN(RADIANS($W130/2)))))","v":""},"",{"$f":"IF(OR($H130=\"no\",$B130=0),\"\",IF($I130=Parameters!$K$15,$AB130*$N130/2,$AB130*$N130))","v":""},{"$f":"IF(OR($H130=\"no\",$B130=0),\"\",IF($I130=Parameters!$K$15,$AC130*2/Parameters!$AB$4,$AC130/Parameters!$AB$4))","v":""},{"$f":"IF(AND(O130=\"B\",Q130=\"calc\"),V130,IF(AND(O130=\"C\",Q130=\"calc\"),'Window & Door DATA INPUT'!T136/1000,\"\"))","v":""},{"$f":"IF(AND(O130=\"B\",Q130=\"input\"),'Window & Door DATA INPUT'!AA136,IF(AND(O130=\"C\",Q130=\"input\",P130=\"F\"),'Window & Door DATA INPUT'!V136,IF(AND(O130=\"C\",P130=\"E\"),0,IF(AND(O130=\"D\"),0,IF(AND(B130=1,C130=0),\"\",(Calculations!Q130))))))","v":""},"",{"$f":"IF(OR($H130=\"no\",$C130=0),\"\",IF($I130=Parameters!$K$15,$L130/($M130/2),$L130/$M130))","v":""},{"$f":"IF(OR($H130=\"no\",$C130=0),\"\",IF($AH130<0.5,Parameters!$X$4,IF($AH130<1,Parameters!$Y$4,IF($AH130<2,Parameters!$Z$4,Parameters!$AA$4))))","v":""},{"$f":"IF(OR($H130=\"no\",$C130=0),\"\",IF($AH130<0.5,Parameters!$X$5,IF($AH130<1,Parameters!$Y$5,IF($AH130<2,Parameters!$Z$5,Parameters!$AA$5))))","v":""},{"$f":"IF(OR($H130=\"no\",$C130=0),\"\",IF($I130=Parameters!$K$15,(2*($M130/2)*SIN(RADIANS(Calculations!$AG130/2))),(2*$M130*SIN(RADIANS($AG130/2)))))","v":""},"",{"$f":"IF(OR($H130=\"no\",$C130=0),\"\",IF($I130=Parameters!$K$15,$AL130*$N130/2,$AL130*$N130))","v":""},{"$f":"IF(OR($H130=\"no\",$C130=0),\"\",IF($I130=Parameters!$K$15,$AM130*2/Parameters!$AB$4,$AM130/Parameters!$AB$4))","v":""},{"$nulls":20},{"$f":"'Window & Door DATA INPUT'!H136","v":0},""]
[null,{"$f":"IF('Window & Door DATA INPUT'!B137>1,1,0)","v":0},{"$f":"IF(AND(B131=1,OR(D131=Parameters!$D$17, D131=Parameters!$D$18,D131=Parameters!$D$19,D131=Parameters!$D$20,D131=Parameters!$D$21,D131=Parameters!$D$22, D131=Parameters!$D$23, D131=Parameters!$D$24)),1,0)","v":0},{"$f":"IF('Window & Door DATA INPUT'!B137=\"\",\"\",'Window & Door DATA INPUT'!B137)","v":""},{"$f":"IF('Window & Door DATA INPUT'!D137=\"\",\"\",'Window & Door DATA INPUT'!D137)","v":""},{"$f":"IF(B131=1,'Window & Door DATA INPUT'!H137&RESULTS!$H$5,\"\")","v":""},{"$f":"IF(B131=1,VLOOKUP(F131,Parameters!$H$4:$I$20,2,FALSE),\"\")","v":""},{"$f":"IF(OR('Window & Door DATA INPUT'!J137=Parameters!$K$4,'Window & Door DATA INPUT'!J137=Parameters!$K$11),\"No\",IF('Window & Door DATA INPUT'!K137=\"\",\"\",'Window & Door DATA INPUT'!K137))","v":""},{"$f":"IF('Window & Door DATA INPUT'!J137=\"\",\"\",'Window & Door DATA INPUT'!J137)","v":""},{"$f":"IF('Window & Door DATA INPUT'!L137=Parameters!$O$5,'Window & Door DATA INPUT'!O137,IF(B131=1,('Window & Door DATA INPUT'!N137*'Window & Door DATA INPUT'!M137)/1000000,\"\"))","v":""},{"$f":"IF('Window & Door DATA INPUT'!J137=\"\",\"\",VLOOKUP('Window & Door DATA INPUT'!J137,Parameters!$K$4:$L$16,2,FALSE))","v":""},{"$f":"IF($H131=\"yes\",IF($K131=\"Y\",'Window & Door DATA INPUT'!Q137/1000,IF($K131=\"N\",'Window & Door DATA INPUT'!P137/1000)),\"\")","v":""},{"$f":"IF($H131=\"yes\",IF($K131=\"Y\",'Window & Door DATA INPUT'!P137/1000,IF($K131=\"N\",'Window & Door DATA INPUT'!Q137/1000)),\"\")","v":""},"",{"$f":"IF(AND(B131=1,C131=0,H131=\"yes\"),\"A\",IF(AND(C131=1,H131=\"yes\",'Window & Door DATA INPUT'!R137=\"no\"),\"B\",IF(AND(C131=1,H131=\"yes\",'Window & Door DATA INPUT'!R137=\"yes\",'Window & Door DATA INPUT'!S137=\"yes\"),\"C\",IF(AND(C131=1,H131=\"yes\",'Window & Door DATA INPUT'!R137=\"yes\",'Window & Door DATA INPUT'!S137=\"no\"),\"D\",\"\"))))","v":""},{"$f":"IF(AND(C131=1,H131=\"yes\",OR(I131=Parameters!$K$12,I131=Parameters!$K$13,I131=Parameters!$K$14)),\"E\",IF(AND(C131=1,H131=\"yes\",NOT(OR(I131=Parameters!$K$12,I131=Parameters!$K$13,I131=Parameters!$K$14))),\"F\",\"\"))","v":""},{"$f":"IF(AND(B131=1,H131=\"yes\"),VLOOKUP(I131,Parameters!$K$4:$M$16,3,FALSE),\"\")","v":""},{"$f":"IF(AND(OR(O131=\"A\",O131=\"B\",O131=\"d\"),Q131=\"input\"),'Window & Door DATA INPUT'!AA137,IF(AND(O131=\"C\",Q131=\"input\"),'Window & Door DATA INPUT'!W137,Calculations!Q131))","v":""},{"$f":"IF('Window & Door DATA INPUT'!X137=\"Yes\",'Window & Door DATA INPUT'!Y137/1000,IF(B131=1,\"N/A\",\"\"))","v":""},{"$f":"IF(Q131=\"calc\",IF(O131=\"c\",'Window & Door DATA INPUT'!U137/1000,(Parameters!$S$4-'Window & Door DATA INPUT'!Z137+Parameters!$Q$4)/1000),\"\")","v":""},"","","",{"$f":"IF(OR($H131=\"no\",$B131=0),\"\",IF($I131=Parameters!$K$15,$L131/($M131/2),$L131/$M131))","v":""},{"$f":"IF(OR($H131=\"no\",$B131=0),\"\",IF($X131<0.5,Parameters!$X$4,IF($X131<1,Parameters!$Y$4,IF($X131<2,Parameters!$Z$4,Parameters!$AA$4))))","v":""},{"$f":"IF(OR($H131=\"no\",$B131=0),\"\",IF($X131<0.5,Parameters!$X$5,IF($X131<1,Parameters!$Y$5,IF($X131<2,Parameters!$Z$5,Parameters!$AA$5))))","v":""},{"$f":"IF(OR($H131=\"no\",$B131=0),\"\",IF($I131=Parameters!$K$15,(2*($M131/2)*SIN(RADIANS(Calculations!$W131/2))),(2*$M131*SIN(RADIANS($W131/2)))))","v":""},"",{"$f":"IF(OR($H131=\"no\",$B131=0),\"\",IF($I131=Parameters!$K$15,$AB131*$N131/2,$AB131*$N131))","v":""},{"$f":"IF(OR($H131=\"no\",$B131=0),\"\",IF($I131=Parameters!$K$15,$AC131*2/Parameters!$AB$4,$AC131/Parameters!$AB$4))","v":""},{"$f":"IF(AND(O131=\"B\",Q131=\"calc\"),V131,IF(AND(O131=\"C\",Q131=\"calc\"),'Window & Door DATA INPUT'!T137/1000,\"\"))","v":""},{"$f":"IF(AND(O131=\"B\",Q131=\"input\"),'Window & Door DATA INPUT'!AA137,IF(AND(O131=\"C\",Q131=\"input\",P131=\"F\"),'Window & Door DATA INPUT'!V137,IF(AND(O131=\"C\",P131=\"E\"),0,IF(AND(O131=\"D\"),0,IF(AND(B131=1,C131=0),\"\",(Calculations!Q131))))))","v":""},"",{"$f":"IF(OR($H131=\"no\",$C131=0),\"\",IF($I131=Parameters!$K$15,$L131/($M131/2),$L131/$M131))","v":""},{"$f":"IF(OR($H131=\"no\",$C131=0),\"\",IF($AH131<0.5,Parameters!$X$4,IF($AH131<1,Parameters!$Y$4,IF($AH131<2,Parameters!$Z$4,Parameters!$AA$4))))","v":""},{"$f":"IF(OR($H131=\"no\",$C131=0),\"\",IF($AH131<0.5,Parameters!$X$5,IF($AH131<1,Parameters!$Y$5,IF($AH131<2,Parameters!$Z$5,Parameters!$AA$5))))","v":""},{"$f":"IF(OR($H131=\"no\",$C131=0),\"\",IF($I131=Parameters!$K$15,(2*($M131/2)*SIN(RADIANS(Calculations!$AG131/2))),(2*$M131*SIN(RADIANS($AG131/2)))))","v":""},"",{"$f":"IF(OR($H131=\"no\",$C131=0),\"\",IF($I131=Parameters!$K$15,$AL131*$N131/2,$AL131*$N131))","v":""},{"$f":"IF(OR($H131=\"no\",$C131=0),\"\",IF($I131=Parameters!$K$15,$AM131*2/Parameters!$AB$4,$AM131/Parameters!$AB$4))","v":""},{"$nulls":20},{"$f":"'Window & Door DATA INPUT'!H137","v":0},""]
[null,{"$f":"IF('Window & Door DATA INPUT'!B138>1,1,0)","v":0},{"$f":"IF(AND(B132=1,OR(D132=Parameters!$D$17, D132=Parameters!$D$18,D132=Parameters!$D$19,D132=Parameters!$D$20,D132=Parameters!$D$21,D132=Parameters!$D$22, D132=Parameters!$D$23, D132=Parameters!$D$24)),1,0)","v":0},{"$f":"IF('Window & Door DATA INPUT'!B138=\"\",\"\",'Window & Door DATA INPUT'!B138)","v":""},{"$f":"IF('Window & Door DATA INPUT'!D138=\"\",\"\",'Window & Door DATA INPUT'!D138)","v":""},{"$f":"IF(B132=1,'Window & Door DATA INPUT'!H138&RESULTS!$H$5,\"\")","v":""},{"$f":"IF(B132=1,VLOOKUP(F132,Parameters!$H$4:$I$20,2,FALSE),\"\")","v":""},{"$f":"IF(OR('Window & Door DATA INPUT'!J138=Parameters!$K$4,'Window & Door DATA INPUT'!J138=Parameters!$K$11),\"No\",IF('Window & Door DATA INPUT'!K138=\"\",\"\",'Window & Door DATA INPUT'!K138))","v":""},{"$f":"IF('Window & Door DATA INPUT'!J138=\"\",\"\",'Window & Door DATA INPUT'!J138)","v":""},{"$f":"IF('Window & Door DATA INPUT'!L138=Parameters!$O$5,'Window & Door DATA INPUT'!O138,IF(B132=1,('Window & Door DATA INPUT'!N138*'Window & Door DATA INPUT'!M138)/1000000,\"\"))","v":""},{"$f":"IF('Window & Door DATA INPUT'!J138=\"\",\"\",VLOOKUP('Window & Door DATA INPUT'!J138,Parameters!$K$4:$L$16,2,FALSE))","v":""},{"$f":"IF($H132=\"yes\",IF($K132=\"Y\",'Window & Door DATA INPUT'!Q138/1000,IF($K132=\"N\",'Window & Door DATA INPUT'!P138/1000)),\"\")","v":""},{"$f":"IF($H132=\"yes\",IF($K132=\"Y\",'Window & Door DATA INPUT'!P138/1000,IF($K132=\"N\",'Window & Door DATA INPUT'!Q138/1000)),\"\")","v":""},"",{"$f":"IF(AND(B132=1,C132=0,H132=\"yes\"),\"A\",IF(AND(C132=1,H132=\"yes\",'Window & Door DATA INPUT'!R138=\"no\"),\"B\",IF(AND(C132=1,H132=\"yes\",'Window & Door DATA INPUT'!R138=\"yes\",'Window & Door DATA INPUT'!S138=\"yes\"),\"C\",IF(AND(C132=1,H132=\"yes\",'Window & Door DATA INPUT'!R138=\"yes\",'Window & Door DATA INPUT'!S138=\"no\"),\"D\",\"\"))))","v":""},{"$f":"IF(AND(C132=1,H132=\"yes\",OR(I132=Parameters!$K$12,I132=Parameters!$K$13,I132=Parameters!$K$14)),\"E\",IF(AND(C132=1,H132=\"yes\",NOT(OR(I132=Parameters!$K$12,I132=Parameters!$K$13,I132=Parameters!$K$14))),\"F\",\"\"))","v":""},{"$f":"IF(AND(B132=1,H132=\"yes\"),VLOOKUP(I132,Parameters!$K$4:$M$16,3,FALSE),\"\")","v":""},{"$f":"IF(AND(OR(O132=\"A\",O132=\"B\",O132=\"d\"),Q132=\"input\"),'Window & Door DATA INPUT'!AA138,IF(AND(O132=\"C\",Q132=\"input\"),'Window & Door DATA INPUT'!W138,Calculations!Q132))","v":""},{"$f":"IF('Window & Door DATA INPUT'!X138=\"Yes\",'Window & Door DATA INPUT'!Y138/1000,IF(B132=1,\"N/A\",\"\"))","v":""},{"$f":"IF(Q132=\"calc\",IF(O132=\"c\",'Window & Door DATA INPUT'!U138/1000,(Parameters!$S$4-'Window & Door DATA INPUT'!Z138+Parameters!$Q$4)/1000),\"\")","v":""},"","","",{"$f":"IF(OR($H132=\"no\",$B132=0),\"\",IF($I132=Parameters!$K$15,$L132/($M132/2),$L132/$M132))","v":""},{"$f":"IF(OR($H132=\"no\",$B132=0),\"\",IF($X132<0.5,Parameters!$X$4,IF($X132<1,Parameters!$Y$4,IF($X132<2,Parameters!$Z$4,Parameters!$AA$4))))","v":""},{"$f":"IF(OR($H132=\"no\",$B132=0),\"\",IF($X132<0.5,Parameters!$X$5,IF($X132<1,Parameters!$Y$5,IF($X132<2,Parameters!$Z$5,Parameters!$AA$5))))","v":""},{"$f":"IF(OR($H132=\"no\",$B132=0),\"\",IF($I132=Parameters!$K$15,(2*($M132/2)*SIN(RADIANS(Calculations!$W132/2))),(2*$M132*SIN(RADIANS($W132/2)))))","v":""},"",{"$f":"IF(OR($H132=\"no\",$B132=0),\"\",IF($I132=Parameters!$K$15,$AB132*$N132/2,$AB132*$N132))","v":""},{"$f":"IF(OR($H132=\"no\",$B132=0),\"\",IF($I132=Parameters!$K$15,$AC132*2/Parameters!$AB$4,$AC132/Parameters!$AB$4))","v":""},{"$f":"IF(AND(O132=\"B\",Q132=\"calc\"),V132,IF(AND(O132=\"C\",Q132=\"calc\"),'Window & Door DATA INPUT'!T138/1000,\"\"))","v":""},{"$f":"IF(AND(O132=\"B\",Q132=\"input\"),'Window & Door DATA INPUT'!AA138,IF(AND(O132=\"C\",Q132=\"input\",P132=\"F\"),'Window & Door DATA INPUT'!V138,IF(AND(O132=\"C\",P132=\"E\"),0,IF(AND(O132=\"D\"),0,IF(AND(B132=1,C132=0),\"\",(Calculations!Q132))))))","v":""},"",{"$f":"IF(OR($H132=\"no\",$C132=0),\"\",IF($I132=Parameters!$K$15,$L132/($M132/2),$L132/$M132))","v":""},{"$f":"IF(OR($H132=\"no\",$C132=0),\"\",IF($AH132<0.5,Parameters!$X$4,IF($AH132<1,Parameters!$Y$4,IF($AH132<2,Parameters!$Z$4,Parameters!$AA$4))))","v":""},{"$f":"IF(OR($H132=\"no\",$C132=0),\"\",IF($AH132<0.5,Parameters!$X$5,IF($AH132<1,Parameters!$Y$5,IF($AH132<2,Parameters!$Z$5,Parameters!$AA$5))))","v":""},{"$f":"IF(OR($H132=\"no\",$C132=0),\"\",IF($I132=Parameters!$K$15,(2*($M132/2)*SIN(RADIANS(Calculations!$AG132/2))),(2*$M132*SIN(RADIANS($AG132/2)))))","v":""},"",{"$f":"IF(OR($H132=\"no\",$C132=0),\"\",IF($I132=Parameters!$K$15,$AL132*$N132/2,$AL132*$N132))","v":""},{"$f":"IF(OR($H132=\"no\",$C132=0),\"\",IF($I132=Parameters!$K$15,$AM132*2/Parameters!$AB$4,$AM132/Parameters!$AB$4))","v":""},{"$nulls":20},{"$f":"'Window & Door DATA INPUT'!H138","v":0},""]
[null,{"$f":"IF('Window & Door DATA INPUT'!B139>1,1,0)","v":0},{"$f":"IF(AND(B133=1,OR(D133=Parameters!$D$17, D133=Parameters!$D$18,D133=Parameters!$D$19,D133=Parameters!$D$20,D133=Parameters!$D$21,D133=Parameters!$D$22, D133=Parameters!$D$23, D133=Parameters!$D$24)),1,0)","v":0},{"$f":"IF('Window & Door DATA INPUT'!B139=\"\",\"\",'Window & Door DATA INPUT'!B139)","v":""},{"$f":"IF('Window & Door DATA INPUT'!D139=\"\",\"\",'Window & Door DATA INPUT'!D139)","v":""},{"$f":"IF(B133=1,'Window & Door DATA INPUT'!H139&RESULTS!$H$5,\"\")","v":""},{"$f":"IF(B133=1,VLOOKUP(F133,Parameters!$H$4:$I$20,2,FALSE),\"\")","v":""},{"$f":"IF(OR('Window & Door DATA INPUT'!J139=Parameters!$K$4,'Window & Door DATA INPUT'!J139=Parameters!$K$11),\"No\",IF('Window & Door DATA INPUT'!K139=\"\",\"\",'Window & Door DATA INPUT'!K139))","v":""},{"$f":"IF('Window & Door DATA INPUT'!J139=\"\",\"\",'Window & Door DATA INPUT'!J139)","v":""},{"$f":"IF('Window & Door DATA INPUT'!L139=Parameters!$O$5,'Window & Door DATA INPUT'!O139,IF(B133=1,('Window & Door DATA INPUT'!N139*'Window & Door DATA INPUT'!M139)/1000000,\"\"))","v":""},{"$f":"IF('Window & Door DATA INPUT'!J139=\"\",\"\",VLOOKUP('Window & Door DATA INPUT'!J139,Parameters!$K$4:$L$16,2,FALSE))","v":""},{"$f":"IF($H133=\"yes\",IF($K133=\"Y\",'Window & Door DATA INPUT'!Q139/1000,IF($K133=\"N\",'Window & Door DATA INPUT'!P139/1000)),\"\")","v":""},{"$f":"IF($H133=\"yes\",IF($K133=\"Y\",'Window & Door DATA INPUT'!P139/1000,IF($K133=\"N\",'Window & Door DATA INPUT'!Q139/1000)),\"\")","v":""},"",{"$f":"IF(AND(B133=1,C133=0,H133=\"yes\"),\"A\",IF(AND(C133=1,H133=\"yes\",'Window & Door DATA INPUT'!R139=\"no\"),\"B\",IF(AND(C133=1,H133=\"yes\",'Window & Door DATA INPUT'!R139=\"yes\",'Window & Door DATA INPUT'!S139=\"yes\"),\"C\",IF(AND(C133=1,H133=\"yes\",'Window & Door DATA INPUT'!R139=\"yes\",'Window & Door DATA INPUT'!S139=\"no\"),\"D\",\"\"))))","v":""},{"$f":"IF(AND(C133=1,H133=\"yes\",OR(I133=Parameters!$K$12,I133=Parameters!$K$13,I133=Parameters!$K$14)),\"E\",IF(AND(C133=1,H133=\"yes\",NOT(OR(I133=Parameters!$K$12,I133=Parameters!$K$13,I133=Parameters!$K$14))),\"F\",\"\"))","v":""},{"$f":"IF(AND(B133=1,H133=\"yes\"),VLOOKUP(I133,Parameters!$K$4:$M$16,3,FALSE),\"\")","v":""},{"$f":"IF(AND(OR(O133=\"A\",O133=\"B\",O133=\"d\"),Q133=\"input\"),'Window & Door DATA INPUT'!AA139,IF(AND(O133=\"C\",Q133=\"input\"),'Window & Door DATA INPUT'!W139,Calculations!Q133))","v":""},{"$f":"IF('Window & Door DATA INPUT'!X139=\"Yes\",'Window & Door DATA INPUT'!Y139/1000,IF(B133=1,\"N/A\",\"\"))","v":""},{"$f":"IF(Q133=\"calc\",IF(O133=\"c\",'Window & Door DATA INPUT'!U139/1000,(Parameters!$S$4-'Window & Door DATA INPUT'!Z139+Parameters!$Q$4)/1000),\"\")","v":""},"","","",{"$f":"IF(OR($H133=\"no\",$B133=0),\"\",IF($I133=Parameters!$K$15,$L133/($M133/2),$L133/$M133))","v":""},{"$f":"IF(OR($H133=\"no\",$B133=0),\"\",IF($X133<0.5,Parameters!$X$4,IF($X133<1,Parameters!$Y$4,IF($X133<2,Parameters!$Z$4,Parameters!$AA$4))))","v":""},{"$f":"IF(OR($H133=\"no\",$B133=0),\"\",IF($X133<0.5,Parameters!$X$5,IF($X133<1,Parameters!$Y$5,IF($X133<2,Parameters!$Z$5,Parameters!$AA$5))))","v":""},{"$f":"IF(OR($H133=\"no\",$B133=0),\"\",IF($I133=Parameters!$K$15,(2*($M133/2)*SIN(RADIANS(Calculations!$W133/2))),(2*$M133*SIN(RADIANS($W133/2)))))","v":""},"",{"$f":"IF(OR($H133=\"no\",$B133=0),\"\",IF($I133=Parameters!$K$15,$AB133*$N133/2,$AB133*$N133))","v":""},{"$f":"IF(OR($H133=\"no\",$B133=0),\"\",IF($I133=Parameters!$K$15,$AC133*2/Parameters!$AB$4,$AC133/Parameters!$AB$4))","v":""},{"$f":"IF(AND(O133=\"B\",Q133=\"calc\"),V133,IF(AND(O133=\"C\",Q133=\"calc\"),'Window & Door DATA INPUT'!T139/1000,\"\"))","v":""},{"$f":"IF(AND(O133=\"B\",Q133=\"input\"),'Window & Door DATA INPUT'!AA139,IF(AND(O133=\"C\",Q133=\"input\",P133=\"F\"),'Window & Door DATA INPUT'!V139,IF(AND(O133=\"C\",P133=\"E\"),0,IF(AND(O133=\"D\"),0,IF(AND(B133=1,C133=0),\"\",(Calculations!Q133))))))","v":""},"",{"$f":"IF(OR($H133=\"no\",$C133=0),\"\",IF($I133=Parameters!$K$15,$L133/($M133/2),$L133/$M133))","v":""},{"$f":"IF(OR($H133=\"no\",$C133=0),\"\",IF($AH133<0.5,Parameters!$X$4,IF($AH133<1,Parameters!$Y$4,IF($AH133<2,Parameters!$Z$4,Parameters!$AA$4))))","v":""},{"$f":"IF(OR($H133=\"no\",$C133=0),\"\",IF($AH133<0.5,Parameters!$X$5,IF($AH133<1,Parameters!$Y$5,IF($AH133<2,Parameters!$Z$5,Parameters!$AA$5))))","v":""},{"$f":"IF(OR($H133=\"no\",$C133=0),\"\",IF($I133=Parameters!$K$15,(2*($M133/2)*SIN(RADIANS(Calculations!$AG133/2))),(2*$M133*SIN(RADIANS($AG133/2)))))","v":""},"",{"$f":"IF(OR($H133=\"no\",$C133=0),\"\",IF($I133=Parameters!$K$15,$AL133*$N133/2,$AL133*$N133))","v":""},{"$f":"IF(OR($H133=\"no\",$C133=0),\"\",IF($I133=Parameters!$K$15,$AM133*2/Parameters!$AB$4,$AM133/Parameters!$AB$4))","v":""},{"$nulls":20},{"$f":"'Window & Door DATA INPUT'!H139","v":0},""]
[null,{"$f":"IF('Window & Door DATA INPUT'!B140>1,1,0)","v":0},{"$f":"IF(AND(B134=1,OR(D134=Parameters!$D$17, D134=Parameters!$D$18,D134=Parameters!$D$19,D134=Parameters!$D$20,D134=Parameters!$D$21,D134=Parameters!$D$22, D134=Parameters!$D$23, D134=Parameters!$D$24)),1,0)","v":0},{"$f":"IF('Window & Door DATA INPUT'!B140=\"\",\"\",'Window & Door DATA INPUT'!B140)","v":""},{"$f":"IF('Window & Door DATA INPUT'!D140=\"\",\"\",'Window & Door DATA INPUT'!D140)","v":""},{"$f":"IF(B134=1,'Window & Door DATA INPUT'!H140&RESULTS!$H$5,\"\")","v":""},{"$f":"IF(B134=1,VLOOKUP(F134,Parameters!$H$4:$I$20,2,FALSE),\"\")","v":""},{"$f":"IF(OR('Window & Door DATA INPUT'!J140=Parameters!$K$4,'Window & Door DATA INPUT'!J140=Parameters!$K$11),\"No\",IF('Window & Door DATA INPUT'!K140=\"\",\"\",'Window & Door DATA INPUT'!K140))","v":""},{"$f":"IF('Window & Door DATA INPUT'!J140=\"\",\"\",'Window & Door DATA INPUT'!J140)","v":""},{"$f":"IF('Window & Door DATA INPUT'!L140=Parameters!$O$5,'Window & Door DATA INPUT'!O140,IF(B134=1,('Window & Door DATA INPUT'!N140*'Window & Door DATA INPUT'!M140)/1000000,\"\"))","v":""},{"$f":"IF('Window & Door DATA INPUT'!J140=\"\",\"\",VLOOKUP('Window & Door DATA INPUT'!J140,Parameters!$K$4:$L$16,2,FALSE))","v":""},{"$f":"IF($H134=\"yes\",IF($K134=\"Y\",'Window & Door DATA INPUT'!Q140/1000,IF($K134=\"N\",'Window & Door DATA INPUT'!P140/1000)),\"\")","v":""},{"$f":"IF($H134=\"yes\",IF($K134=\"Y\",'Window & Door DATA INPUT'!P140/1000,IF($K134=\"N\",'Window & Door DATA INPUT'!Q140/1000)),\"\")","v":""},"",{"$f":"IF(AND(B134=1,C134=0,H134=\"yes\"),\"A\",IF(AND(C134=1,H134=\"yes\",'Window & Door DATA INPUT'!R140=\"no\"),\"B\",IF(AND(C134=1,H134=\"yes\",'Window & Door DATA INPUT'!R140=\"yes\",'Window & Door DATA INPUT'!S140=\"yes\"),\"C\",IF(AND(C134=1,H134=\"yes\",'Window & Door DATA INPUT'!R140=\"yes\",'Window & Door DATA INPUT'!S140=\"no\"),\"D\",\"\"))))","v":""},{"$f":"IF(AND(C134=1,H134=\"yes\",OR(I134=Parameters!$K$12,I134=Parameters!$K$13,I134=Parameters!$K$14)),\"E\",IF(AND(C134=1,H134=\"yes\",NOT(OR(I134=Parameters!$K$12,I134=Parameters!$K$13,I134=Parameters!$K$14))),\"F\",\"\"))","v":""},{"$f":"IF(AND(B134=1,H134=\"yes\"),VLOOKUP(I134,Parameters!$K$4:$M$16,3,FALSE),\"\")","v":""},{"$f":"IF(AND(OR(O134=\"A\",O134=\"B\",O134=\"d\"),Q134=\"input\"),'Window & Door DATA INPUT'!AA140,IF(AND(O134=\"C\",Q134=\"input\"),'Window & Door DATA INPUT'!W140,Calculations!Q134))","v":""},{"$f":"IF('Window & Door DATA INPUT'!X140=\"Yes\",'Window & Door DATA INPUT'!Y140/1000,IF(B134=1,\"N/A\",\"\"))","v":""},{"$f":"IF(Q134=\"calc\",IF(O134=\"c\",'Window & Door DATA INPUT'!U140/1000,(Parameters!$S$4-'Window & Door DATA INPUT'!Z140+Parameters!$Q$4)/1000),\"\")","v":""},"","","",{"$f":"IF(OR($H134=\"no\",$B134=0),\"\",IF($I134=Parameters!$K$15,$L134/($M134/2),$L134/$M134))","v":""},{"$f":"IF(OR($H134=\"no\",$B134=0),\"\",IF($X134<0.5,Parameters!$X$4,IF($X134<1,Parameters!$Y$4,IF($X134<2,Parameters!$Z$4,Parameters!$AA$4))))","v":""},{"$f":"IF(OR($H134=\"no\",$B134=0),\"\",IF($X134<0.5,Parameters!$X$5,IF($X134<1,Parameters!$Y$5,IF($X134<2,Parameters!$Z$5,Parameters!$AA$5))))","v":""},{"$f":"IF(OR($H134=\"no\",$B134=0),\"\",IF($I134=Parameters!$K$15,(2*($M134/2)*SIN(RADIANS(Calculations!$W134/2))),(2*$M134*SIN(RADIANS($W134/2)))))","v":""},"",{"$f":"IF(OR($H134=\"no\",$B134=0),\"\",IF($I134=Parameters!$K$15,$AB134*$N134/2,$AB134*$N134))","v":""},{"$f":"IF(OR($H134=\"no\",$B134=0),\"\",IF($I134=Parameters!$K$15,$AC134*2/Parameters!$AB$4,$AC134/Parameters!$AB$4))","v":""},{"$f":"IF(AND(O134=\"B\",Q134=\"calc\"),V134,IF(AND(O134=\"C\",Q134=\"calc\"),'Window & Door DATA INPUT'!T140/1000,\"\"))","v":""},{"$f":"IF(AND(O134=\"B\",Q134=\"input\"),'Window & Door DATA INPUT'!AA140,IF(AND(O134=\"C\",Q134=\"input\",P134=\"F\"),'Window & Door DATA INPUT'!V140,IF(AND(O134=\"C\",P134=\"E\"),0,IF(AND(O134=\"D\"),0,IF(AND(B134=1,C134=0),\"\",(Calculations!Q134))))))","v":""},"",{"$f":"IF(OR($H134=\"no\",$C134=0),\"\",IF($I134=Parameters!$K$15,$L134/($M134/2),$L134/$M134))","v":""},{"$f":"IF(OR($H134=\"no\",$C134=0),\"\",IF($AH134<0.5,Parameters!$X$4,IF($AH134<1,Parameters!$Y$4,IF($AH134<2,Parameters!$Z$4,Parameters!$AA$4))))","v":""},{"$f":"IF(OR($H134=\"no\",$C134=0),\"\",IF($AH134<0.5,Parameters!$X$5,IF($AH134<1,Parameters!$Y$5,IF($AH134<2,Parameters!$Z$5,Parameters!$AA$5))))","v":""},{"$f":"IF(OR($H134=\"no\",$C134=0),\"\",IF($I134=Parameters!$K$15,(2*($M134/2)*SIN(RADIANS(Calculations!$AG134/2))),(2*$M134*SIN(RADIANS($AG134/2)))))","v":""},"",{"$f":"IF(OR($H134=\"no\",$C134=0),\"\",IF($I134=Parameters!$K$15,$AL134*$N134/2,$AL134*$N134))","v":""},{"$f":"IF(OR($H134=\"no\",$C134=0),\"\",IF($I134=Parameters!$K$15,$AM134*2/Parameters!$AB$4,$AM134/Parameters!$AB$4))","v":""},{"$nulls":20},{"$f":"'Window & Door DATA INPUT'!H140","v":0},""]
[null,{"$f":"IF('Window & Door DATA INPUT'!B141>1,1,0)","v":0},{"$f":"IF(AND(B135=1,OR(D135=Parameters!$D$17, D135=Parameters!$D$18,D135=Parameters!$D$19,D135=Parameters!$D$20,D135=Parameters!$D$21,D135=Parameters!$D$22, D135=Parameters!$D$23, D135=Parameters!$D$24)),1,0)","v":0},{"$f":"IF('Window & Door DATA INPUT'!B141=\"\",\"\",'Window & Door DATA INPUT'!B141)","v":""},{"$f":"IF('Window & Door DATA INPUT'!D141=\"\",\"\",'Window & Door DATA INPUT'!D141)","v":""},{"$f":"IF(B135=1,'Window & Door DATA INPUT'!H141&RESULTS!$H$5,\"\")","v":""},{"$f":"IF(B135=1,VLOOKUP(F135,Parameters!$H$4:$I$20,2,FALSE),\"\")","v":""},{"$f":"IF(OR('Window & Door DATA INPUT'!J141=Parameters!$K$4,'Window & Door DATA INPUT'!J141=Parameters!$K$11),\"No\",IF('Window & Door DATA INPUT'!K141=\"\",\"\",'Window & Door DATA INPUT'!K141))","v":""},{"$f":"IF('Window & Door DATA INPUT'!J141=\"\",\"\",'Window & Door DATA INPUT'!J141)","v":""},{"$f":"IF('Window & Door DATA INPUT'!L141=Parameters!$O$5,'Window & Door DATA INPUT'!O141,IF(B135=1,('Window & Door DATA INPUT'!N141*'Window & Door DATA INPUT'!M141)/1000000,\"\"))","v":""},{"$f":"IF('Window & Door DATA INPUT'!J141=\"\",\"\",VLOOKUP('Window & Door DATA INPUT'!J141,Parameters!$K$4:$L$16,2,FALSE))","v":""},{"$f":"IF($H135=\"yes\",IF($K135=\"Y\",'Window & Door DATA INPUT'!Q141/1000,IF($K135=\"N\",'Window & Door DATA INPUT'!P141/1000)),\"\")","v":""},{"$f":"IF($H135=\"yes\",IF($K135=\"Y\",'Window & Door DATA INPUT'!P141/1000,IF($K135=\"N\",'Window & Door DATA INPUT'!Q141/1000)),\"\")","v":""},"",{"$f":"IF(AND(B135=1,C135=0,H135=\"yes\"),\"A\",IF(AND(C135=1,H135=\"yes\",'Window & Door DATA INPUT'!R141=\"no\"),\"B\",IF(AND(C135=1,H135=\"yes\",'Window & Door DATA INPUT'!R141=\"yes\",'Window & Door DATA INPUT'!S141=\"yes\"),\"C\",IF(AND(C135=1,H135=\"yes\",'Window & Door DATA INPUT'!R141=\"yes\",'Window & Door DATA INPUT'!S141=\"no\"),\"D\",\"\"))))","v":""},{"$f":"IF(AND(C135=1,H135=\"yes\",OR(I135=Parameters!$K$12,I135=Parameters!$K$13,I135=Parameters!$K$14)),\"E\",IF(AND(C135=1,H135=\"yes\",NOT(OR(I135=Parameters!$K$12,I135=Parameters!$K$13,I135=Parameters!$K$14))),\"F\",\"\"))","v":""},{"$f":"IF(AND(B135=1,H135=\"yes\"),VLOOKUP(I135,Parameters!$K$4:$M$16,3,FALSE),\"\")","v":""},{"$f":"IF(AND(OR(O135=\"A\",O135=\"B\",O135=\"d\"),Q135=\"input\"),'Window & Door DATA INPUT'!AA141,IF(AND(O135=\"C\",Q135=\"input\"),'Window & Door DATA INPUT'!W141,Calculations!Q135))","v":""},{"$f":"IF('Window & Door DATA INPUT'!X141=\"Yes\",'Window & Door DATA INPUT'!Y141/1000,IF(B135=1,\"N/A\",\"\"))","v":""},{"$f":"IF(Q135=\"calc\",IF(O135=\"c\",'Window & Door DATA INPUT'!U141/1000,(Parameters!$S$4-'Window & Door DATA INPUT'!Z141+Parameters!$Q$4)/1000),\"\")","v":""},"","","",{"$f":"IF(OR($H135=\"no\",$B135=0),\"\",IF($I135=Parameters!$K$15,$L135/($M135/2),$L135/$M135))","v":""},{"$f":"IF(OR($H135=\"no\",$B135=0),\"\",IF($X135<0.5,Parameters!$X$4,IF($X135<1,Parameters!$Y$4,IF($X135<2,Parameters!$Z$4,Parameters!$AA$4))))","v":""},{"$f":"IF(OR($H135=\"no\",$B135=0),\"\",IF($X135<0.5,Parameters!$X$5,IF($X135<1,Parameters!$Y$5,IF($X135<2,Parameters!$Z$5,Parameters!$AA$5))))","v":""},{"$f":"IF(OR($H135=\"no\",$B135=0),\"\",IF($I135=Parameters!$K$15,(2*($M135/2)*SIN(RADIANS(Calculations!$W135/2))),(2*$M135*SIN(RADIANS($W135/2)))))","v":""},"",{"$f":"IF(OR($H135=\"no\",$B135=0),\"\",IF($I135=Parameters!$K$15,$AB135*$N135/2,$AB135*$N135))","v":""},{"$f":"IF(OR($H135=\"no\",$B135=0),\"\",IF($I135=Parameters!$K$15,$AC135*2/Parameters!$AB$4,$AC135/Parameters!$AB$4))","v":""},{"$f":"IF(AND(O135=\"B\",Q135=\"calc\"),V135,IF(AND(O135=\"C\",Q135=\"calc\"),'Window & Door DATA INPUT'!T141/1000,\"\"))","v":""},{"$f":"IF(AND(O135=\"B\",Q135=\"input\"),'Window & Door DATA INPUT'!AA141,IF(AND(O135=\"C\",Q135=\"input\",P135=\"F\"),'Window & Door DATA INPUT'!V141,IF(AND(O135=\"C\",P135=\"E\"),0,IF(AND(O135=\"D\"),0,IF(AND(B135=1,C135=0),\"\",(Calculations!Q135))))))","v":""},"",{"$f":"IF(OR($H135=\"no\",$C135=0),\"\",IF($I135=Parameters!$K$15,$L135/($M135/2),$L135/$M135))","v":""},{"$f":"IF(OR($H135=\"no\",$C135=0),\"\",IF($AH135<0.5,Parameters!$X$4,IF($AH135<1,Parameters!$Y$4,IF($AH135<2,Parameters!$Z$4,Parameters!$AA$4))))","v":""},{"$f":"IF(OR($H135=\"no\",$C135=0),\"\",IF($AH135<0.5,Parameters!$X$5,IF($AH135<1,Parameters!$Y$5,IF($AH135<2,Parameters!$Z$5,Parameters!$AA$5))))","v":""},{"$f":"IF(OR($H135=\"no\",$C135=0),\"\",IF($I135=Parameters!$K$15,(2*($M135/2)*SIN(RADIANS(Calculations!$AG135/2))),(2*$M135*SIN(RADIANS($AG135/2)))))","v":""},"",{"$f":"IF(OR($H135=\"no\",$C135=0),\"\",IF($I135=Parameters!$K$15,$AL135*$N135/2,$AL135*$N135))","v":""},{"$f":"IF(OR($H135=\"no\",$C135=0),\"\",IF($I135=Parameters!$K$15,$AM135*2/Parameters!$AB$4,$AM135/Parameters!$AB$4))","v":""},{"$nulls":20},{"$f":"'Window & Door DATA INPUT'!H141","v":0},""]
[null,{"$f":"IF('Window & Door DATA INPUT'!B142>1,1,0)","v":0},{"$f":"IF(AND(B136=1,OR(D136=Parameters!$D$17, D136=Parameters!$D$18,D136=Parameters!$D$19,D136=Parameters!$D$20,D136=Parameters!$D$21,D136=Parameters!$D$22, D136=Parameters!$D$23, D136=Parameters!$D$24)),1,0)","v":0},{"$f":"IF('Window & Door DATA INPUT'!B142=\"\",\"\",'Window & Door DATA INPUT'!B142)","v":""},{"$f":"IF('Window & Door DATA INPUT'!D142=\"\",\"\",'Window & Door DATA INPUT'!D142)","v":""},{"$f":"IF(B136=1,'Window & Door DATA INPUT'!H142&RESULTS!$H$5,\"\")","v":""},{"$f":"IF(B136=1,VLOOKUP(F136,Parameters!$H$4:$I$20,2,FALSE),\"\")","v":""},{"$f":"IF(OR('Window & Door DATA INPUT'!J142=Parameters!$K$4,'Window & Door DATA INPUT'!J142=Parameters!$K$11),\"No\",IF('Window & Door DATA INPUT'!K142=\"\",\"\",'Window & Door DATA INPUT'!K142))","v":""},{"$f":"IF('Window & Door DATA INPUT'!J142=\"\",\"\",'Window & Door DATA INPUT'!J142)","v":""},{"$f":"IF('Window & Door DATA INPUT'!L142=Parameters!$O$5,'Window & Door DATA INPUT'!O142,IF(B136=1,('Window & Door DATA INPUT'!N142*'Window & Door DATA INPUT'!M142)/1000000,\"\"))","v":""},{"$f":"IF('Window & Door DATA INPUT'!J142=\"\",\"\",VLOOKUP('Window & Door DATA INPUT'!J142,Parameters!$K$4:$L$16,2,FALSE))","v":""},{"$f":"IF($H136=\"yes\",IF($K136=\"Y\",'Window & Door DATA INPUT'!Q142/1000,IF($K136=\"N\",'Window & Door DATA INPUT'!P142/1000)),\"\")","v":""},{"$f":"IF($H136=\"yes\",IF($K136=\"Y\",'Window & Door DATA INPUT'!P142/1000,IF($K136=\"N\",'Window & Door DATA INPUT'!Q142/1000)),\"\")","v":""},"",{"$f":"IF(AND(B136=1,C136=0,H136=\"yes\"),\"A\",IF(AND(C136=1,H136=\"yes\",'Window & Door DATA INPUT'!R142=\"no\"),\"B\",IF(AND(C136=1,H136=\"yes\",'Window & Door DATA INPUT'!R142=\"yes\",'Window & Door DATA INPUT'!S142=\"yes\"),\"C\",IF(AND(C136=1,H136=\"yes\",'Window & Door DATA INPUT'!R142=\"yes\",'Window & Door DATA INPUT'!S142=\"no\"),\"D\",\"\"))))","v":""},{"$f":"IF(AND(C136=1,H136=\"yes\",OR(I136=Parameters!$K$12,I136=Parameters!$K$13,I136=Parameters!$K$14)),\"E\",IF(AND(C136=1,H136=\"yes\",NOT(OR(I136=Parameters!$K$12,I136=Parameters!$K$13,I136=Parameters!$K$14))),\"F\",\"\"))","v":""},{"$f":"IF(AND(B136=1,H136=\"yes\"),VLOOKUP(I136,Parameters!$K$4:$M$16,3,FALSE),\"\")","v":""},{"$f":"IF(AND(OR(O136=\"A\",O136=\"B\",O136=\"d\"),Q136=\"input\"),'Window & Door DATA INPUT'!AA142,IF(AND(O136=\"C\",Q136=\"input\"),'Window & Door DATA INPUT'!W142,Calculations!Q136))","v":""},{"$f":"IF('Window & Door DATA INPUT'!X142=\"Yes\",'Window & Door DATA INPUT'!Y142/1000,IF(B136=1,\"N/A\",\"\"))","v":""},{"$f":"IF(Q136=\"calc\",IF(O136=\"c\",'Window & Door DATA INPUT'!U142/1000,(Parameters!$S$4-'Window & Door DATA INPUT'!Z142+Parameters!$Q$4)/1000),\"\")","v":""},"","","",{"$f":"IF(OR($H136=\"no\",$B136=0),\"\",IF($I136=Parameters!$K$15,$L136/($M136/2),$L136/$M136))","v":""},{"$f":"IF(OR($H136=\"no\",$B136=0),\"\",IF($X136<0.5,Parameters!$X$4,IF($X136<1,Parameters!$Y$4,IF($X136<2,Parameters!$Z$4,Parameters!$AA$4))))","v":""},{"$f":"IF(OR($H136=\"no\",$B136=0),\"\",IF($X136<0.5,Parameters!$X$5,IF($X136<1,Parameters!$Y$5,IF($X136<2,Parameters!$Z$5,Parameters!$AA$5))))","v":""},{"$f":"IF(OR($H136=\"no\",$B136=0),\"\",IF($I136=Parameters!$K$15,(2*($M136/2)*SIN(RADIANS(Calculations!$W136/2))),(2*$M136*SIN(RADIANS($W136/2)))))","v":""},"",{"$f":"IF(OR($H136=\"no\",$B136=0),\"\",IF($I136=Parameters!$K$15,$AB136*$N136/2,$AB136*$N136))","v":""},{"$f":"IF(OR($H136=\"no\",$B136=0),\"\",IF($I136=Parameters!$K$15,$AC136*2/Parameters!$AB$4,$AC136/Parameters!$AB$4))","v":""},{"$f":"IF(AND(O136=\"B\",Q136=\"calc\"),V136,IF(AND(O136=\"C\",Q136=\"calc\"),'Window & Door DATA INPUT'!T142/1000,\"\"))","v":""},{"$f":"IF(AND(O136=\"B\",Q136=\"input\"),'Window & Door DATA INPUT'!AA142,IF(AND(O136=\"C\",Q136=\"input\",P136=\"F\"),'Window & Door DATA INPUT'!V142,IF(AND(O136=\"C\",P136=\"E\"),0,IF(AND(O136=\"D\"),0,IF(AND(B136=1,C136=0),\"\",(Calculations!Q136))))))","v":""},"",{"$f":"IF(OR($H136=\"no\",$C136=0),\"\",IF($I136=Parameters!$K$15,$L136/($M136/2),$L136/$M136))","v":""},{"$f":"IF(OR($H136=\"no\",$C136=0),\"\",IF($AH136<0.5,Parameters!$X$4,IF($AH136<1,Parameters!$Y$4,IF($AH136<2,Parameters!$Z$4,Parameters!$AA$4))))","v":""},{"$f":"IF(OR($H136=\"no\",$C136=0),\"\",IF($AH136<0.5,Parameters!$X$5,IF($AH136<1,Parameters!$Y$5,IF($AH136<2,Parameters!$Z$5,Parameters!$AA$5))))","v":""},{"$f":"IF(OR($H136=\"no\",$C136=0),\"\",IF($I136=Parameters!$K$15,(2*($M136/2)*SIN(RADIANS(Calculations!$AG136/2))),(2*$M136*SIN(RADIANS($AG136/2)))))","v":""},"",{"$f":"IF(OR($H136=\"no\",$C136=0),\"\",IF($I136=Parameters!$K$15,$AL136*$N136/2,$AL136*$N136))","v":""},{"$f":"IF(OR($H136=\"no\",$C136=0),\"\",IF($I136=Parameters!$K$15,$AM136*2/Parameters!$AB$4,$AM136/Parameters!$AB$4))","v":""},{"$nulls":20},{"$f":"'Window & Door DATA INPUT'!H142","v":0},""]
[null,{"$f":"IF('Window & Door DATA INPUT'!B143>1,1,0)","v":0},{"$f":"IF(AND(B137=1,OR(D137=Parameters!$D$17, D137=Parameters!$D$18,D137=Parameters!$D$19,D137=Parameters!$D$20,D137=Parameters!$D$21,D137=Parameters!$D$22, D137=Parameters!$D$23, D137=Parameters!$D$24)),1,0)","v":0},{"$f":"IF('Window & Door DATA INPUT'!B143=\"\",\"\",'Window & Door DATA INPUT'!B143)","v":""},{"$f":"IF('Window & Door DATA INPUT'!D143=\"\",\"\",'Window & Door DATA INPUT'!D143)","v":""},{"$f":"IF(B137=1,'Window & Door DATA INPUT'!H143&RESULTS!$H$5,\"\")","v":""},{"$f":"IF(B137=1,VLOOKUP(F137,Parameters!$H$4:$I$20,2,FALSE),\"\")","v":""},{"$f":"IF(OR('Window & Door DATA INPUT'!J143=Parameters!$K$4,'Window & Door DATA INPUT'!J143=Parameters!$K$11),\"No\",IF('Window & Door DATA INPUT'!K143=\"\",\"\",'Window & Door DATA INPUT'!K143))","v":""},{"$f":"IF('Window & Door DATA INPUT'!J143=\"\",\"\",'Window & Door DATA INPUT'!J143)","v":""},{"$f":"IF('Window & Door DATA INPUT'!L143=Parameters!$O$5,'Window & Door DATA INPUT'!O143,IF(B137=1,('Window & Door DATA INPUT'!N143*'Window & Door DATA INPUT'!M143)/1000000,\"\"))","v":""},{"$f":"IF('Window & Door DATA INPUT'!J143=\"\",\"\",VLOOKUP('Window & Door DATA INPUT'!J143,Parameters!$K$4:$L$16,2,FALSE))","v":""},{"$f":"IF($H137=\"yes\",IF($K137=\"Y\",'Window & Door DATA INPUT'!Q143/1000,IF($K137=\"N\",'Window & Door DATA INPUT'!P143/1000)),\"\")","v":""},{"$f":"IF($H137=\"yes\",IF($K137=\"Y\",'Window & Door DATA INPUT'!P143/1000,IF($K137=\"N\",'Window & Door DATA INPUT'!Q143/1000)),\"\")","v":""},"",{"$f":"IF(AND(B137=1,C137=0,H137=\"yes\"),\"A\",IF(AND(C137=1,H137=\"yes\",'Window & Door DATA INPUT'!R143=\"no\"),\"B\",IF(AND(C137=1,H137=\"yes\",'Window & Door DATA INPUT'!R143=\"yes\",'Window & Door DATA INPUT'!S143=\"yes\"),\"C\",IF(AND(C137=1,H137=\"yes\",'Window & Door DATA INPUT'!R143=\"yes\",'Window & Door DATA INPUT'!S143=\"no\"),\"D\",\"\"))))","v":""},{"$f":"IF(AND(C137=1,H137=\"yes\",OR(I137=Parameters!$K$12,I137=Parameters!$K$13,I137=Parameters!$K$14)),\"E\",IF(AND(C137=1,H137=\"yes\",NOT(OR(I137=Parameters!$K$12,I137=Parameters!$K$13,I137=Parameters!$K$14))),\"F\",\"\"))","v":""},{"$f":"IF(AND(B137=1,H137=\"yes\"),VLOOKUP(I137,Parameters!$K$4:$M$16,3,FALSE),\"\")","v":""},{"$f":"IF(AND(OR(O137=\"A\",O137=\"B\",O137=\"d\"),Q137=\"input\"),'Window & Door DATA INPUT'!AA143,IF(AND(O137=\"C\",Q137=\"input\"),'Window & Door DATA INPUT'!W143,Calculations!Q137))","v":""},{"$f":"IF('Window & Door DATA INPUT'!X143=\"Yes\",'Window & Door DATA INPUT'!Y143/1000,IF(B137=1,\"N/A\",\"\"))","v":""},{"$f":"IF(Q137=\"calc\",IF(O137=\"c\",'Window & Door DATA INPUT'!U143/1000,(Parameters!$S$4-'Window & Door DATA INPUT'!Z143+Parameters!$Q$4)/1000),\"\")","v":""},"","","",{"$f":"IF(OR($H137=\"no\",$B137=0),\"\",IF($I137=Parameters!$K$15,$L137/($M137/2),$L137/$M137))","v":""},{"$f":"IF(OR($H137=\"no\",$B137=0),\"\",IF($X137<0.5,Parameters!$X$4,IF($X137<1,Parameters!$Y$4,IF($X137<2,Parameters!$Z$4,Parameters!$AA$4))))","v":""},{"$f":"IF(OR($H137=\"no\",$B137=0),\"\",IF($X137<0.5,Parameters!$X$5,IF($X137<1,Parameters!$Y$5,IF($X137<2,Parameters!$Z$5,Parameters!$AA$5))))","v":""},{"$f":"IF(OR($H137=\"no\",$B137=0),\"\",IF($I137=Parameters!$K$15,(2*($M137/2)*SIN(RADIANS(Calculations!$W137/2))),(2*$M137*SIN(RADIANS($W137/2)))))","v":""},"",{"$f":"IF(OR($H137=\"no\",$B137=0),\"\",IF($I137=Parameters!$K$15,$AB137*$N137/2,$AB137*$N137))","v":""},{"$f":"IF(OR($H137=\"no\",$B137=0),\"\",IF($I137=Parameters!$K$15,$AC137*2/Parameters!$AB$4,$AC137/Parameters!$AB$4))","v":""},{"$f":"IF(AND(O137=\"B\",Q137=\"calc\"),V137,IF(AND(O137=\"C\",Q137=\"calc\"),'Window & Door DATA INPUT'!T143/1000,\"\"))","v":""},{"$f":"IF(AND(O137=\"B\",Q137=\"input\"),'Window & Door DATA INPUT'!AA143,IF(AND(O137=\"C\",Q137=\"input\",P137=\"F\"),'Window & Door DATA INPUT'!V143,IF(AND(O137=\"C\",P137=\"E\"),0,IF(AND(O137=\"D\"),0,IF(AND(B137=1,C137=0),\"\",(Calculations!Q137))))))","v":""},"",{"$f":"IF(OR($H137=\"no\",$C137=0),\"\",IF($I137=Parameters!$K$15,$L137/($M137/2),$L137/$M137))","v":""},{"$f":"IF(OR($H137=\"no\",$C137=0),\"\",IF($AH137<0.5,Parameters!$X$4,IF($AH137<1,Parameters!$Y$4,IF($AH137<2,Parameters!$Z$4,Parameters!$AA$4))))","v":""},{"$f":"IF(OR($H137=\"no\",$C137=0),\"\",IF($AH137<0.5,Parameters!$X$5,IF($AH137<1,Parameters!$Y$5,IF($AH137<2,Parameters!$Z$5,Parameters!$AA$5))))","v":""},{"$f":"IF(OR($H137=\"no\",$C137=0),\"\",IF($I137=Parameters!$K$15,(2*($M137/2)*SIN(RADIANS(Calculations!$AG137/2))),(2*$M137*SIN(RADIANS($AG137/2)))))","v":""},"",{"$f":"IF(OR($H137=\"no\",$C137=0),\"\",IF($I137=Parameters!$K$15,$AL137*$N137/2,$AL137*$N137))","v":""},{"$f":"IF(OR($H137=\"no\",$C137=0),\"\",IF($I137=Parameters!$K$15,$AM137*2/Parameters!$AB$4,$AM137/Parameters!$AB$4))","v":""},{"$nulls":20},{"$f":"'Window & Door DATA INPUT'!H143","v":0},""]
[null,{"$f":"IF('Window & Door DATA INPUT'!B144>1,1,0)","v":0},{"$f":"IF(AND(B138=1,OR(D138=Parameters!$D$17, D138=Parameters!$D$18,D138=Parameters!$D$19,D138=Parameters!$D$20,D138=Parameters!$D$21,D138=Parameters!$D$22, D138=Parameters!$D$23, D138=Parameters!$D$24)),1,0)","v":0},{"$f":"IF('Window & Door DATA INPUT'!B144=\"\",\"\",'Window & Door DATA INPUT'!B144)","v":""},{"$f":"IF('Window & Door DATA INPUT'!D144=\"\",\"\",'Window & Door DATA INPUT'!D144)","v":""},{"$f":"IF(B138=1,'Window & Door DATA INPUT'!H144&RESULTS!$H$5,\"\")","v":""},{"$f":"IF(B138=1,VLOOKUP(F138,Parameters!$H$4:$I$20,2,FALSE),\"\")","v":""},{"$f":"IF(OR('Window & Door DATA INPUT'!J144=Parameters!$K$4,'Window & Door DATA INPUT'!J144=Parameters!$K$11),\"No\",IF('Window & Door DATA INPUT'!K144=\"\",\"\",'Window & Door DATA INPUT'!K144))","v":""},{"$f":"IF('Window & Door DATA INPUT'!J144=\"\",\"\",'Window & Door DATA INPUT'!J144)","v":""},{"$f":"IF('Window & Door DATA INPUT'!L144=Parameters!$O$5,'Window & Door DATA INPUT'!O144,IF(B138=1,('Window & Door DATA INPUT'!N144*'Window & Door DATA INPUT'!M144)/1000000,\"\"))","v":""},{"$f":"IF('Window & Door DATA INPUT'!J144=\"\",\"\",VLOOKUP('Window & Door DATA INPUT'!J144,Parameters!$K$4:$L$16,2,FALSE))","v":""},{"$f":"IF($H138=\"yes\",IF($K138=\"Y\",'Window & Door DATA INPUT'!Q144/1000,IF($K138=\"N\",'Window & Door DATA INPUT'!P144/1000)),\"\")","v":""},{"$f":"IF($H138=\"yes\",IF($K138=\"Y\",'Window & Door DATA INPUT'!P144/1000,IF($K138=\"N\",'Window & Door DATA INPUT'!Q144/1000)),\"\")","v":""},"",{"$f":"IF(AND(B138=1,C138=0,H138=\"yes\"),\"A\",IF(AND(C138=1,H138=\"yes\",'Window & Door DATA INPUT'!R144=\"no\"),\"B\",IF(AND(C138=1,H138=\"yes\",'Window & Door DATA INPUT'!R144=\"yes\",'Window & Door DATA INPUT'!S144=\"yes\"),\"C\",IF(AND(C138=1,H138=\"yes\",'Window & Door DATA INPUT'!R144=\"yes\",'Window & Door DATA INPUT'!S144=\"no\"),\"D\",\"\"))))","v":""},{"$f":"IF(AND(C138=1,H138=\"yes\",OR(I138=Parameters!$K$12,I138=Parameters!$K$13,I138=Parameters!$K$14)),\"E\",IF(AND(C138=1,H138=\"yes\",NOT(OR(I138=Parameters!$K$12,I138=Parameters!$K$13,I138=Parameters!$K$14))),\"F\",\"\"))","v":""},{"$f":"IF(AND(B138=1,H138=\"yes\"),VLOOKUP(I138,Parameters!$K$4:$M$16,3,FALSE),\"\")","v":""},{"$f":"IF(AND(OR(O138=\"A\",O138=\"B\",O138=\"d\"),Q138=\"input\"),'Window & Door DATA INPUT'!AA144,IF(AND(O138=\"C\",Q138=\"input\"),'Window & Door DATA INPUT'!W144,Calculations!Q138))","v":""},{"$f":"IF('Window & Door DATA INPUT'!X144=\"Yes\",'Window & Door DATA INPUT'!Y144/1000,IF(B138=1,\"N/A\",\"\"))","v":""},{"$f":"IF(Q138=\"calc\",IF(O138=\"c\",'Window & Door DATA INPUT'!U144/1000,(Parameters!$S$4-'Window & Door DATA INPUT'!Z144+Parameters!$Q$4)/1000),\"\")","v":""},"","","",{"$f":"IF(OR($H138=\"no\",$B138=0),\"\",IF($I138=Parameters!$K$15,$L138/($M138/2),$L138/$M138))","v":""},{"$f":"IF(OR($H138=\"no\",$B138=0),\"\",IF($X138<0.5,Parameters!$X$4,IF($X138<1,Parameters!$Y$4,IF($X138<2,Parameters!$Z$4,Parameters!$AA$4))))","v":""},{"$f":"IF(OR($H138=\"no\",$B138=0),\"\",IF($X138<0.5,Parameters!$X$5,IF($X138<1,Parameters!$Y$5,IF($X138<2,Parameters!$Z$5,Parameters!$AA$5))))","v":""},{"$f":"IF(OR($H138=\"no\",$B138=0),\"\",IF($I138=Parameters!$K$15,(2*($M138/2)*SIN(RADIANS(Calculations!$W138/2))),(2*$M138*SIN(RADIANS($W138/2)))))","v":""},"",{"$f":"IF(OR($H138=\"no\",$B138=0),\"\",IF($I138=Parameters!$K$15,$AB138*$N138/2,$AB138*$N138))","v":""},{"$f":"IF(OR($H138=\"no\",$B138=0),\"\",IF($I138=Parameters!$K$15,$AC138*2/Parameters!$AB$4,$AC138/Parameters!$AB$4))","v":""},{"$f":"IF(AND(O138=\"B\",Q138=\"calc\"),V138,IF(AND(O138=\"C\",Q138=\"calc\"),'Window & Door DATA INPUT'!T144/1000,\"\"))","v":""},{"$f":"IF(AND(O138=\"B\",Q138=\"input\"),'Window & Door DATA INPUT'!AA144,IF(AND(O138=\"C\",Q138=\"input\",P138=\"F\"),'Window & Door DATA INPUT'!V144,IF(AND(O138=\"C\",P138=\"E\"),0,IF(AND(O138=\"D\"),0,IF(AND(B138=1,C138=0),\"\",(Calculations!Q138))))))","v":""},"",{"$f":"IF(OR($H138=\"no\",$C138=0),\"\",IF($I138=Parameters!$K$15,$L138/($M138/2),$L138/$M138))","v":""},{"$f":"IF(OR($H138=\"no\",$C138=0),\"\",IF($AH138<0.5,Parameters!$X$4,IF($AH138<1,Parameters!$Y$4,IF($AH138<2,Parameters!$Z$4,Parameters!$AA$4))))","v":""},{"$f":"IF(OR($H138=\"no\",$C138=0),\"\",IF($AH138<0.5,Parameters!$X$5,IF($AH138<1,Parameters!$Y$5,IF($AH138<2,Parameters!$Z$5,Parameters!$AA$5))))","v":""},{"$f":"IF(OR($H138=\"no\",$C138=0),\"\",IF($I138=Parameters!$K$15,(2*($M138/2)*SIN(RADIANS(Calculations!$AG138/2))),(2*$M138*SIN(RADIANS($AG138/2)))))","v":""},"",{"$f":"IF(OR($H138=\"no\",$C138=0),\"\",IF($I138=Parameters!$K$15,$AL138*$N138/2,$AL138*$N138))","v":""},{"$f":"IF(OR($H138=\"no\",$C138=0),\"\",IF($I138=Parameters!$K$15,$AM138*2/Parameters!$AB$4,$AM138/Parameters!$AB$4))","v":""},{"$nulls":20},{"$f":"'Window & Door DATA INPUT'!H144","v":0},""]
[null,{"$f":"IF('Window & Door DATA INPUT'!B145>1,1,0)","v":0},{"$f":"IF(AND(B139=1,OR(D139=Parameters!$D$17, D139=Parameters!$D$18,D139=Parameters!$D$19,D139=Parameters!$D$20,D139=Parameters!$D$21,D139=Parameters!$D$22, D139=Parameters!$D$23, D139=Parameters!$D$24)),1,0)","v":0},{"$f":"IF('Window & Door DATA INPUT'!B145=\"\",\"\",'Window & Door DATA INPUT'!B145)","v":""},{"$f":"IF('Window & Door DATA INPUT'!D145=\"\",\"\",'Window & Door DATA INPUT'!D145)","v":""},{"$f":"IF(B139=1,'Window & Door DATA INPUT'!H145&RESULTS!$H$5,\"\")","v":""},{"$f":"IF(B139=1,VLOOKUP(F139,Parameters!$H$4:$I$20,2,FALSE),\"\")","v":""},{"$f":"IF(OR('Window & Door DATA INPUT'!J145=Parameters!$K$4,'Window & Door DATA INPUT'!J145=Parameters!$K$11),\"No\",IF('Window & Door DATA INPUT'!K145=\"\",\"\",'Window & Door DATA INPUT'!K145))","v":""},{"$f":"IF('Window & Door DATA INPUT'!J145=\"\",\"\",'Window & Door DATA INPUT'!J145)","v":""},{"$f":"IF('Window & Door DATA INPUT'!L145=Parameters!$O$5,'Window & Door DATA INPUT'!O145,IF(B139=1,('Window & Door DATA INPUT'!N145*'Window & Door DATA INPUT'!M145)/1000000,\"\"))","v":""},{"$f":"IF('Window & Door DATA INPUT'!J145=\"\",\"\",VLOOKUP('Window & Door DATA INPUT'!J145,Parameters!$K$4:$L$16,2,FALSE))","v":""},{"$f":"IF($H139=\"yes\",IF($K139=\"Y\",'Window & Door DATA INPUT'!Q145/1000,IF($K139=\"N\",'Window & Door DATA INPUT'!P145/1000)),\"\")","v":""},{"$f":"IF($H139=\"yes\",IF($K139=\"Y\",'Window & Door DATA INPUT'!P145/1000,IF($K139=\"N\",'Window & Door DATA INPUT'!Q145/1000)),\"\")","v":""},"",{"$f":"IF(AND(B139=1,C139=0,H139=\"yes\"),\"A\",IF(AND(C139=1,H139=\"yes\",'Window & Door DATA INPUT'!R145=\"no\"),\"B\",IF(AND(C139=1,H139=\"yes\",'Window & Door DATA INPUT'!R145=\"yes\",'Window & Door DATA INPUT'!S145=\"yes\"),\"C\",IF(AND(C139=1,H139=\"yes\",'Window & Door DATA INPUT'!R145=\"yes\",'Window & Door DATA INPUT'!S145=\"no\"),\"D\",\"\"))))","v":""},{"$f":"IF(AND(C139=1,H139=\"yes\",OR(I139=Parameters!$K$12,I139=Parameters!$K$13,I139=Parameters!$K$14)),\"E\",IF(AND(C139=1,H139=\"yes\",NOT(OR(I139=Parameters!$K$12,I139=Parameters!$K$13,I139=Parameters!$K$14))),\"F\",\"\"))","v":""},{"$f":"IF(AND(B139=1,H139=\"yes\"),VLOOKUP(I139,Parameters!$K$4:$M$16,3,FALSE),\"\")","v":""},{"$f":"IF(AND(OR(O139=\"A\",O139=\"B\",O139=\"d\"),Q139=\"input\"),'Window & Door DATA INPUT'!AA145,IF(AND(O139=\"C\",Q139=\"input\"),'Window & Door DATA INPUT'!W145,Calculations!Q139))","v":""},{"$f":"IF('Window & Door DATA INPUT'!X145=\"Yes\",'Window & Door DATA INPUT'!Y145/1000,IF(B139=1,\"N/A\",\"\"))","v":""},{"$f":"IF(Q139=\"calc\",IF(O139=\"c\",'Window & Door DATA INPUT'!U145/1000,(Parameters!$S$4-'Window & Door DATA INPUT'!Z145+Parameters!$Q$4)/1000),\"\")","v":""},"","","",{"$f":"IF(OR($H139=\"no\",$B139=0),\"\",IF($I139=Parameters!$K$15,$L139/($M139/2),$L139/$M139))","v":""},{"$f":"IF(OR($H139=\"no\",$B139=0),\"\",IF($X139<0.5,Parameters!$X$4,IF($X139<1,Parameters!$Y$4,IF($X139<2,Parameters!$Z$4,Parameters!$AA$4))))","v":""},{"$f":"IF(OR($H139=\"no\",$B139=0),\"\",IF($X139<0.5,Parameters!$X$5,IF($X139<1,Parameters!$Y$5,IF($X139<2,Parameters!$Z$5,Parameters!$AA$5))))","v":""},{"$f":"IF(OR($H139=\"no\",$B139=0),\"\",IF($I139=Parameters!$K$15,(2*($M139/2)*SIN(RADIANS(Calculations!$W139/2))),(2*$M139*SIN(RADIANS($W139/2)))))","v":""},"",{"$f":"IF(OR($H139=\"no\",$B139=0),\"\",IF($I139=Parameters!$K$15,$AB139*$N139/2,$AB139*$N139))","v":""},{"$f":"IF(OR($H139=\"no\",$B139=0),\"\",IF($I139=Parameters!$K$15,$AC139*2/Parameters!$AB$4,$AC139/Parameters!$AB$4))","v":""},{"$f":"IF(AND(O139=\"B\",Q139=\"calc\"),V139,IF(AND(O139=\"C\",Q139=\"calc\"),'Window & Door DATA INPUT'!T145/1000,\"\"))","v":""},{"$f":"IF(AND(O139=\"B\",Q139=\"input\"),'Window & Door DATA INPUT'!AA145,IF(AND(O139=\"C\",Q139=\"input\",P139=\"F\"),'Window & Door DATA INPUT'!V145,IF(AND(O139=\"C\",P139=\"E\"),0,IF(AND(O139=\"D\"),0,IF(AND(B139=1,C139=0),\"\",(Calculations!Q139))))))","v":""},"",{"$f":"IF(OR($H139=\"no\",$C139=0),\"\",IF($I139=Parameters!$K$15,$L139/($M139/2),$L139/$M139))","v":""},{"$f":"IF(OR($H139=\"no\",$C139=0),\"\",IF($AH139<0.5,Parameters!$X$4,IF($AH139<1,Parameters!$Y$4,IF($AH139<2,Parameters!$Z$4,Parameters!$AA$4))))","v":""},{"$f":"IF(OR($H139=\"no\",$C139=0),\"\",IF($AH139<0.5,Parameters!$X$5,IF($AH139<1,Parameters!$Y$5,IF($AH139<2,Parameters!$Z$5,Parameters!$AA$5))))","v":""},{"$f":"IF(OR($H139=\"no\",$C139=0),\"\",IF($I139=Parameters!$K$15,(2*($M139/2)*SIN(RADIANS(Calculations!$AG139/2))),(2*$M139*SIN(RADIANS($AG139/2)))))","v":""},"",{"$f":"IF(OR($H139=\"no\",$C139=0),\"\",IF($I139=Parameters!$K$15,$AL139*$N139/2,$AL139*$N139))","v":""},{"$f":"IF(OR($H139=\"no\",$C139=0),\"\",IF($I139=Parameters!$K$15,$AM139*2/Parameters!$AB$4,$AM139/Parameters!$AB$4))","v":""},{"$nulls":20},{"$f":"'Window & Door DATA INPUT'!H145","v":0},""]
[null,{"$f":"IF('Window & Door DATA INPUT'!B146>1,1,0)","v":0},{"$f":"IF(AND(B140=1,OR(D140=Parameters!$D$17, D140=Parameters!$D$18,D140=Parameters!$D$19,D140=Parameters!$D$20,D140=Parameters!$D$21,D140=Parameters!$D$22, D140=Parameters!$D$23, D140=Parameters!$D$24)),1,0)","v":0},{"$f":"IF('Window & Door DATA INPUT'!B146=\"\",\"\",'Window & Door DATA INPUT'!B146)","v":""},{"$f":"IF('Window & Door DATA INPUT'!D146=\"\",\"\",'Window & Door DATA INPUT'!D146)","v":""},{"$f":"IF(B140=1,'Window & Door DATA INPUT'!H146&RESULTS!$H$5,\"\")","v":""},{"$f":"IF(B140=1,VLOOKUP(F140,Parameters!$H$4:$I$20,2,FALSE),\"\")","v":""},{"$f":"IF(OR('Window & Door DATA INPUT'!J146=Parameters!$K$4,'Window & Door DATA INPUT'!J146=Parameters!$K$11),\"No\",IF('Window & Door DATA INPUT'!K146=\"\",\"\",'Window & Door DATA INPUT'!K146))","v":""},{"$f":"IF('Window & Door DATA INPUT'!J146=\"\",\"\",'Window & Door DATA INPUT'!J146)","v":""},{"$f":"IF('Window & Door DATA INPUT'!L146=Parameters!$O$5,'Window & Door DATA INPUT'!O146,IF(B140=1,('Window & Door DATA INPUT'!N146*'Window & Door DATA INPUT'!M146)/1000000,\"\"))","v":""},{"$f":"IF('Window & Door DATA INPUT'!J146=\"\",\"\",VLOOKUP('Window & Door DATA INPUT'!J146,Parameters!$K$4:$L$16,2,FALSE))","v":""},{"$f":"IF($H140=\"yes\",IF($K140=\"Y\",'Window & Door DATA INPUT'!Q146/1000,IF($K140=\"N\",'Window & Door DATA INPUT'!P146/1000)),\"\")","v":""},{"$f":"IF($H140=\"yes\",IF($K140=\"Y\",'Window & Door DATA INPUT'!P146/1000,IF($K140=\"N\",'Window & Door DATA INPUT'!Q146/1000)),\"\")","v":""},"",{"$f":"IF(AND(B140=1,C140=0,H140=\"yes\"),\"A\",IF(AND(C140=1,H140=\"yes\",'Window & Door DATA INPUT'!R146=\"no\"),\"B\",IF(AND(C140=1,H140=\"yes\",'Window & Door DATA INPUT'!R146=\"yes\",'Window & Door DATA INPUT'!S146=\"yes\"),\"C\",IF(AND(C140=1,H140=\"yes\",'Window & Door DATA INPUT'!R146=\"yes\",'Window & Door DATA INPUT'!S146=\"no\"),\"D\",\"\"))))","v":""},{"$f":"IF(AND(C140=1,H140=\"yes\",OR(I140=Parameters!$K$12,I140=Parameters!$K$13,I140=Parameters!$K$14)),\"E\",IF(AND(C140=1,H140=\"yes\",NOT(OR(I140=Parameters!$K$12,I140=Parameters!$K$13,I140=Parameters!$K$14))),\"F\",\"\"))","v":""},{"$f":"IF(AND(B140=1,H140=\"yes\"),VLOOKUP(I140,Parameters!$K$4:$M$16,3,FALSE),\"\")","v":""},{"$f":"IF(AND(OR(O140=\"A\",O140=\"B\",O140=\"d\"),Q140=\"input\"),'Window & Door DATA INPUT'!AA146,IF(AND(O140=\"C\",Q140=\"input\"),'Window & Door DATA INPUT'!W146,Calculations!Q140))","v":""},{"$f":"IF('Window & Door DATA INPUT'!X146=\"Yes\",'Window & Door DATA INPUT'!Y146/1000,IF(B140=1,\"N/A\",\"\"))","v":""},{"$f":"IF(Q140=\"calc\",IF(O140=\"c\",'Window & Door DATA INPUT'!U146/1000,(Parameters!$S$4-'Window & Door DATA INPUT'!Z146+Parameters!$Q$4)/1000),\"\")","v":""},"","","",{"$f":"IF(OR($H140=\"no\",$B140=0),\"\",IF($I140=Parameters!$K$15,$L140/($M140/2),$L140/$M140))","v":""},{"$f":"IF(OR($H140=\"no\",$B140=0),\"\",IF($X140<0.5,Parameters!$X$4,IF($X140<1,Parameters!$Y$4,IF($X140<2,Parameters!$Z$4,Parameters!$AA$4))))","v":""},{"$f":"IF(OR($H140=\"no\",$B140=0),\"\",IF($X140<0.5,Parameters!$X$5,IF($X140<1,Parameters!$Y$5,IF($X140<2,Parameters!$Z$5,Parameters!$AA$5))))","v":""},{"$f":"IF(OR($H140=\"no\",$B140=0),\"\",IF($I140=Parameters!$K$15,(2*($M140/2)*SIN(RADIANS(Calculations!$W140/2))),(2*$M140*SIN(RADIANS($W140/2)))))","v":""},"",{"$f":"IF(OR($H140=\"no\",$B140=0),\"\",IF($I140=Parameters!$K$15,$AB140*$N140/2,$AB140*$N140))","v":""},{"$f":"IF(OR($H140=\"no\",$B140=0),\"\",IF($I140=Parameters!$K$15,$AC140*2/Parameters!$AB$4,$AC140/Parameters!$AB$4))","v":""},{"$f":"IF(AND(O140=\"B\",Q140=\"calc\"),V140,IF(AND(O140=\"C\",Q140=\"calc\"),'Window & Door DATA INPUT'!T146/1000,\"\"))","v":""},{"$f":"IF(AND(O140=\"B\",Q140=\"input\"),'Window & Door DATA INPUT'!AA146,IF(AND(O140=\"C\",Q140=\"input\",P140=\"F\"),'Window & Door DATA INPUT'!V146,IF(AND(O140=\"C\",P140=\"E\"),0,IF(AND(O140=\"D\"),0,IF(AND(B140=1,C140=0),\"\",(Calculations!Q140))))))","v":""},"",{"$f":"IF(OR($H140=\"no\",$C140=0),\"\",IF($I140=Parameters!$K$15,$L140/($M140/2),$L140/$M140))","v":""},{"$f":"IF(OR($H140=\"no\",$C140=0),\"\",IF($AH140<0.5,Parameters!$X$4,IF($AH140<1,Parameters!$Y$4,IF($AH140<2,Parameters!$Z$4,Parameters!$AA$4))))","v":""},{"$f":"IF(OR($H140=\"no\",$C140=0),\"\",IF($AH140<0.5,Parameters!$X$5,IF($AH140<1,Parameters!$Y$5,IF($AH140<2,Parameters!$Z$5,Parameters!$AA$5))))","v":""},{"$f":"IF(OR($H140=\"no\",$C140=0),\"\",IF($I140=Parameters!$K$15,(2*($M140/2)*SIN(RADIANS(Calculations!$AG140/2))),(2*$M140*SIN(RADIANS($AG140/2)))))","v":""},"",{"$f":"IF(OR($H140=\"no\",$C140=0),\"\",IF($I140=Parameters!$K$15,$AL140*$N140/2,$AL140*$N140))","v":""},{"$f":"IF(OR($H140=\"no\",$C140=0),\"\",IF($I140=Parameters!$K$15,$AM140*2/Parameters!$AB$4,$AM140/Parameters!$AB$4))","v":""},{"$nulls":20},{"$f":"'Window & Door DATA INPUT'!H146","v":0},""]
[null,{"$f":"IF('Window & Door DATA INPUT'!B147>1,1,0)","v":0},{"$f":"IF(AND(B141=1,OR(D141=Parameters!$D$17, D141=Parameters!$D$18,D141=Parameters!$D$19,D141=Parameters!$D$20,D141=Parameters!$D$21,D141=Parameters!$D$22, D141=Parameters!$D$23, D141=Parameters!$D$24)),1,0)","v":0},{"$f":"IF('Window & Door DATA INPUT'!B147=\"\",\"\",'Window & Door DATA INPUT'!B147)","v":""},{"$f":"IF('Window & Door DATA INPUT'!D147=\"\",\"\",'Window & Door DATA INPUT'!D147)","v":""},{"$f":"IF(B141=1,'Window & Door DATA INPUT'!H147&RESULTS!$H$5,\"\")","v":""},{"$f":"IF(B141=1,VLOOKUP(F141,Parameters!$H$4:$I$20,2,FALSE),\"\")","v":""},{"$f":"IF(OR('Window & Door DATA INPUT'!J147=Parameters!$K$4,'Window & Door DATA INPUT'!J147=Parameters!$K$11),\"No\",IF('Window & Door DATA INPUT'!K147=\"\",\"\",'Window & Door DATA INPUT'!K147))","v":""},{"$f":"IF('Window & Door DATA INPUT'!J147=\"\",\"\",'Window & Door DATA INPUT'!J147)","v":""},{"$f":"IF('Window & Door DATA INPUT'!L147=Parameters!$O$5,'Window & Door DATA INPUT'!O147,IF(B141=1,('Window & Door DATA INPUT'!N147*'Window & Door DATA INPUT'!M147)/1000000,\"\"))","v":""},{"$f":"IF('Window & Door DATA INPUT'!J147=\"\",\"\",VLOOKUP('Window & Door DATA INPUT'!J147,Parameters!$K$4:$L$16,2,FALSE))","v":""},{"$f":"IF($H141=\"yes\",IF($K141=\"Y\",'Window & Door DATA INPUT'!Q147/1000,IF($K141=\"N\",'Window & Door DATA INPUT'!P147/1000)),\"\")","v":""},{"$f":"IF($H141=\"yes\",IF($K141=\"Y\",'Window & Door DATA INPUT'!P147/1000,IF($K141=\"N\",'Window & Door DATA INPUT'!Q147/1000)),\"\")","v":""},"",{"$f":"IF(AND(B141=1,C141=0,H141=\"yes\"),\"A\",IF(AND(C141=1,H141=\"yes\",'Window & Door DATA INPUT'!R147=\"no\"),\"B\",IF(AND(C141=1,H141=\"yes\",'Window & Door DATA INPUT'!R147=\"yes\",'Window & Door DATA INPUT'!S147=\"yes\"),\"C\",IF(AND(C141=1,H141=\"yes\",'Window & Door DATA INPUT'!R147=\"yes\",'Window & Door DATA INPUT'!S147=\"no\"),\"D\",\"\"))))","v":""},{"$f":"IF(AND(C141=1,H141=\"yes\",OR(I141=Parameters!$K$12,I141=Parameters!$K$13,I141=Parameters!$K$14)),\"E\",IF(AND(C141=1,H141=\"yes\",NOT(OR(I141=Parameters!$K$12,I141=Parameters!$K$13,I141=Parameters!$K$14))),\"F\",\"\"))","v":""},{"$f":"IF(AND(B141=1,H141=\"yes\"),VLOOKUP(I141,Parameters!$K$4:$M$16,3,FALSE),\"\")","v":""},{"$f":"IF(AND(OR(O141=\"A\",O141=\"B\",O141=\"d\"),Q141=\"input\"),'Window & Door DATA INPUT'!AA147,IF(AND(O141=\"C\",Q141=\"input\"),'Window & Door DATA INPUT'!W147,Calculations!Q141))","v":""},{"$f":"IF('Window & Door DATA INPUT'!X147=\"Yes\",'Window & Door DATA INPUT'!Y147/1000,IF(B141=1,\"N/A\",\"\"))","v":""},{"$f":"IF(Q141=\"calc\",IF(O141=\"c\",'Window & Door DATA INPUT'!U147/1000,(Parameters!$S$4-'Window & Door DATA INPUT'!Z147+Parameters!$Q$4)/1000),\"\")","v":""},"","","",{"$f":"IF(OR($H141=\"no\",$B141=0),\"\",IF($I141=Parameters!$K$15,$L141/($M141/2),$L141/$M141))","v":""},{"$f":"IF(OR($H141=\"no\",$B141=0),\"\",IF($X141<0.5,Parameters!$X$4,IF($X141<1,Parameters!$Y$4,IF($X141<2,Parameters!$Z$4,Parameters!$AA$4))))","v":""},{"$f":"IF(OR($H141=\"no\",$B141=0),\"\",IF($X141<0.5,Parameters!$X$5,IF($X141<1,Parameters!$Y$5,IF($X141<2,Parameters!$Z$5,Parameters!$AA$5))))","v":""},{"$f":"IF(OR($H141=\"no\",$B141=0),\"\",IF($I141=Parameters!$K$15,(2*($M141/2)*SIN(RADIANS(Calculations!$W141/2))),(2*$M141*SIN(RADIANS($W141/2)))))","v":""},"",{"$f":"IF(OR($H141=\"no\",$B141=0),\"\",IF($I141=Parameters!$K$15,$AB141*$N141/2,$AB141*$N141))","v":""},{"$f":"IF(OR($H141=\"no\",$B141=0),\"\",IF($I141=Parameters!$K$15,$AC141*2/Parameters!$AB$4,$AC141/Parameters!$AB$4))","v":""},{"$f":"IF(AND(O141=\"B\",Q141=\"calc\"),V141,IF(AND(O141=\"C\",Q141=\"calc\"),'Window & Door DATA INPUT'!T147/1000,\"\"))","v":""},{"$f":"IF(AND(O141=\"B\",Q141=\"input\"),'Window & Door DATA INPUT'!AA147,IF(AND(O141=\"C\",Q141=\"input\",P141=\"F\"),'Window & Door DATA INPUT'!V147,IF(AND(O141=\"C\",P141=\"E\"),0,IF(AND(O141=\"D\"),0,IF(AND(B141=1,C141=0),\"\",(Calculations!Q141))))))","v":""},"",{"$f":"IF(OR($H141=\"no\",$C141=0),\"\",IF($I141=Parameters!$K$15,$L141/($M141/2),$L141/$M141))","v":""},{"$f":"IF(OR($H141=\"no\",$C141=0),\"\",IF($AH141<0.5,Parameters!$X$4,IF($AH141<1,Parameters!$Y$4,IF($AH141<2,Parameters!$Z$4,Parameters!$AA$4))))","v":""},{"$f":"IF(OR($H141=\"no\",$C141=0),\"\",IF($AH141<0.5,Parameters!$X$5,IF($AH141<1,Parameters!$Y$5,IF($AH141<2,Parameters!$Z$5,Parameters!$AA$5))))","v":""},{"$f":"IF(OR($H141=\"no\",$C141=0),\"\",IF($I141=Parameters!$K$15,(2*($M141/2)*SIN(RADIANS(Calculations!$AG141/2))),(2*$M141*SIN(RADIANS($AG141/2)))))","v":""},"",{"$f":"IF(OR($H141=\"no\",$C141=0),\"\",IF($I141=Parameters!$K$15,$AL141*$N141/2,$AL141*$N141))","v":""},{"$f":"IF(OR($H141=\"no\",$C141=0),\"\",IF($I141=Parameters!$K$15,$AM141*2/Parameters!$AB$4,$AM141/Parameters!$AB$4))","v":""},{"$nulls":20},{"$f":"'Window & Door DATA INPUT'!H147","v":0},""]
[null,{"$f":"IF('Window & Door DATA INPUT'!B148>1,1,0)","v":0},{"$f":"IF(AND(B142=1,OR(D142=Parameters!$D$17, D142=Parameters!$D$18,D142=Parameters!$D$19,D142=Parameters!$D$20,D142=Parameters!$D$21,D142=Parameters!$D$22, D142=Parameters!$D$23, D142=Parameters!$D$24)),1,0)","v":0},{"$f":"IF('Window & Door DATA INPUT'!B148=\"\",\"\",'Window & Door DATA INPUT'!B148)","v":""},{"$f":"IF('Window & Door DATA INPUT'!D148=\"\",\"\",'Window & Door DATA INPUT'!D148)","v":""},{"$f":"IF(B142=1,'Window & Door DATA INPUT'!H148&RESULTS!$H$5,\"\")","v":""},{"$f":"IF(B142=1,VLOOKUP(F142,Parameters!$H$4:$I$20,2,FALSE),\"\")","v":""},{"$f":"IF(OR('Window & Door DATA INPUT'!J148=Parameters!$K$4,'Window & Door DATA INPUT'!J148=Parameters!$K$11),\"No\",IF('Window & Door DATA INPUT'!K148=\"\",\"\",'Window & Door DATA INPUT'!K148))","v":""},{"$f":"IF('Window & Door DATA INPUT'!J148=\"\",\"\",'Window & Door DATA INPUT'!J148)","v":""},{"$f":"IF('Window & Door DATA INPUT'!L148=Parameters!$O$5,'Window & Door DATA INPUT'!O148,IF(B142=1,('Window & Door DATA INPUT'!N148*'Window & Door DATA INPUT'!M148)/1000000,\"\"))","v":""},{"$f":"IF('Window & Door DATA INPUT'!J148=\"\",\"\",VLOOKUP('Window & Door DATA INPUT'!J148,Parameters!$K$4:$L$16,2,FALSE))","v":""},{"$f":"IF($H142=\"yes\",IF($K142=\"Y\",'Window & Door DATA INPUT'!Q148/1000,IF($K142=\"N\",'Window & Door DATA INPUT'!P148/1000)),\"\")","v":""},{"$f":"IF($H142=\"yes\",IF($K142=\"Y\",'Window & Door DATA INPUT'!P148/1000,IF($K142=\"N\",'Window & Door DATA INPUT'!Q148/1000)),\"\")","v":""},"",{"$f":"IF(AND(B142=1,C142=0,H142=\"yes\"),\"A\",IF(AND(C142=1,H142=\"yes\",'Window & Door DATA INPUT'!R148=\"no\"),\"B\",IF(AND(C142=1,H142=\"yes\",'Window & Door DATA INPUT'!R148=\"yes\",'Window & Door DATA INPUT'!S148=\"yes\"),\"C\",IF(AND(C142=1,H142=\"yes\",'Window & Door DATA INPUT'!R148=\"yes\",'Window & Door DATA INPUT'!S148=\"no\"),\"D\",\"\"))))","v":""},{"$f":"IF(AND(C142=1,H142=\"yes\",OR(I142=Parameters!$K$12,I142=Parameters!$K$13,I142=Parameters!$K$14)),\"E\",IF(AND(C142=1,H142=\"yes\",NOT(OR(I142=Parameters!$K$12,I142=Parameters!$K$13,I142=Parameters!$K$14))),\"F\",\"\"))","v":""},{"$f":"IF(AND(B142=1,H142=\"yes\"),VLOOKUP(I142,Parameters!$K$4:$M$16,3,FALSE),\"\")","v":""},{"$f":"IF(AND(OR(O142=\"A\",O142=\"B\",O142=\"d\"),Q142=\"input\"),'Window & Door DATA INPUT'!AA148,IF(AND(O142=\"C\",Q142=\"input\"),'Window & Door DATA INPUT'!W148,Calculations!Q142))","v":""},{"$f":"IF('Window & Door DATA INPUT'!X148=\"Yes\",'Window & Door DATA INPUT'!Y148/1000,IF(B142=1,\"N/A\",\"\"))","v":""},{"$f":"IF(Q142=\"calc\",IF(O142=\"c\",'Window & Door DATA INPUT'!U148/1000,(Parameters!$S$4-'Window & Door DATA INPUT'!Z148+Parameters!$Q$4)/1000),\"\")","v":""},"","","",{"$f":"IF(OR($H142=\"no\",$B142=0),\"\",IF($I142=Parameters!$K$15,$L142/($M142/2),$L142/$M142))","v":""},{"$f":"IF(OR($H142=\"no\",$B142=0),\"\",IF($X142<0.5,Parameters!$X$4,IF($X142<1,Parameters!$Y$4,IF($X142<2,Parameters!$Z$4,Parameters!$AA$4))))","v":""},{"$f":"IF(OR($H142=\"no\",$B142=0),\"\",IF($X142<0.5,Parameters!$X$5,IF($X142<1,Parameters!$Y$5,IF($X142<2,Parameters!$Z$5,Parameters!$AA$5))))","v":""},{"$f":"IF(OR($H142=\"no\",$B142=0),\"\",IF($I142=Parameters!$K$15,(2*($M142/2)*SIN(RADIANS(Calculations!$W142/2))),(2*$M142*SIN(RADIANS($W142/2)))))","v":""},"",{"$f":"IF(OR($H142=\"no\",$B142=0),\"\",IF($I142=Parameters!$K$15,$AB142*$N142/2,$AB142*$N142))","v":""},{"$f":"IF(OR($H142=\"no\",$B142=0),\"\",IF($I142=Parameters!$K$15,$AC142*2/Parameters!$AB$4,$AC142/Parameters!$AB$4))","v":""},{"$f":"IF(AND(O142=\"B\",Q142=\"calc\"),V142,IF(AND(O142=\"C\",Q142=\"calc\"),'Window & Door DATA INPUT'!T148/1000,\"\"))","v":""},{"$f":"IF(AND(O142=\"B\",Q142=\"input\"),'Window & Door DATA INPUT'!AA148,IF(AND(O142=\"C\",Q142=\"input\",P142=\"F\"),'Window & Door DATA INPUT'!V148,IF(AND(O142=\"C\",P142=\"E\"),0,IF(AND(O142=\"D\"),0,IF(AND(B142=1,C142=0),\"\",(Calculations!Q142))))))","v":""},"",{"$f":"IF(OR($H142=\"no\",$C142=0),\"\",IF($I142=Parameters!$K$15,$L142/($M142/2),$L142/$M142))","v":""},{"$f":"IF(OR($H142=\"no\",$C142=0),\"\",IF($AH142<0.5,Parameters!$X$4,IF($AH142<1,Parameters!$Y$4,IF($AH142<2,Parameters!$Z$4,Parameters!$AA$4))))","v":""},{"$f":"IF(OR($H142=\"no\",$C142=0),\"\",IF($AH142<0.5,Parameters!$X$5,IF($AH142<1,Parameters!$Y$5,IF($AH142<2,Parameters!$Z$5,Parameters!$AA$5))))","v":""},{"$f":"IF(OR($H142=\"no\",$C142=0),\"\",IF($I142=Parameters!$K$15,(2*($M142/2)*SIN(RADIANS(Calculations!$AG142/2))),(2*$M142*SIN(RADIANS($AG142/2)))))","v":""},"",{"$f":"IF(OR($H142=\"no\",$C142=0),\"\",IF($I142=Parameters!$K$15,$AL142*$N142/2,$AL142*$N142))","v":""},{"$f":"IF(OR($H142=\"no\",$C142=0),\"\",IF($I142=Parameters!$K$15,$AM142*2/Parameters!$AB$4,$AM142/Parameters!$AB$4))","v":""},{"$nulls":20},{"$f":"'Window & Door DATA INPUT'!H148","v":0},""]
[null,{"$f":"IF('Window & Door DATA INPUT'!B149>1,1,0)","v":0},{"$f":"IF(AND(B143=1,OR(D143=Parameters!$D$17, D143=Parameters!$D$18,D143=Parameters!$D$19,D143=Parameters!$D$20,D143=Parameters!$D$21,D143=Parameters!$D$22, D143=Parameters!$D$23, D143=Parameters!$D$24)),1,0)","v":0},{"$f":"IF('Window & Door DATA INPUT'!B149=\"\",\"\",'Window & Door DATA INPUT'!B149)","v":""},{"$f":"IF('Window & Door DATA INPUT'!D149=\"\",\"\",'Window & Door DATA INPUT'!D149)","v":""},{"$f":"IF(B143=1,'Window & Door DATA INPUT'!H149&RESULTS!$H$5,\"\")","v":""},{"$f":"IF(B143=1,VLOOKUP(F143,Parameters!$H$4:$I$20,2,FALSE),\"\")","v":""},{"$f":"IF(OR('Window & Door DATA INPUT'!J149=Parameters!$K$4,'Window & Door DATA INPUT'!J149=Parameters!$K$11),\"No\",IF('Window & Door DATA INPUT'!K149=\"\",\"\",'Window & Door DATA INPUT'!K149))","v":""},{"$f":"IF('Window & Door DATA INPUT'!J149=\"\",\"\",'Window & Door DATA INPUT'!J149)","v":""},{"$f":"IF('Window & Door DATA INPUT'!L149=Parameters!$O$5,'Window & Door DATA INPUT'!O149,IF(B143=1,('Window & Door DATA INPUT'!N149*'Window & Door DATA INPUT'!M149)/1000000,\"\"))","v":""},{"$f":"IF('Window & Door DATA INPUT'!J149=\"\",\"\",VLOOKUP('Window & Door DATA INPUT'!J149,Parameters!$K$4:$L$16,2,FALSE))","v":""},{"$f":"IF($H143=\"yes\",IF($K143=\"Y\",'Window & Door DATA INPUT'!Q149/1000,IF($K143=\"N\",'Window & Door DATA INPUT'!P149/1000)),\"\")","v":""},{"$f":"IF($H143=\"yes\",IF($K143=\"Y\",'Window & Door DATA INPUT'!P149/1000,IF($K143=\"N\",'Window & Door DATA INPUT'!Q149/1000)),\"\")","v":""},{"$f":"IF(L143=\"\",\"\",L143*M143)","v":""},{"$f":"IF(AND(B143=1,C143=0,H143=\"yes\"),\"A\",IF(AND(C143=1,H143=\"yes\",'Window & Door DATA INPUT'!R149=\"no\"),\"B\",IF(AND(C143=1,H143=\"yes\",'Window & Door DATA INPUT'!R149=\"yes\",'Window & Door DATA INPUT'!S149=\"yes\"),\"C\",IF(AND(C143=1,H143=\"yes\",'Window & Door DATA INPUT'!R149=\"yes\",'Window & Door DATA INPUT'!S149=\"no\"),\"D\",\"\"))))","v":""},{"$f":"IF(AND(C143=1,H143=\"yes\",OR(I143=Parameters!$K$12,I143=Parameters!$K$13,I143=Parameters!$K$14)),\"E\",IF(AND(C143=1,H143=\"yes\",NOT(OR(I143=Parameters!$K$12,I143=Parameters!$K$13,I143=Parameters!$K$14))),\"F\",\"\"))","v":""},{"$f":"IF(AND(B143=1,H143=\"yes\"),VLOOKUP(I143,Parameters!$K$4:$M$16,3,FALSE),\"\")","v":""},{"$f":"IF(AND(OR(O143=\"A\",O143=\"B\",O143=\"d\"),Q143=\"input\"),'Window & Door DATA INPUT'!AA149,IF(AND(O143=\"C\",Q143=\"input\"),'Window & Door DATA INPUT'!W149,Calculations!Q143))","v":""},{"$f":"IF('Window & Door DATA INPUT'!X149=\"Yes\",'Window & Door DATA INPUT'!Y149/1000,IF(B143=1,\"N/A\",\"\"))","v":""},{"$f":"IF(Q143=\"calc\",IF(O143=\"c\",'Window & Door DATA INPUT'!U149/1000,(Parameters!$S$4-'Window & Door DATA INPUT'!Z149+Parameters!$Q$4)/1000),\"\")","v":""},{"$f":"IF(Q143=\"calc\",IF(T143>M143,M143,T143),\"\")","v":""},{"$f":"IF(AND(S143>0,S143<U143),S143,U143)","v":""},{"$f":"IF(R143=\"calc\",DEGREES(ASIN(V143/M143)),R143)","v":""},{"$f":"IF(OR($H143=\"no\",$B143=0),\"\",IF($I143=Parameters!$K$15,$L143/($M143/2),$L143/$M143))","v":""},{"$f":"IF(OR($H143=\"no\",$B143=0),\"\",IF($X143<0.5,Parameters!$X$4,IF($X143<1,Parameters!$Y$4,IF($X143<2,Parameters!$Z$4,Parameters!$AA$4))))","v":""},{"$f":"IF(OR($H143=\"no\",$B143=0),\"\",IF($X143<0.5,Parameters!$X$5,IF($X143<1,Parameters!$Y$5,IF($X143<2,Parameters!$Z$5,Parameters!$AA$5))))","v":""},{"$f":"IF(OR($H143=\"no\",$B143=0),\"\",IF($I143=Parameters!$K$15,(2*($M143/2)*SIN(RADIANS(Calculations!$W143/2))),(2*$M143*SIN(RADIANS($W143/2)))))","v":""},"",{"$f":"IF(OR($H143=\"no\",$B143=0),\"\",IF($I143=Parameters!$K$15,$AB143*$N143/2,$AB143*$N143))","v":""},{"$f":"IF(OR($H143=\"no\",$B143=0),\"\",IF($I143=Parameters!$K$15,$AC143*2/Parameters!$AB$4,$AC143/Parameters!$AB$4))","v":""},{"$f":"IF(AND(O143=\"B\",Q143=\"calc\"),V143,IF(AND(O143=\"C\",Q143=\"calc\"),'Window & Door DATA INPUT'!T149/1000,\"\"))","v":""},{"$f":"IF(AND(O143=\"B\",Q143=\"input\"),'Window & Door DATA INPUT'!AA149,IF(AND(O143=\"C\",Q143=\"input\",P143=\"F\"),'Window & Door DATA INPUT'!V149,IF(AND(O143=\"C\",P143=\"E\"),0,IF(AND(O143=\"D\"),0,IF(AND(B143=1,C143=0),\"\",(Calculations!Q143))))))","v":""},{"$f":"IF(AF143=\"calc\",DEGREES(ASIN(AE143/M143)),AF143)","v":""},{"$f":"IF(OR($H143=\"no\",$C143=0),\"\",IF($I143=Parameters!$K$15,$L143/($M143/2),$L143/$M143))","v":""},{"$f":"IF(OR($H143=\"no\",$C143=0),\"\",IF($AH143<0.5,Parameters!$X$4,IF($AH143<1,Parameters!$Y$4,IF($AH143<2,Parameters!$Z$4,Parameters!$AA$4))))","v":""},{"$f":"IF(OR($H143=\"no\",$C143=0),\"\",IF($AH143<0.5,Parameters!$X$5,IF($AH143<1,Parameters!$Y$5,IF($AH143<2,Parameters!$Z$5,Parameters!$AA$5))))","v":""},{"$f":"IF(OR($H143=\"no\",$C143=0),\"\",IF($I143=Parameters!$K$15,(2*($M143/2)*SIN(RADIANS(Calculations!$AG143/2))),(2*$M143*SIN(RADIANS($AG143/2)))))","v":""},"",{"$f":"IF(OR($H143=\"no\",$C143=0),\"\",IF($I143=Parameters!$K$15,$AL143*$N143/2,$AL143*$N143))","v":""},{"$f":"IF(OR($H143=\"no\",$C143=0),\"\",IF($I143=Parameters!$K$15,$AM143*2/Parameters!$AB$4,$AM143/Parameters!$AB$4))","v":""},{"$nulls":20},{"$f":"'Window & Door DATA INPUT'!H149","v":0},""]

{"sheet":"Parameters","index":9,"n_rows":34,"n_cols":46,"rows_kept":34}
[]
[{"$nulls":29},"Part O Criteria"]
[null,"Location (risk)",null,"Rooms",null,"Clock face",null,"Window (Plot)",null,null,"Opening type","Flip (w) and (h) for eq area calc?","Opening angle",null,"Glazing entry",null,"Window distance [c] minus [b] (mm)",null,"Window opening restriction (Part O) (mm)",null,"Opening angle for doors and sash windows",null,"Equivalent area calc","b/h<0.5","0.5≤b/h≤1.0","1.0≤b/h≤2.0","b/h≥2.0","Orifice Discharge Coefficient, Cd0",null,"Location risk","Cross vent?","Orientation max glazed façade",null,"Whole house: Max glazing (% floor area)","Most glazed room: Max glazing (% floor area)","Total min free area (a):\n% of total floor area","Tot min free area (b):\n% of total glazing area","Bedroom min free area: \n% of floor area of room",null,"Severity check for glazed area target","Rank",null,"Results",null,"Orientation"]
[null,"Moderate Risk",null,"Hall",null,12,null,"12East","West",null,"Fixed pane","N/A",0,null,"Dimensions",null,20,null,650,null,{"v":90,"d":"90.0"},null,"Gradient, M",{"v":0.06047625442040051,"d":"0.060"},{"v":0.04783525932394319,"d":"0.048"},{"v":0.04046354907928748,"d":"0.040"},{"v":0.03814206322571389,"d":"0.038"},0.62,null,"High Risk","Yes","North",{"$f":"AD4&AE4&AF4","v":"High RiskYesNorth"},15,37,6,70,13,null,{"$f":"AH4+AI4","v":52},{"$f":"RANK(AN4,$AN$4:$AN$7,1)","v":2},null,"Target met",null,"North","East"]
[null,"High Risk",null,"Living",null,3,null,"12North","South",null,"Top hung","N","calc",null,"Area",{"$nulls":7},"Coefficient, Cdmax",{"v":0.6123417721518987,"d":"0.612"},{"v":0.5886075949367088,"d":"0.589"},{"v":0.5624999999999999,"d":"0.563"},{"v":0.5482594936708861,"d":"0.548"},null,null,"High Risk","Yes","East","High RiskYesEast",18,37,6,70,13,null,{"$f":"AH5+AI5","v":55},{"$f":"RANK(AN5,$AN$4:$AN$7,1)","v":3},null,"Target not met",null,"East","South"]
[{"$nulls":3},"Living/ Dining",null,6,null,"12South","North",null,"Side hung","Y","calc",{"$nulls":16},"High Risk","Yes","South","High RiskYesSouth",15,22,6,70,13,null,37,1,{"$nulls":3},"South","West"]
[{"$nulls":3},"Living/ Kitchen/ Dining",null,9,null,"12West","East",null,"Sash","N",90,{"$nulls":16},"High Risk","Yes","West","High RiskYesWest",18,37,6,70,13,null,55,3,{"$nulls":3},"West","North"]
[{"$nulls":3},"Kitchen",{"$nulls":3},"3East","North",null,"Inward - side hung","Y","input",{"$nulls":16},"Moderate Risk","Yes","North","Moderate RiskYesNorth",18,37,9,55,4,null,55,{"$f":"RANK(AN8,$AN$8:$AN$11,1)","v":3}]
[{"$nulls":3},"Kitchen/ Dining",{"$nulls":3},"3North","West",null,"Inward - top/bottom hung","N","input",{"$nulls":16},"Moderate Risk","Yes","East","Moderate RiskYesEast",18,37,9,55,4,null,55,{"$f":"RANK(AN9,$AN$8:$AN$11,1)","v":3}]
[{"$nulls":3},"Dining",{"$nulls":3},"3South","East",null,"Sliding or bifold window","N",90,{"$nulls":16},"Moderate Risk","Yes","South","Moderate RiskYesSouth",15,30,9,55,4,null,45,2]
[{"$nulls":3},"Family",{"$nulls":3},"3West","South",null,"Front door","N/A",0,{"$nulls":16},"Moderate Risk","Yes","West","Moderate RiskYesWest",11,22,9,55,4,null,33,1]
[{"$nulls":3},"Family/ Dining",{"$nulls":3},"6East","East",null,"Other door (hinged)","Y",90,{"$nulls":16},"High Risk","No","North","High RiskNoNorth",15,26,10,95,13,null,41,{"$f":"RANK(AN12,$AN$12:$AN$15,1)","v":4}]
[{"$nulls":3},"Utility",{"$nulls":3},"6North","North",null,"Other door (sliding)","N",90,{"$nulls":16},"High Risk","No","East","High RiskNoEast",11,18,10,95,13,null,29,{"$f":"RANK(AN13,$AN$12:$AN$15,1)","v":2}]
[{"$nulls":3},"WC",{"$nulls":3},"6South","South",null,"Other door (bifold)","N",90,{"$nulls":16},"High Risk","No","South","High RiskNoSouth",11,11,10,95,13,null,22,1]
[{"$nulls":3},"Landing",{"$nulls":3},"6West","West",null,"Rooflight - centre pivot","N","input",{"$nulls":16},"High Risk","No","West","High RiskNoWest",11,18,10,95,13,null,29,2]
[{"$nulls":3},"Study",{"$nulls":3},"9East","South",null,"Rooflight - top pivot","N","input",{"$nulls":16},"Moderate Risk","No","North","Moderate RiskNoNorth",18,26,12,80,4,null,44,{"$f":"RANK(AN16,$AN$16:$AN$19,1)","v":3}]
[{"$nulls":3},"Bedroom 1",{"$nulls":3},"9North","East",{"$nulls":20},"Moderate Risk","No","East","Moderate RiskNoEast",18,26,12,80,4,null,44,{"$f":"RANK(AN17,$AN$16:$AN$19,1)","v":3}]
[{"$nulls":3},"Bedroom 2",{"$nulls":3},"9South","West",{"$nulls":20},"Moderate Risk","No","South","Moderate RiskNoSouth",15,15,12,80,4,null,30,2]
[{"$nulls":3},"Bedroom 3",{"$nulls":3},"9West","North",{"$nulls":20},"Moderate Risk","No","West","Moderate RiskNoWest",11,11,12,80,4,null,22,1]
[{"$nulls":3},"Bedroom 4",{"$nulls":4}," "]
[{"$nulls":3},"Bedroom 5"]
[{"$nulls":3},"Bedroom 6"]
[{"$nulls":3},"Bedroom 7"]
[{"$nulls":3},"Bedroom 8"]
[{"$nulls":3},"Bathroom 1"]
[{"$nulls":3},"Bathroom 2"]
[{"$nulls":3},"En-suite 1"]
[{"$nulls":3},"En-suite 2"]
[{"$nulls":3},"En-suite 3"]
[{"$nulls":3},"Dressing"]
[{"$nulls":3},"Other 1"]
[{"$nulls":3},"Other 2"]
[{"$nulls":3},"Other 3"]
[{"$nulls":3},"Other 4"]